Back to Workflows build report for BioC 3.12

BUILD report for liftOver on nebbiolo1

This page was generated on 2021-01-15 15:45:13 -0500 (Fri, 15 Jan 2021).

TO THE DEVELOPERS/MAINTAINERS OF THE liftOver PACKAGE: Please make sure to use the following settings in order to reproduce any error or warning you see on this page.
Package 15/28HostnameOS / ArchINSTALLBUILD
liftOver 1.14.0
Bioconductor Package Maintainer
Snapshot Date: 2021-01-15 09:00:03 -0500 (Fri, 15 Jan 2021)
URL: https://git.bioconductor.org/packages/liftOver
Branch: RELEASE_3_12
Last Commit: 43c5ce2
Last Changed Date: 2020-10-27 09:41:07 -0500 (Tue, 27 Oct 2020)
malbec1 Linux (Ubuntu 18.04.5 LTS) / x86_64  OK  OK UNNEEDED, same version exists in internal repository
nebbiolo1 Linux (Ubuntu 20.04.1 LTS) / x86_64  OK [ OK ]

Summary

Package: liftOver
Version: 1.14.0
Command: /home/biocbuild/bbs-3.12-bioc/R/bin/R CMD build --keep-empty-dirs --no-resave-data liftOver
StartedAt: 2021-01-15 09:08:21 -0500 (Fri, 15 Jan 2021)
EndedAt: 2021-01-15 09:09:06 -0500 (Fri, 15 Jan 2021)
EllapsedTime: 44.9 seconds
RetCode: 0
Status:  OK 
PackageFile: liftOver_1.14.0.tar.gz
PackageFileSize: 4.376 MiB

Command output

##############################################################################
##############################################################################
###
### Running command:
###
###   /home/biocbuild/bbs-3.12-bioc/R/bin/R CMD build --keep-empty-dirs --no-resave-data liftOver
###
##############################################################################
##############################################################################


* checking for file ‘liftOver/DESCRIPTION’ ... OK
* preparing ‘liftOver’:
* checking DESCRIPTION meta-information ... OK
* installing the package to build vignettes
* creating vignettes ... OK
* checking for LF line-endings in source and make files and shell scripts
* checking for empty or unneeded directories
* creating default NAMESPACE file
* building ‘liftOver_1.14.0.tar.gz’