Back to Multiple platform build/check report for BioC 3.15
ABCDEFGH[I]JKLMNOPQRSTUVWXYZ

This page was generated on 2022-01-22 11:06:01 -0500 (Sat, 22 Jan 2022).

HostnameOSArch (*)R versionInstalled pkgs
nebbiolo1Linux (Ubuntu 20.04.4 LTS)x86_64R Under development (unstable) (2022-01-05 r81451) -- "Unsuffered Consequences" 4163
riesling1Windows Server 2019 Standardx64R Under development (unstable) (2021-11-21 r81221) -- "Unsuffered Consequences" 4058
palomino3Windows Server 2022 Datacenterx64R Under development (unstable) (2021-12-21 r81400 ucrt) -- "Unsuffered Consequences" 4000
merida1macOS 10.14.6 Mojavex86_64R Under development (unstable) (2022-01-05 r81451) -- "Unsuffered Consequences" 4117
Click on any hostname to see more info about the system (e.g. compilers)      (*) as reported by 'uname -p', except on Windows and Mac OS X

CHECK results for iPAC on nebbiolo1


To the developers/maintainers of the iPAC package:
- Please allow up to 24 hours (and sometimes 48 hours) for your latest push to git@git.bioconductor.org:packages/iPAC.git to
reflect on this report. See How and When does the builder pull? When will my changes propagate? here for more information.
- Make sure to use the following settings in order to reproduce any error or warning you see on this page.

raw results

Package 948/2075HostnameOS / ArchINSTALLBUILDCHECKBUILD BIN
iPAC 1.39.0  (landing page)
Gregory Ryslik
Snapshot Date: 2022-01-21 13:55:18 -0500 (Fri, 21 Jan 2022)
git_url: https://git.bioconductor.org/packages/iPAC
git_branch: master
git_last_commit: 1e5d8db
git_last_commit_date: 2021-10-26 12:03:56 -0500 (Tue, 26 Oct 2021)
nebbiolo1Linux (Ubuntu 20.04.4 LTS) / x86_64  OK    OK    OK  UNNEEDED, same version is already published
riesling1Windows Server 2019 Standard / x64  OK    OK    NA    NA  
palomino3Windows Server 2022 Datacenter / x64  OK    OK    OK    OK  NO, package depends on 'Biostrings' which is not available
merida1macOS 10.14.6 Mojave / x86_64  OK    OK    OK    OK  UNNEEDED, same version is already published

Summary

Package: iPAC
Version: 1.39.0
Command: /home/biocbuild/bbs-3.15-bioc/R/bin/R CMD check --install=check:iPAC.install-out.txt --library=/home/biocbuild/bbs-3.15-bioc/R/library --no-vignettes --timings iPAC_1.39.0.tar.gz
StartedAt: 2022-01-21 19:39:57 -0500 (Fri, 21 Jan 2022)
EndedAt: 2022-01-21 19:43:16 -0500 (Fri, 21 Jan 2022)
EllapsedTime: 199.4 seconds
RetCode: 0
Status:   OK  
CheckDir: iPAC.Rcheck
Warnings: 0

Command output

##############################################################################
##############################################################################
###
### Running command:
###
###   /home/biocbuild/bbs-3.15-bioc/R/bin/R CMD check --install=check:iPAC.install-out.txt --library=/home/biocbuild/bbs-3.15-bioc/R/library --no-vignettes --timings iPAC_1.39.0.tar.gz
###
##############################################################################
##############################################################################


* using log directory ‘/home/biocbuild/bbs-3.15-bioc/meat/iPAC.Rcheck’
* using R Under development (unstable) (2022-01-05 r81451)
* using platform: x86_64-pc-linux-gnu (64-bit)
* using session charset: UTF-8
* using option ‘--no-vignettes’
* checking for file ‘iPAC/DESCRIPTION’ ... OK
* checking extension type ... Package
* this is package ‘iPAC’ version ‘1.39.0’
* checking package namespace information ... OK
* checking package dependencies ... OK
* checking if this is a source package ... OK
* checking if there is a namespace ... OK
* checking for hidden files and directories ... OK
* checking for portable file names ... OK
* checking for sufficient/correct file permissions ... OK
* checking whether package ‘iPAC’ can be installed ... OK
* checking installed package size ... OK
* checking package directory ... OK
* checking ‘build’ directory ... OK
* checking DESCRIPTION meta-information ... OK
* checking top-level files ... OK
* checking for left-over files ... OK
* checking index information ... OK
* checking package subdirectories ... OK
* checking R files for non-ASCII characters ... OK
* checking R files for syntax errors ... OK
* checking whether the package can be loaded ... OK
* checking whether the package can be loaded with stated dependencies ... OK
* checking whether the package can be unloaded cleanly ... OK
* checking whether the namespace can be loaded with stated dependencies ... OK
* checking whether the namespace can be unloaded cleanly ... OK
* checking dependencies in R code ... NOTE
Package in Depends field not imported from: ‘gdata’
  These packages need to be imported from (in the NAMESPACE file)
  for when this namespace is loaded but not attached.
* checking S3 generic/method consistency ... OK
* checking replacement functions ... OK
* checking foreign function calls ... OK
* checking R code for possible problems ... NOTE
Plot.Protein.Linear: no visible global function definition for
  ‘heat.colors’
Plot.Protein.Linear: no visible global function definition for ‘gray’
Plot.Protein.Linear: no visible global function definition for
  ‘topo.colors’
Plot.Protein.Linear: no visible global function definition for
  ‘cm.colors’
Plot.Protein.Linear: no visible global function definition for ‘par’
Plot.Protein.Linear: no visible global function definition for ‘rect’
Plot.Protein.Linear: no visible global function definition for ‘text’
SetTextContrastColor: no visible global function definition for
  ‘col2rgb’
calcorder: no visible global function definition for ‘dist’
calcorder: no visible global function definition for ‘cmdscale’
difforder0: no visible global function definition for ‘pbinom’
difforder0: no visible global function definition for ‘dmultinom’
difforder1: no visible global function definition for ‘dmultinom’
nmc: no visible global function definition for ‘pbeta’
plotLinear: no visible global function definition for ‘pdf’
plotLinear: no visible global function definition for ‘dev.off’
plotLinear: no visible global function definition for ‘dev.copy2pdf’
plotMDS: no visible global function definition for ‘pdf’
plotMDS: no visible global function definition for ‘dev.off’
plotMDS: no visible global function definition for ‘dev.copy2pdf’
Undefined global functions or variables:
  cm.colors cmdscale col2rgb dev.copy2pdf dev.off dist dmultinom gray
  heat.colors par pbeta pbinom pdf rect text topo.colors
Consider adding
  importFrom("grDevices", "cm.colors", "col2rgb", "dev.copy2pdf",
             "dev.off", "gray", "heat.colors", "pdf", "topo.colors")
  importFrom("graphics", "par", "rect", "text")
  importFrom("stats", "cmdscale", "dist", "dmultinom", "pbeta", "pbinom")
to your NAMESPACE file.
* checking Rd files ... OK
* checking Rd metadata ... OK
* checking Rd cross-references ... OK
* checking for missing documentation entries ... OK
* checking for code/documentation mismatches ... OK
* checking Rd \usage sections ... OK
* checking Rd contents ... OK
* checking for unstated dependencies in examples ... OK
* checking contents of ‘data’ directory ... OK
* checking data for non-ASCII characters ... OK
* checking data for ASCII and uncompressed saves ... OK
* checking files in ‘vignettes’ ... OK
* checking examples ... OK
Examples with CPU (user + system) or elapsed time > 5s
                user system elapsed
ClusterFind   63.722  0.679  65.223
get.Positions 19.347  0.240  22.408
nmc           14.054  0.139  14.193
* checking for unstated dependencies in vignettes ... OK
* checking package vignettes in ‘inst/doc’ ... OK
* checking running R code from vignettes ... SKIPPED
* checking re-building of vignette outputs ... SKIPPED
* checking PDF version of manual ... OK
* DONE

Status: 2 NOTEs
See
  ‘/home/biocbuild/bbs-3.15-bioc/meat/iPAC.Rcheck/00check.log’
for details.



Installation output

iPAC.Rcheck/00install.out

##############################################################################
##############################################################################
###
### Running command:
###
###   /home/biocbuild/bbs-3.15-bioc/R/bin/R CMD INSTALL iPAC
###
##############################################################################
##############################################################################


* installing to library ‘/home/biocbuild/bbs-3.15-bioc/R/library’
* installing *source* package ‘iPAC’ ...
** using staged installation
** R
** data
** inst
** byte-compile and prepare package for lazy loading
** help
*** installing help indices
** building package indices
** installing vignettes
** testing if installed package can be loaded from temporary location
** testing if installed package can be loaded from final location
** testing if installed package keeps a record of temporary installation path
* DONE (iPAC)

Tests output


Example timings

iPAC.Rcheck/iPAC-Ex.timings

nameusersystemelapsed
ClusterFind63.722 0.67965.223
KRAS.Mutations0.0040.0160.018
PIK3CA.Mutations0.0200.0680.088
Plot.Protein.Linear2.1550.2763.232
get.AASeq0.0180.0040.506
get.AlignedPositions1.9440.0722.736
get.Positions19.347 0.24022.408
get.Remapped.Order1.5950.0112.321
get.SingleLetterCode0.0010.0000.000
iPAC-package000
nmc14.054 0.13914.193