Back to Multiple platform build/check report for BioC 3.17
[A]BCDEFGHIJKLMNOPQRSTUVWXYZ

This page was generated on 2023-01-27 11:06:51 -0500 (Fri, 27 Jan 2023).

HostnameOSArch (*)R versionInstalled pkgs
nebbiolo1Linux (Ubuntu 22.04.1 LTS)x86_64R Under development (unstable) (2023-01-10 r83596) -- "Unsuffered Consequences" 4465
palomino3Windows Server 2022 Datacenterx64R Under development (unstable) (2023-01-10 r83596 ucrt) -- "Unsuffered Consequences" 4246
merida1macOS 10.14.6 Mojavex86_64R Under development (unstable) (2023-01-10 r83596) -- "Unsuffered Consequences" 4269
Click on any hostname to see more info about the system (e.g. compilers)      (*) as reported by 'uname -p', except on Windows and Mac OS X

BUILD BIN results for aCGH on palomino3


To the developers/maintainers of the aCGH package:
- Please allow up to 24 hours (and sometimes 48 hours) for your latest push to git@git.bioconductor.org:packages/aCGH.git to
reflect on this report. See How and When does the builder pull? When will my changes propagate? for more information.
- Make sure to use the following settings in order to reproduce any error or warning you see on this page.

raw results

Package 12/2162HostnameOS / ArchINSTALLBUILDCHECKBUILD BIN
aCGH 1.77.0  (landing page)
Peter Dimitrov
Snapshot Date: 2023-01-26 14:00:20 -0500 (Thu, 26 Jan 2023)
git_url: https://git.bioconductor.org/packages/aCGH
git_branch: master
git_last_commit: 0507fcb
git_last_commit_date: 2022-11-01 10:37:29 -0500 (Tue, 01 Nov 2022)
nebbiolo1Linux (Ubuntu 22.04.1 LTS) / x86_64  OK    OK    OK  UNNEEDED, same version is already published
palomino3Windows Server 2022 Datacenter / x64  OK    OK    OK    OK  UNNEEDED, same version is already published
merida1macOS 10.14.6 Mojave / x86_64  OK    OK    OK    OK  UNNEEDED, same version is already published

Summary

Package: aCGH
Version: 1.77.0
Command: rm -rf aCGH.buildbin-libdir && mkdir aCGH.buildbin-libdir && F:\biocbuild\bbs-3.17-bioc\R\bin\R.exe CMD INSTALL --build --library=aCGH.buildbin-libdir aCGH_1.77.0.tar.gz
StartedAt: 2023-01-27 07:38:55 -0500 (Fri, 27 Jan 2023)
EndedAt: 2023-01-27 07:39:26 -0500 (Fri, 27 Jan 2023)
EllapsedTime: 30.9 seconds
RetCode: 0
Status:   OK  
PackageFile: aCGH_1.77.0.zip
PackageFileSize: 2.434 MiB

Command output

##############################################################################
##############################################################################
###
### Running command:
###
###   rm -rf aCGH.buildbin-libdir && mkdir aCGH.buildbin-libdir && F:\biocbuild\bbs-3.17-bioc\R\bin\R.exe CMD INSTALL --build --library=aCGH.buildbin-libdir aCGH_1.77.0.tar.gz
###
##############################################################################
##############################################################################


* installing *source* package 'aCGH' ...
** using staged installation
** libs
using C++ compiler: 'G__~1.EXE (GCC) 12.2.0'
g++ -std=gnu++14  -I"F:/biocbuild/bbs-3.17-bioc/R/include" -DNDEBUG -DUSEDOUBLE -g3    -I"C:/rtools43/x86_64-w64-mingw32.static.posix/include"     -O2 -Wall  -mfpmath=sse -msse2 -mstackrealign  -c hmm.cpp -o hmm.o
g++ -std=gnu++14 -shared -s -static-libgcc -o aCGH.dll tmp.def hmm.o -lm -LC:/rtools43/x86_64-w64-mingw32.static.posix/lib/x64 -LC:/rtools43/x86_64-w64-mingw32.static.posix/lib -LF:/biocbuild/bbs-3.17-bioc/R/bin/x64 -lR
installing to F:/biocbuild/bbs-3.17-bioc/meat/aCGH.buildbin-libdir/00LOCK-aCGH/00new/aCGH/libs/x64
** R
** data
** demo
** inst
** byte-compile and prepare package for lazy loading
** help
*** installing help indices
** building package indices
** installing vignettes
** testing if installed package can be loaded from temporary location
** testing if installed package can be loaded from final location
** testing if installed package keeps a record of temporary installation path
* MD5 sums
packaged installation of 'aCGH' as aCGH_1.77.0.zip
* DONE (aCGH)