Back to Multiple platform build/check report for BioC 3.17:   simplified   long
ABCDEFGHIJKLMNOPQR[S]TUVWXYZ

This page was generated on 2023-03-29 11:05:09 -0400 (Wed, 29 Mar 2023).

HostnameOSArch (*)R versionInstalled pkgs
nebbiolo1Linux (Ubuntu 22.04.1 LTS)x86_64R Under development (unstable) (2023-03-16 r83996) -- "Unsuffered Consequences" 4547
palomino3Windows Server 2022 Datacenterx64R Under development (unstable) (2023-03-15 r83984 ucrt) -- "Unsuffered Consequences" 4308
merida1macOS 10.14.6 Mojavex86_64R Under development (unstable) (2023-03-16 r83985) -- "Unsuffered Consequences" 4301
Click on any hostname to see more info about the system (e.g. compilers)      (*) as reported by 'uname -p', except on Windows and Mac OS X

BUILD results for SingleCellSignalR on nebbiolo1


To the developers/maintainers of the SingleCellSignalR package:
- Please allow up to 24 hours (and sometimes 48 hours) for your latest push to git@git.bioconductor.org:packages/SingleCellSignalR.git to
reflect on this report. See How and When does the builder pull? When will my changes propagate? for more information.
- Make sure to use the following settings in order to reproduce any error or warning you see on this page.

raw results

Package 1905/2195HostnameOS / ArchINSTALLBUILDCHECKBUILD BIN
SingleCellSignalR 1.11.1  (landing page)
Jacques Colinge Developer
Snapshot Date: 2023-03-28 14:00:22 -0400 (Tue, 28 Mar 2023)
git_url: https://git.bioconductor.org/packages/SingleCellSignalR
git_branch: devel
git_last_commit: 38972ba
git_last_commit_date: 2022-12-08 08:39:42 -0400 (Thu, 08 Dec 2022)
nebbiolo1Linux (Ubuntu 22.04.1 LTS) / x86_64  OK    OK    WARNINGS  UNNEEDED, same version is already published
palomino3Windows Server 2022 Datacenter / x64  OK    OK    WARNINGS    OK  UNNEEDED, same version is already published
merida1macOS 10.14.6 Mojave / x86_64  OK    OK    WARNINGS    OK  UNNEEDED, same version is already published

Summary

Package: SingleCellSignalR
Version: 1.11.1
Command: /home/biocbuild/bbs-3.17-bioc/R/bin/R CMD build --keep-empty-dirs --no-resave-data SingleCellSignalR
StartedAt: 2023-03-28 17:53:27 -0400 (Tue, 28 Mar 2023)
EndedAt: 2023-03-28 17:54:46 -0400 (Tue, 28 Mar 2023)
EllapsedTime: 78.8 seconds
RetCode: 0
Status:   OK  
PackageFile: SingleCellSignalR_1.11.1.tar.gz
PackageFileSize: 4.239 MiB

Command output

##############################################################################
##############################################################################
###
### Running command:
###
###   /home/biocbuild/bbs-3.17-bioc/R/bin/R CMD build --keep-empty-dirs --no-resave-data SingleCellSignalR
###
##############################################################################
##############################################################################


* checking for file ‘SingleCellSignalR/DESCRIPTION’ ... OK
* preparing ‘SingleCellSignalR’:
* checking DESCRIPTION meta-information ... OK
* installing the package to build vignettes
* creating vignettes ... OK
* checking for LF line-endings in source and make files and shell scripts
* checking for empty or unneeded directories
* building ‘SingleCellSignalR_1.11.1.tar.gz’