Back to Multiple platform build/check report for BioC 3.17:   simplified   long
ABCDEFGHIJKLMNOPQR[S]TUVWXYZ

This page was generated on 2023-10-03 11:35:59 -0400 (Tue, 03 Oct 2023).

HostnameOSArch (*)R versionInstalled pkgs
nebbiolo1Linux (Ubuntu 22.04.2 LTS)x86_644.3.1 (2023-06-16) -- "Beagle Scouts" 4626
palomino3Windows Server 2022 Datacenterx644.3.1 (2023-06-16 ucrt) -- "Beagle Scouts" 4379
merida1macOS 12.6.4 Montereyx86_644.3.1 (2023-06-16) -- "Beagle Scouts" 4395
Click on any hostname to see more info about the system (e.g. compilers)      (*) as reported by 'uname -p', except on Windows and Mac OS X

Package 1976/2230HostnameOS / ArchINSTALLBUILDCHECKBUILD BIN
spatialHeatmap 2.6.2  (landing page)
Jianhai Zhang
Snapshot Date: 2023-10-02 14:00:11 -0400 (Mon, 02 Oct 2023)
git_url: https://git.bioconductor.org/packages/spatialHeatmap
git_branch: RELEASE_3_17
git_last_commit: 83ed9ad
git_last_commit_date: 2023-08-30 06:13:04 -0400 (Wed, 30 Aug 2023)
nebbiolo1Linux (Ubuntu 22.04.2 LTS) / x86_64  OK    OK    OK  UNNEEDED, same version is already published
palomino3Windows Server 2022 Datacenter / x64  OK    OK    OK    OK  UNNEEDED, same version is already published
merida1macOS 12.6.4 Monterey / x86_64  OK    OK    OK    OK  UNNEEDED, same version is already published

CHECK results for spatialHeatmap on nebbiolo1


To the developers/maintainers of the spatialHeatmap package:
- Allow up to 24 hours (and sometimes 48 hours) for your latest push to git@git.bioconductor.org:packages/spatialHeatmap.git to reflect on this report. See Troubleshooting Build Report for more information.
- Use the following Renviron settings to reproduce errors and warnings.
- If 'R CMD check' started to fail recently on the Linux builder(s) over a missing dependency, add the missing dependency to 'Suggests:' in your DESCRIPTION file. See Renviron.bioc for more information.

raw results


Summary

Package: spatialHeatmap
Version: 2.6.2
Command: /home/biocbuild/bbs-3.17-bioc/R/bin/R CMD check --install=check:spatialHeatmap.install-out.txt --library=/home/biocbuild/bbs-3.17-bioc/R/site-library --timings spatialHeatmap_2.6.2.tar.gz
StartedAt: 2023-10-03 01:22:22 -0400 (Tue, 03 Oct 2023)
EndedAt: 2023-10-03 01:34:34 -0400 (Tue, 03 Oct 2023)
EllapsedTime: 731.6 seconds
RetCode: 0
Status:   OK  
CheckDir: spatialHeatmap.Rcheck
Warnings: 0

Command output

##############################################################################
##############################################################################
###
### Running command:
###
###   /home/biocbuild/bbs-3.17-bioc/R/bin/R CMD check --install=check:spatialHeatmap.install-out.txt --library=/home/biocbuild/bbs-3.17-bioc/R/site-library --timings spatialHeatmap_2.6.2.tar.gz
###
##############################################################################
##############################################################################


* using log directory ‘/home/biocbuild/bbs-3.17-bioc/meat/spatialHeatmap.Rcheck’
* using R version 4.3.1 (2023-06-16)
* using platform: x86_64-pc-linux-gnu (64-bit)
* R was compiled by
    gcc (Ubuntu 11.3.0-1ubuntu1~22.04.1) 11.3.0
    GNU Fortran (Ubuntu 11.3.0-1ubuntu1~22.04.1) 11.3.0
* running under: Ubuntu 22.04.3 LTS
* using session charset: UTF-8
* checking for file ‘spatialHeatmap/DESCRIPTION’ ... OK
* checking extension type ... Package
* this is package ‘spatialHeatmap’ version ‘2.6.2’
* package encoding: UTF-8
* checking package namespace information ... OK
* checking package dependencies ... OK
* checking if this is a source package ... OK
* checking if there is a namespace ... OK
* checking for hidden files and directories ... OK
* checking for portable file names ... OK
* checking for sufficient/correct file permissions ... OK
* checking whether package ‘spatialHeatmap’ can be installed ... OK
* checking installed package size ... NOTE
  installed size is 26.0Mb
  sub-directories of 1Mb or more:
    R         1.2Mb
    extdata  24.4Mb
* checking package directory ... OK
* checking ‘build’ directory ... OK
* checking DESCRIPTION meta-information ... OK
* checking top-level files ... OK
* checking for left-over files ... OK
* checking index information ... OK
* checking package subdirectories ... OK
* checking R files for non-ASCII characters ... OK
* checking R files for syntax errors ... OK
* checking whether the package can be loaded ... OK
* checking whether the package can be loaded with stated dependencies ... OK
* checking whether the package can be unloaded cleanly ... OK
* checking whether the namespace can be loaded with stated dependencies ... OK
* checking whether the namespace can be unloaded cleanly ... OK
* checking loading without being on the library search path ... OK
* checking dependencies in R code ... OK
* checking S3 generic/method consistency ... OK
* checking replacement functions ... OK
* checking foreign function calls ... OK
* checking R code for possible problems ... OK
* checking Rd files ... OK
* checking Rd metadata ... OK
* checking Rd cross-references ... OK
* checking for missing documentation entries ... OK
* checking for code/documentation mismatches ... OK
* checking Rd \usage sections ... OK
* checking Rd contents ... OK
* checking for unstated dependencies in examples ... OK
* checking contents of ‘data’ directory ... OK
* checking data for non-ASCII characters ... OK
* checking data for ASCII and uncompressed saves ... OK
* checking files in ‘vignettes’ ... OK
* checking examples ... OK
Examples with CPU (user + system) or elapsed time > 5s
                    user system elapsed
write_svg         21.178  4.819  26.038
SPHMMethods       19.841  4.878  24.810
SPHM              14.142  0.416  14.578
covis             14.093  0.458  14.585
cell_group        10.582  0.428  11.006
process_cell_meta  7.471  0.788   8.259
reduce_dim         7.204  0.616   7.819
* checking for unstated dependencies in ‘tests’ ... OK
* checking tests ...
  Running ‘runTests.R’
 OK
* checking for unstated dependencies in vignettes ... OK
* checking package vignettes in ‘inst/doc’ ... OK
* checking running R code from vignettes ...
  ‘covisualize.Rmd’ using ‘UTF-8’... OK
  ‘spatialHeatmap.Rmd’ using ‘UTF-8’... OK
 NONE
* checking re-building of vignette outputs ... OK
* checking PDF version of manual ... OK
* DONE

Status: 1 NOTE
See
  ‘/home/biocbuild/bbs-3.17-bioc/meat/spatialHeatmap.Rcheck/00check.log’
for details.



Installation output

spatialHeatmap.Rcheck/00install.out

##############################################################################
##############################################################################
###
### Running command:
###
###   /home/biocbuild/bbs-3.17-bioc/R/bin/R CMD INSTALL spatialHeatmap
###
##############################################################################
##############################################################################


* installing to library ‘/home/biocbuild/bbs-3.17-bioc/R/site-library’
* installing *source* package ‘spatialHeatmap’ ...
** using staged installation
** R
** data
** inst
** byte-compile and prepare package for lazy loading
Creating a new generic function for ‘svg’ in package ‘spatialHeatmap’
Creating a new generic function for ‘match’ in package ‘spatialHeatmap’
** help
*** installing help indices
** building package indices
** installing vignettes
** testing if installed package can be loaded from temporary location
** testing if installed package can be loaded from final location
** testing if installed package keeps a record of temporary installation path
* DONE (spatialHeatmap)

Tests output

spatialHeatmap.Rcheck/tests/runTests.Rout


R version 4.3.1 (2023-06-16) -- "Beagle Scouts"
Copyright (C) 2023 The R Foundation for Statistical Computing
Platform: x86_64-pc-linux-gnu (64-bit)

R is free software and comes with ABSOLUTELY NO WARRANTY.
You are welcome to redistribute it under certain conditions.
Type 'license()' or 'licence()' for distribution details.

R is a collaborative project with many contributors.
Type 'contributors()' for more information and
'citation()' on how to cite R or R packages in publications.

Type 'demo()' for some demos, 'help()' for on-line help, or
'help.start()' for an HTML browser interface to help.
Type 'q()' to quit R.

> BiocGenerics:::testPackage("spatialHeatmap")

Attaching package: 'spatialHeatmap'

The following object is masked from 'package:grDevices':

    svg

The following object is masked from 'package:base':

    match

Loading required package: Biobase
Loading required package: BiocGenerics

Attaching package: 'BiocGenerics'

The following object is masked from 'package:spatialHeatmap':

    match

The following objects are masked from 'package:stats':

    IQR, mad, sd, var, xtabs

The following objects are masked from 'package:base':

    Filter, Find, Map, Position, Reduce, anyDuplicated, aperm, append,
    as.data.frame, basename, cbind, colnames, dirname, do.call,
    duplicated, eval, evalq, get, grep, grepl, intersect, is.unsorted,
    lapply, mapply, match, mget, order, paste, pmax, pmax.int, pmin,
    pmin.int, rank, rbind, rownames, sapply, setdiff, sort, table,
    tapply, union, unique, unsplit, which.max, which.min

Welcome to Bioconductor

    Vignettes contain introductory material; view with
    'browseVignettes()'. To cite Bioconductor, see
    'citation("Biobase")', and for packages 'citation("pkgname")'.

Loading required package: SummarizedExperiment
Loading required package: MatrixGenerics
Loading required package: matrixStats

Attaching package: 'matrixStats'

The following objects are masked from 'package:Biobase':

    anyMissing, rowMedians


Attaching package: 'MatrixGenerics'

The following objects are masked from 'package:matrixStats':

    colAlls, colAnyNAs, colAnys, colAvgsPerRowSet, colCollapse,
    colCounts, colCummaxs, colCummins, colCumprods, colCumsums,
    colDiffs, colIQRDiffs, colIQRs, colLogSumExps, colMadDiffs,
    colMads, colMaxs, colMeans2, colMedians, colMins, colOrderStats,
    colProds, colQuantiles, colRanges, colRanks, colSdDiffs, colSds,
    colSums2, colTabulates, colVarDiffs, colVars, colWeightedMads,
    colWeightedMeans, colWeightedMedians, colWeightedSds,
    colWeightedVars, rowAlls, rowAnyNAs, rowAnys, rowAvgsPerColSet,
    rowCollapse, rowCounts, rowCummaxs, rowCummins, rowCumprods,
    rowCumsums, rowDiffs, rowIQRDiffs, rowIQRs, rowLogSumExps,
    rowMadDiffs, rowMads, rowMaxs, rowMeans2, rowMedians, rowMins,
    rowOrderStats, rowProds, rowQuantiles, rowRanges, rowRanks,
    rowSdDiffs, rowSds, rowSums2, rowTabulates, rowVarDiffs, rowVars,
    rowWeightedMads, rowWeightedMeans, rowWeightedMedians,
    rowWeightedSds, rowWeightedVars

The following object is masked from 'package:Biobase':

    rowMedians

Loading required package: GenomicRanges
Loading required package: stats4
Loading required package: S4Vectors

Attaching package: 'S4Vectors'

The following object is masked from 'package:utils':

    findMatches

The following objects are masked from 'package:base':

    I, expand.grid, unname

Loading required package: IRanges
Loading required package: GenomeInfoDb
Loading required package: limma

Attaching package: 'limma'

The following object is masked from 'package:BiocGenerics':

    plotMA

Loading required package: xml2
Loading required package: RCurl
Loading required package: jsonlite
Loading required package: BiocStyle

Attaching package: 'BiocStyle'

The following object is masked from 'package:spatialHeatmap':

    output

Normalising: ESF 
   type 
"ratio" 
Syntactically valid column names are made! 
Syntactically valid column names are made! 
All values before filtering:
   Min. 1st Qu.  Median    Mean 3rd Qu.    Max. 
  0.000   0.000   0.287   2.442   4.268  19.991 
All coefficient of variances (CVs) before filtering:
     Min.   1st Qu.    Median      Mean   3rd Qu.      Max. 
0.0007742 0.0767696 0.4019655 0.6217813 0.9956157 2.0000000 
All values after filtering:
   Min. 1st Qu.  Median    Mean 3rd Qu.    Max. 
  0.000   2.654   4.976   4.779   6.451  14.695 
All coefficient of variances (CVs) after filtering:
   Min. 1st Qu.  Median    Mean 3rd Qu.    Max. 
 0.3001  0.3648  0.4637  0.5651  0.7392  1.1548 

Warning: variables of sample/condition are less than 5! 
..connectivity..
..matrix multiplication (system BLAS)..
..normalization..
..done.
 ..done.
 ..done.
 ..done.
 ..done.
Normalising: ESF 
   type 
"ratio" 
Syntactically valid column names are made! 
Syntactically valid column names are made! 
All values before filtering:
   Min. 1st Qu.  Median    Mean 3rd Qu.    Max. 
  0.000   0.000   0.287   2.442   4.268  19.991 
All coefficient of variances (CVs) before filtering:
     Min.   1st Qu.    Median      Mean   3rd Qu.      Max. 
0.0007742 0.0767696 0.4019655 0.6217813 0.9956157 2.0000000 
All values after filtering:
   Min. 1st Qu.  Median    Mean 3rd Qu.    Max. 
  0.000   2.654   4.976   4.779   6.451  14.695 
All coefficient of variances (CVs) after filtering:
   Min. 1st Qu.  Median    Mean 3rd Qu.    Max. 
 0.3001  0.3648  0.4637  0.5651  0.7392  1.1548 


RUNIT TEST PROTOCOL -- Tue Oct  3 01:29:34 2023 
*********************************************** 
Number of test functions: 2 
Number of errors: 0 
Number of failures: 0 

 
1 Test Suite : 
spatialHeatmap RUnit Tests - 2 test functions, 0 errors, 0 failures
Number of test functions: 2 
Number of errors: 0 
Number of failures: 0 
> 
> proc.time()
   user  system elapsed 
 26.219   1.314  27.531 

Example timings

spatialHeatmap.Rcheck/spatialHeatmap-Ex.timings

nameusersystemelapsed
Database0.3370.0160.355
SPHM14.142 0.41614.578
SPHMMethods19.841 4.87824.810
SVG0.6000.1420.820
SVGMethods0.4330.0970.572
SpatialEnrichment3.4890.3693.864
aSVG.remote.repo0.0020.0000.003
adj_mod2.7370.3082.999
aggr_rep0.8080.0320.840
cell_group10.582 0.42811.006
cluster_cell1.2650.0361.302
coclus_opt0.2600.0320.295
cocluster0.2330.0240.258
com_factor0.1770.0120.190
covis14.093 0.45814.585
custom_shiny0.0130.0070.022
cut_dendro0.6360.0170.639
cvt_id0.4140.0600.475
edit_tar0.0040.0000.004
filter_data0.8670.0880.955
matrix_hm2.2400.3282.567
network2.1440.2082.352
norm_cell1.9120.0481.959
norm_data0.8900.0640.955
norm_srsc1.8220.1161.939
opt_bar0.1130.0080.121
opt_setting0.0030.0080.011
opt_violin0.1750.0000.175
optimal_k0.1400.0000.141
plot_dim1.5730.0631.637
plot_kmeans0.5640.0000.565
plot_meta1.4660.1311.634
process_cell_meta7.4710.7888.259
qc_cell1.0550.0601.114
read_cache2.1730.1602.334
read_fr0.0040.0000.004
read_svg0.4500.0890.611
reduce_dim7.2040.6167.819
reduce_rep0.0010.0010.001
return_feature0.5430.0140.562
save_cache2.0660.1762.242
shiny_shm000
shm2.8890.2193.142
spatialHeatmap-package0.0010.0000.001
spatial_hm4.0460.3924.491
submatrix2.4680.2482.717
true_bulk0.3100.0090.319
update_feature0.0010.0000.001
write_svg21.178 4.81926.038