Back to Multiple platform build/check report for BioC 3.19:   simplified   long
ABCDEFGHIJKL[M]NOPQRSTUVWXYZ

This page was generated on 2024-07-19 17:37 -0400 (Fri, 19 Jul 2024).

HostnameOSArch (*)R versionInstalled pkgs
nebbiolo1Linux (Ubuntu 22.04.3 LTS)x86_644.4.1 (2024-06-14) -- "Race for Your Life" 4742
palomino7Windows Server 2022 Datacenterx644.4.1 (2024-06-14 ucrt) -- "Race for Your Life" 4484
merida1macOS 12.7.5 Montereyx86_644.4.1 (2024-06-14) -- "Race for Your Life" 4513
kjohnson1macOS 13.6.6 Venturaarm644.4.1 (2024-06-14) -- "Race for Your Life" 4462
Click on any hostname to see more info about the system (e.g. compilers)      (*) as reported by 'uname -p', except on Windows and Mac OS X

Package 1136/2300HostnameOS / ArchINSTALLBUILDCHECKBUILD BIN
M3Drop 1.30.0  (landing page)
Tallulah Andrews
Snapshot Date: 2024-07-17 14:00 -0400 (Wed, 17 Jul 2024)
git_url: https://git.bioconductor.org/packages/M3Drop
git_branch: RELEASE_3_19
git_last_commit: a0bf0c3
git_last_commit_date: 2024-04-30 10:54:44 -0400 (Tue, 30 Apr 2024)
nebbiolo1Linux (Ubuntu 22.04.3 LTS) / x86_64  OK    OK    OK  UNNEEDED, same version is already published
palomino7Windows Server 2022 Datacenter / x64  OK    OK    OK    OK  
merida1macOS 12.7.5 Monterey / x86_64  OK    OK    OK    OK  UNNEEDED, same version is already published
kjohnson1macOS 13.6.6 Ventura / arm64  OK    OK    OK    OK  UNNEEDED, same version is already published


CHECK results for M3Drop on nebbiolo1

To the developers/maintainers of the M3Drop package:
- Allow up to 24 hours (and sometimes 48 hours) for your latest push to git@git.bioconductor.org:packages/M3Drop.git to reflect on this report. See Troubleshooting Build Report for more information.
- Use the following Renviron settings to reproduce errors and warnings.
- If 'R CMD check' started to fail recently on the Linux builder(s) over a missing dependency, add the missing dependency to 'Suggests:' in your DESCRIPTION file. See Renviron.bioc for more information.

raw results


Summary

Package: M3Drop
Version: 1.30.0
Command: /home/biocbuild/bbs-3.19-bioc/R/bin/R CMD check --install=check:M3Drop.install-out.txt --library=/home/biocbuild/bbs-3.19-bioc/R/site-library --timings M3Drop_1.30.0.tar.gz
StartedAt: 2024-07-18 01:03:13 -0400 (Thu, 18 Jul 2024)
EndedAt: 2024-07-18 01:09:57 -0400 (Thu, 18 Jul 2024)
EllapsedTime: 403.9 seconds
RetCode: 0
Status:   OK  
CheckDir: M3Drop.Rcheck
Warnings: 0

Command output

##############################################################################
##############################################################################
###
### Running command:
###
###   /home/biocbuild/bbs-3.19-bioc/R/bin/R CMD check --install=check:M3Drop.install-out.txt --library=/home/biocbuild/bbs-3.19-bioc/R/site-library --timings M3Drop_1.30.0.tar.gz
###
##############################################################################
##############################################################################


* using log directory ‘/home/biocbuild/bbs-3.19-bioc/meat/M3Drop.Rcheck’
* using R version 4.4.1 (2024-06-14)
* using platform: x86_64-pc-linux-gnu
* R was compiled by
    gcc (Ubuntu 11.4.0-1ubuntu1~22.04) 11.4.0
    GNU Fortran (Ubuntu 11.4.0-1ubuntu1~22.04) 11.4.0
* running under: Ubuntu 22.04.4 LTS
* using session charset: UTF-8
* checking for file ‘M3Drop/DESCRIPTION’ ... OK
* this is package ‘M3Drop’ version ‘1.30.0’
* checking package namespace information ... OK
* checking package dependencies ... OK
* checking if this is a source package ... OK
* checking if there is a namespace ... OK
* checking for hidden files and directories ... OK
* checking for portable file names ... OK
* checking for sufficient/correct file permissions ... OK
* checking whether package ‘M3Drop’ can be installed ... OK
* checking installed package size ... OK
* checking package directory ... OK
* checking ‘build’ directory ... OK
* checking DESCRIPTION meta-information ... OK
* checking top-level files ... OK
* checking for left-over files ... OK
* checking index information ... OK
* checking package subdirectories ... OK
* checking code files for non-ASCII characters ... OK
* checking R files for syntax errors ... OK
* checking whether the package can be loaded ... OK
* checking whether the package can be loaded with stated dependencies ... OK
* checking whether the package can be unloaded cleanly ... OK
* checking whether the namespace can be loaded with stated dependencies ... OK
* checking whether the namespace can be unloaded cleanly ... OK
* checking loading without being on the library search path ... OK
* checking dependencies in R code ... NOTE
Namespace in Imports field not imported from: ‘scater’
  All declared Imports should be used.
* checking S3 generic/method consistency ... OK
* checking replacement functions ... OK
* checking foreign function calls ... OK
* checking R code for possible problems ... NOTE
M3DropConvertData: no visible global function definition for ‘assays’
NBumiConvertData: no visible global function definition for ‘assays’
bg__filter_cells: no visible binding for global variable ‘x’
bg__get_extreme_residuals: no visible binding for global variable ‘x’
Undefined global functions or variables:
  assays x
* checking Rd files ... NOTE
prepare_Rd: NBumi_FSOther.Rd:8-10: Dropping empty section \usage
prepare_Rd: NBumi_TradDE.Rd:7-8: Dropping empty section \usage
* checking Rd metadata ... OK
* checking Rd cross-references ... OK
* checking for missing documentation entries ... OK
* checking for code/documentation mismatches ... OK
* checking Rd \usage sections ... OK
* checking Rd contents ... OK
* checking for unstated dependencies in examples ... OK
* checking files in ‘vignettes’ ... OK
* checking examples ... OK
Examples with CPU (user + system) or elapsed time > 5s
                 user system elapsed
NewSimulations 96.800  1.500  98.302
Imputation     39.614  0.155  39.771
M3D_getmarkers 31.980  0.251  32.232
M3D_ConverData  5.441  0.164   5.605
* checking for unstated dependencies in vignettes ... OK
* checking package vignettes ... OK
* checking re-building of vignette outputs ... OK
* checking PDF version of manual ... OK
* DONE

Status: 3 NOTEs
See
  ‘/home/biocbuild/bbs-3.19-bioc/meat/M3Drop.Rcheck/00check.log’
for details.


Installation output

M3Drop.Rcheck/00install.out

##############################################################################
##############################################################################
###
### Running command:
###
###   /home/biocbuild/bbs-3.19-bioc/R/bin/R CMD INSTALL M3Drop
###
##############################################################################
##############################################################################


* installing to library ‘/home/biocbuild/bbs-3.19-bioc/R/site-library’
* installing *source* package ‘M3Drop’ ...
** using staged installation
** R
** inst
** byte-compile and prepare package for lazy loading
** help
*** installing help indices
** building package indices
** installing vignettes
** testing if installed package can be loaded from temporary location
** testing if installed package can be loaded from final location
** testing if installed package keeps a record of temporary installation path
* DONE (M3Drop)

Tests output


Example timings

M3Drop.Rcheck/M3Drop-Ex.timings

nameusersystemelapsed
Brennecke_getVariableGenes3.5680.1283.695
Consensus_FS0.260.020.28
Fitting_Dropout_Models000
Imputation39.614 0.15539.771
M3D_Clean_Data1.8480.1121.960
M3D_ConverData5.4410.1645.605
M3D_Differential_Expression1.8990.1042.004
M3D_Dropout_Models1.6650.1041.769
M3D_Expression_Heatmap0.4740.0030.478
M3D_Get_Extremes1.6570.0361.694
M3D_Get_Heatmap_Cell_Clusters0.4280.0000.427
M3D_Simulations0.0000.0000.001
M3D_Test_Shift1.2320.0681.300
M3D_ThreeSet_Venn0.3210.0030.325
M3D_TraditionalDE0.0140.0010.014
M3D_getmarkers31.980 0.25132.232
M3D_horz_res0.0000.0000.001
NBumi_CheckFit1.3790.1001.479
NBumi_CoExpression1.2910.0601.351
NBumi_CompareModels3.2980.0203.319
NBumi_ConvertToInteger000
NBumi_ConvrtData0.2780.0080.286
NBumi_FSDrop1.3920.0681.460
NBumi_FSHighVar0.6390.0080.647
NBumi_FSOther0.0070.0000.007
NBumi_FitDisp0.0010.0000.001
NBumi_FitDispVsMean0.4650.0000.465
NBumi_FitModel0.6680.0000.668
NBumi_HVG0.7490.0000.749
NBumi_PearsonResiduals1.3490.0031.353
NBumi_TradDE000
NewSimulations96.800 1.50098.302
Other_FS1.7770.1081.886
PoissonUMIFeatureSelectionDropouts0.5590.0120.571
bg__fit_gamma0.0010.0000.000
bg__get_stats000
bg__mean2disp000
bg__shift_size000
bg__var_vs_drop000