Back to Multiple platform build/check report for BioC 3.19:   simplified   long
ABC[D]EFGHIJKLMNOPQRSTUVWXYZ

This page was generated on 2024-07-16 17:38 -0400 (Tue, 16 Jul 2024).

HostnameOSArch (*)R versionInstalled pkgs
nebbiolo1Linux (Ubuntu 22.04.3 LTS)x86_644.4.1 (2024-06-14) -- "Race for Your Life" 4742
palomino7Windows Server 2022 Datacenterx644.4.1 (2024-06-14 ucrt) -- "Race for Your Life" 4484
merida1macOS 12.7.4 Montereyx86_644.4.1 (2024-06-14) -- "Race for Your Life" 4513
kjohnson1macOS 13.6.6 Venturaarm644.4.1 (2024-06-14) -- "Race for Your Life" 4462
Click on any hostname to see more info about the system (e.g. compilers)      (*) as reported by 'uname -p', except on Windows and Mac OS X

Package 585/2300HostnameOS / ArchINSTALLBUILDCHECKBUILD BIN
distinct 1.16.0  (landing page)
Simone Tiberi
Snapshot Date: 2024-07-14 14:00 -0400 (Sun, 14 Jul 2024)
git_url: https://git.bioconductor.org/packages/distinct
git_branch: RELEASE_3_19
git_last_commit: 08e8e0b
git_last_commit_date: 2024-04-30 11:22:44 -0400 (Tue, 30 Apr 2024)
nebbiolo1Linux (Ubuntu 22.04.3 LTS) / x86_64  OK    OK    OK  UNNEEDED, same version is already published
palomino7Windows Server 2022 Datacenter / x64  OK    OK    OK    OK  
merida1macOS 12.7.4 Monterey / x86_64  OK    OK    OK    OK  UNNEEDED, same version is already published
kjohnson1macOS 13.6.6 Ventura / arm64  OK    OK    OK    OK  UNNEEDED, same version is already published


CHECK results for distinct on nebbiolo1

To the developers/maintainers of the distinct package:
- Allow up to 24 hours (and sometimes 48 hours) for your latest push to git@git.bioconductor.org:packages/distinct.git to reflect on this report. See Troubleshooting Build Report for more information.
- Use the following Renviron settings to reproduce errors and warnings.
- If 'R CMD check' started to fail recently on the Linux builder(s) over a missing dependency, add the missing dependency to 'Suggests:' in your DESCRIPTION file. See Renviron.bioc for more information.

raw results


Summary

Package: distinct
Version: 1.16.0
Command: /home/biocbuild/bbs-3.19-bioc/R/bin/R CMD check --install=check:distinct.install-out.txt --library=/home/biocbuild/bbs-3.19-bioc/R/site-library --timings distinct_1.16.0.tar.gz
StartedAt: 2024-07-14 23:07:29 -0400 (Sun, 14 Jul 2024)
EndedAt: 2024-07-14 23:16:16 -0400 (Sun, 14 Jul 2024)
EllapsedTime: 526.1 seconds
RetCode: 0
Status:   OK  
CheckDir: distinct.Rcheck
Warnings: 0

Command output

##############################################################################
##############################################################################
###
### Running command:
###
###   /home/biocbuild/bbs-3.19-bioc/R/bin/R CMD check --install=check:distinct.install-out.txt --library=/home/biocbuild/bbs-3.19-bioc/R/site-library --timings distinct_1.16.0.tar.gz
###
##############################################################################
##############################################################################


* using log directory ‘/home/biocbuild/bbs-3.19-bioc/meat/distinct.Rcheck’
* using R version 4.4.1 (2024-06-14)
* using platform: x86_64-pc-linux-gnu
* R was compiled by
    gcc (Ubuntu 11.4.0-1ubuntu1~22.04) 11.4.0
    GNU Fortran (Ubuntu 11.4.0-1ubuntu1~22.04) 11.4.0
* running under: Ubuntu 22.04.4 LTS
* using session charset: UTF-8
* checking for file ‘distinct/DESCRIPTION’ ... OK
* checking extension type ... Package
* this is package ‘distinct’ version ‘1.16.0’
* checking package namespace information ... OK
* checking package dependencies ... OK
* checking if this is a source package ... OK
* checking if there is a namespace ... OK
* checking for hidden files and directories ... OK
* checking for portable file names ... OK
* checking for sufficient/correct file permissions ... OK
* checking whether package ‘distinct’ can be installed ... OK
* used C++ compiler: ‘g++ (Ubuntu 11.4.0-1ubuntu1~22.04) 11.4.0’
* checking C++ specification ... OK
  Not all R platforms support C++17
* checking installed package size ... OK
* checking package directory ... OK
* checking ‘build’ directory ... OK
* checking DESCRIPTION meta-information ... OK
* checking top-level files ... OK
* checking for left-over files ... OK
* checking index information ... OK
* checking package subdirectories ... OK
* checking code files for non-ASCII characters ... OK
* checking R files for syntax errors ... OK
* checking whether the package can be loaded ... OK
* checking whether the package can be loaded with stated dependencies ... OK
* checking whether the package can be unloaded cleanly ... OK
* checking whether the namespace can be loaded with stated dependencies ... OK
* checking whether the namespace can be unloaded cleanly ... OK
* checking loading without being on the library search path ... OK
* checking dependencies in R code ... NOTE
Namespace in Imports field not imported from: ‘Rcpp’
  All declared Imports should be used.
* checking S3 generic/method consistency ... OK
* checking replacement functions ... OK
* checking foreign function calls ... OK
* checking R code for possible problems ... NOTE
perm_test_parallel_R: no visible binding for global variable ‘cl_id’
perm_test_parallel_covariates_R: no visible binding for global variable
  ‘cl_id’
plot_cdfs: no visible binding for global variable ‘group’
plot_densities: no visible binding for global variable ‘group’
Undefined global functions or variables:
  cl_id group
* checking Rd files ... OK
* checking Rd metadata ... OK
* checking Rd cross-references ... OK
* checking for missing documentation entries ... OK
* checking for code/documentation mismatches ... OK
* checking Rd \usage sections ... OK
* checking Rd contents ... OK
* checking for unstated dependencies in examples ... OK
* checking contents of ‘data’ directory ... OK
* checking data for non-ASCII characters ... OK
* checking data for ASCII and uncompressed saves ... OK
* checking line endings in C/C++/Fortran sources/headers ... OK
* checking line endings in Makefiles ... OK
* checking compilation flags in Makevars ... OK
* checking for GNU extensions in Makefiles ... OK
* checking for portable use of $(BLAS_LIBS) and $(LAPACK_LIBS) ... OK
* checking use of PKG_*FLAGS in Makefiles ... OK
* checking compiled code ... NOTE
Note: information on .o files is not available
* checking files in ‘vignettes’ ... OK
* checking examples ... OK
Examples with CPU (user + system) or elapsed time > 5s
               user system elapsed
distinct_test 2.207  0.085   74.87
* checking for unstated dependencies in ‘tests’ ... OK
* checking tests ...
  Running ‘testthat.R’
 OK
* checking for unstated dependencies in vignettes ... OK
* checking package vignettes ... OK
* checking re-building of vignette outputs ... OK
* checking PDF version of manual ... OK
* DONE

Status: 3 NOTEs
See
  ‘/home/biocbuild/bbs-3.19-bioc/meat/distinct.Rcheck/00check.log’
for details.


Installation output

distinct.Rcheck/00install.out

##############################################################################
##############################################################################
###
### Running command:
###
###   /home/biocbuild/bbs-3.19-bioc/R/bin/R CMD INSTALL distinct
###
##############################################################################
##############################################################################


* installing to library ‘/home/biocbuild/bbs-3.19-bioc/R/site-library’
* installing *source* package ‘distinct’ ...
** using staged installation
** libs
using C++ compiler: ‘g++ (Ubuntu 11.4.0-1ubuntu1~22.04) 11.4.0’
using C++17
g++ -std=gnu++17 -I"/home/biocbuild/bbs-3.19-bioc/R/include" -DNDEBUG  -I'/home/biocbuild/bbs-3.19-bioc/R/site-library/Rcpp/include' -I'/home/biocbuild/bbs-3.19-bioc/R/site-library/RcppArmadillo/include' -I/usr/local/include    -fpic  -g -O2  -Wall  -c Perm.cpp -o Perm.o
g++ -std=gnu++17 -I"/home/biocbuild/bbs-3.19-bioc/R/include" -DNDEBUG  -I'/home/biocbuild/bbs-3.19-bioc/R/site-library/Rcpp/include' -I'/home/biocbuild/bbs-3.19-bioc/R/site-library/RcppArmadillo/include' -I/usr/local/include    -fpic  -g -O2  -Wall  -c Perm_covariates.cpp -o Perm_covariates.o
g++ -std=gnu++17 -I"/home/biocbuild/bbs-3.19-bioc/R/include" -DNDEBUG  -I'/home/biocbuild/bbs-3.19-bioc/R/site-library/Rcpp/include' -I'/home/biocbuild/bbs-3.19-bioc/R/site-library/RcppArmadillo/include' -I/usr/local/include    -fpic  -g -O2  -Wall  -c Perm_covariates_parallel.cpp -o Perm_covariates_parallel.o
g++ -std=gnu++17 -I"/home/biocbuild/bbs-3.19-bioc/R/include" -DNDEBUG  -I'/home/biocbuild/bbs-3.19-bioc/R/site-library/Rcpp/include' -I'/home/biocbuild/bbs-3.19-bioc/R/site-library/RcppArmadillo/include' -I/usr/local/include    -fpic  -g -O2  -Wall  -c Perm_parallel.cpp -o Perm_parallel.o
g++ -std=gnu++17 -I"/home/biocbuild/bbs-3.19-bioc/R/include" -DNDEBUG  -I'/home/biocbuild/bbs-3.19-bioc/R/site-library/Rcpp/include' -I'/home/biocbuild/bbs-3.19-bioc/R/site-library/RcppArmadillo/include' -I/usr/local/include    -fpic  -g -O2  -Wall  -c RcppExports.cpp -o RcppExports.o
g++ -std=gnu++17 -shared -L/home/biocbuild/bbs-3.19-bioc/R/lib -L/usr/local/lib -o distinct.so Perm.o Perm_covariates.o Perm_covariates_parallel.o Perm_parallel.o RcppExports.o -llapack -L/home/biocbuild/bbs-3.19-bioc/R/lib -lRblas -lgfortran -lm -lquadmath -L/home/biocbuild/bbs-3.19-bioc/R/lib -lR
installing to /home/biocbuild/bbs-3.19-bioc/R/site-library/00LOCK-distinct/00new/distinct/libs
** R
** data
** inst
** byte-compile and prepare package for lazy loading
** help
*** installing help indices
** building package indices
** installing vignettes
** testing if installed package can be loaded from temporary location
** checking absolute paths in shared objects and dynamic libraries
** testing if installed package can be loaded from final location
** testing if installed package keeps a record of temporary installation path
* DONE (distinct)

Tests output

distinct.Rcheck/tests/testthat.Rout


R version 4.4.1 (2024-06-14) -- "Race for Your Life"
Copyright (C) 2024 The R Foundation for Statistical Computing
Platform: x86_64-pc-linux-gnu

R is free software and comes with ABSOLUTELY NO WARRANTY.
You are welcome to redistribute it under certain conditions.
Type 'license()' or 'licence()' for distribution details.

R is a collaborative project with many contributors.
Type 'contributors()' for more information and
'citation()' on how to cite R or R packages in publications.

Type 'demo()' for some demos, 'help()' for on-line help, or
'help.start()' for an HTML browser interface to help.
Type 'q()' to quit R.

> library(testthat)
> library(distinct)
> test_check("distinct")
[ FAIL 0 | WARN 1 | SKIP 0 | PASS 8 ]

[ FAIL 0 | WARN 1 | SKIP 0 | PASS 8 ]
> 
> proc.time()
   user  system elapsed 
 10.556   0.681  82.845 

Example timings

distinct.Rcheck/distinct-Ex.timings

nameusersystemelapsed
Kang_subset000
distinct_test 2.207 0.08574.870
log2_FC0.1860.0240.209
plot_cdfs0.4780.0680.546
plot_densities0.4630.0040.466
res0.0010.0000.000
top_results0.1940.0100.204