Back to Multiple platform build/check report for BioC 3.16
ABCDEFGH[I]JKLMNOPQRSTUVWXYZ

This page was generated on 2022-12-05 11:04:27 -0500 (Mon, 05 Dec 2022).

HostnameOSArch (*)R versionInstalled pkgs
nebbiolo2Linux (Ubuntu 20.04.5 LTS)x86_644.2.2 (2022-10-31) -- "Innocent and Trusting" 4506
palomino4Windows Server 2022 Datacenterx644.2.2 (2022-10-31 ucrt) -- "Innocent and Trusting" 4283
lconwaymacOS 12.5.1 Montereyx86_644.2.2 (2022-10-31) -- "Innocent and Trusting" 4312
Click on any hostname to see more info about the system (e.g. compilers)      (*) as reported by 'uname -p', except on Windows and Mac OS X

All results for package IRISFGM


To the developers/maintainers of the IRISFGM package:
- Please allow up to 24 hours (and sometimes 48 hours) for your latest push to git@git.bioconductor.org:packages/IRISFGM.git to
reflect on this report. See How and When does the builder pull? When will my changes propagate? for more information.
- Make sure to use the following settings in order to reproduce any error or warning you see on this page.

raw results

Package 995/2183HostnameOS / ArchINSTALLBUILDCHECKBUILD BIN
IRISFGM 1.6.0  (landing page)
Yuzhou Chang
Snapshot Date: 2022-12-04 14:00:05 -0500 (Sun, 04 Dec 2022)
git_url: https://git.bioconductor.org/packages/IRISFGM
git_branch: RELEASE_3_16
git_last_commit: c2d45f0
git_last_commit_date: 2022-11-01 11:24:02 -0500 (Tue, 01 Nov 2022)
nebbiolo2Linux (Ubuntu 20.04.5 LTS) / x86_64  OK    OK    OK  UNNEEDED, same version is already published
palomino4Windows Server 2022 Datacenter / x64  OK    OK    OK    OK  UNNEEDED, same version is already published
lconwaymacOS 12.5.1 Monterey / x86_64  OK    OK    OK    OK  UNNEEDED, same version is already published