Back to Multiple platform build/check report for BioC 3.12
ABCDEFGHIJKLMNOPQRS[T]UVWXYZ

Multiple platform build/check report for BioC 3.12

Results for package tRanslatome

This page was generated on 2021-03-03 12:09:11 -0500 (Wed, 03 Mar 2021).

Package 1889/1974HostnameOS / ArchINSTALLBUILDCHECKBUILD BIN
tRanslatome 1.28.0
Toma Tebaldi , Erik Dassi
Snapshot Date: 2021-03-02 14:50:31 -0500 (Tue, 02 Mar 2021)
URL: https://git.bioconductor.org/packages/tRanslatome
Branch: RELEASE_3_12
Last Commit: 5f9ed1a
Last Changed Date: 2020-10-27 10:50:58 -0500 (Tue, 27 Oct 2020)
malbec1Linux (Ubuntu 18.04.5 LTS) / x86_64  OK    OK    WARNINGS  UNNEEDED, same version exists in internal repository
nebbiolo1Linux (Ubuntu 20.04.2 LTS) / x86_64  OK    OK    WARNINGS  
tokay1Windows Server 2012 R2 Standard / x64  OK    OK    WARNINGS    OK  UNNEEDED, same version exists in internal repository
merida1macOS 10.14.6 Mojave / x86_64  OK    OK    WARNINGS    OK  UNNEEDED, same version exists in internal repository