Index of /checkResults/devel/bioc-LATEST/BiocSingular/raw-results

[ICO]NameLast modifiedSizeDescription

[DIR]Parent Directory  -  
[   ]info.dcf23-Jan-2022 01:09 293  
[DIR]merida1/23-Jan-2022 01:09 -  
[DIR]nebbiolo1/23-Jan-2022 01:05 -  
[DIR]palomino3/23-Jan-2022 01:07 -  
[DIR]riesling1/23-Jan-2022 01:06 -