Multiple platform build/check report for BioC 3.13 experimental data

This page was generated on 2020-11-19 15:58:48 -0500 (Thu, 19 Nov 2020).

Approx. Package Snapshot Date (git pull): 2020-11-19 09:00:12 -0500 (Thu, 19 Nov 2020)

HostnameOSArch (*)Platform label (**)R versionInstalled pkgs
malbec2Linux (Ubuntu 20.04.1 LTS)x86_64x86_64-linux-gnuR Under development (unstable) (2020-11-14 r79432) -- "Unsuffered Consequences" 3871
riesling1Windows Server 2019 Standardx64mingw32 / x86_64-w64-mingw32R Under development (unstable) (2020-11-06 r79405) -- "Unsuffered Consequences" 3833
Click on any hostname to see more info about the system (e.g. compilers)      (*) as reported by 'uname -p', except on Windows and Mac OS X      (**) as reported by 'gcc -v'

Package status is indicated by one of the following glyphs
 TIMEOUT  INSTALL, BUILD, CHECK or BUILD BIN of package took more than 40, 80, 80 or 40 minutes, respectively Use the check boxes to show only packages with the selected status types.
 ERROR  Bad DESCRIPTION file or INSTALL, BUILD or BUILD BIN of package failed, or CHECK produced errors
 WARNINGS  CHECK of package produced warnings
 OK  INSTALL, BUILD, CHECK or BUILD BIN of package was OK
 skipped  CHECK or BUILD BIN of package was skipped because the BUILD step failed
 NA  BUILD, CHECK or BUILD BIN result is not available because of an anomaly in the Build System
Click on any glyph in the report below to access the detailed results.
Package propagation status is indicated by one of the following LEDs
YES YES: Package was propagated because it didn't previously exist or version was bumped
NO NO: Package was not propagated because of a problem (impossible dependencies, or version lower than what is already propagated)
UNNEEDED UNNEEDED: Package was not propagated because it is already in the repository with this version. A version bump is required in order to propagate it

A crossed-out package name indicates the package is deprecated


SUMMARYOS / ArchINSTALLBUILDCHECK
malbec2 Linux (Ubuntu 20.04.1 LTS) / x86_64 
08374
015367
0676285
riesling1 Windows Server 2019 Standard / x64 
09372
014367
0890269
A
ABCDEFGHIJKLMNOPQRSTUVWXYZ
Package 1/382HostnameOS / ArchINSTALLBUILDCHECK
ABAData 1.21.0
Steffi Grote
Last Commit: 7550693
Last Changed Date: 2020-10-27 10:13:41 -0500
malbec2 Linux (Ubuntu 20.04.1 LTS) / x86_64  OK  OK  OK UNNEEDED, same version exists in internal repository
riesling1 Windows Server 2019 Standard / x64  OK  OK  OK 
Package 2/382HostnameOS / ArchINSTALLBUILDCHECK
adductData 1.7.0
Josie Hayes
Last Commit: f321628
Last Changed Date: 2020-10-27 10:29:10 -0500
malbec2 Linux (Ubuntu 20.04.1 LTS) / x86_64  OK  OK  OK UNNEEDED, same version exists in internal repository
riesling1 Windows Server 2019 Standard / x64  OK  OK  OK 
Package 3/382HostnameOS / ArchINSTALLBUILDCHECK
affycompData 1.29.0
Harris Jaffee
Last Commit: 0a7753d
Last Changed Date: 2020-10-27 09:52:33 -0500
malbec2 Linux (Ubuntu 20.04.1 LTS) / x86_64  OK  OK  OK UNNEEDED, same version exists in internal repository
riesling1 Windows Server 2019 Standard / x64  OK  OK  OK 
Package 4/382HostnameOS / ArchINSTALLBUILDCHECK
affydata 1.39.0
Harris Jaffee
Last Commit: 080210b
Last Changed Date: 2020-10-27 09:44:24 -0500
malbec2 Linux (Ubuntu 20.04.1 LTS) / x86_64  OK  OK  WARNINGS UNNEEDED, same version exists in internal repository
riesling1 Windows Server 2019 Standard / x64  OK  OK  WARNINGS 
Package 5/382HostnameOS / ArchINSTALLBUILDCHECK
Affyhgu133A2Expr 1.27.0
Zhicheng Ji
Last Commit: 325a4ba
Last Changed Date: 2020-10-27 10:08:21 -0500
malbec2 Linux (Ubuntu 20.04.1 LTS) / x86_64  OK  OK  OK UNNEEDED, same version exists in internal repository
riesling1 Windows Server 2019 Standard / x64  OK  OK  OK 
Package 6/382HostnameOS / ArchINSTALLBUILDCHECK
Affyhgu133aExpr 1.29.0
Zhicheng Ji
Last Commit: 9cbb782
Last Changed Date: 2020-10-27 10:07:40 -0500
malbec2 Linux (Ubuntu 20.04.1 LTS) / x86_64  OK  OK  OK UNNEEDED, same version exists in internal repository
riesling1 Windows Server 2019 Standard / x64  OK  OK  OK 
Package 7/382HostnameOS / ArchINSTALLBUILDCHECK
Affyhgu133Plus2Expr 1.25.0
Zhicheng Ji
Last Commit: cc97d22
Last Changed Date: 2020-10-27 10:08:24 -0500
malbec2 Linux (Ubuntu 20.04.1 LTS) / x86_64  OK  OK  OK UNNEEDED, same version exists in internal repository
riesling1 Windows Server 2019 Standard / x64  OK  OK  OK 
Package 8/382HostnameOS / ArchINSTALLBUILDCHECK
AffymetrixDataTestFiles 0.29.0
Henrik Bengtsson
Last Commit: b0450e1
Last Changed Date: 2020-10-27 09:44:28 -0500
malbec2 Linux (Ubuntu 20.04.1 LTS) / x86_64  OK  OK  OK UNNEEDED, same version exists in internal repository
riesling1 Windows Server 2019 Standard / x64  OK  OK  OK 
Package 9/382HostnameOS / ArchINSTALLBUILDCHECK
Affymoe4302Expr 1.29.0
Zhicheng Ji
Last Commit: ddab6bb
Last Changed Date: 2020-10-27 10:07:56 -0500
malbec2 Linux (Ubuntu 20.04.1 LTS) / x86_64  OK  OK  OK UNNEEDED, same version exists in internal repository
riesling1 Windows Server 2019 Standard / x64  OK  OK  OK 
Package 10/382HostnameOS / ArchINSTALLBUILDCHECK
airway 1.11.0
Michael Love
Last Commit: 9795210
Last Changed Date: 2020-10-27 10:09:39 -0500
malbec2 Linux (Ubuntu 20.04.1 LTS) / x86_64  OK  OK  WARNINGS UNNEEDED, same version exists in internal repository
riesling1 Windows Server 2019 Standard / x64  OK  OK  WARNINGS 
Package 11/382HostnameOS / ArchINSTALLBUILDCHECK
ALL 1.33.0
Robert Gentleman
Last Commit: b374d82
Last Changed Date: 2020-10-27 09:44:39 -0500
malbec2 Linux (Ubuntu 20.04.1 LTS) / x86_64  OK  OK  OK UNNEEDED, same version exists in internal repository
riesling1 Windows Server 2019 Standard / x64  OK  OK  OK 
Package 12/382HostnameOS / ArchINSTALLBUILDCHECK
ALLMLL 1.31.0
B. M. Bolstad
Last Commit: 44945ac
Last Changed Date: 2020-10-27 09:44:43 -0500
malbec2 Linux (Ubuntu 20.04.1 LTS) / x86_64  OK  OK  OK UNNEEDED, same version exists in internal repository
riesling1 Windows Server 2019 Standard / x64  OK  OK  OK 
Package 13/382HostnameOS / ArchINSTALLBUILDCHECK
alpineData 1.17.0
Michael Love
Last Commit: e1c33cf
Last Changed Date: 2020-10-27 10:21:31 -0500
malbec2 Linux (Ubuntu 20.04.1 LTS) / x86_64  OK  OK  OK UNNEEDED, same version exists in internal repository
riesling1 Windows Server 2019 Standard / x64  OK  OK  OK 
Package 14/382HostnameOS / ArchINSTALLBUILDCHECK
AmpAffyExample 1.31.0
Rafael A. Irizarry
Last Commit: 5bf96c0
Last Changed Date: 2020-10-27 09:44:46 -0500
malbec2 Linux (Ubuntu 20.04.1 LTS) / x86_64  OK  OK  WARNINGS UNNEEDED, same version exists in internal repository
riesling1 Windows Server 2019 Standard / x64  OK  OK  WARNINGS 
Package 15/382HostnameOS / ArchINSTALLBUILDCHECK
AneuFinderData 1.19.0
Aaron Taudt
Last Commit: 31d0d3f
Last Changed Date: 2020-10-27 10:18:25 -0500
malbec2 Linux (Ubuntu 20.04.1 LTS) / x86_64  OK  OK  WARNINGS UNNEEDED, same version exists in internal repository
riesling1 Windows Server 2019 Standard / x64  OK  OK  WARNINGS 
Package 16/382HostnameOS / ArchINSTALLBUILDCHECK
antiProfilesData 1.27.0
Hector Corrada Bravo
Last Commit: bfaa695
Last Changed Date: 2020-10-27 10:01:42 -0500
malbec2 Linux (Ubuntu 20.04.1 LTS) / x86_64  OK  OK  OK UNNEEDED, same version exists in internal repository
riesling1 Windows Server 2019 Standard / x64  OK  OK  OK 
Package 17/382HostnameOS / ArchINSTALLBUILDCHECK
aracne.networks 1.17.0
Federico M. Giorgi , Mariano Alvarez
Last Commit: 0719873
Last Changed Date: 2020-10-27 10:20:54 -0500
malbec2 Linux (Ubuntu 20.04.1 LTS) / x86_64  OK  OK  WARNINGS UNNEEDED, same version exists in internal repository
riesling1 Windows Server 2019 Standard / x64  OK  OK  WARNINGS 
Package 18/382HostnameOS / ArchINSTALLBUILDCHECK
ARRmData 1.27.0
Jean-Philippe Fortin
Last Commit: b224c9c
Last Changed Date: 2020-10-27 10:00:59 -0500
malbec2 Linux (Ubuntu 20.04.1 LTS) / x86_64  OK  OK  OK UNNEEDED, same version exists in internal repository
riesling1 Windows Server 2019 Standard / x64  OK  OK  OK 
Package 19/382HostnameOS / ArchINSTALLBUILDCHECK
AshkenazimSonChr21 1.21.0
Who to complain to
Last Commit: d530d6e
Last Changed Date: 2020-10-27 10:13:29 -0500
malbec2 Linux (Ubuntu 20.04.1 LTS) / x86_64  OK  OK  OK UNNEEDED, same version exists in internal repository
riesling1 Windows Server 2019 Standard / x64  OK  OK  OK 
Package 20/382HostnameOS / ArchINSTALLBUILDCHECK
ASICSdata 1.11.0
Gaëlle Lefort
Last Commit: e37e1d2
Last Changed Date: 2020-10-27 10:26:25 -0500
malbec2 Linux (Ubuntu 20.04.1 LTS) / x86_64  OK  OK  OK UNNEEDED, same version exists in internal repository
riesling1 Windows Server 2019 Standard / x64  OK  OK  OK 
Package 21/382HostnameOS / ArchINSTALLBUILDCHECK
AssessORFData 1.9.0
Deepank Korandla
Last Commit: a2da368
Last Changed Date: 2020-10-27 10:28:32 -0500
malbec2 Linux (Ubuntu 20.04.1 LTS) / x86_64  OK  OK  OK UNNEEDED, same version exists in internal repository
riesling1 Windows Server 2019 Standard / x64  OK  OK  OK 
B
ABCDEFGHIJKLMNOPQRSTUVWXYZ
Package 22/382HostnameOS / ArchINSTALLBUILDCHECK
bcellViper 1.27.0
Mariano Javier Alvarez
Last Commit: 676db9a
Last Changed Date: 2020-10-27 10:08:37 -0500
malbec2 Linux (Ubuntu 20.04.1 LTS) / x86_64  OK  OK  OK UNNEEDED, same version exists in internal repository
riesling1 Windows Server 2019 Standard / x64  OK  OK  OK 
Package 23/382HostnameOS / ArchINSTALLBUILDCHECK
beadarrayExampleData 1.29.0
Mark Dunning
Last Commit: fd38a77
Last Changed Date: 2020-10-27 09:53:57 -0500
malbec2 Linux (Ubuntu 20.04.1 LTS) / x86_64  OK  OK  OK UNNEEDED, same version exists in internal repository
riesling1 Windows Server 2019 Standard / x64  OK  OK  OK 
Package 24/382HostnameOS / ArchINSTALLBUILDCHECK
BeadArrayUseCases 1.29.0
Mike Smith
Last Commit: 9416683
Last Changed Date: 2020-10-27 09:54:12 -0500
malbec2 Linux (Ubuntu 20.04.1 LTS) / x86_64  OK  OK  OK UNNEEDED, same version exists in internal repository
riesling1 Windows Server 2019 Standard / x64  OK  OK  OK 
Package 25/382HostnameOS / ArchINSTALLBUILDCHECK
benchmarkfdrData2019 1.5.0
Stephanie Hicks
Last Commit: 259eb05
Last Changed Date: 2020-10-27 10:30:09 -0500
malbec2 Linux (Ubuntu 20.04.1 LTS) / x86_64  OK  OK  OK UNNEEDED, same version exists in internal repository
riesling1 Windows Server 2019 Standard / x64  OK  OK  OK 
Package 26/382HostnameOS / ArchINSTALLBUILDCHECK
beta7 1.29.0
Jean Yang
Last Commit: 219d575
Last Changed Date: 2020-10-27 09:44:50 -0500
malbec2 Linux (Ubuntu 20.04.1 LTS) / x86_64  OK  OK  WARNINGS UNNEEDED, same version exists in internal repository
riesling1 Windows Server 2019 Standard / x64  OK  OK  WARNINGS 
Package 27/382HostnameOS / ArchINSTALLBUILDCHECK
biotmleData 1.15.0
Nima Hejazi
Last Commit: ecab0d2
Last Changed Date: 2020-10-27 10:22:49 -0500
malbec2 Linux (Ubuntu 20.04.1 LTS) / x86_64  OK  OK  OK UNNEEDED, same version exists in internal repository
riesling1 Windows Server 2019 Standard / x64  OK  OK  OK 
Package 28/382HostnameOS / ArchINSTALLBUILDCHECK
biscuiteerData 1.5.0
"Jacob Morrison"
Last Commit: 3d8ba53
Last Changed Date: 2020-10-27 10:30:54 -0500
malbec2 Linux (Ubuntu 20.04.1 LTS) / x86_64  OK  OK  OK UNNEEDED, same version exists in internal repository
riesling1 Windows Server 2019 Standard / x64  OK  OK  OK 
Package 29/382HostnameOS / ArchINSTALLBUILDCHECK
bladderbatch 1.29.0
Jeffrey T. Leek
Last Commit: 8eb688a
Last Changed Date: 2020-10-27 09:53:50 -0500
malbec2 Linux (Ubuntu 20.04.1 LTS) / x86_64  OK  OK  WARNINGS UNNEEDED, same version exists in internal repository
riesling1 Windows Server 2019 Standard / x64  OK  OK  WARNINGS 
Package 30/382HostnameOS / ArchINSTALLBUILDCHECK
blimaTestingData 1.11.0
Vojtech Kulvait
Last Commit: 6689baa
Last Changed Date: 2020-10-27 10:09:04 -0500
malbec2 Linux (Ubuntu 20.04.1 LTS) / x86_64  OK  OK  OK UNNEEDED, same version exists in internal repository
riesling1 Windows Server 2019 Standard / x64  OK  OK  OK 
Package 31/382HostnameOS / ArchINSTALLBUILDCHECK
BloodCancerMultiOmics2017 1.11.0
Malgorzata Oles
Last Commit: 7d60da4
Last Changed Date: 2020-10-27 10:26:12 -0500
malbec2 Linux (Ubuntu 20.04.1 LTS) / x86_64  OK  OK  OK UNNEEDED, same version exists in internal repository
riesling1 Windows Server 2019 Standard / x64  OK  OK  OK 
Package 32/382HostnameOS / ArchINSTALLBUILDCHECK
bodymapRat 1.7.0
Stephanie Hicks
Last Commit: d3a4487
Last Changed Date: 2020-10-27 10:29:45 -0500
malbec2 Linux (Ubuntu 20.04.1 LTS) / x86_64  OK  OK  OK UNNEEDED, same version exists in internal repository
riesling1 Windows Server 2019 Standard / x64  OK  OK  OK 
Package 33/382HostnameOS / ArchINSTALLBUILDCHECK
brainImageRdata 1.9.0
Sara Linker
Last Commit: d37621d
Last Changed Date: 2020-10-27 10:27:37 -0500
malbec2 Linux (Ubuntu 20.04.1 LTS) / x86_64  OK  OK  OK UNNEEDED, same version exists in internal repository
riesling1 Windows Server 2019 Standard / x64  OK  OK  OK 
Package 34/382HostnameOS / ArchINSTALLBUILDCHECK
breakpointRdata 1.9.0
David Porubsky
Last Commit: c32cc15
Last Changed Date: 2020-10-27 10:27:44 -0500
malbec2 Linux (Ubuntu 20.04.1 LTS) / x86_64  OK  OK  OK UNNEEDED, same version exists in internal repository
riesling1 Windows Server 2019 Standard / x64  OK  OK  OK 
Package 35/382HostnameOS / ArchINSTALLBUILDCHECK
breastCancerMAINZ 1.29.0
Markus Schroeder , Benjamin Haibe-Kains
Last Commit: c14abaf
Last Changed Date: 2020-10-27 09:52:40 -0500
malbec2 Linux (Ubuntu 20.04.1 LTS) / x86_64  OK  OK  WARNINGS UNNEEDED, same version exists in internal repository
riesling1 Windows Server 2019 Standard / x64  OK  OK  WARNINGS 
Package 36/382HostnameOS / ArchINSTALLBUILDCHECK
breastCancerNKI 1.29.0
Markus Schroeder , Benjamin Haibe-Kains
Last Commit: 8a22703
Last Changed Date: 2020-10-27 09:52:43 -0500
malbec2 Linux (Ubuntu 20.04.1 LTS) / x86_64  OK  OK  WARNINGS UNNEEDED, same version exists in internal repository
riesling1 Windows Server 2019 Standard / x64  OK  OK  WARNINGS 
Package 37/382HostnameOS / ArchINSTALLBUILDCHECK
breastCancerTRANSBIG 1.29.0
Markus Schroeder , Benjamin Haibe-Kains
Last Commit: 884c4ac
Last Changed Date: 2020-10-27 09:52:47 -0500
malbec2 Linux (Ubuntu 20.04.1 LTS) / x86_64  OK  OK  WARNINGS UNNEEDED, same version exists in internal repository
riesling1 Windows Server 2019 Standard / x64  OK  OK  WARNINGS 
Package 38/382HostnameOS / ArchINSTALLBUILDCHECK
breastCancerUNT 1.29.0
Markus Schroeder , Benjamin Haibe-Kains
Last Commit: 8e9b7ca
Last Changed Date: 2020-10-27 09:52:50 -0500
malbec2 Linux (Ubuntu 20.04.1 LTS) / x86_64  OK  OK  WARNINGS UNNEEDED, same version exists in internal repository
riesling1 Windows Server 2019 Standard / x64  OK  OK  WARNINGS 
Package 39/382HostnameOS / ArchINSTALLBUILDCHECK
breastCancerUPP 1.29.0
Markus Schroeder , Benjamin Haibe-Kains
Last Commit: fb59a90
Last Changed Date: 2020-10-27 09:52:54 -0500
malbec2 Linux (Ubuntu 20.04.1 LTS) / x86_64  OK  OK  WARNINGS UNNEEDED, same version exists in internal repository
riesling1 Windows Server 2019 Standard / x64  OK  OK  WARNINGS 
Package 40/382HostnameOS / ArchINSTALLBUILDCHECK
breastCancerVDX 1.29.0
Markus Schroeder , Benjamin Haibe-Kains
Last Commit: ea547c4
Last Changed Date: 2020-10-27 09:52:57 -0500
malbec2 Linux (Ubuntu 20.04.1 LTS) / x86_64  OK  OK  WARNINGS UNNEEDED, same version exists in internal repository
riesling1 Windows Server 2019 Standard / x64  OK  OK  WARNINGS 
Package 41/382HostnameOS / ArchINSTALLBUILDCHECK
brgedata 1.13.0
Carlos Ruiz-Arenas
Last Commit: c9c7e98
Last Changed Date: 2020-10-27 10:23:31 -0500
malbec2 Linux (Ubuntu 20.04.1 LTS) / x86_64  OK  OK  WARNINGS UNNEEDED, same version exists in internal repository
riesling1 Windows Server 2019 Standard / x64  OK  OK  WARNINGS 
Package 42/382HostnameOS / ArchINSTALLBUILDCHECK
bronchialIL13 1.29.0
Vince Carey
Last Commit: 2d5adca
Last Changed Date: 2020-10-27 09:44:55 -0500
malbec2 Linux (Ubuntu 20.04.1 LTS) / x86_64  OK  OK  OK UNNEEDED, same version exists in internal repository
riesling1 Windows Server 2019 Standard / x64  OK  OK  OK 
Package 43/382HostnameOS / ArchINSTALLBUILDCHECK
bsseqData 0.29.0
Kasper Daniel Hansen
Last Commit: 05f855c
Last Changed Date: 2020-10-27 09:56:15 -0500
malbec2 Linux (Ubuntu 20.04.1 LTS) / x86_64  OK  OK  OK UNNEEDED, same version exists in internal repository
riesling1 Windows Server 2019 Standard / x64  OK  OK  OK 
C
ABCDEFGHIJKLMNOPQRSTUVWXYZ
Package 44/382HostnameOS / ArchINSTALLBUILDCHECK
cancerdata 1.29.0
Daniel Kosztyla
Last Commit: 45b4aad
Last Changed Date: 2020-10-27 09:55:31 -0500
malbec2 Linux (Ubuntu 20.04.1 LTS) / x86_64  OK  OK  OK UNNEEDED, same version exists in internal repository
riesling1 Windows Server 2019 Standard / x64  OK  OK  OK 
Package 45/382HostnameOS / ArchINSTALLBUILDCHECK
CardinalWorkflows 1.23.0
Kylie A. Bemis
Last Commit: eb287ce
Last Changed Date: 2020-10-27 10:11:32 -0500
malbec2 Linux (Ubuntu 20.04.1 LTS) / x86_64  ERROR  ERROR  skipped 
riesling1 Windows Server 2019 Standard / x64  ERROR  ERROR  skipped 
Package 46/382HostnameOS / ArchINSTALLBUILDCHECK
ccdata 1.17.0
Alex Pickering
Last Commit: 7f6a164
Last Changed Date: 2020-10-27 10:21:01 -0500
malbec2 Linux (Ubuntu 20.04.1 LTS) / x86_64  OK  OK  WARNINGS UNNEEDED, same version exists in internal repository
riesling1 Windows Server 2019 Standard / x64  OK  OK  WARNINGS 
Package 47/382HostnameOS / ArchINSTALLBUILDCHECK
CCl4 1.29.0
Audrey Kauffmann
Last Commit: d5d52d2
Last Changed Date: 2020-10-27 09:47:36 -0500
malbec2 Linux (Ubuntu 20.04.1 LTS) / x86_64  OK  OK  WARNINGS UNNEEDED, same version exists in internal repository
riesling1 Windows Server 2019 Standard / x64  OK  OK  WARNINGS 
Package 48/382HostnameOS / ArchINSTALLBUILDCHECK
ccTutorial 1.29.0
Joern Toedling
Last Commit: edfce2d
Last Changed Date: 2020-10-27 09:49:38 -0500
malbec2 Linux (Ubuntu 20.04.1 LTS) / x86_64  OK  OK  OK UNNEEDED, same version exists in internal repository
riesling1 Windows Server 2019 Standard / x64  OK  OK  OK 
Package 49/382HostnameOS / ArchINSTALLBUILDCHECK
celarefData 1.9.0
Sarah Williams
Last Commit: 9813acd
Last Changed Date: 2020-10-27 10:27:16 -0500
malbec2 Linux (Ubuntu 20.04.1 LTS) / x86_64  OK  OK  OK UNNEEDED, same version exists in internal repository
riesling1 Windows Server 2019 Standard / x64  OK  OK  OK 
Package 50/382HostnameOS / ArchINSTALLBUILDCHECK
celldex 1.1.0
Aaron Lun
Last Commit: e3fabad
Last Changed Date: 2020-10-27 10:32:01 -0500
malbec2 Linux (Ubuntu 20.04.1 LTS) / x86_64  OK  OK  OK UNNEEDED, same version exists in internal repository
riesling1 Windows Server 2019 Standard / x64  OK  OK  OK 
Package 51/382HostnameOS / ArchINSTALLBUILDCHECK
CellMapperData 1.17.0
Brad Nelms
Last Commit: 95f5e46
Last Changed Date: 2020-10-27 10:21:34 -0500
malbec2 Linux (Ubuntu 20.04.1 LTS) / x86_64  OK  OK  OK UNNEEDED, same version exists in internal repository
riesling1 Windows Server 2019 Standard / x64  OK  OK  OK 
Package 52/382HostnameOS / ArchINSTALLBUILDCHECK
ceu1kg 0.29.0
VJ Carey
Last Commit: 783f276
Last Changed Date: 2020-10-27 09:52:08 -0500
malbec2 Linux (Ubuntu 20.04.1 LTS) / x86_64  ERROR  ERROR  skipped 
riesling1 Windows Server 2019 Standard / x64  ERROR  ERROR  skipped 
Package 53/382HostnameOS / ArchINSTALLBUILDCHECK
ceu1kgv 0.33.0
VJ Carey
Last Commit: 73189a0
Last Changed Date: 2020-10-27 10:07:10 -0500
malbec2 Linux (Ubuntu 20.04.1 LTS) / x86_64  ERROR  ERROR  skipped 
riesling1 Windows Server 2019 Standard / x64  ERROR  ERROR  skipped 
Package 54/382HostnameOS / ArchINSTALLBUILDCHECK
ceuhm3 0.29.0
VJ Carey
Last Commit: 59f0709
Last Changed Date: 2020-10-27 09:52:05 -0500
malbec2 Linux (Ubuntu 20.04.1 LTS) / x86_64  ERROR  OK  ERROR 
riesling1 Windows Server 2019 Standard / x64  ERROR  OK  ERROR 
Package 55/382HostnameOS / ArchINSTALLBUILDCHECK
cgdv17 0.29.0
VJ Carey
Last Commit: 6c4c213
Last Changed Date: 2020-10-27 09:54:48 -0500
malbec2 Linux (Ubuntu 20.04.1 LTS) / x86_64  OK  ERROR  skipped 
riesling1 Windows Server 2019 Standard / x64  OK  ERROR  skipped 
Package 56/382HostnameOS / ArchINSTALLBUILDCHECK
ChAMPdata 2.23.0
Yuan Tian
Last Commit: 9095bbe
Last Changed Date: 2020-10-27 10:05:58 -0500
malbec2 Linux (Ubuntu 20.04.1 LTS) / x86_64  OK  OK  OK UNNEEDED, same version exists in internal repository
riesling1 Windows Server 2019 Standard / x64  OK  OK  OK 
Package 57/382HostnameOS / ArchINSTALLBUILDCHECK
ChIC.data 1.11.0
Carmen Maria Livi
Last Commit: 3345c49
Last Changed Date: 2020-10-27 10:26:51 -0500
malbec2 Linux (Ubuntu 20.04.1 LTS) / x86_64  OK  OK  OK UNNEEDED, same version exists in internal repository
riesling1 Windows Server 2019 Standard / x64  OK  OK  OK 
Package 58/382HostnameOS / ArchINSTALLBUILDCHECK
ChimpHumanBrainData 1.29.0
Sean Davis
Last Commit: c86db6f
Last Changed Date: 2020-10-27 10:07:29 -0500
malbec2 Linux (Ubuntu 20.04.1 LTS) / x86_64  OK  OK  OK UNNEEDED, same version exists in internal repository
riesling1 Windows Server 2019 Standard / x64  OK  OK  OK 
Package 59/382HostnameOS / ArchINSTALLBUILDCHECK
chipenrich.data 2.15.0
Raymond G. Cavalcante
Last Commit: 3a67788
Last Changed Date: 2020-10-27 10:05:31 -0500
malbec2 Linux (Ubuntu 20.04.1 LTS) / x86_64  OK  OK  OK UNNEEDED, same version exists in internal repository
riesling1 Windows Server 2019 Standard / x64  OK  OK  OK 
Package 60/382HostnameOS / ArchINSTALLBUILDCHECK
ChIPexoQualExample 1.15.0
Rene Welch
Last Commit: dbc6d72
Last Changed Date: 2020-10-27 10:22:29 -0500
malbec2 Linux (Ubuntu 20.04.1 LTS) / x86_64  OK  OK  OK UNNEEDED, same version exists in internal repository
riesling1 Windows Server 2019 Standard / x64  OK  OK  OK 
Package 61/382HostnameOS / ArchINSTALLBUILDCHECK
chipseqDBData 1.7.0
Aaron Lun
Last Commit: 96984e6
Last Changed Date: 2020-10-27 10:29:02 -0500
malbec2 Linux (Ubuntu 20.04.1 LTS) / x86_64  OK  OK  OK UNNEEDED, same version exists in internal repository
riesling1 Windows Server 2019 Standard / x64  OK  OK  OK 
Package 62/382HostnameOS / ArchINSTALLBUILDCHECK
ChIPXpressData 1.29.0
George Wu
Last Commit: 761a41d
Last Changed Date: 2020-10-27 09:57:08 -0500
malbec2 Linux (Ubuntu 20.04.1 LTS) / x86_64  OK  OK  WARNINGS UNNEEDED, same version exists in internal repository
riesling1 Windows Server 2019 Standard / x64 ...NOT SUPPORTED...
Package 63/382HostnameOS / ArchINSTALLBUILDCHECK
chromstaRData 1.17.0
Aaron Taudt
Last Commit: b830e91
Last Changed Date: 2020-10-27 10:20:48 -0500
malbec2 Linux (Ubuntu 20.04.1 LTS) / x86_64  OK  OK  OK UNNEEDED, same version exists in internal repository
riesling1 Windows Server 2019 Standard / x64  OK  OK  OK 
Package 64/382HostnameOS / ArchINSTALLBUILDCHECK
CLL 1.31.0
Robert Gentleman
Last Commit: 656d76b
Last Changed Date: 2020-10-27 09:44:59 -0500
malbec2 Linux (Ubuntu 20.04.1 LTS) / x86_64  OK  OK  OK UNNEEDED, same version exists in internal repository
riesling1 Windows Server 2019 Standard / x64  OK  OK  OK 
Package 65/382HostnameOS / ArchINSTALLBUILDCHECK
CLLmethylation 1.11.0
Malgorzata Oles , Andreas Mock
Last Commit: 2f7de5e
Last Changed Date: 2020-10-27 10:26:16 -0500
malbec2 Linux (Ubuntu 20.04.1 LTS) / x86_64  OK  OK  OK UNNEEDED, same version exists in internal repository
riesling1 Windows Server 2019 Standard / x64  OK  OK  OK 
Package 66/382HostnameOS / ArchINSTALLBUILDCHECK
CluMSIDdata 1.7.0
Tobias Depke
Last Commit: 701b60a
Last Changed Date: 2020-10-27 10:28:53 -0500
malbec2 Linux (Ubuntu 20.04.1 LTS) / x86_64  OK  OK  OK UNNEEDED, same version exists in internal repository
riesling1 Windows Server 2019 Standard / x64  OK  OK  OK 
Package 67/382HostnameOS / ArchINSTALLBUILDCHECK
clustifyrdatahub 1.1.0
Rui Fu
Last Commit: 95cdae9
Last Changed Date: 2020-10-27 10:32:19 -0500
malbec2 Linux (Ubuntu 20.04.1 LTS) / x86_64  OK  OK  OK UNNEEDED, same version exists in internal repository
riesling1 Windows Server 2019 Standard / x64  OK  OK  OK 
Package 68/382HostnameOS / ArchINSTALLBUILDCHECK
cMap2data 1.27.0
J. Saez-Rodriguez
Last Commit: 0fb2788
Last Changed Date: 2020-10-27 10:01:03 -0500
malbec2 Linux (Ubuntu 20.04.1 LTS) / x86_64  OK  OK  OK UNNEEDED, same version exists in internal repository
riesling1 Windows Server 2019 Standard / x64  OK  OK  OK 
Package 69/382HostnameOS / ArchINSTALLBUILDCHECK
cnvGSAdata 1.27.0
Joseph Lugo
Last Commit: d259bce
Last Changed Date: 2020-10-27 09:55:27 -0500
malbec2 Linux (Ubuntu 20.04.1 LTS) / x86_64  OK  OK  WARNINGS UNNEEDED, same version exists in internal repository
riesling1 Windows Server 2019 Standard / x64  OK  OK  WARNINGS 
Package 70/382HostnameOS / ArchINSTALLBUILDCHECK
COHCAPanno 1.27.0
Charles Warden
Last Commit: b771882
Last Changed Date: 2020-10-27 10:07:36 -0500
malbec2 Linux (Ubuntu 20.04.1 LTS) / x86_64  OK  OK  OK UNNEEDED, same version exists in internal repository
riesling1 Windows Server 2019 Standard / x64  OK  OK  OK 
Package 71/382HostnameOS / ArchINSTALLBUILDCHECK
colonCA 1.33.0
W Sylvia Merk
Last Commit: 26a5e93
Last Changed Date: 2020-10-27 09:45:02 -0500
malbec2 Linux (Ubuntu 20.04.1 LTS) / x86_64  OK  OK  WARNINGS UNNEEDED, same version exists in internal repository
riesling1 Windows Server 2019 Standard / x64  OK  OK  WARNINGS 
Package 72/382HostnameOS / ArchINSTALLBUILDCHECK
CONFESSdata 1.19.0
Diana LOW
Last Commit: c0be77c
Last Changed Date: 2020-10-27 10:18:44 -0500
malbec2 Linux (Ubuntu 20.04.1 LTS) / x86_64  OK  OK  OK UNNEEDED, same version exists in internal repository
riesling1 Windows Server 2019 Standard / x64  OK  OK  OK 
Package 73/382HostnameOS / ArchINSTALLBUILDCHECK
ConnectivityMap 1.27.0
Paul Shannon
Last Commit: 28a725a
Last Changed Date: 2020-10-27 10:01:07 -0500
malbec2 Linux (Ubuntu 20.04.1 LTS) / x86_64  OK  OK  OK UNNEEDED, same version exists in internal repository
riesling1 Windows Server 2019 Standard / x64  OK  OK  OK 
Package 74/382HostnameOS / ArchINSTALLBUILDCHECK
COPDSexualDimorphism.data 1.27.0
J Fah Sathirapongsasuti
Last Commit: d59afa6
Last Changed Date: 2020-10-27 10:08:40 -0500
malbec2 Linux (Ubuntu 20.04.1 LTS) / x86_64  OK  OK  WARNINGS UNNEEDED, same version exists in internal repository
riesling1 Windows Server 2019 Standard / x64  OK  OK  WARNINGS 
Package 75/382HostnameOS / ArchINSTALLBUILDCHECK
CopyhelpeR 1.23.0
Oscar Krijgsman
Last Commit: 995a539
Last Changed Date: 2020-10-27 10:12:43 -0500
malbec2 Linux (Ubuntu 20.04.1 LTS) / x86_64  OK  OK  OK UNNEEDED, same version exists in internal repository
riesling1 Windows Server 2019 Standard / x64  OK  OK  OK 
Package 76/382HostnameOS / ArchINSTALLBUILDCHECK
CopyNeutralIMA 1.9.0
Xavier Pastor Hostench
Last Commit: b9ed464
Last Changed Date: 2020-10-27 10:27:13 -0500
malbec2 Linux (Ubuntu 20.04.1 LTS) / x86_64  OK  OK  OK UNNEEDED, same version exists in internal repository
riesling1 Windows Server 2019 Standard / x64  OK  OK  OK 
Package 77/382HostnameOS / ArchINSTALLBUILDCHECK
COSMIC.67 1.27.0
Julian Gehring
Last Commit: db73308
Last Changed Date: 2020-10-27 10:06:45 -0500
malbec2 Linux (Ubuntu 20.04.1 LTS) / x86_64  OK  OK  OK UNNEEDED, same version exists in internal repository
riesling1 Windows Server 2019 Standard / x64  OK  OK  OK 
Package 78/382HostnameOS / ArchINSTALLBUILDCHECK
CRCL18 1.11.0
Claudio Isella
Last Commit: d7c6f9f
Last Changed Date: 2020-10-27 10:09:44 -0500
malbec2 Linux (Ubuntu 20.04.1 LTS) / x86_64  OK  OK  OK UNNEEDED, same version exists in internal repository
riesling1 Windows Server 2019 Standard / x64  OK  OK  OK 
Package 79/382HostnameOS / ArchINSTALLBUILDCHECK
curatedAdipoArray 1.3.0
Mahmoud Ahmed
Last Commit: 72d0d34
Last Changed Date: 2020-10-27 10:31:04 -0500
malbec2 Linux (Ubuntu 20.04.1 LTS) / x86_64  OK  OK  OK UNNEEDED, same version exists in internal repository
riesling1 Windows Server 2019 Standard / x64  OK  OK  OK 
Package 80/382HostnameOS / ArchINSTALLBUILDCHECK
curatedAdipoChIP 1.7.0
Mahmoud Ahmed
Last Commit: 129aea9
Last Changed Date: 2020-10-27 10:29:51 -0500
malbec2 Linux (Ubuntu 20.04.1 LTS) / x86_64  OK  OK  OK UNNEEDED, same version exists in internal repository
riesling1 Windows Server 2019 Standard / x64  OK  OK  OK 
Package 81/382HostnameOS / ArchINSTALLBUILDCHECK
curatedAdipoRNA 1.7.0
Mahmoud Ahmed
Last Commit: 836b471
Last Changed Date: 2020-10-27 10:29:38 -0500
malbec2 Linux (Ubuntu 20.04.1 LTS) / x86_64  OK  OK  OK UNNEEDED, same version exists in internal repository
riesling1 Windows Server 2019 Standard / x64  OK  OK  OK 
Package 82/382HostnameOS / ArchINSTALLBUILDCHECK
curatedBladderData 1.27.0
Markus Riester
Last Commit: d804766
Last Changed Date: 2020-10-27 10:05:27 -0500
malbec2 Linux (Ubuntu 20.04.1 LTS) / x86_64  OK  OK  OK UNNEEDED, same version exists in internal repository
riesling1 Windows Server 2019 Standard / x64  OK  OK  OK 
Package 83/382HostnameOS / ArchINSTALLBUILDCHECK
curatedBreastData 2.19.0
Katie Planey
Last Commit: 2aa1064
Last Changed Date: 2020-10-27 10:11:50 -0500
malbec2 Linux (Ubuntu 20.04.1 LTS) / x86_64  OK  OK  OK UNNEEDED, same version exists in internal repository
riesling1 Windows Server 2019 Standard / x64  OK  OK  OK 
Package 84/382HostnameOS / ArchINSTALLBUILDCHECK
curatedCRCData 2.23.0
Princy Parsana
Last Commit: 7453b6e
Last Changed Date: 2020-10-27 10:06:49 -0500
malbec2 Linux (Ubuntu 20.04.1 LTS) / x86_64  OK  OK  OK UNNEEDED, same version exists in internal repository
riesling1 Windows Server 2019 Standard / x64  OK  OK  OK 
Package 85/382HostnameOS / ArchINSTALLBUILDCHECK
curatedMetagenomicData 1.21.0
Lucas Schiffer
Last Commit: 8f99117
Last Changed Date: 2020-10-27 10:20:00 -0500
malbec2 Linux (Ubuntu 20.04.1 LTS) / x86_64  OK  OK  OK UNNEEDED, same version exists in internal repository
riesling1 Windows Server 2019 Standard / x64  OK  OK  OK 
Package 86/382HostnameOS / ArchINSTALLBUILDCHECK
curatedOvarianData 1.29.0
Levi Waldron
Last Commit: f92ddad
Last Changed Date: 2020-10-27 10:00:26 -0500
malbec2 Linux (Ubuntu 20.04.1 LTS) / x86_64  OK  OK  OK UNNEEDED, same version exists in internal repository
riesling1 Windows Server 2019 Standard / x64  OK  OK  OK 
Package 87/382HostnameOS / ArchINSTALLBUILDCHECK
curatedTCGAData 1.13.0
Marcel Ramos
Last Commit: 4ad23eb
Last Changed Date: 2020-10-27 10:24:24 -0500
malbec2 Linux (Ubuntu 20.04.1 LTS) / x86_64  OK  OK  OK UNNEEDED, same version exists in internal repository
riesling1 Windows Server 2019 Standard / x64  OK  OK  OK 
D
ABCDEFGHIJKLMNOPQRSTUVWXYZ
Package 88/382HostnameOS / ArchINSTALLBUILDCHECK
DAPARdata 1.21.0
Samuel Wieczorek
Last Commit: bc1bf19
Last Changed Date: 2020-10-27 10:18:29 -0500
malbec2 Linux (Ubuntu 20.04.1 LTS) / x86_64  OK  OK  WARNINGS UNNEEDED, same version exists in internal repository
riesling1 Windows Server 2019 Standard / x64  OK  OK  WARNINGS 
Package 89/382HostnameOS / ArchINSTALLBUILDCHECK
davidTiling 1.31.0
Wolfgang Huber
Last Commit: 0c228f3
Last Changed Date: 2020-10-27 09:45:05 -0500
malbec2 Linux (Ubuntu 20.04.1 LTS) / x86_64  OK  OK  WARNINGS UNNEEDED, same version exists in internal repository
riesling1 Windows Server 2019 Standard / x64  OK  OK  WARNINGS 
Package 90/382HostnameOS / ArchINSTALLBUILDCHECK
depmap 1.5.0
Laurent Gatto
Last Commit: 972e33f
Last Changed Date: 2020-10-27 10:30:19 -0500
malbec2 Linux (Ubuntu 20.04.1 LTS) / x86_64  OK  OK  OK UNNEEDED, same version exists in internal repository
riesling1 Windows Server 2019 Standard / x64  OK  OK  OK 
Package 91/382HostnameOS / ArchINSTALLBUILDCHECK
derfinderData 2.9.0
Leonardo Collado-Torres
Last Commit: f9c57fd
Last Changed Date: 2020-10-27 10:10:39 -0500
malbec2 Linux (Ubuntu 20.04.1 LTS) / x86_64  OK  ERROR  skipped 
riesling1 Windows Server 2019 Standard / x64  OK  ERROR  skipped 
Package 92/382HostnameOS / ArchINSTALLBUILDCHECK
DeSousa2013 1.27.0
Xin Wang
Last Commit: bb7af97
Last Changed Date: 2020-10-27 10:02:18 -0500
malbec2 Linux (Ubuntu 20.04.1 LTS) / x86_64  OK  OK  OK UNNEEDED, same version exists in internal repository
riesling1 Windows Server 2019 Standard / x64  OK  OK  OK 
Package 93/382HostnameOS / ArchINSTALLBUILDCHECK
diffloopdata 1.19.0
Caleb Lareau
Last Commit: fc3780d
Last Changed Date: 2020-10-27 10:19:08 -0500
malbec2 Linux (Ubuntu 20.04.1 LTS) / x86_64  OK  OK  OK UNNEEDED, same version exists in internal repository
riesling1 Windows Server 2019 Standard / x64  OK  OK  OK 
Package 94/382HostnameOS / ArchINSTALLBUILDCHECK
diggitdata 1.23.0
Mariano Javier Alvarez
Last Commit: dfdf303
Last Changed Date: 2020-10-27 10:11:43 -0500
malbec2 Linux (Ubuntu 20.04.1 LTS) / x86_64  OK  OK  OK UNNEEDED, same version exists in internal repository
riesling1 Windows Server 2019 Standard / x64  OK  OK  OK 
Package 95/382HostnameOS / ArchINSTALLBUILDCHECK
DLBCL 1.31.0
Marcus Dittrich
Last Commit: b40e1f0
Last Changed Date: 2020-10-27 09:51:57 -0500
malbec2 Linux (Ubuntu 20.04.1 LTS) / x86_64  OK  OK  WARNINGS UNNEEDED, same version exists in internal repository
riesling1 Windows Server 2019 Standard / x64  OK  OK  WARNINGS 
Package 96/382HostnameOS / ArchINSTALLBUILDCHECK
DmelSGI 1.23.0
Bernd Fischer
Last Commit: 324a642
Last Changed Date: 2020-10-27 10:11:37 -0500
malbec2 Linux (Ubuntu 20.04.1 LTS) / x86_64  OK  ERROR  skipped 
riesling1 Windows Server 2019 Standard / x64  OK  ERROR  skipped 
Package 97/382HostnameOS / ArchINSTALLBUILDCHECK
DMRcatedata 2.9.0
Tim Peters
Last Commit: 4ef423d
Last Changed Date: 2020-10-27 10:08:17 -0500
malbec2 Linux (Ubuntu 20.04.1 LTS) / x86_64  OK  OK  OK UNNEEDED, same version exists in internal repository
riesling1 Windows Server 2019 Standard / x64  OK  OK  OK 
Package 98/382HostnameOS / ArchINSTALLBUILDCHECK
DonaPLLP2013 1.29.0
Joseph D. Barry
Last Commit: f64b1ee
Last Changed Date: 2020-10-27 10:04:32 -0500
malbec2 Linux (Ubuntu 20.04.1 LTS) / x86_64  OK  OK  OK UNNEEDED, same version exists in internal repository
riesling1 Windows Server 2019 Standard / x64  OK  OK  OK 
Package 99/382HostnameOS / ArchINSTALLBUILDCHECK
dorothea 1.3.0
Christian H. Holland
Last Commit: 6e2b837
Last Changed Date: 2020-10-27 10:31:26 -0500
malbec2 Linux (Ubuntu 20.04.1 LTS) / x86_64  OK  OK  OK UNNEEDED, same version exists in internal repository
riesling1 Windows Server 2019 Standard / x64  OK  OK  WARNINGS 
Package 100/382HostnameOS / ArchINSTALLBUILDCHECK
DREAM4 1.27.0
Paul Shannon
Last Commit: 2906b37
Last Changed Date: 2020-10-27 10:01:15 -0500
malbec2 Linux (Ubuntu 20.04.1 LTS) / x86_64  OK  ERROR  skipped 
riesling1 Windows Server 2019 Standard / x64  OK  ERROR  skipped 
Package 101/382HostnameOS / ArchINSTALLBUILDCHECK
dressCheck 0.29.0
Vincent Carey
Last Commit: 1ebba41
Last Changed Date: 2020-10-27 09:52:01 -0500
malbec2 Linux (Ubuntu 20.04.1 LTS) / x86_64  OK  OK  OK UNNEEDED, same version exists in internal repository
riesling1 Windows Server 2019 Standard / x64  OK  OK  OK 
Package 102/382HostnameOS / ArchINSTALLBUILDCHECK
DropletTestFiles 1.1.0
Aaron Lun
Last Commit: 0242945
Last Changed Date: 2020-10-27 10:32:28 -0500
malbec2 Linux (Ubuntu 20.04.1 LTS) / x86_64  OK  OK  OK UNNEEDED, same version exists in internal repository
riesling1 Windows Server 2019 Standard / x64  OK  OK  OK 
Package 103/382HostnameOS / ArchINSTALLBUILDCHECK
DrugVsDiseasedata 1.27.0
J. Saez-Rodriguez
Last Commit: 3e2ff74
Last Changed Date: 2020-10-27 10:01:18 -0500
malbec2 Linux (Ubuntu 20.04.1 LTS) / x86_64  OK  OK  OK UNNEEDED, same version exists in internal repository
riesling1 Windows Server 2019 Standard / x64  OK  OK  OK 
Package 104/382HostnameOS / ArchINSTALLBUILDCHECK
dsQTL 0.29.0
VJ Carey
Last Commit: c658dcd
Last Changed Date: 2020-10-27 09:54:56 -0500
malbec2 Linux (Ubuntu 20.04.1 LTS) / x86_64  ERROR  ERROR  skipped 
riesling1 Windows Server 2019 Standard / x64  ERROR  ERROR  skipped 
Package 105/382HostnameOS / ArchINSTALLBUILDCHECK
DuoClustering2018 1.9.0
Angelo Duò
Last Commit: bac06f0
Last Changed Date: 2020-10-27 10:27:19 -0500
malbec2 Linux (Ubuntu 20.04.1 LTS) / x86_64  OK  OK  OK UNNEEDED, same version exists in internal repository
riesling1 Windows Server 2019 Standard / x64  OK  OK  OK 
Package 106/382HostnameOS / ArchINSTALLBUILDCHECK
DvDdata 1.27.0
J. Saez-Rodriguez
Last Commit: 18a7380
Last Changed Date: 2020-10-27 10:00:42 -0500
malbec2 Linux (Ubuntu 20.04.1 LTS) / x86_64  OK  OK  OK UNNEEDED, same version exists in internal repository
riesling1 Windows Server 2019 Standard / x64  OK  OK  OK 
Package 107/382HostnameOS / ArchINSTALLBUILDCHECK
dyebiasexamples 1.31.0
Philip Lijnzaad
Last Commit: de2c585
Last Changed Date: 2020-10-27 09:51:10 -0500
malbec2 Linux (Ubuntu 20.04.1 LTS) / x86_64  OK  OK  WARNINGS UNNEEDED, same version exists in internal repository
riesling1 Windows Server 2019 Standard / x64  OK  OK  WARNINGS 
E
ABCDEFGHIJKLMNOPQRSTUVWXYZ
Package 108/382HostnameOS / ArchINSTALLBUILDCHECK
EatonEtAlChIPseq 0.29.0
Patrick Aboyoun
Last Commit: 7adbe25
Last Changed Date: 2020-10-27 09:51:54 -0500
malbec2 Linux (Ubuntu 20.04.1 LTS) / x86_64  OK  OK  WARNINGS UNNEEDED, same version exists in internal repository
riesling1 Windows Server 2019 Standard / x64  OK  OK  WARNINGS 
Package 109/382HostnameOS / ArchINSTALLBUILDCHECK
ecoliLeucine 1.31.0
Laurent Gautier
Last Commit: 900b6bc
Last Changed Date: 2020-10-27 09:45:20 -0500
malbec2 Linux (Ubuntu 20.04.1 LTS) / x86_64  OK  OK  WARNINGS UNNEEDED, same version exists in internal repository
riesling1 Windows Server 2019 Standard / x64  OK  OK  WARNINGS 
Package 110/382HostnameOS / ArchINSTALLBUILDCHECK
EGSEAdata 1.19.0
Monther Alhamdoosh
Last Commit: 88896f2
Last Changed Date: 2020-10-27 10:19:15 -0500
malbec2 Linux (Ubuntu 20.04.1 LTS) / x86_64  OK  OK  OK UNNEEDED, same version exists in internal repository
riesling1 Windows Server 2019 Standard / x64  OK  OK  OK 
Package 111/382HostnameOS / ArchINSTALLBUILDCHECK
ELMER.data 2.15.0
Tiago Chedraoui Silva
Last Commit: 25cce04
Last Changed Date: 2020-10-27 10:13:21 -0500
malbec2 Linux (Ubuntu 20.04.1 LTS) / x86_64  OK  OK  OK UNNEEDED, same version exists in internal repository
riesling1 Windows Server 2019 Standard / x64  OK  OK  OK 
Package 112/382HostnameOS / ArchINSTALLBUILDCHECK
estrogen 1.37.0
Wolfgang Huber
Last Commit: bc7d2c5
Last Changed Date: 2020-10-27 09:45:24 -0500
malbec2 Linux (Ubuntu 20.04.1 LTS) / x86_64  OK  OK  OK UNNEEDED, same version exists in internal repository
riesling1 Windows Server 2019 Standard / x64  OK  OK  OK 
Package 113/382HostnameOS / ArchINSTALLBUILDCHECK
etec16s 1.19.0
Joseph N. Paulson
Last Commit: fc9615b
Last Changed Date: 2020-10-27 10:19:02 -0500
malbec2 Linux (Ubuntu 20.04.1 LTS) / x86_64  OK  OK  OK UNNEEDED, same version exists in internal repository
riesling1 Windows Server 2019 Standard / x64  OK  OK  OK 
F
ABCDEFGHIJKLMNOPQRSTUVWXYZ
Package 114/382HostnameOS / ArchINSTALLBUILDCHECK
faahKO 1.31.0
Steffen Neumann
Last Commit: b9fb3c8
Last Changed Date: 2020-10-27 09:45:37 -0500
malbec2 Linux (Ubuntu 20.04.1 LTS) / x86_64  OK  OK  OK UNNEEDED, same version exists in internal repository
riesling1 Windows Server 2019 Standard / x64  OK  OK  WARNINGS 
Package 115/382HostnameOS / ArchINSTALLBUILDCHECK
fabiaData 1.29.0
Sepp Hochreiter
Last Commit: 337016f
Last Changed Date: 2020-10-27 09:59:59 -0500
malbec2 Linux (Ubuntu 20.04.1 LTS) / x86_64  OK  OK  OK UNNEEDED, same version exists in internal repository
riesling1 Windows Server 2019 Standard / x64  OK  OK  OK 
Package 116/382HostnameOS / ArchINSTALLBUILDCHECK
facsDorit 1.33.0
Florian Hahne
Last Commit: db4e567
Last Changed Date: 2020-10-27 09:45:41 -0500
malbec2 Linux (Ubuntu 20.04.1 LTS) / x86_64  ERROR  OK  ERROR 
riesling1 Windows Server 2019 Standard / x64  ERROR  OK  ERROR 
Package 117/382HostnameOS / ArchINSTALLBUILDCHECK
FANTOM3and4CAGE 1.27.0
Vanja Haberle
Last Commit: 7a1076a
Last Changed Date: 2020-10-27 10:00:55 -0500
malbec2 Linux (Ubuntu 20.04.1 LTS) / x86_64  OK  OK  OK UNNEEDED, same version exists in internal repository
riesling1 Windows Server 2019 Standard / x64  OK  OK  OK 
Package 118/382HostnameOS / ArchINSTALLBUILDCHECK
ffpeExampleData 1.29.0
Levi Waldron
Last Commit: 911bacc
Last Changed Date: 2020-10-27 09:55:21 -0500
malbec2 Linux (Ubuntu 20.04.1 LTS) / x86_64  OK  OK  OK UNNEEDED, same version exists in internal repository
riesling1 Windows Server 2019 Standard / x64  OK  OK  OK 
Package 119/382HostnameOS / ArchINSTALLBUILDCHECK
fibroEset 1.33.0
Sylvia Merk
Last Commit: 3a688d5
Last Changed Date: 2020-10-27 09:45:46 -0500
malbec2 Linux (Ubuntu 20.04.1 LTS) / x86_64  OK  OK  WARNINGS UNNEEDED, same version exists in internal repository
riesling1 Windows Server 2019 Standard / x64  OK  OK  WARNINGS 
Package 120/382HostnameOS / ArchINSTALLBUILDCHECK
FieldEffectCrc 1.1.0
Christopher Dampier
Last Commit: 74e7533
Last Changed Date: 2020-10-27 10:32:06 -0500
malbec2 Linux (Ubuntu 20.04.1 LTS) / x86_64  OK  OK  OK UNNEEDED, same version exists in internal repository
riesling1 Windows Server 2019 Standard / x64  OK  OK  OK 
Package 121/382HostnameOS / ArchINSTALLBUILDCHECK
FIs 1.19.0
Herbert Braselmann , Martin Selmansberger
Last Commit: 204373f
Last Changed Date: 2020-10-27 10:15:32 -0500
malbec2 Linux (Ubuntu 20.04.1 LTS) / x86_64  OK  OK  OK UNNEEDED, same version exists in internal repository
riesling1 Windows Server 2019 Standard / x64  OK  OK  OK 
Package 122/382HostnameOS / ArchINSTALLBUILDCHECK
fission 1.11.0
Michael Love
Last Commit: dd5d063
Last Changed Date: 2020-10-27 10:09:36 -0500
malbec2 Linux (Ubuntu 20.04.1 LTS) / x86_64  OK  OK  OK UNNEEDED, same version exists in internal repository
riesling1 Windows Server 2019 Standard / x64  OK  OK  OK 
Package 123/382HostnameOS / ArchINSTALLBUILDCHECK
Fletcher2013a 1.27.0
Mauro Castro
Last Commit: 7f69c1a
Last Changed Date: 2020-10-27 10:04:57 -0500
malbec2 Linux (Ubuntu 20.04.1 LTS) / x86_64  OK  OK  OK UNNEEDED, same version exists in internal repository
riesling1 Windows Server 2019 Standard / x64  OK  OK  OK 
Package 124/382HostnameOS / ArchINSTALLBUILDCHECK
Fletcher2013b 1.27.0
Mauro Castro
Last Commit: bf139f6
Last Changed Date: 2020-10-27 10:05:02 -0500
malbec2 Linux (Ubuntu 20.04.1 LTS) / x86_64  OK  OK  OK UNNEEDED, same version exists in internal repository
riesling1 Windows Server 2019 Standard / x64  OK  OK  OK 
Package 125/382HostnameOS / ArchINSTALLBUILDCHECK
flowPloidyData 1.17.0
Tyler Smith
Last Commit: 11f4921
Last Changed Date: 2020-10-27 10:21:48 -0500
malbec2 Linux (Ubuntu 20.04.1 LTS) / x86_64  OK  OK  OK UNNEEDED, same version exists in internal repository
riesling1 Windows Server 2019 Standard / x64  OK  OK  OK 
Package 126/382HostnameOS / ArchINSTALLBUILDCHECK
FlowSorted.Blood.450k 1.29.0
Andrew E Jaffe
Last Commit: 07c3657
Last Changed Date: 2020-10-27 10:05:36 -0500
malbec2 Linux (Ubuntu 20.04.1 LTS) / x86_64  OK  OK  OK UNNEEDED, same version exists in internal repository
riesling1 Windows Server 2019 Standard / x64  OK  OK  OK 
Package 127/382HostnameOS / ArchINSTALLBUILDCHECK
FlowSorted.Blood.EPIC 1.9.0
Lucas A. Salas
Last Commit: ca58771
Last Changed Date: 2020-10-27 10:26:55 -0500
malbec2 Linux (Ubuntu 20.04.1 LTS) / x86_64  OK  OK  OK UNNEEDED, same version exists in internal repository
riesling1 Windows Server 2019 Standard / x64  OK  OK  ERROR 
Package 128/382HostnameOS / ArchINSTALLBUILDCHECK
FlowSorted.CordBlood.450k 1.19.0
Shan V. Andrews
Last Commit: b7e7f56
Last Changed Date: 2020-10-27 10:17:56 -0500
malbec2 Linux (Ubuntu 20.04.1 LTS) / x86_64  OK  OK  OK UNNEEDED, same version exists in internal repository
riesling1 Windows Server 2019 Standard / x64  ERROR  OK  ERROR 
Package 129/382HostnameOS / ArchINSTALLBUILDCHECK
FlowSorted.CordBloodCombined.450k 1.7.0
Lucas A. Salas
Last Commit: e4540b1
Last Changed Date: 2020-10-27 10:29:27 -0500
malbec2 Linux (Ubuntu 20.04.1 LTS) / x86_64  OK  OK  OK UNNEEDED, same version exists in internal repository
riesling1 Windows Server 2019 Standard / x64  OK  OK  OK 
Package 130/382HostnameOS / ArchINSTALLBUILDCHECK
FlowSorted.CordBloodNorway.450k 1.17.0
kristina gervin
Last Commit: fbf8a47
Last Changed Date: 2020-10-27 10:22:16 -0500
malbec2 Linux (Ubuntu 20.04.1 LTS) / x86_64  OK  OK  OK UNNEEDED, same version exists in internal repository
riesling1 Windows Server 2019 Standard / x64  OK  OK  OK 
Package 131/382HostnameOS / ArchINSTALLBUILDCHECK
FlowSorted.DLPFC.450k 1.27.0
Andrew E Jaffe
Last Commit: 6037e4c
Last Changed Date: 2020-10-27 10:08:55 -0500
malbec2 Linux (Ubuntu 20.04.1 LTS) / x86_64  OK  OK  OK UNNEEDED, same version exists in internal repository
riesling1 Windows Server 2019 Standard / x64  OK  OK  OK 
Package 132/382HostnameOS / ArchINSTALLBUILDCHECK
flowWorkspaceData 3.3.0
Mike Jiang
Last Commit: dba5e30
Last Changed Date: 2020-10-27 09:53:07 -0500
malbec2 Linux (Ubuntu 20.04.1 LTS) / x86_64  OK  OK  OK UNNEEDED, same version exists in internal repository
riesling1 Windows Server 2019 Standard / x64  OK  OK  OK 
Package 133/382HostnameOS / ArchINSTALLBUILDCHECK
frmaExampleData 1.27.0
Matthew N. McCall
Last Commit: 1cdae3f
Last Changed Date: 2020-10-27 09:51:30 -0500
malbec2 Linux (Ubuntu 20.04.1 LTS) / x86_64  OK  OK  WARNINGS UNNEEDED, same version exists in internal repository
riesling1 Windows Server 2019 Standard / x64  OK  OK  WARNINGS 
Package 134/382HostnameOS / ArchINSTALLBUILDCHECK
furrowSeg 1.19.0
Joseph Barry
Last Commit: dc5fff2
Last Changed Date: 2020-10-27 10:15:35 -0500
malbec2 Linux (Ubuntu 20.04.1 LTS) / x86_64  OK  OK  WARNINGS UNNEEDED, same version exists in internal repository
riesling1 Windows Server 2019 Standard / x64  OK  OK  WARNINGS 
G
ABCDEFGHIJKLMNOPQRSTUVWXYZ
Package 135/382HostnameOS / ArchINSTALLBUILDCHECK
gageData 2.29.0
Weijun Luo
Last Commit: 1433cad
Last Changed Date: 2020-10-27 09:52:12 -0500
malbec2 Linux (Ubuntu 20.04.1 LTS) / x86_64  OK  OK  OK UNNEEDED, same version exists in internal repository
riesling1 Windows Server 2019 Standard / x64  OK  OK  OK 
Package 136/382HostnameOS / ArchINSTALLBUILDCHECK
gaschYHS 1.29.0
Vince Carey
Last Commit: 75aa933
Last Changed Date: 2020-10-27 09:45:49 -0500
malbec2 Linux (Ubuntu 20.04.1 LTS) / x86_64  OK  OK  OK UNNEEDED, same version exists in internal repository
riesling1 Windows Server 2019 Standard / x64  OK  OK  OK 
Package 137/382HostnameOS / ArchINSTALLBUILDCHECK
gatingMLData 2.31.0
J. Spidlen
Last Commit: 947fad1
Last Changed Date: 2020-10-27 09:45:52 -0500
malbec2 Linux (Ubuntu 20.04.1 LTS) / x86_64  OK  OK  OK UNNEEDED, same version exists in internal repository
riesling1 Windows Server 2019 Standard / x64  OK  OK  OK 
Package 138/382HostnameOS / ArchINSTALLBUILDCHECK
gcspikelite 1.29.0
Mark Robinson
Last Commit: 2735af6
Last Changed Date: 2020-10-27 09:51:04 -0500
malbec2 Linux (Ubuntu 20.04.1 LTS) / x86_64  OK  OK  WARNINGS UNNEEDED, same version exists in internal repository
riesling1 Windows Server 2019 Standard / x64  OK  OK  WARNINGS 
Package 139/382HostnameOS / ArchINSTALLBUILDCHECK
geneLenDataBase 1.27.0
Matthew Young , Nadia Davidson
Last Commit: 3ec14d5
Last Changed Date: 2020-10-27 09:51:48 -0500
malbec2 Linux (Ubuntu 20.04.1 LTS) / x86_64  OK  OK  WARNINGS UNNEEDED, same version exists in internal repository
riesling1 Windows Server 2019 Standard / x64  OK  OK  WARNINGS 
Package 140/382HostnameOS / ArchINSTALLBUILDCHECK
genomationData 1.23.0
Vedran Franke
Last Commit: 6fab726
Last Changed Date: 2020-10-27 10:10:52 -0500
malbec2 Linux (Ubuntu 20.04.1 LTS) / x86_64  OK  OK  OK UNNEEDED, same version exists in internal repository
riesling1 Windows Server 2019 Standard / x64  OK  OK  OK 
Package 141/382HostnameOS / ArchINSTALLBUILDCHECK
GeuvadisTranscriptExpr 1.19.0
Malgorzata Nowicka
Last Commit: 5f21f4e
Last Changed Date: 2020-10-27 10:18:49 -0500
malbec2 Linux (Ubuntu 20.04.1 LTS) / x86_64  OK  OK  OK UNNEEDED, same version exists in internal repository
riesling1 Windows Server 2019 Standard / x64  OK  OK  OK 
Package 142/382HostnameOS / ArchINSTALLBUILDCHECK
GIGSEAdata 1.9.0
Shijia Zhu
Last Commit: c473585
Last Changed Date: 2020-10-27 10:27:09 -0500
malbec2 Linux (Ubuntu 20.04.1 LTS) / x86_64  OK  OK  OK UNNEEDED, same version exists in internal repository
riesling1 Windows Server 2019 Standard / x64  OK  OK  OK 
Package 143/382HostnameOS / ArchINSTALLBUILDCHECK
golubEsets 1.33.0
Vince Carey
Last Commit: 7675b7c
Last Changed Date: 2020-10-27 09:46:21 -0500
malbec2 Linux (Ubuntu 20.04.1 LTS) / x86_64  OK  OK  OK UNNEEDED, same version exists in internal repository
riesling1 Windows Server 2019 Standard / x64  OK  OK  OK 
Package 144/382HostnameOS / ArchINSTALLBUILDCHECK
gpaExample 1.3.0
Dongjun Chung
Last Commit: f83b25b
Last Changed Date: 2020-10-27 10:31:31 -0500
malbec2 Linux (Ubuntu 20.04.1 LTS) / x86_64  OK  OK  OK UNNEEDED, same version exists in internal repository
riesling1 Windows Server 2019 Standard / x64  OK  OK  OK 
Package 145/382HostnameOS / ArchINSTALLBUILDCHECK
grndata 1.23.0
Pau Bellot
Last Commit: bd81c00
Last Changed Date: 2020-10-27 10:11:46 -0500
malbec2 Linux (Ubuntu 20.04.1 LTS) / x86_64  OK  OK  OK UNNEEDED, same version exists in internal repository
riesling1 Windows Server 2019 Standard / x64  OK  OK  OK 
Package 146/382HostnameOS / ArchINSTALLBUILDCHECK
GSBenchMark 1.11.0
Bahman Afsari
Last Commit: 4a8ef38
Last Changed Date: 2020-10-27 10:09:32 -0500
malbec2 Linux (Ubuntu 20.04.1 LTS) / x86_64  OK  OK  OK UNNEEDED, same version exists in internal repository
riesling1 Windows Server 2019 Standard / x64  OK  OK  OK 
Package 147/382HostnameOS / ArchINSTALLBUILDCHECK
GSE62944 1.19.0
Bioconductor Package Maintainer
Last Commit: d6d1209
Last Changed Date: 2020-10-27 10:18:04 -0500
malbec2 Linux (Ubuntu 20.04.1 LTS) / x86_64  OK  OK  OK UNNEEDED, same version exists in internal repository
riesling1 Windows Server 2019 Standard / x64  OK  OK  OK 
Package 148/382HostnameOS / ArchINSTALLBUILDCHECK
gskb 1.23.0
Valerie Bares
Last Commit: a8aa698
Last Changed Date: 2020-10-27 10:12:51 -0500
malbec2 Linux (Ubuntu 20.04.1 LTS) / x86_64  OK  ERROR  skipped 
riesling1 Windows Server 2019 Standard / x64  OK  ERROR  skipped 
Package 149/382HostnameOS / ArchINSTALLBUILDCHECK
GSVAdata 1.27.0
Robert Castelo
Last Commit: 68ac4aa
Last Changed Date: 2020-10-27 09:53:04 -0500
malbec2 Linux (Ubuntu 20.04.1 LTS) / x86_64  OK  OK  OK UNNEEDED, same version exists in internal repository
riesling1 Windows Server 2019 Standard / x64  OK  OK  OK 
Package 150/382HostnameOS / ArchINSTALLBUILDCHECK
GWASdata 1.29.0
Stephanie Gogarten , Adrienne Stilp
Last Commit: 41a0bc5
Last Changed Date: 2020-10-27 09:53:53 -0500
malbec2 Linux (Ubuntu 20.04.1 LTS) / x86_64  OK  OK  OK UNNEEDED, same version exists in internal repository
riesling1 Windows Server 2019 Standard / x64  OK  OK  OK 
H
ABCDEFGHIJKLMNOPQRSTUVWXYZ
Package 151/382HostnameOS / ArchINSTALLBUILDCHECK
h5vcData 2.11.0
Paul Theodor Pyl
Last Commit: f08040b
Last Changed Date: 2020-10-27 10:06:41 -0500
malbec2 Linux (Ubuntu 20.04.1 LTS) / x86_64  OK  OK  OK UNNEEDED, same version exists in internal repository
riesling1 Windows Server 2019 Standard / x64  OK  OK  OK 
Package 152/382HostnameOS / ArchINSTALLBUILDCHECK
hapmap100khind 1.33.0
Benilton Carvalho
Last Commit: 9b84b62
Last Changed Date: 2020-10-27 09:48:03 -0500
malbec2 Linux (Ubuntu 20.04.1 LTS) / x86_64  OK  OK  OK UNNEEDED, same version exists in internal repository
riesling1 Windows Server 2019 Standard / x64  OK  OK  OK 
Package 153/382HostnameOS / ArchINSTALLBUILDCHECK
hapmap100kxba 1.33.0
Benilton Carvalho
Last Commit: a8e5e91
Last Changed Date: 2020-10-27 09:47:25 -0500
malbec2 Linux (Ubuntu 20.04.1 LTS) / x86_64  OK  OK  OK UNNEEDED, same version exists in internal repository
riesling1 Windows Server 2019 Standard / x64  OK  OK  OK 
Package 154/382HostnameOS / ArchINSTALLBUILDCHECK
hapmap500knsp 1.33.0
Benilton Carvalho
Last Commit: 7c2d418
Last Changed Date: 2020-10-27 09:48:09 -0500
malbec2 Linux (Ubuntu 20.04.1 LTS) / x86_64  OK  OK  OK UNNEEDED, same version exists in internal repository
riesling1 Windows Server 2019 Standard / x64  OK  OK  OK 
Package 155/382HostnameOS / ArchINSTALLBUILDCHECK
hapmap500ksty 1.33.0
Benilton Carvalho
Last Commit: bbd79b1
Last Changed Date: 2020-10-27 09:48:18 -0500
malbec2 Linux (Ubuntu 20.04.1 LTS) / x86_64  OK  OK  OK UNNEEDED, same version exists in internal repository
riesling1 Windows Server 2019 Standard / x64  OK  OK  OK 
Package 156/382HostnameOS / ArchINSTALLBUILDCHECK
hapmapsnp5 1.33.0
Benilton Carvalho
Last Commit: 0437731
Last Changed Date: 2020-10-27 09:49:14 -0500
malbec2 Linux (Ubuntu 20.04.1 LTS) / x86_64  OK  OK  OK UNNEEDED, same version exists in internal repository
riesling1 Windows Server 2019 Standard / x64  OK  OK  OK 
Package 157/382HostnameOS / ArchINSTALLBUILDCHECK
hapmapsnp6 1.33.0
Benilton Carvalho
Last Commit: 0255ee0
Last Changed Date: 2020-10-27 09:49:22 -0500
malbec2 Linux (Ubuntu 20.04.1 LTS) / x86_64  OK  OK  OK UNNEEDED, same version exists in internal repository
riesling1 Windows Server 2019 Standard / x64  OK  OK  OK 
Package 158/382HostnameOS / ArchINSTALLBUILDCHECK
harbChIP 1.29.0
VJ Carey
Last Commit: c4fd961
Last Changed Date: 2020-10-27 09:46:24 -0500
malbec2 Linux (Ubuntu 20.04.1 LTS) / x86_64  OK  OK  OK UNNEEDED, same version exists in internal repository
riesling1 Windows Server 2019 Standard / x64  OK  OK  OK 
Package 159/382HostnameOS / ArchINSTALLBUILDCHECK
HarmanData 1.19.0
Jason Ross
Last Commit: c1f1c69
Last Changed Date: 2020-10-27 10:19:05 -0500
malbec2 Linux (Ubuntu 20.04.1 LTS) / x86_64  OK  OK  OK UNNEEDED, same version exists in internal repository
riesling1 Windows Server 2019 Standard / x64  OK  OK  OK 
Package 160/382HostnameOS / ArchINSTALLBUILDCHECK
HarmonizedTCGAData 1.13.0
Tianle Ma
Last Commit: b066fbc
Last Changed Date: 2020-10-27 10:24:16 -0500
malbec2 Linux (Ubuntu 20.04.1 LTS) / x86_64  OK  OK  OK UNNEEDED, same version exists in internal repository
riesling1 Windows Server 2019 Standard / x64  OK  OK  OK 
Package 161/382HostnameOS / ArchINSTALLBUILDCHECK
HCAData 1.7.0
Federico Marini
Last Commit: 4a4af63
Last Changed Date: 2020-10-31 20:04:27 -0500
malbec2 Linux (Ubuntu 20.04.1 LTS) / x86_64  OK  OK  OK UNNEEDED, same version exists in internal repository
riesling1 Windows Server 2019 Standard / x64  OK  OK  OK 
Package 162/382HostnameOS / ArchINSTALLBUILDCHECK
HD2013SGI 1.31.0
Bernd Fischer
Last Commit: 8971f18
Last Changed Date: 2020-10-27 10:01:22 -0500
malbec2 Linux (Ubuntu 20.04.1 LTS) / x86_64  OK  OK  OK UNNEEDED, same version exists in internal repository
riesling1 Windows Server 2019 Standard / x64  OK  OK  OK 
Package 163/382HostnameOS / ArchINSTALLBUILDCHECK
HDCytoData 1.11.0
Lukas M. Weber
Last Commit: 58d130f
Last Changed Date: 2020-10-27 10:26:33 -0500
malbec2 Linux (Ubuntu 20.04.1 LTS) / x86_64  OK  OK  OK UNNEEDED, same version exists in internal repository
riesling1 Windows Server 2019 Standard / x64  OK  OK  OK 
Package 164/382HostnameOS / ArchINSTALLBUILDCHECK
healthyFlowData 1.29.0
Ariful Azad
Last Commit: ab2f22d
Last Changed Date: 2020-10-27 10:07:33 -0500
malbec2 Linux (Ubuntu 20.04.1 LTS) / x86_64  OK  OK  OK UNNEEDED, same version exists in internal repository
riesling1 Windows Server 2019 Standard / x64  OK  OK  OK 
Package 165/382HostnameOS / ArchINSTALLBUILDCHECK
HEEBOdata 1.29.0
Agnes Paquet
Last Commit: 39bd59a
Last Changed Date: 2020-10-27 09:46:27 -0500
malbec2 Linux (Ubuntu 20.04.1 LTS) / x86_64  OK  OK  WARNINGS UNNEEDED, same version exists in internal repository
riesling1 Windows Server 2019 Standard / x64  OK  OK  WARNINGS 
Package 166/382HostnameOS / ArchINSTALLBUILDCHECK
HelloRangesData 1.17.0
Michael Lawrence
Last Commit: 1c60d59
Last Changed Date: 2020-10-27 10:21:52 -0500
malbec2 Linux (Ubuntu 20.04.1 LTS) / x86_64  OK  OK  OK UNNEEDED, same version exists in internal repository
riesling1 Windows Server 2019 Standard / x64  OK  OK  OK 
Package 167/382HostnameOS / ArchINSTALLBUILDCHECK
hgu133abarcodevecs 1.29.0
Matthew N. McCall
Last Commit: b395950
Last Changed Date: 2020-10-27 09:51:42 -0500
malbec2 Linux (Ubuntu 20.04.1 LTS) / x86_64  OK  OK  OK UNNEEDED, same version exists in internal repository
riesling1 Windows Server 2019 Standard / x64  OK  OK  OK 
Package 168/382HostnameOS / ArchINSTALLBUILDCHECK
hgu133plus2barcodevecs 1.29.0
Matthew N. McCall
Last Commit: 9cfded7
Last Changed Date: 2020-10-27 09:51:38 -0500
malbec2 Linux (Ubuntu 20.04.1 LTS) / x86_64  OK  OK  OK UNNEEDED, same version exists in internal repository
riesling1 Windows Server 2019 Standard / x64  OK  OK  OK 
Package 169/382HostnameOS / ArchINSTALLBUILDCHECK
hgu133plus2CellScore 1.11.0
Nancy Mah
Last Commit: 38c21dd
Last Changed Date: 2020-10-27 10:26:08 -0500
malbec2 Linux (Ubuntu 20.04.1 LTS) / x86_64  OK  OK  OK UNNEEDED, same version exists in internal repository
riesling1 Windows Server 2019 Standard / x64  OK  OK  OK 
Package 170/382HostnameOS / ArchINSTALLBUILDCHECK
hgu2beta7 1.31.0
Bioconductor Package Maintainer
Last Commit: 1142ddf
Last Changed Date: 2020-10-27 09:46:31 -0500
malbec2 Linux (Ubuntu 20.04.1 LTS) / x86_64  OK  OK  WARNINGS UNNEEDED, same version exists in internal repository
riesling1 Windows Server 2019 Standard / x64  OK  OK  WARNINGS 
Package 171/382HostnameOS / ArchINSTALLBUILDCHECK
HiCDataHumanIMR90 1.11.0
Nicolas Servant
Last Commit: fb856ba
Last Changed Date: 2020-10-27 10:09:47 -0500
malbec2 Linux (Ubuntu 20.04.1 LTS) / x86_64  OK  OK  OK UNNEEDED, same version exists in internal repository
riesling1 Windows Server 2019 Standard / x64  OK  OK  OK 
Package 172/382HostnameOS / ArchINSTALLBUILDCHECK
HiCDataLymphoblast 1.27.0
Borbala Mifsud
Last Commit: e992ed9
Last Changed Date: 2020-10-27 10:07:01 -0500
malbec2 Linux (Ubuntu 20.04.1 LTS) / x86_64  OK  OK  OK UNNEEDED, same version exists in internal repository
riesling1 Windows Server 2019 Standard / x64  OK  OK  OK 
Package 173/382HostnameOS / ArchINSTALLBUILDCHECK
HighlyReplicatedRNASeq 1.3.0
Constantin Ahlmann-Eltze
Last Commit: 5365b41
Last Changed Date: 2020-10-27 10:31:22 -0500
malbec2 Linux (Ubuntu 20.04.1 LTS) / x86_64  OK  OK  OK UNNEEDED, same version exists in internal repository
riesling1 Windows Server 2019 Standard / x64  OK  OK  OK 
Package 174/382HostnameOS / ArchINSTALLBUILDCHECK
Hiiragi2013 1.27.0
Andrzej Oles
Last Commit: b179cf6
Last Changed Date: 2020-10-27 10:01:36 -0500
malbec2 Linux (Ubuntu 20.04.1 LTS) / x86_64  OK  OK  OK UNNEEDED, same version exists in internal repository
riesling1 Windows Server 2019 Standard / x64  OK  OK  OK 
Package 175/382HostnameOS / ArchINSTALLBUILDCHECK
HIVcDNAvantWout03 1.31.0
Chris Fraley
Last Commit: 3a4e1d5
Last Changed Date: 2020-10-27 09:46:34 -0500
malbec2 Linux (Ubuntu 20.04.1 LTS) / x86_64  OK  OK  WARNINGS UNNEEDED, same version exists in internal repository
riesling1 Windows Server 2019 Standard / x64  OK  OK  WARNINGS 
Package 176/382HostnameOS / ArchINSTALLBUILDCHECK
HMP16SData 1.11.0
Lucas Schiffer
Last Commit: 092364b
Last Changed Date: 2020-10-27 10:24:33 -0500
malbec2 Linux (Ubuntu 20.04.1 LTS) / x86_64  OK  OK  OK UNNEEDED, same version exists in internal repository
riesling1 Windows Server 2019 Standard / x64  OK  OK  WARNINGS 
Package 177/382HostnameOS / ArchINSTALLBUILDCHECK
HMP2Data 1.5.0
John Stansfield , Ekaterina Smirnova
Last Commit: 199fb00
Last Changed Date: 2020-10-27 10:30:12 -0500
malbec2 Linux (Ubuntu 20.04.1 LTS) / x86_64  OK  OK  OK UNNEEDED, same version exists in internal repository
riesling1 Windows Server 2019 Standard / x64  OK  OK  OK 
Package 178/382HostnameOS / ArchINSTALLBUILDCHECK
hmyriB36 1.27.0
Vincent Carey
Last Commit: ad3bca2
Last Changed Date: 2020-10-27 09:50:57 -0500
malbec2 Linux (Ubuntu 20.04.1 LTS) / x86_64  ERROR  OK  ERROR 
riesling1 Windows Server 2019 Standard / x64  ERROR  OK  ERROR 
Package 179/382HostnameOS / ArchINSTALLBUILDCHECK
HSMMSingleCell 1.11.0
Cole Trapnell
Last Commit: 58c28c0
Last Changed Date: 2020-10-27 10:09:00 -0500
malbec2 Linux (Ubuntu 20.04.1 LTS) / x86_64  OK  OK  WARNINGS UNNEEDED, same version exists in internal repository
riesling1 Windows Server 2019 Standard / x64  OK  OK  WARNINGS 
Package 180/382HostnameOS / ArchINSTALLBUILDCHECK
HumanAffyData 1.17.0
Brad Nelms
Last Commit: e519d3f
Last Changed Date: 2020-10-27 10:21:38 -0500
malbec2 Linux (Ubuntu 20.04.1 LTS) / x86_64  OK  OK  OK UNNEEDED, same version exists in internal repository
riesling1 Windows Server 2019 Standard / x64  OK  OK  OK 
Package 181/382HostnameOS / ArchINSTALLBUILDCHECK
humanStemCell 0.31.0
R. Gentleman
Last Commit: f26eac3
Last Changed Date: 2020-10-27 09:50:51 -0500
malbec2 Linux (Ubuntu 20.04.1 LTS) / x86_64  OK  OK  WARNINGS UNNEEDED, same version exists in internal repository
riesling1 Windows Server 2019 Standard / x64  OK  OK  WARNINGS 
I
ABCDEFGHIJKLMNOPQRSTUVWXYZ
Package 182/382HostnameOS / ArchINSTALLBUILDCHECK
IHWpaper 1.19.0
Nikos Ignatiadis
Last Commit: 349eb18
Last Changed Date: 2020-10-27 10:19:19 -0500
malbec2 Linux (Ubuntu 20.04.1 LTS) / x86_64  OK  ERROR  skipped 
riesling1 Windows Server 2019 Standard / x64  OK  ERROR  skipped 
Package 183/382HostnameOS / ArchINSTALLBUILDCHECK
Illumina450ProbeVariants.db 1.27.0
Tiffany Morris
Last Commit: c89f233
Last Changed Date: 2020-10-27 10:06:38 -0500
malbec2 Linux (Ubuntu 20.04.1 LTS) / x86_64  OK  OK  OK UNNEEDED, same version exists in internal repository
riesling1 Windows Server 2019 Standard / x64  OK  OK  OK 
Package 184/382HostnameOS / ArchINSTALLBUILDCHECK
IlluminaDataTestFiles 1.29.0
Kasper Daniel Hansen
Last Commit: 8f92bbf
Last Changed Date: 2020-10-27 10:04:40 -0500
malbec2 Linux (Ubuntu 20.04.1 LTS) / x86_64  OK  OK  OK UNNEEDED, same version exists in internal repository
riesling1 Windows Server 2019 Standard / x64  OK  OK  OK 
Package 185/382HostnameOS / ArchINSTALLBUILDCHECK
ITALICSData 2.29.0
Guillem Rigaill
Last Commit: 3b9d4f3
Last Changed Date: 2020-10-27 09:50:31 -0500
malbec2 Linux (Ubuntu 20.04.1 LTS) / x86_64  OK  OK  WARNINGS UNNEEDED, same version exists in internal repository
riesling1 Windows Server 2019 Standard / x64  OK  OK  WARNINGS 
Package 186/382HostnameOS / ArchINSTALLBUILDCHECK
Iyer517 1.33.0
Vince Carey
Last Commit: d489d50
Last Changed Date: 2020-10-27 09:46:37 -0500
malbec2 Linux (Ubuntu 20.04.1 LTS) / x86_64  OK  OK  OK UNNEEDED, same version exists in internal repository
riesling1 Windows Server 2019 Standard / x64  OK  OK  OK 
J
ABCDEFGHIJKLMNOPQRSTUVWXYZ
Package 187/382HostnameOS / ArchINSTALLBUILDCHECK
JASPAR2014 1.27.0
Ge Tan
Last Commit: 005f946
Last Changed Date: 2020-10-27 10:05:53 -0500
malbec2 Linux (Ubuntu 20.04.1 LTS) / x86_64  OK  OK  OK UNNEEDED, same version exists in internal repository
riesling1 Windows Server 2019 Standard / x64  OK  OK  OK 
Package 188/382HostnameOS / ArchINSTALLBUILDCHECK
JASPAR2016 1.19.0
Ge Tan
Last Commit: 15acfcf
Last Changed Date: 2020-10-27 10:15:45 -0500
malbec2 Linux (Ubuntu 20.04.1 LTS) / x86_64  OK  OK  OK UNNEEDED, same version exists in internal repository
riesling1 Windows Server 2019 Standard / x64  OK  OK  OK 
Package 189/382HostnameOS / ArchINSTALLBUILDCHECK
JctSeqData 1.21.0
Stephen Hartley
Last Commit: ab3167c
Last Changed Date: 2020-10-27 10:16:03 -0500
malbec2 Linux (Ubuntu 20.04.1 LTS) / x86_64  OK  OK  ERROR 
riesling1 Windows Server 2019 Standard / x64  OK  OK  ERROR 
K
ABCDEFGHIJKLMNOPQRSTUVWXYZ
Package 190/382HostnameOS / ArchINSTALLBUILDCHECK
KEGGandMetacoreDzPathwaysGEO 1.11.0
Gaurav Bhatti
Last Commit: 2a5f8a4
Last Changed Date: 2020-10-27 10:09:09 -0500
malbec2 Linux (Ubuntu 20.04.1 LTS) / x86_64  OK  OK  OK UNNEEDED, same version exists in internal repository
riesling1 Windows Server 2019 Standard / x64  OK  OK  OK 
Package 191/382HostnameOS / ArchINSTALLBUILDCHECK
KEGGdzPathwaysGEO 1.29.0
Gaurav Bhatti
Last Commit: 71b93f9
Last Changed Date: 2020-10-27 09:56:50 -0500
malbec2 Linux (Ubuntu 20.04.1 LTS) / x86_64  OK  OK  OK UNNEEDED, same version exists in internal repository
riesling1 Windows Server 2019 Standard / x64  OK  OK  OK 
Package 192/382HostnameOS / ArchINSTALLBUILDCHECK
kidpack 1.33.0
Wolfgang Huber
Last Commit: b3e71ba
Last Changed Date: 2020-10-27 09:46:40 -0500
malbec2 Linux (Ubuntu 20.04.1 LTS) / x86_64  OK  OK  WARNINGS UNNEEDED, same version exists in internal repository
riesling1 Windows Server 2019 Standard / x64  OK  OK  WARNINGS 
Package 193/382HostnameOS / ArchINSTALLBUILDCHECK
KOdata 1.17.0
Shana White
Last Commit: aff2ad8
Last Changed Date: 2020-10-27 10:21:44 -0500
malbec2 Linux (Ubuntu 20.04.1 LTS) / x86_64  OK  OK  OK UNNEEDED, same version exists in internal repository
riesling1 Windows Server 2019 Standard / x64  OK  OK  OK 
L
ABCDEFGHIJKLMNOPQRSTUVWXYZ
Package 194/382HostnameOS / ArchINSTALLBUILDCHECK
leeBamViews 1.27.0
VJ Carey
Last Commit: bea5a54
Last Changed Date: 2020-10-27 09:51:45 -0500
malbec2 Linux (Ubuntu 20.04.1 LTS) / x86_64  OK  OK  OK UNNEEDED, same version exists in internal repository
riesling1 Windows Server 2019 Standard / x64  OK  OK  OK 
Package 195/382HostnameOS / ArchINSTALLBUILDCHECK
leukemiasEset 1.27.0
Sara Aibar
Last Commit: ae1f667
Last Changed Date: 2020-10-27 10:01:45 -0500
malbec2 Linux (Ubuntu 20.04.1 LTS) / x86_64  OK  OK  OK UNNEEDED, same version exists in internal repository
riesling1 Windows Server 2019 Standard / x64  OK  OK  OK 
Package 196/382HostnameOS / ArchINSTALLBUILDCHECK
LiebermanAidenHiC2009 0.29.0
Felix Klein
Last Commit: 22d3990
Last Changed Date: 2020-10-27 09:53:33 -0500
malbec2 Linux (Ubuntu 20.04.1 LTS) / x86_64  OK  OK  WARNINGS UNNEEDED, same version exists in internal repository
riesling1 Windows Server 2019 Standard / x64  OK  OK  WARNINGS 
Package 197/382HostnameOS / ArchINSTALLBUILDCHECK
ListerEtAlBSseq 1.23.0
Kamal Kishore
Last Commit: cd9fe96
Last Changed Date: 2020-10-27 10:10:02 -0500
malbec2 Linux (Ubuntu 20.04.1 LTS) / x86_64  OK  OK  WARNINGS UNNEEDED, same version exists in internal repository
riesling1 Windows Server 2019 Standard / x64  OK  OK  WARNINGS 
Package 198/382HostnameOS / ArchINSTALLBUILDCHECK
lumiBarnes 1.31.0
Pan Du
Last Commit: 53e53ef
Last Changed Date: 2020-10-27 09:47:21 -0500
malbec2 Linux (Ubuntu 20.04.1 LTS) / x86_64  OK  OK  WARNINGS UNNEEDED, same version exists in internal repository
riesling1 Windows Server 2019 Standard / x64  OK  OK  WARNINGS 
Package 199/382HostnameOS / ArchINSTALLBUILDCHECK
LungCancerACvsSCCGEO 1.27.0
Adi Laurentiu Tarca
Last Commit: a8931b1
Last Changed Date: 2020-10-27 10:04:23 -0500
malbec2 Linux (Ubuntu 20.04.1 LTS) / x86_64  OK  OK  OK UNNEEDED, same version exists in internal repository
riesling1 Windows Server 2019 Standard / x64  OK  OK  OK 
Package 200/382HostnameOS / ArchINSTALLBUILDCHECK
LungCancerLines 0.29.0
Cory Barr
Last Commit: d457e3e
Last Changed Date: 2020-10-27 10:00:08 -0500
malbec2 Linux (Ubuntu 20.04.1 LTS) / x86_64  OK  OK  OK UNNEEDED, same version exists in internal repository
riesling1 Windows Server 2019 Standard / x64  OK  OK  OK 
Package 201/382HostnameOS / ArchINSTALLBUILDCHECK
lungExpression 0.29.0
Robert Scharpf
Last Commit: 3d6404a
Last Changed Date: 2020-10-27 09:47:18 -0500
malbec2 Linux (Ubuntu 20.04.1 LTS) / x86_64  OK  OK  OK UNNEEDED, same version exists in internal repository
riesling1 Windows Server 2019 Standard / x64  OK  OK  OK 
Package 202/382HostnameOS / ArchINSTALLBUILDCHECK
lydata 1.17.0
Alex Pickering
Last Commit: 7110cf1
Last Changed Date: 2020-10-27 10:20:11 -0500
malbec2 Linux (Ubuntu 20.04.1 LTS) / x86_64  OK  OK  OK UNNEEDED, same version exists in internal repository
riesling1 Windows Server 2019 Standard / x64  OK  OK  OK 
M
ABCDEFGHIJKLMNOPQRSTUVWXYZ
Package 203/382HostnameOS / ArchINSTALLBUILDCHECK
M3DExampleData 1.17.0
Tallulah Andrews
Last Commit: 4b93228
Last Changed Date: 2020-10-27 10:21:41 -0500
malbec2 Linux (Ubuntu 20.04.1 LTS) / x86_64  OK  OK  WARNINGS UNNEEDED, same version exists in internal repository
riesling1 Windows Server 2019 Standard / x64  OK  OK  WARNINGS 
Package 204/382HostnameOS / ArchINSTALLBUILDCHECK
macrophage 1.7.0
Michael Love
Last Commit: 24b8351
Last Changed Date: 2020-10-27 10:29:13 -0500
malbec2 Linux (Ubuntu 20.04.1 LTS) / x86_64  OK  OK  OK UNNEEDED, same version exists in internal repository
riesling1 Windows Server 2019 Standard / x64  OK  OK  OK 
Package 205/382HostnameOS / ArchINSTALLBUILDCHECK
mammaPrintData 1.27.0
Luigi Marchionni
Last Commit: c46fc03
Last Changed Date: 2020-10-27 10:02:43 -0500
malbec2 Linux (Ubuntu 20.04.1 LTS) / x86_64  OK  OK  OK UNNEEDED, same version exists in internal repository
riesling1 Windows Server 2019 Standard / x64  OK  OK  OK 
Package 206/382HostnameOS / ArchINSTALLBUILDCHECK
mAPKLData 1.23.0
Argiris Sakellariou
Last Commit: 0e6106e
Last Changed Date: 2020-10-27 10:11:15 -0500
malbec2 Linux (Ubuntu 20.04.1 LTS) / x86_64  OK  OK  WARNINGS UNNEEDED, same version exists in internal repository
riesling1 Windows Server 2019 Standard / x64  OK  OK  WARNINGS 
Package 207/382HostnameOS / ArchINSTALLBUILDCHECK
maqcExpression4plex 1.35.0
Benilton Carvalho
Last Commit: 1c4f151
Last Changed Date: 2020-10-27 09:47:58 -0500
malbec2 Linux (Ubuntu 20.04.1 LTS) / x86_64  OK  OK  OK UNNEEDED, same version exists in internal repository
riesling1 Windows Server 2019 Standard / x64  OK  OK  OK 
Package 208/382HostnameOS / ArchINSTALLBUILDCHECK
MAQCsubset 1.29.0
VJ Carey
Last Commit: 9b3813f
Last Changed Date: 2020-10-27 09:46:43 -0500
malbec2 Linux (Ubuntu 20.04.1 LTS) / x86_64  OK  OK  OK UNNEEDED, same version exists in internal repository
riesling1 Windows Server 2019 Standard / x64  OK  OK  OK 
Package 209/382HostnameOS / ArchINSTALLBUILDCHECK
MAQCsubsetAFX 1.29.0
Laurent Gatto
Last Commit: 22e5aaa
Last Changed Date: 2020-10-27 09:48:37 -0500
malbec2 Linux (Ubuntu 20.04.1 LTS) / x86_64  OK  OK  OK UNNEEDED, same version exists in internal repository
riesling1 Windows Server 2019 Standard / x64  OK  OK  OK 
Package 210/382HostnameOS / ArchINSTALLBUILDCHECK
MAQCsubsetILM 1.29.0
Laurent Gatto
Last Commit: 45311a6
Last Changed Date: 2020-10-27 09:49:35 -0500
malbec2 Linux (Ubuntu 20.04.1 LTS) / x86_64  OK  OK  OK UNNEEDED, same version exists in internal repository
riesling1 Windows Server 2019 Standard / x64  OK  OK  OK 
Package 211/382HostnameOS / ArchINSTALLBUILDCHECK
mCSEAdata 1.11.0
Jordi Martorell Marugán
Last Commit: a630ad0
Last Changed Date: 2020-10-27 10:25:52 -0500
malbec2 Linux (Ubuntu 20.04.1 LTS) / x86_64  OK  ERROR  skipped 
riesling1 Windows Server 2019 Standard / x64  OK  ERROR  skipped 
Package 212/382HostnameOS / ArchINSTALLBUILDCHECK
mcsurvdata 1.9.0
Adria Caballe Mestres
Last Commit: 5869dff
Last Changed Date: 2020-10-27 10:27:31 -0500
malbec2 Linux (Ubuntu 20.04.1 LTS) / x86_64  OK  OK  OK UNNEEDED, same version exists in internal repository
riesling1 Windows Server 2019 Standard / x64  OK  OK  OK 
Package 213/382HostnameOS / ArchINSTALLBUILDCHECK
MEDIPSData 1.27.0
Lukas Chavez
Last Commit: 77e3a9b
Last Changed Date: 2020-10-27 09:56:26 -0500
malbec2 Linux (Ubuntu 20.04.1 LTS) / x86_64  OK  OK  WARNINGS UNNEEDED, same version exists in internal repository
riesling1 Windows Server 2019 Standard / x64  OK  OK  WARNINGS 
Package 214/382HostnameOS / ArchINSTALLBUILDCHECK
MEEBOdata 1.29.0
Agnes Paquet
Last Commit: 217f6d7
Last Changed Date: 2020-10-27 09:46:47 -0500
malbec2 Linux (Ubuntu 20.04.1 LTS) / x86_64  OK  OK  WARNINGS UNNEEDED, same version exists in internal repository
riesling1 Windows Server 2019 Standard / x64  OK  OK  WARNINGS 
Package 215/382HostnameOS / ArchINSTALLBUILDCHECK
MetaGxBreast 1.11.0
Michael Zon
Last Commit: 51a013c
Last Changed Date: 2020-10-27 10:26:22 -0500
malbec2 Linux (Ubuntu 20.04.1 LTS) / x86_64  OK  OK  OK UNNEEDED, same version exists in internal repository
riesling1 Windows Server 2019 Standard / x64  OK  OK  OK 
Package 216/382HostnameOS / ArchINSTALLBUILDCHECK
MetaGxOvarian 1.11.0
Michael Zon
Last Commit: 0f765b3
Last Changed Date: 2020-10-27 10:26:19 -0500
malbec2 Linux (Ubuntu 20.04.1 LTS) / x86_64  OK  OK  WARNINGS UNNEEDED, same version exists in internal repository
riesling1 Windows Server 2019 Standard / x64  OK  OK  OK 
Package 217/382HostnameOS / ArchINSTALLBUILDCHECK
MetaGxPancreas 1.11.0
Michael Zon
Last Commit: 73feea8
Last Changed Date: 2020-10-27 10:26:36 -0500
malbec2 Linux (Ubuntu 20.04.1 LTS) / x86_64  OK  OK  OK UNNEEDED, same version exists in internal repository
riesling1 Windows Server 2019 Standard / x64  OK  OK  OK 
Package 218/382HostnameOS / ArchINSTALLBUILDCHECK
metaMSdata 1.27.0
Yann Guitton
Last Commit: 589e2fb
Last Changed Date: 2020-10-27 10:08:44 -0500
malbec2 Linux (Ubuntu 20.04.1 LTS) / x86_64  OK  OK  OK UNNEEDED, same version exists in internal repository
riesling1 Windows Server 2019 Standard / x64  OK  OK  OK 
Package 219/382HostnameOS / ArchINSTALLBUILDCHECK
MethylAidData 1.23.0
M. van Iterson
Last Commit: 5980a97
Last Changed Date: 2020-10-27 10:12:16 -0500
malbec2 Linux (Ubuntu 20.04.1 LTS) / x86_64  OK  OK  OK UNNEEDED, same version exists in internal repository
riesling1 Windows Server 2019 Standard / x64  OK  OK  OK 
Package 220/382HostnameOS / ArchINSTALLBUILDCHECK
MethylSeqData 1.1.0
Peter Hickey
Last Commit: 68da9ef
Last Changed Date: 2020-10-27 10:32:36 -0500
malbec2 Linux (Ubuntu 20.04.1 LTS) / x86_64  OK  OK  OK UNNEEDED, same version exists in internal repository
riesling1 Windows Server 2019 Standard / x64  OK  OK  OK 
Package 221/382HostnameOS / ArchINSTALLBUILDCHECK
microRNAome 1.13.0
Matthew N. McCall
Last Commit: b0f289b
Last Changed Date: 2020-10-27 10:23:03 -0500
malbec2 Linux (Ubuntu 20.04.1 LTS) / x86_64  OK  OK  OK UNNEEDED, same version exists in internal repository
riesling1 Windows Server 2019 Standard / x64  OK  OK  OK 
Package 222/382HostnameOS / ArchINSTALLBUILDCHECK
MIGSAdata 1.15.0
Juan C. Rodriguez
Last Commit: f10eae5
Last Changed Date: 2020-10-27 10:22:40 -0500
malbec2 Linux (Ubuntu 20.04.1 LTS) / x86_64  OK  OK  OK UNNEEDED, same version exists in internal repository
riesling1 Windows Server 2019 Standard / x64  OK  OK  OK 
Package 223/382HostnameOS / ArchINSTALLBUILDCHECK
minfiData 0.37.0
Kasper Daniel Hansen
Last Commit: ea43cdf
Last Changed Date: 2020-10-27 09:53:44 -0500
malbec2 Linux (Ubuntu 20.04.1 LTS) / x86_64  OK  OK  OK UNNEEDED, same version exists in internal repository
riesling1 Windows Server 2019 Standard / x64  OK  OK  OK 
Package 224/382HostnameOS / ArchINSTALLBUILDCHECK
minfiDataEPIC 1.17.0
Kasper Daniel Hansen
Last Commit: a24474c
Last Changed Date: 2020-10-27 10:20:06 -0500
malbec2 Linux (Ubuntu 20.04.1 LTS) / x86_64  OK  OK  OK UNNEEDED, same version exists in internal repository
riesling1 Windows Server 2019 Standard / x64  OK  OK  OK 
Package 225/382HostnameOS / ArchINSTALLBUILDCHECK
minionSummaryData 1.21.0
Mike Smith
Last Commit: 83f642b
Last Changed Date: 2020-10-27 10:13:32 -0500
malbec2 Linux (Ubuntu 20.04.1 LTS) / x86_64  OK  OK  OK UNNEEDED, same version exists in internal repository
riesling1 Windows Server 2019 Standard / x64  OK  OK  OK 
Package 226/382HostnameOS / ArchINSTALLBUILDCHECK
miRcompData 1.21.0
Matthew N. McCall
Last Commit: 5e07723
Last Changed Date: 2020-10-27 10:14:55 -0500
malbec2 Linux (Ubuntu 20.04.1 LTS) / x86_64  OK  OK  OK UNNEEDED, same version exists in internal repository
riesling1 Windows Server 2019 Standard / x64  OK  OK  OK 
Package 227/382HostnameOS / ArchINSTALLBUILDCHECK
miRNATarget 1.29.0
Y-h. Taguchi
Last Commit: a1cadec
Last Changed Date: 2020-10-27 09:55:35 -0500
malbec2 Linux (Ubuntu 20.04.1 LTS) / x86_64  OK  OK  OK UNNEEDED, same version exists in internal repository
riesling1 Windows Server 2019 Standard / x64  OK  OK  OK 
Package 228/382HostnameOS / ArchINSTALLBUILDCHECK
MMAPPR2data 1.5.0
Jonathon Hill
Last Commit: c8ef69f
Last Changed Date: 2020-10-27 10:30:27 -0500
malbec2 Linux (Ubuntu 20.04.1 LTS) / x86_64  OK  OK  OK UNNEEDED, same version exists in internal repository
riesling1 Windows Server 2019 Standard / x64  OK  OK  OK 
Package 229/382HostnameOS / ArchINSTALLBUILDCHECK
MMDiffBamSubset 1.27.0
Gabriele Schweikert
Last Commit: 209a507
Last Changed Date: 2020-10-27 10:01:49 -0500
malbec2 Linux (Ubuntu 20.04.1 LTS) / x86_64  OK  OK  OK UNNEEDED, same version exists in internal repository
riesling1 Windows Server 2019 Standard / x64  OK  OK  OK 
Package 230/382HostnameOS / ArchINSTALLBUILDCHECK
MOFAdata 1.7.0
Britta Velten
Last Commit: 4f579fc
Last Changed Date: 2020-10-27 10:29:48 -0500
malbec2 Linux (Ubuntu 20.04.1 LTS) / x86_64  OK  OK  OK UNNEEDED, same version exists in internal repository
riesling1 Windows Server 2019 Standard / x64  OK  OK  OK 
Package 231/382HostnameOS / ArchINSTALLBUILDCHECK
mosaicsExample 1.29.0
Dongjun Chung
Last Commit: 87936e4
Last Changed Date: 2020-10-27 09:52:15 -0500
malbec2 Linux (Ubuntu 20.04.1 LTS) / x86_64  OK  OK  OK UNNEEDED, same version exists in internal repository
riesling1 Windows Server 2019 Standard / x64  OK  OK  OK 
Package 232/382HostnameOS / ArchINSTALLBUILDCHECK
mouse4302barcodevecs 1.29.0
Matthew N. McCall
Last Commit: 58b1173
Last Changed Date: 2020-10-27 09:51:35 -0500
malbec2 Linux (Ubuntu 20.04.1 LTS) / x86_64  OK  OK  OK UNNEEDED, same version exists in internal repository
riesling1 Windows Server 2019 Standard / x64  OK  OK  OK 
Package 233/382HostnameOS / ArchINSTALLBUILDCHECK
MouseGastrulationData 1.5.0
Jonathan Griffiths
Last Commit: b8422bf
Last Changed Date: 2020-10-27 10:30:35 -0500
malbec2 Linux (Ubuntu 20.04.1 LTS) / x86_64  OK  OK  OK UNNEEDED, same version exists in internal repository
riesling1 Windows Server 2019 Standard / x64  OK  OK  OK 
Package 234/382HostnameOS / ArchINSTALLBUILDCHECK
msd16s 1.11.0
Joseph N. Paulson
Last Commit: b9470df
Last Changed Date: 2020-10-27 10:09:17 -0500
malbec2 Linux (Ubuntu 20.04.1 LTS) / x86_64  OK  OK  OK UNNEEDED, same version exists in internal repository
riesling1 Windows Server 2019 Standard / x64  OK  OK  OK 
Package 235/382HostnameOS / ArchINSTALLBUILDCHECK
msdata 0.31.0
Steffen Neumann , Laurent Gatto
Last Commit: f402fc5
Last Changed Date: 2020-10-27 09:48:51 -0500
malbec2 Linux (Ubuntu 20.04.1 LTS) / x86_64  OK  OK  OK UNNEEDED, same version exists in internal repository
riesling1 Windows Server 2019 Standard / x64  OK  OK  OK 
Package 236/382HostnameOS / ArchINSTALLBUILDCHECK
MSMB 1.9.0
Wolfgang Huber
Last Commit: 47c031e
Last Changed Date: 2020-10-27 10:26:58 -0500
malbec2 Linux (Ubuntu 20.04.1 LTS) / x86_64  OK  OK  WARNINGS UNNEEDED, same version exists in internal repository
riesling1 Windows Server 2019 Standard / x64  OK  OK  WARNINGS 
Package 237/382HostnameOS / ArchINSTALLBUILDCHECK
msPurityData 1.19.0
Thomas N. Lawson
Last Commit: 22f7e42
Last Changed Date: 2020-10-27 10:19:23 -0500
malbec2 Linux (Ubuntu 20.04.1 LTS) / x86_64  OK  OK  OK UNNEEDED, same version exists in internal repository
riesling1 Windows Server 2019 Standard / x64  OK  OK  OK 
Package 238/382HostnameOS / ArchINSTALLBUILDCHECK
msqc1 1.19.0
Christian Panse
Last Commit: 3b30289
Last Changed Date: 2020-10-27 10:18:07 -0500
malbec2 Linux (Ubuntu 20.04.1 LTS) / x86_64  OK  OK  OK UNNEEDED, same version exists in internal repository
riesling1 Windows Server 2019 Standard / x64  OK  OK  OK 
Package 239/382HostnameOS / ArchINSTALLBUILDCHECK
MSstatsBioData 1.13.0
Meena Choi
Last Commit: 026711e
Last Changed Date: 2020-10-27 10:23:13 -0500
malbec2 Linux (Ubuntu 20.04.1 LTS) / x86_64  OK  OK  WARNINGS UNNEEDED, same version exists in internal repository
riesling1 Windows Server 2019 Standard / x64  OK  OK  WARNINGS 
Package 240/382HostnameOS / ArchINSTALLBUILDCHECK
mtbls2 1.21.0
Steffen Neumann
Last Commit: cc8ec19
Last Changed Date: 2020-10-27 10:14:13 -0500
malbec2 Linux (Ubuntu 20.04.1 LTS) / x86_64  OK  ERROR  skipped 
riesling1 Windows Server 2019 Standard / x64  OK  OK  OK 
Package 241/382HostnameOS / ArchINSTALLBUILDCHECK
MUGAExampleData 1.11.0
Daniel Gatti
Last Commit: eae8f71
Last Changed Date: 2020-10-27 10:09:20 -0500
malbec2 Linux (Ubuntu 20.04.1 LTS) / x86_64  OK  OK  OK UNNEEDED, same version exists in internal repository
riesling1 Windows Server 2019 Standard / x64  OK  OK  WARNINGS 
Package 242/382HostnameOS / ArchINSTALLBUILDCHECK
muscData 1.5.0
Helena L. Crowell
Last Commit: 7badd0c
Last Changed Date: 2020-10-27 10:30:24 -0500
malbec2 Linux (Ubuntu 20.04.1 LTS) / x86_64  OK  OK  WARNINGS UNNEEDED, same version exists in internal repository
riesling1 Windows Server 2019 Standard / x64  OK  OK  WARNINGS 
Package 243/382HostnameOS / ArchINSTALLBUILDCHECK
mvoutData 1.27.0
VJ Carey
Last Commit: 7cfc3a6
Last Changed Date: 2020-10-27 09:51:01 -0500
malbec2 Linux (Ubuntu 20.04.1 LTS) / x86_64  OK  OK  OK UNNEEDED, same version exists in internal repository
riesling1 Windows Server 2019 Standard / x64  OK  OK  OK 
N
ABCDEFGHIJKLMNOPQRSTUVWXYZ
Package 244/382HostnameOS / ArchINSTALLBUILDCHECK
NanoporeRNASeq 1.1.0
Ying Chen Developer
Last Commit: 2f70e73
Last Changed Date: 2020-10-27 10:32:40 -0500
malbec2 Linux (Ubuntu 20.04.1 LTS) / x86_64  OK  OK  OK UNNEEDED, same version exists in internal repository
riesling1 Windows Server 2019 Standard / x64  OK  OK  OK 
Package 245/382HostnameOS / ArchINSTALLBUILDCHECK
nanotubes 1.7.0
Malte Thodberg
Last Commit: e9d6b69
Last Changed Date: 2020-10-27 10:29:55 -0500
malbec2 Linux (Ubuntu 20.04.1 LTS) / x86_64  OK  OK  OK UNNEEDED, same version exists in internal repository
riesling1 Windows Server 2019 Standard / x64  OK  OK  OK 
Package 246/382HostnameOS / ArchINSTALLBUILDCHECK
NCIgraphData 1.27.0
Laurent Jacob
Last Commit: a0595f2
Last Changed Date: 2020-10-27 09:53:01 -0500
malbec2 Linux (Ubuntu 20.04.1 LTS) / x86_64  OK  OK  WARNINGS UNNEEDED, same version exists in internal repository
riesling1 Windows Server 2019 Standard / x64  OK  OK  WARNINGS 
Package 247/382HostnameOS / ArchINSTALLBUILDCHECK
NestLink 1.7.0
Lennart Opitz
Last Commit: 3b487be
Last Changed Date: 2020-10-27 10:29:06 -0500
malbec2 Linux (Ubuntu 20.04.1 LTS) / x86_64  OK  OK  OK UNNEEDED, same version exists in internal repository
riesling1 Windows Server 2019 Standard / x64  OK  OK  OK 
Package 248/382HostnameOS / ArchINSTALLBUILDCHECK
Neve2006 0.29.0
VJ Carey
Last Commit: 7f475e1
Last Changed Date: 2020-10-27 09:47:52 -0500
malbec2 Linux (Ubuntu 20.04.1 LTS) / x86_64  OK  OK  OK UNNEEDED, same version exists in internal repository
riesling1 Windows Server 2019 Standard / x64  OK  OK  OK 
Package 249/382HostnameOS / ArchINSTALLBUILDCHECK
NGScopyData 1.11.0
Xiaobei Zhao
Last Commit: 0e1ad8d
Last Changed Date: 2020-10-27 10:10:21 -0500
malbec2 Linux (Ubuntu 20.04.1 LTS) / x86_64  OK  OK  OK UNNEEDED, same version exists in internal repository
riesling1 Windows Server 2019 Standard / x64  OK  OK  OK 
O
ABCDEFGHIJKLMNOPQRSTUVWXYZ
Package 250/382HostnameOS / ArchINSTALLBUILDCHECK
oct4 1.7.0
Michael Love
Last Commit: b82ea22
Last Changed Date: 2020-10-27 10:29:31 -0500
malbec2 Linux (Ubuntu 20.04.1 LTS) / x86_64  OK  OK  OK UNNEEDED, same version exists in internal repository
riesling1 Windows Server 2019 Standard / x64  OK  OK  OK 
Package 251/382HostnameOS / ArchINSTALLBUILDCHECK
OMICsPCAdata 1.9.0
Subhadeep Das
Last Commit: e1aa246
Last Changed Date: 2020-10-27 10:27:55 -0500
malbec2 Linux (Ubuntu 20.04.1 LTS) / x86_64  OK  OK  OK UNNEEDED, same version exists in internal repository
riesling1 Windows Server 2019 Standard / x64  OK  OK  OK 
Package 252/382HostnameOS / ArchINSTALLBUILDCHECK
OnassisJavaLibs 1.13.0
Eugenia Galeota
Last Commit: a612d9f
Last Changed Date: 2020-10-27 10:23:07 -0500
malbec2 Linux (Ubuntu 20.04.1 LTS) / x86_64  OK  OK  OK UNNEEDED, same version exists in internal repository
riesling1 Windows Server 2019 Standard / x64  OK  OK  WARNINGS 
Package 253/382HostnameOS / ArchINSTALLBUILDCHECK
optimalFlowData 1.3.0
Hristo Inouzhe
Last Commit: 69d9138
Last Changed Date: 2020-10-27 10:31:47 -0500
malbec2 Linux (Ubuntu 20.04.1 LTS) / x86_64  OK  OK  OK UNNEEDED, same version exists in internal repository
riesling1 Windows Server 2019 Standard / x64  OK  OK  OK 
P
ABCDEFGHIJKLMNOPQRSTUVWXYZ
Package 254/382HostnameOS / ArchINSTALLBUILDCHECK
parathyroidSE 1.29.0
Michael Love
Last Commit: 1681586
Last Changed Date: 2020-10-27 10:00:51 -0500
malbec2 Linux (Ubuntu 20.04.1 LTS) / x86_64  OK  OK  OK UNNEEDED, same version exists in internal repository
riesling1 Windows Server 2019 Standard / x64  OK  OK  OK 
Package 255/382HostnameOS / ArchINSTALLBUILDCHECK
pasilla 1.19.0
Alejandro Reyes
Last Commit: a30fa19
Last Changed Date: 2020-10-27 09:53:30 -0500
malbec2 Linux (Ubuntu 20.04.1 LTS) / x86_64  OK  OK  WARNINGS UNNEEDED, same version exists in internal repository
riesling1 Windows Server 2019 Standard / x64  OK  OK  WARNINGS 
Package 256/382HostnameOS / ArchINSTALLBUILDCHECK
pasillaBamSubset 0.29.0
Hervé Pagès
Last Commit: 660e8d9
Last Changed Date: 2020-10-27 09:55:24 -0500
malbec2 Linux (Ubuntu 20.04.1 LTS) / x86_64  OK  OK  OK UNNEEDED, same version exists in internal repository
riesling1 Windows Server 2019 Standard / x64  OK  OK  OK 
Package 257/382HostnameOS / ArchINSTALLBUILDCHECK
PasillaTranscriptExpr 1.19.0
Malgorzata Nowicka
Last Commit: 83b7f7f
Last Changed Date: 2020-10-27 10:18:56 -0500
malbec2 Linux (Ubuntu 20.04.1 LTS) / x86_64  OK  OK  OK UNNEEDED, same version exists in internal repository
riesling1 Windows Server 2019 Standard / x64  OK  OK  OK 
Package 258/382HostnameOS / ArchINSTALLBUILDCHECK
PathNetData 1.27.0
Ludwig Geistlinger
Last Commit: e09d214
Last Changed Date: 2020-10-27 10:00:38 -0500
malbec2 Linux (Ubuntu 20.04.1 LTS) / x86_64  OK  OK  OK UNNEEDED, same version exists in internal repository
riesling1 Windows Server 2019 Standard / x64  OK  OK  OK 
Package 259/382HostnameOS / ArchINSTALLBUILDCHECK
PCHiCdata 1.19.0
Paula Freire-Pritchett
Last Commit: ee05a18
Last Changed Date: 2020-10-27 10:14:58 -0500
malbec2 Linux (Ubuntu 20.04.1 LTS) / x86_64  OK  OK  OK UNNEEDED, same version exists in internal repository
riesling1 Windows Server 2019 Standard / x64  OK  OK  OK 
Package 260/382HostnameOS / ArchINSTALLBUILDCHECK
pcxnData 2.13.0
Sokratis Kariotis
Last Commit: bc0ba62
Last Changed Date: 2020-10-27 10:24:20 -0500
malbec2 Linux (Ubuntu 20.04.1 LTS) / x86_64  OK  OK  WARNINGS UNNEEDED, same version exists in internal repository
riesling1 Windows Server 2019 Standard / x64  OK  OK  WARNINGS 
Package 261/382HostnameOS / ArchINSTALLBUILDCHECK
pd.atdschip.tiling 0.29.0
Kristof De Beuf
Last Commit: c41aa07
Last Changed Date: 2020-10-27 09:56:59 -0500
malbec2 Linux (Ubuntu 20.04.1 LTS) / x86_64  OK  OK  WARNINGS UNNEEDED, same version exists in internal repository
riesling1 Windows Server 2019 Standard / x64  OK  OK  WARNINGS 
Package 262/382HostnameOS / ArchINSTALLBUILDCHECK
pepDat 1.11.0
Renan Sauteraud
Last Commit: b26683e
Last Changed Date: 2020-10-27 10:09:25 -0500
malbec2 Linux (Ubuntu 20.04.1 LTS) / x86_64  OK  OK  OK UNNEEDED, same version exists in internal repository
riesling1 Windows Server 2019 Standard / x64  OK  OK  OK 
Package 263/382HostnameOS / ArchINSTALLBUILDCHECK
PepsNMRData 1.9.0
Manon Martin
Last Commit: 3922255
Last Changed Date: 2020-10-27 10:28:45 -0500
malbec2 Linux (Ubuntu 20.04.1 LTS) / x86_64  OK  OK  OK UNNEEDED, same version exists in internal repository
riesling1 Windows Server 2019 Standard / x64  OK  OK  OK 
Package 264/382HostnameOS / ArchINSTALLBUILDCHECK
PhyloProfileData 1.5.0
Vinh Tran
Last Commit: 7131833
Last Changed Date: 2020-10-27 10:30:39 -0500
malbec2 Linux (Ubuntu 20.04.1 LTS) / x86_64  OK  OK  OK UNNEEDED, same version exists in internal repository
riesling1 Windows Server 2019 Standard / x64  OK  OK  OK 
Package 265/382HostnameOS / ArchINSTALLBUILDCHECK
plasFIA 1.19.0
Alexis Delabriere
Last Commit: 420e7fb
Last Changed Date: 2020-10-27 10:22:10 -0500
malbec2 Linux (Ubuntu 20.04.1 LTS) / x86_64  OK  OK  OK UNNEEDED, same version exists in internal repository
riesling1 Windows Server 2019 Standard / x64  OK  OK  OK 
Package 266/382HostnameOS / ArchINSTALLBUILDCHECK
ppiData 0.29.0
Bioconductor Package Maintainer
Last Commit: b2d6691
Last Changed Date: 2020-10-27 09:46:51 -0500
malbec2 Linux (Ubuntu 20.04.1 LTS) / x86_64  OK  OK  WARNINGS UNNEEDED, same version exists in internal repository
riesling1 Windows Server 2019 Standard / x64  OK  OK  WARNINGS 
Package 267/382HostnameOS / ArchINSTALLBUILDCHECK
prebsdata 1.27.0
Karolis Uziela
Last Commit: 24e7136
Last Changed Date: 2020-10-27 10:02:06 -0500
malbec2 Linux (Ubuntu 20.04.1 LTS) / x86_64  OK  OK  OK UNNEEDED, same version exists in internal repository
riesling1 Windows Server 2019 Standard / x64  OK  OK  OK 
Package 268/382HostnameOS / ArchINSTALLBUILDCHECK
PREDAsampledata 0.31.0
Francesco Ferrari
Last Commit: 17ef1f0
Last Changed Date: 2020-10-27 09:53:39 -0500
malbec2 Linux (Ubuntu 20.04.1 LTS) / x86_64  OK  OK  OK UNNEEDED, same version exists in internal repository
riesling1 Windows Server 2019 Standard / x64  OK  OK  OK 
Package 269/382HostnameOS / ArchINSTALLBUILDCHECK
ProData 1.29.0
Xiaochun Li
Last Commit: 90f517c
Last Changed Date: 2020-10-27 09:46:54 -0500
malbec2 Linux (Ubuntu 20.04.1 LTS) / x86_64  OK  OK  OK UNNEEDED, same version exists in internal repository
riesling1 Windows Server 2019 Standard / x64  OK  OK  OK 
Package 270/382HostnameOS / ArchINSTALLBUILDCHECK
pRolocdata 1.29.0
Laurent Gatto
Last Commit: 43ec622
Last Changed Date: 2020-10-27 10:00:16 -0500
malbec2 Linux (Ubuntu 20.04.1 LTS) / x86_64  OK  OK  OK UNNEEDED, same version exists in internal repository
riesling1 Windows Server 2019 Standard / x64  OK  OK  OK 
Package 271/382HostnameOS / ArchINSTALLBUILDCHECK
prostateCancerCamcap 1.19.0
Mark Dunning
Last Commit: 8869711
Last Changed Date: 2020-10-27 10:18:10 -0500
malbec2 Linux (Ubuntu 20.04.1 LTS) / x86_64  OK  OK  OK UNNEEDED, same version exists in internal repository
riesling1 Windows Server 2019 Standard / x64  OK  OK  OK 
Package 272/382HostnameOS / ArchINSTALLBUILDCHECK
prostateCancerGrasso 1.19.0
Mark Dunning
Last Commit: ce1c1fe
Last Changed Date: 2020-10-27 10:18:19 -0500
malbec2 Linux (Ubuntu 20.04.1 LTS) / x86_64  OK  OK  OK UNNEEDED, same version exists in internal repository
riesling1 Windows Server 2019 Standard / x64  OK  OK  OK 
Package 273/382HostnameOS / ArchINSTALLBUILDCHECK
prostateCancerStockholm 1.19.0
Mark Dunning
Last Commit: 74d2ee4
Last Changed Date: 2020-10-27 10:18:16 -0500
malbec2 Linux (Ubuntu 20.04.1 LTS) / x86_64  OK  OK  OK UNNEEDED, same version exists in internal repository
riesling1 Windows Server 2019 Standard / x64  OK  OK  OK 
Package 274/382HostnameOS / ArchINSTALLBUILDCHECK
prostateCancerTaylor 1.19.0
Mark Dunning
Last Commit: 594bd01
Last Changed Date: 2020-10-27 10:18:13 -0500
malbec2 Linux (Ubuntu 20.04.1 LTS) / x86_64  OK  OK  OK UNNEEDED, same version exists in internal repository
riesling1 Windows Server 2019 Standard / x64  OK  OK  OK 
Package 275/382HostnameOS / ArchINSTALLBUILDCHECK
prostateCancerVarambally 1.19.0
Mark Dunning
Last Commit: b22c3ec
Last Changed Date: 2020-10-27 10:18:22 -0500
malbec2 Linux (Ubuntu 20.04.1 LTS) / x86_64  OK  OK  OK UNNEEDED, same version exists in internal repository
riesling1 Windows Server 2019 Standard / x64  OK  OK  OK 
Package 276/382HostnameOS / ArchINSTALLBUILDCHECK
PtH2O2lipids 1.17.0
James Collins
Last Commit: 4f4a24b
Last Changed Date: 2020-10-27 10:21:27 -0500
malbec2 Linux (Ubuntu 20.04.1 LTS) / x86_64  OK  OK  WARNINGS UNNEEDED, same version exists in internal repository
riesling1 Windows Server 2019 Standard / x64  OK  OK  WARNINGS 
Package 277/382HostnameOS / ArchINSTALLBUILDCHECK
pumadata 2.27.0
Xuejun liu
Last Commit: b7849ba
Last Changed Date: 2020-10-27 09:47:30 -0500
malbec2 Linux (Ubuntu 20.04.1 LTS) / x86_64  OK  OK  OK UNNEEDED, same version exists in internal repository
riesling1 Windows Server 2019 Standard / x64  OK  OK  OK 
Package 278/382HostnameOS / ArchINSTALLBUILDCHECK
PWMEnrich.Dmelanogaster.background 4.25.0
Diego Diez
Last Commit: 364c36a
Last Changed Date: 2020-10-27 09:55:42 -0500
malbec2 Linux (Ubuntu 20.04.1 LTS) / x86_64  OK  OK  WARNINGS UNNEEDED, same version exists in internal repository
riesling1 Windows Server 2019 Standard / x64  OK  OK  WARNINGS 
Package 279/382HostnameOS / ArchINSTALLBUILDCHECK
PWMEnrich.Hsapiens.background 4.25.0
Diego Diez
Last Commit: a4f474f
Last Changed Date: 2020-10-27 10:05:45 -0500
malbec2 Linux (Ubuntu 20.04.1 LTS) / x86_64  OK  OK  WARNINGS UNNEEDED, same version exists in internal repository
riesling1 Windows Server 2019 Standard / x64  OK  OK  WARNINGS 
Package 280/382HostnameOS / ArchINSTALLBUILDCHECK
PWMEnrich.Mmusculus.background 4.25.0
Diego Diez
Last Commit: 87e7fcf
Last Changed Date: 2020-10-27 10:05:50 -0500
malbec2 Linux (Ubuntu 20.04.1 LTS) / x86_64  OK  OK  OK UNNEEDED, same version exists in internal repository
riesling1 Windows Server 2019 Standard / x64  OK  OK  OK 
Package 281/382HostnameOS / ArchINSTALLBUILDCHECK
pwrEWAS.data 1.5.0
Stefan Graw
Last Commit: 39a0396
Last Changed Date: 2020-10-27 10:30:50 -0500
malbec2 Linux (Ubuntu 20.04.1 LTS) / x86_64  OK  OK  OK UNNEEDED, same version exists in internal repository
riesling1 Windows Server 2019 Standard / x64  OK  OK  OK 
Q
ABCDEFGHIJKLMNOPQRSTUVWXYZ
Package 282/382HostnameOS / ArchINSTALLBUILDCHECK
QDNAseq.hg19 1.21.0
Daoud Sie
Last Commit: ee8d568
Last Changed Date: 2020-10-27 10:14:40 -0500
malbec2 Linux (Ubuntu 20.04.1 LTS) / x86_64  OK  OK  OK UNNEEDED, same version exists in internal repository
riesling1 Windows Server 2019 Standard / x64  OK  OK  OK 
Package 283/382HostnameOS / ArchINSTALLBUILDCHECK
QDNAseq.mm10 1.21.0
Daoud Sie
Last Commit: 8ef5bae
Last Changed Date: 2020-10-27 10:14:43 -0500
malbec2 Linux (Ubuntu 20.04.1 LTS) / x86_64  OK  OK  OK UNNEEDED, same version exists in internal repository
riesling1 Windows Server 2019 Standard / x64  OK  OK  OK 
Package 284/382HostnameOS / ArchINSTALLBUILDCHECK
qPLEXdata 1.9.0
Kamal Kishore Developer
Last Commit: ffaf3d3
Last Changed Date: 2020-10-27 10:27:05 -0500
malbec2 Linux (Ubuntu 20.04.1 LTS) / x86_64  OK  OK  WARNINGS UNNEEDED, same version exists in internal repository
riesling1 Windows Server 2019 Standard / x64  OK  OK  WARNINGS 
Package 285/382HostnameOS / ArchINSTALLBUILDCHECK
QUBICdata 1.19.0
Yu Zhang
Last Commit: 8b1d051
Last Changed Date: 2020-10-27 10:18:59 -0500
malbec2 Linux (Ubuntu 20.04.1 LTS) / x86_64  OK  OK  OK UNNEEDED, same version exists in internal repository
riesling1 Windows Server 2019 Standard / x64  OK  OK  OK 
R
ABCDEFGHIJKLMNOPQRSTUVWXYZ
Package 286/382HostnameOS / ArchINSTALLBUILDCHECK
rcellminerData 2.13.0
Augustin Luna , Vinodh Rajapakse
Last Commit: cda0aed
Last Changed Date: 2020-10-27 10:11:59 -0500
malbec2 Linux (Ubuntu 20.04.1 LTS) / x86_64  OK  OK  WARNINGS UNNEEDED, same version exists in internal repository
riesling1 Windows Server 2019 Standard / x64  OK  OK  WARNINGS 
Package 287/382HostnameOS / ArchINSTALLBUILDCHECK
RcisTarget.hg19.motifDBs.cisbpOnly.500bp 1.11.0
Sara Aibar
Last Commit: 785eefa
Last Changed Date: 2020-10-27 10:25:56 -0500
malbec2 Linux (Ubuntu 20.04.1 LTS) / x86_64  OK  OK  OK UNNEEDED, same version exists in internal repository
riesling1 Windows Server 2019 Standard / x64  OK  OK  OK 
Package 288/382HostnameOS / ArchINSTALLBUILDCHECK
ReactomeGSA.data 1.5.0
Johannes Griss
Last Commit: 568a8ad
Last Changed Date: 2020-10-27 10:30:46 -0500
malbec2 Linux (Ubuntu 20.04.1 LTS) / x86_64  OK  OK  OK UNNEEDED, same version exists in internal repository
riesling1 Windows Server 2019 Standard / x64  OK  OK  OK 
Package 289/382HostnameOS / ArchINSTALLBUILDCHECK
RegParallel 1.9.0
Kevin Blighe
Last Commit: fec40a5
Last Changed Date: 2020-10-27 10:27:59 -0500
malbec2 Linux (Ubuntu 20.04.1 LTS) / x86_64  OK  OK  OK UNNEEDED, same version exists in internal repository
riesling1 Windows Server 2019 Standard / x64  OK  OK  OK 
Package 290/382HostnameOS / ArchINSTALLBUILDCHECK
restfulSEData 1.13.0
Bioconductor Package Maintainer
Last Commit: aa6ec92
Last Changed Date: 2020-10-27 10:23:17 -0500
malbec2 Linux (Ubuntu 20.04.1 LTS) / x86_64  OK  OK  OK UNNEEDED, same version exists in internal repository
riesling1 Windows Server 2019 Standard / x64  OK  OK  OK 
Package 291/382HostnameOS / ArchINSTALLBUILDCHECK
RforProteomics 1.29.0
Laurent Gatto
Last Commit: 49b273b
Last Changed Date: 2020-10-27 10:00:23 -0500
malbec2 Linux (Ubuntu 20.04.1 LTS) / x86_64  OK  ERROR  skipped 
riesling1 Windows Server 2019 Standard / x64  OK  OK  WARNINGS 
Package 292/382HostnameOS / ArchINSTALLBUILDCHECK
RGMQLlib 1.11.0
Simone Pallotta
Last Commit: ffa3e2e
Last Changed Date: 2020-10-27 10:24:41 -0500
malbec2 Linux (Ubuntu 20.04.1 LTS) / x86_64  OK  OK  OK UNNEEDED, same version exists in internal repository
riesling1 Windows Server 2019 Standard / x64  OK  OK  WARNINGS 
Package 293/382HostnameOS / ArchINSTALLBUILDCHECK
rheumaticConditionWOLLBOLD 1.29.0
Alejandro Quiroz-Zarate
Last Commit: 91ceab7
Last Changed Date: 2020-10-27 09:54:45 -0500
malbec2 Linux (Ubuntu 20.04.1 LTS) / x86_64  OK  OK  OK UNNEEDED, same version exists in internal repository
riesling1 Windows Server 2019 Standard / x64  OK  OK  OK 
Package 294/382HostnameOS / ArchINSTALLBUILDCHECK
RITANdata 1.15.0
Michael Zimmermann
Last Commit: df319fe
Last Changed Date: 2020-10-27 10:23:00 -0500
malbec2 Linux (Ubuntu 20.04.1 LTS) / x86_64  OK  OK  OK UNNEEDED, same version exists in internal repository
riesling1 Windows Server 2019 Standard / x64  OK  OK  OK 
Package 295/382HostnameOS / ArchINSTALLBUILDCHECK
RMassBankData 1.29.0
Michael Stravs, Emma Schymanski
Last Commit: ac7d85c
Last Changed Date: 2020-10-27 09:56:34 -0500
malbec2 Linux (Ubuntu 20.04.1 LTS) / x86_64  OK  OK  OK UNNEEDED, same version exists in internal repository
riesling1 Windows Server 2019 Standard / x64  OK  OK  OK 
Package 296/382HostnameOS / ArchINSTALLBUILDCHECK
RNAmodR.Data 1.5.0
Felix G.M. Ernst
Last Commit: f7833d3
Last Changed Date: 2020-10-27 10:30:16 -0500
malbec2 Linux (Ubuntu 20.04.1 LTS) / x86_64  OK  OK  OK UNNEEDED, same version exists in internal repository
riesling1 Windows Server 2019 Standard / x64  OK  OK  OK 
Package 297/382HostnameOS / ArchINSTALLBUILDCHECK
RNAseqData.HNRNPC.bam.chr14 0.29.0
Hervé Pagès
Last Commit: 0fc7dd5
Last Changed Date: 2020-10-27 10:02:25 -0500
malbec2 Linux (Ubuntu 20.04.1 LTS) / x86_64  OK  OK  OK UNNEEDED, same version exists in internal repository
riesling1 Windows Server 2019 Standard / x64  OK  OK  OK 
Package 298/382HostnameOS / ArchINSTALLBUILDCHECK
RNASeqRData 1.9.0
Kuan-Hao Chao
Last Commit: 7b0e32d
Last Changed Date: 2020-10-27 10:28:03 -0500
malbec2 Linux (Ubuntu 20.04.1 LTS) / x86_64  OK  OK  OK UNNEEDED, same version exists in internal repository
riesling1 Windows Server 2019 Standard / x64  OK  OK  OK 
Package 299/382HostnameOS / ArchINSTALLBUILDCHECK
RnaSeqSampleSizeData 1.23.0
Shilin Zhao
Last Commit: d4bd78e
Last Changed Date: 2020-10-27 10:11:01 -0500
malbec2 Linux (Ubuntu 20.04.1 LTS) / x86_64  OK  OK  OK UNNEEDED, same version exists in internal repository
riesling1 Windows Server 2019 Standard / x64  OK  OK  OK 
Package 300/382HostnameOS / ArchINSTALLBUILDCHECK
RnBeads.hg19 1.23.0
RnBeadsAnnotationCreator
Last Commit: d816cbe
Last Changed Date: 2020-10-27 10:12:54 -0500
malbec2 Linux (Ubuntu 20.04.1 LTS) / x86_64  OK  OK  WARNINGS UNNEEDED, same version exists in internal repository
riesling1 Windows Server 2019 Standard / x64  OK  OK  WARNINGS 
Package 301/382HostnameOS / ArchINSTALLBUILDCHECK
RnBeads.hg38 1.23.0
RnBeadsAnnotationCreator
Last Commit: bc8c719
Last Changed Date: 2020-10-27 10:13:38 -0500
malbec2 Linux (Ubuntu 20.04.1 LTS) / x86_64  OK  OK  OK UNNEEDED, same version exists in internal repository
riesling1 Windows Server 2019 Standard / x64  OK  OK  OK 
Package 302/382HostnameOS / ArchINSTALLBUILDCHECK
RnBeads.mm10 1.23.0
RnBeadsAnnotationCreator
Last Commit: 5787a61
Last Changed Date: 2020-10-27 10:13:07 -0500
malbec2 Linux (Ubuntu 20.04.1 LTS) / x86_64  OK  OK  OK UNNEEDED, same version exists in internal repository
riesling1 Windows Server 2019 Standard / x64  OK  OK  OK 
Package 303/382HostnameOS / ArchINSTALLBUILDCHECK
RnBeads.mm9 1.23.0
RnBeadsAnnotationCreator
Last Commit: c7c9199
Last Changed Date: 2020-10-27 10:13:12 -0500
malbec2 Linux (Ubuntu 20.04.1 LTS) / x86_64  OK  OK  WARNINGS UNNEEDED, same version exists in internal repository
riesling1 Windows Server 2019 Standard / x64  OK  OK  WARNINGS 
Package 304/382HostnameOS / ArchINSTALLBUILDCHECK
RnBeads.rn5 1.23.0
RnBeadsAnnotationCreator
Last Commit: 00a36db
Last Changed Date: 2020-10-27 10:13:16 -0500
malbec2 Linux (Ubuntu 20.04.1 LTS) / x86_64  OK  OK  OK UNNEEDED, same version exists in internal repository
riesling1 Windows Server 2019 Standard / x64  OK  OK  OK 
Package 305/382HostnameOS / ArchINSTALLBUILDCHECK
RRBSdata 1.11.0
Katja Hebestreit
Last Commit: 4cdc648
Last Changed Date: 2020-10-27 10:10:42 -0500
malbec2 Linux (Ubuntu 20.04.1 LTS) / x86_64  OK  OK  OK UNNEEDED, same version exists in internal repository
riesling1 Windows Server 2019 Standard / x64  OK  OK  OK 
Package 306/382HostnameOS / ArchINSTALLBUILDCHECK
rRDPData 1.11.0
Michael Hahsler
Last Commit: 94d066b
Last Changed Date: 2020-10-27 10:10:24 -0500
malbec2 Linux (Ubuntu 20.04.1 LTS) / x86_64  OK  OK  OK UNNEEDED, same version exists in internal repository
riesling1 Windows Server 2019 Standard / x64  OK  OK  OK 
Package 307/382HostnameOS / ArchINSTALLBUILDCHECK
RTCGA.clinical 20151101.21.0
Marcin Kosinski
Last Commit: c14e85c
Last Changed Date: 2020-10-27 10:13:45 -0500
malbec2 Linux (Ubuntu 20.04.1 LTS) / x86_64  OK  OK  OK UNNEEDED, same version exists in internal repository
riesling1 Windows Server 2019 Standard / x64  OK  OK  WARNINGS 
Package 308/382HostnameOS / ArchINSTALLBUILDCHECK
RTCGA.CNV 1.19.0
Marcin Kosinski
Last Commit: 055516d
Last Changed Date: 2020-10-27 10:17:07 -0500
malbec2 Linux (Ubuntu 20.04.1 LTS) / x86_64  OK  OK  OK UNNEEDED, same version exists in internal repository
riesling1 Windows Server 2019 Standard / x64  OK  OK  WARNINGS 
Package 309/382HostnameOS / ArchINSTALLBUILDCHECK
RTCGA.methylation 1.19.0
Marcin Kosinski
Last Commit: 7e0854d
Last Changed Date: 2020-10-27 10:16:33 -0500
malbec2 Linux (Ubuntu 20.04.1 LTS) / x86_64  OK  OK  OK UNNEEDED, same version exists in internal repository
riesling1 Windows Server 2019 Standard / x64  OK  OK  WARNINGS 
Package 310/382HostnameOS / ArchINSTALLBUILDCHECK
RTCGA.miRNASeq 1.19.0
Marcin Kosinski
Last Commit: 1d366ac
Last Changed Date: 2020-10-27 10:16:49 -0500
malbec2 Linux (Ubuntu 20.04.1 LTS) / x86_64  OK  OK  OK UNNEEDED, same version exists in internal repository
riesling1 Windows Server 2019 Standard / x64  OK  OK  WARNINGS 
Package 311/382HostnameOS / ArchINSTALLBUILDCHECK
RTCGA.mRNA 1.19.0
Marcin Kosinski
Last Commit: 7a968a0
Last Changed Date: 2020-10-27 10:16:52 -0500
malbec2 Linux (Ubuntu 20.04.1 LTS) / x86_64  OK  OK  OK UNNEEDED, same version exists in internal repository
riesling1 Windows Server 2019 Standard / x64  OK  OK  OK 
Package 312/382HostnameOS / ArchINSTALLBUILDCHECK
RTCGA.mutations 20151101.21.0
Marcin Kosinski
Last Commit: 61c8ad9
Last Changed Date: 2020-10-27 10:13:48 -0500
malbec2 Linux (Ubuntu 20.04.1 LTS) / x86_64  OK  OK  OK UNNEEDED, same version exists in internal repository
riesling1 Windows Server 2019 Standard / x64  OK  OK  WARNINGS 
Package 313/382HostnameOS / ArchINSTALLBUILDCHECK
RTCGA.PANCAN12 1.19.0
Marcin Kosinski
Last Commit: 062e24d
Last Changed Date: 2020-10-27 10:16:56 -0500
malbec2 Linux (Ubuntu 20.04.1 LTS) / x86_64  OK  OK  OK UNNEEDED, same version exists in internal repository
riesling1 Windows Server 2019 Standard / x64  OK  OK  OK 
Package 314/382HostnameOS / ArchINSTALLBUILDCHECK
RTCGA.rnaseq 20151101.21.0
Marcin Kosinski
Last Commit: 9d5127b
Last Changed Date: 2020-10-27 10:13:53 -0500
malbec2 Linux (Ubuntu 20.04.1 LTS) / x86_64  OK  OK  OK UNNEEDED, same version exists in internal repository
riesling1 Windows Server 2019 Standard / x64  OK  OK  WARNINGS 
Package 315/382HostnameOS / ArchINSTALLBUILDCHECK
RTCGA.RPPA 1.19.0
Marcin Kosinski
Last Commit: 34eb110
Last Changed Date: 2020-10-27 10:17:03 -0500
malbec2 Linux (Ubuntu 20.04.1 LTS) / x86_64  OK  OK  OK UNNEEDED, same version exists in internal repository
riesling1 Windows Server 2019 Standard / x64  OK  OK  WARNINGS 
Package 316/382HostnameOS / ArchINSTALLBUILDCHECK
RUVnormalizeData 1.11.0
Laurent Jacob
Last Commit: b96b40c
Last Changed Date: 2020-10-27 10:09:52 -0500
malbec2 Linux (Ubuntu 20.04.1 LTS) / x86_64  OK  OK  OK UNNEEDED, same version exists in internal repository
riesling1 Windows Server 2019 Standard / x64  OK  OK  OK 
S
ABCDEFGHIJKLMNOPQRSTUVWXYZ
Package 317/382HostnameOS / ArchINSTALLBUILDCHECK
SBGNview.data 1.5.0
Xiaoxi Dong
Last Commit: 6f92739
Last Changed Date: 2020-10-27 10:30:31 -0500
malbec2 Linux (Ubuntu 20.04.1 LTS) / x86_64  OK  OK  OK UNNEEDED, same version exists in internal repository
riesling1 Windows Server 2019 Standard / x64  OK  OK  WARNINGS 
Package 318/382HostnameOS / ArchINSTALLBUILDCHECK
SCATEData 1.1.0
Wenpin Hou
Last Commit: 21918ad
Last Changed Date: 2020-10-27 10:32:09 -0500
malbec2 Linux (Ubuntu 20.04.1 LTS) / x86_64  OK  OK  OK UNNEEDED, same version exists in internal repository
riesling1 Windows Server 2019 Standard / x64  OK  OK  OK 
Package 319/382HostnameOS / ArchINSTALLBUILDCHECK
SCLCBam 1.23.0
Oscar Krijgsman
Last Commit: e3082d6
Last Changed Date: 2020-10-27 10:12:47 -0500
malbec2 Linux (Ubuntu 20.04.1 LTS) / x86_64  OK  OK  OK UNNEEDED, same version exists in internal repository
riesling1 Windows Server 2019 Standard / x64  OK  OK  OK 
Package 320/382HostnameOS / ArchINSTALLBUILDCHECK
scRNAseq 2.5.0
Aaron Lun
Last Commit: 2f0ab61
Last Changed Date: 2020-10-27 10:21:24 -0500
malbec2 Linux (Ubuntu 20.04.1 LTS) / x86_64  OK  OK  OK UNNEEDED, same version exists in internal repository
riesling1 Windows Server 2019 Standard / x64  OK  OK  OK 
Package 321/382HostnameOS / ArchINSTALLBUILDCHECK
scTHI.data 1.3.0
Michele Ceccarelli
Last Commit: 368609b
Last Changed Date: 2020-10-27 10:31:18 -0500
malbec2 Linux (Ubuntu 20.04.1 LTS) / x86_64  OK  OK  OK UNNEEDED, same version exists in internal repository
riesling1 Windows Server 2019 Standard / x64  OK  OK  OK 
Package 322/382HostnameOS / ArchINSTALLBUILDCHECK
seq2pathway.data 1.23.0
Xinan Holly Yang
Last Commit: 88fe5e9
Last Changed Date: 2020-10-27 10:11:18 -0500
malbec2 Linux (Ubuntu 20.04.1 LTS) / x86_64  OK  OK  WARNINGS UNNEEDED, same version exists in internal repository
riesling1 Windows Server 2019 Standard / x64  OK  OK  WARNINGS 
Package 323/382HostnameOS / ArchINSTALLBUILDCHECK
seqc 1.25.0
Yang Liao and Wei Shi
Last Commit: 4c8ffe8
Last Changed Date: 2020-10-27 10:10:46 -0500
malbec2 Linux (Ubuntu 20.04.1 LTS) / x86_64  OK  OK  OK UNNEEDED, same version exists in internal repository
riesling1 Windows Server 2019 Standard / x64  OK  OK  WARNINGS 
Package 324/382HostnameOS / ArchINSTALLBUILDCHECK
seqCNA.annot 1.27.0
David Mosen-Ansorena
Last Commit: 1adfbd1
Last Changed Date: 2020-10-27 10:04:53 -0500
malbec2 Linux (Ubuntu 20.04.1 LTS) / x86_64  OK  OK  OK UNNEEDED, same version exists in internal repository
riesling1 Windows Server 2019 Standard / x64  OK  OK  OK 
Package 325/382HostnameOS / ArchINSTALLBUILDCHECK
serumStimulation 1.27.0
Morten Hansen,
Last Commit: 95f9f19
Last Changed Date: 2020-10-27 09:54:29 -0500
malbec2 Linux (Ubuntu 20.04.1 LTS) / x86_64  OK  OK  OK UNNEEDED, same version exists in internal repository
riesling1 Windows Server 2019 Standard / x64  OK  OK  OK 
Package 326/382HostnameOS / ArchINSTALLBUILDCHECK
sesameData 1.9.0
Wanding Zhou
Last Commit: 5c3e886
Last Changed Date: 2020-10-27 10:27:01 -0500
malbec2 Linux (Ubuntu 20.04.1 LTS) / x86_64  OK  OK  OK UNNEEDED, same version exists in internal repository
riesling1 Windows Server 2019 Standard / x64  OK  OK  OK 
Package 327/382HostnameOS / ArchINSTALLBUILDCHECK
seventyGeneData 1.27.0
Luigi Marchionni
Last Commit: 02cf375
Last Changed Date: 2020-10-27 10:04:12 -0500
malbec2 Linux (Ubuntu 20.04.1 LTS) / x86_64  OK  OK  OK UNNEEDED, same version exists in internal repository
riesling1 Windows Server 2019 Standard / x64  OK  OK  OK 
Package 328/382HostnameOS / ArchINSTALLBUILDCHECK
shinyMethylData 1.11.0
Jean-Philippe Fortin
Last Commit: c40d3ae
Last Changed Date: 2020-10-27 10:09:29 -0500
malbec2 Linux (Ubuntu 20.04.1 LTS) / x86_64  OK  OK  OK UNNEEDED, same version exists in internal repository
riesling1 Windows Server 2019 Standard / x64  OK  OK  OK 
Package 329/382HostnameOS / ArchINSTALLBUILDCHECK
signatureSearchData 1.5.0
Yuzhu Duan
Last Commit: 938e867
Last Changed Date: 2020-10-27 10:31:00 -0500
malbec2 Linux (Ubuntu 20.04.1 LTS) / x86_64  OK  OK  OK UNNEEDED, same version exists in internal repository
riesling1 Windows Server 2019 Standard / x64  OK  OK  OK 
Package 330/382HostnameOS / ArchINSTALLBUILDCHECK
simpIntLists 1.27.0
Kircicegi Korkmaz
Last Commit: 4013f06
Last Changed Date: 2020-10-27 09:52:37 -0500
malbec2 Linux (Ubuntu 20.04.1 LTS) / x86_64  OK  OK  WARNINGS UNNEEDED, same version exists in internal repository
riesling1 Windows Server 2019 Standard / x64  OK  OK  WARNINGS 
Package 331/382HostnameOS / ArchINSTALLBUILDCHECK
Single.mTEC.Transcriptomes 1.19.0
Alejandro Reyes
Last Commit: 90db919
Last Changed Date: 2020-10-27 10:16:10 -0500
malbec2 Linux (Ubuntu 20.04.1 LTS) / x86_64  OK  OK  OK UNNEEDED, same version exists in internal repository
riesling1 Windows Server 2019 Standard / x64  OK  OK  OK 
Package 332/382HostnameOS / ArchINSTALLBUILDCHECK
SingleCellMultiModal 1.3.4
Marcel Ramos
Last Commit: a839fb6
Last Changed Date: 2020-11-06 19:55:41 -0500
malbec2 Linux (Ubuntu 20.04.1 LTS) / x86_64  OK  OK  OK UNNEEDED, same version exists in internal repository
riesling1 Windows Server 2019 Standard / x64  OK  OK  ERROR 
Package 333/382HostnameOS / ArchINSTALLBUILDCHECK
SNAData 1.37.0
Denise Scholtens
Last Commit: ac15621
Last Changed Date: 2020-10-27 09:46:57 -0500
malbec2 Linux (Ubuntu 20.04.1 LTS) / x86_64  OK  OK  OK UNNEEDED, same version exists in internal repository
riesling1 Windows Server 2019 Standard / x64  OK  OK  OK 
Package 334/382HostnameOS / ArchINSTALLBUILDCHECK
SNAGEEdata 1.27.0
David Venet
Last Commit: 48031bc
Last Changed Date: 2020-10-27 10:00:12 -0500
malbec2 Linux (Ubuntu 20.04.1 LTS) / x86_64  OK  OK  OK UNNEEDED, same version exists in internal repository
riesling1 Windows Server 2019 Standard / x64  OK  OK  OK 
Package 335/382HostnameOS / ArchINSTALLBUILDCHECK
SNPhoodData 1.21.0
Christian Arnold
Last Commit: c9dc96c
Last Changed Date: 2020-10-27 10:14:47 -0500
malbec2 Linux (Ubuntu 20.04.1 LTS) / x86_64  OK  OK  OK UNNEEDED, same version exists in internal repository
riesling1 Windows Server 2019 Standard / x64  OK  OK  OK 
Package 336/382HostnameOS / ArchINSTALLBUILDCHECK
SomatiCAData 1.29.0
Mengjie Chen
Last Commit: 8b9dbca
Last Changed Date: 2020-10-27 10:00:47 -0500
malbec2 Linux (Ubuntu 20.04.1 LTS) / x86_64  OK  OK  WARNINGS UNNEEDED, same version exists in internal repository
riesling1 Windows Server 2019 Standard / x64  OK  OK  WARNINGS 
Package 337/382HostnameOS / ArchINSTALLBUILDCHECK
SomaticCancerAlterations 1.27.0
Julian Gehring
Last Commit: 207dc32
Last Changed Date: 2020-10-27 10:05:42 -0500
malbec2 Linux (Ubuntu 20.04.1 LTS) / x86_64  OK  ERROR  skipped 
riesling1 Windows Server 2019 Standard / x64  OK  ERROR  skipped 
Package 338/382HostnameOS / ArchINSTALLBUILDCHECK
spatialLIBD 1.3.0
Leonardo Collado-Torres
Last Commit: 01b1dd9
Last Changed Date: 2020-10-27 10:31:44 -0500
malbec2 Linux (Ubuntu 20.04.1 LTS) / x86_64  OK  ERROR  skipped 
riesling1 Windows Server 2019 Standard / x64  OK  ERROR  skipped 
Package 339/382HostnameOS / ArchINSTALLBUILDCHECK
SpikeIn 1.33.0
Rafael A. Irizarry
Last Commit: 4e1a8c0
Last Changed Date: 2020-10-27 09:47:01 -0500
malbec2 Linux (Ubuntu 20.04.1 LTS) / x86_64  OK  OK  WARNINGS UNNEEDED, same version exists in internal repository
riesling1 Windows Server 2019 Standard / x64  OK  OK  WARNINGS 
Package 340/382HostnameOS / ArchINSTALLBUILDCHECK
SpikeInSubset 1.31.0
Rafael A. Irizarry
Last Commit: a23e23d
Last Changed Date: 2020-10-27 09:47:05 -0500
malbec2 Linux (Ubuntu 20.04.1 LTS) / x86_64  OK  OK  WARNINGS UNNEEDED, same version exists in internal repository
riesling1 Windows Server 2019 Standard / x64  OK  OK  WARNINGS 
Package 341/382HostnameOS / ArchINSTALLBUILDCHECK
spqnData 1.3.0
Yi Wang
Last Commit: ea69369
Last Changed Date: 2020-10-27 10:31:35 -0500
malbec2 Linux (Ubuntu 20.04.1 LTS) / x86_64  OK  OK  OK UNNEEDED, same version exists in internal repository
riesling1 Windows Server 2019 Standard / x64  OK  OK  OK 
Package 342/382HostnameOS / ArchINSTALLBUILDCHECK
stemHypoxia 1.27.0
Cristobal Fresno
Last Commit: 0648e78
Last Changed Date: 2020-10-27 10:00:03 -0500
malbec2 Linux (Ubuntu 20.04.1 LTS) / x86_64  OK  OK  OK UNNEEDED, same version exists in internal repository
riesling1 Windows Server 2019 Standard / x64  OK  OK  OK 
Package 343/382HostnameOS / ArchINSTALLBUILDCHECK
stjudem 1.31.0
Joern Toedling
Last Commit: 0683f3a
Last Changed Date: 2020-10-27 09:47:09 -0500
malbec2 Linux (Ubuntu 20.04.1 LTS) / x86_64  OK  OK  OK UNNEEDED, same version exists in internal repository
riesling1 Windows Server 2019 Standard / x64  OK  OK  OK 
Package 344/382HostnameOS / ArchINSTALLBUILDCHECK
SVM2CRMdata 1.23.0
Guidantonio Malagoli Tagliazucchi
Last Commit: df8147e
Last Changed Date: 2020-10-27 10:12:19 -0500
malbec2 Linux (Ubuntu 20.04.1 LTS) / x86_64  OK  OK  WARNINGS UNNEEDED, same version exists in internal repository
riesling1 Windows Server 2019 Standard / x64  OK  OK  WARNINGS 
Package 345/382HostnameOS / ArchINSTALLBUILDCHECK
synapterdata 1.29.0
Laurent Gatto
Last Commit: 8b5d800
Last Changed Date: 2020-10-27 09:55:57 -0500
malbec2 Linux (Ubuntu 20.04.1 LTS) / x86_64  OK  OK  OK UNNEEDED, same version exists in internal repository
riesling1 Windows Server 2019 Standard / x64  OK  OK  OK 
Package 346/382HostnameOS / ArchINSTALLBUILDCHECK
systemPipeRdata 1.19.1
Thomas Girke
Last Commit: c0cc246
Last Changed Date: 2020-10-29 21:10:57 -0500
malbec2 Linux (Ubuntu 20.04.1 LTS) / x86_64  OK  OK  OK UNNEEDED, same version exists in internal repository
riesling1 Windows Server 2019 Standard / x64  OK  OK  OK 
T
ABCDEFGHIJKLMNOPQRSTUVWXYZ
Package 347/382HostnameOS / ArchINSTALLBUILDCHECK
TabulaMurisData 1.9.0
Charlotte Soneson
Last Commit: 03d928e
Last Changed Date: 2020-10-27 10:27:27 -0500
malbec2 Linux (Ubuntu 20.04.1 LTS) / x86_64  OK  OK  OK UNNEEDED, same version exists in internal repository
riesling1 Windows Server 2019 Standard / x64  OK  OK  OK 
Package 348/382HostnameOS / ArchINSTALLBUILDCHECK
TargetScoreData 1.27.0
Yue Li
Last Commit: bb9c487
Last Changed Date: 2020-10-27 10:04:44 -0500
malbec2 Linux (Ubuntu 20.04.1 LTS) / x86_64  OK  OK  OK UNNEEDED, same version exists in internal repository
riesling1 Windows Server 2019 Standard / x64  OK  OK  OK 
Package 349/382HostnameOS / ArchINSTALLBUILDCHECK
TargetSearchData 1.29.0
Alvaro Cuadros-Inostroza
Last Commit: d1c8f14
Last Changed Date: 2020-10-27 09:51:15 -0500
malbec2 Linux (Ubuntu 20.04.1 LTS) / x86_64  OK  OK  OK UNNEEDED, same version exists in internal repository
riesling1 Windows Server 2019 Standard / x64  OK  OK  OK 
Package 350/382HostnameOS / ArchINSTALLBUILDCHECK
tartare 1.5.0
Christian Panse
Last Commit: f9a09df
Last Changed Date: 2020-10-27 10:30:57 -0500
malbec2 Linux (Ubuntu 20.04.1 LTS) / x86_64  OK  OK  OK UNNEEDED, same version exists in internal repository
riesling1 Windows Server 2019 Standard / x64  OK  OK  OK 
Package 351/382HostnameOS / ArchINSTALLBUILDCHECK
TBX20BamSubset 1.27.0
D. Bindreither
Last Commit: 33bf3b9
Last Changed Date: 2020-10-27 09:56:21 -0500
malbec2 Linux (Ubuntu 20.04.1 LTS) / x86_64  OK  OK  OK UNNEEDED, same version exists in internal repository
riesling1 Windows Server 2019 Standard / x64  OK  OK  OK 
Package 352/382HostnameOS / ArchINSTALLBUILDCHECK
TCGAbiolinksGUI.data 1.11.0
Tiago Chedraoui Silva
Last Commit: c01fbf8
Last Changed Date: 2020-10-27 10:24:37 -0500
malbec2 Linux (Ubuntu 20.04.1 LTS) / x86_64  OK  OK  OK UNNEEDED, same version exists in internal repository
riesling1 Windows Server 2019 Standard / x64  OK  OK  OK 
Package 353/382HostnameOS / ArchINSTALLBUILDCHECK
TCGAcrcmiRNA 1.11.0
Claudio Isella
Last Commit: d051bf6
Last Changed Date: 2020-10-27 10:09:55 -0500
malbec2 Linux (Ubuntu 20.04.1 LTS) / x86_64  OK  OK  OK UNNEEDED, same version exists in internal repository
riesling1 Windows Server 2019 Standard / x64  OK  OK  OK 
Package 354/382HostnameOS / ArchINSTALLBUILDCHECK
TCGAcrcmRNA 1.11.0
Claudio Isella
Last Commit: 0e340e9
Last Changed Date: 2020-10-27 10:09:59 -0500
malbec2 Linux (Ubuntu 20.04.1 LTS) / x86_64  OK  OK  OK UNNEEDED, same version exists in internal repository
riesling1 Windows Server 2019 Standard / x64  OK  OK  OK 
Package 355/382HostnameOS / ArchINSTALLBUILDCHECK
TCGAMethylation450k 1.27.0
Sean Davis
Last Commit: b8f352a
Last Changed Date: 2020-10-27 09:54:00 -0500
malbec2 Linux (Ubuntu 20.04.1 LTS) / x86_64  OK  OK  OK UNNEEDED, same version exists in internal repository
riesling1 Windows Server 2019 Standard / x64  OK  OK  OK 
Package 356/382HostnameOS / ArchINSTALLBUILDCHECK
tcgaWGBSData.hg19 1.9.0
Divy Kangeyan
Last Commit: 294dadc
Last Changed Date: 2020-10-27 10:27:34 -0500
malbec2 Linux (Ubuntu 20.04.1 LTS) / x86_64  OK  OK  OK UNNEEDED, same version exists in internal repository
riesling1 Windows Server 2019 Standard / x64  OK  OK  OK 
Package 357/382HostnameOS / ArchINSTALLBUILDCHECK
TCGAWorkflowData 1.15.0
Tiago Chedraoui Silva
Last Commit: c1b3065
Last Changed Date: 2020-10-27 10:22:55 -0500
malbec2 Linux (Ubuntu 20.04.1 LTS) / x86_64  OK  OK  WARNINGS UNNEEDED, same version exists in internal repository
riesling1 Windows Server 2019 Standard / x64  OK  OK  WARNINGS 
Package 358/382HostnameOS / ArchINSTALLBUILDCHECK
TENxBrainData 1.11.0
Bioconductor Package Maintainer
Last Commit: e886adc
Last Changed Date: 2020-10-27 10:25:48 -0500
malbec2 Linux (Ubuntu 20.04.1 LTS) / x86_64  OK  OK  OK UNNEEDED, same version exists in internal repository
riesling1 Windows Server 2019 Standard / x64  OK  OK  OK 
Package 359/382HostnameOS / ArchINSTALLBUILDCHECK
TENxBUSData 1.5.0
Lambda Moses
Last Commit: a12e760
Last Changed Date: 2020-10-27 10:30:42 -0500
malbec2 Linux (Ubuntu 20.04.1 LTS) / x86_64  OK  OK  OK UNNEEDED, same version exists in internal repository
riesling1 Windows Server 2019 Standard / x64  OK  OK  OK 
Package 360/382HostnameOS / ArchINSTALLBUILDCHECK
TENxPBMCData 1.9.0
Stephanie Hicks
Last Commit: 92fcf6a
Last Changed Date: 2020-10-27 10:27:24 -0500
malbec2 Linux (Ubuntu 20.04.1 LTS) / x86_64  OK  OK  OK UNNEEDED, same version exists in internal repository
riesling1 Windows Server 2019 Standard / x64  OK  OK  OK 
Package 361/382HostnameOS / ArchINSTALLBUILDCHECK
timecoursedata 1.1.0
Nelle Varoquaux
Last Commit: b3b1c7e
Last Changed Date: 2020-10-27 10:32:23 -0500
malbec2 Linux (Ubuntu 20.04.1 LTS) / x86_64  OK  OK  OK UNNEEDED, same version exists in internal repository
riesling1 Windows Server 2019 Standard / x64  OK  OK  OK 
Package 362/382HostnameOS / ArchINSTALLBUILDCHECK
TimerQuant 1.21.0
Joseph Barry
Last Commit: 6d51284
Last Changed Date: 2020-10-27 10:14:37 -0500
malbec2 Linux (Ubuntu 20.04.1 LTS) / x86_64  OK  OK  OK UNNEEDED, same version exists in internal repository
riesling1 Windows Server 2019 Standard / x64  OK  OK  OK 
Package 363/382HostnameOS / ArchINSTALLBUILDCHECK
tinesath1cdf 1.29.0
Tine Casneuf
Last Commit: 9a3a827
Last Changed Date: 2020-10-27 09:48:31 -0500
malbec2 Linux (Ubuntu 20.04.1 LTS) / x86_64  OK  OK  WARNINGS UNNEEDED, same version exists in internal repository
riesling1 Windows Server 2019 Standard / x64  OK  OK  WARNINGS 
Package 364/382HostnameOS / ArchINSTALLBUILDCHECK
tinesath1probe 1.29.0
Tine Casneuf
Last Commit: 420f60b
Last Changed Date: 2020-10-27 09:48:34 -0500
malbec2 Linux (Ubuntu 20.04.1 LTS) / x86_64  OK  OK  WARNINGS UNNEEDED, same version exists in internal repository
riesling1 Windows Server 2019 Standard / x64  OK  OK  WARNINGS 
Package 365/382HostnameOS / ArchINSTALLBUILDCHECK
tissueTreg 1.11.0
Charles Imbusch
Last Commit: ff6d376
Last Changed Date: 2020-10-27 10:26:30 -0500
malbec2 Linux (Ubuntu 20.04.1 LTS) / x86_64  OK  OK  OK UNNEEDED, same version exists in internal repository
riesling1 Windows Server 2019 Standard / x64  OK  OK  OK 
Package 366/382HostnameOS / ArchINSTALLBUILDCHECK
TMExplorer 1.1.0
Erik Christensen
Last Commit: d55db3b
Last Changed Date: 2020-10-27 10:32:31 -0500
malbec2 Linux (Ubuntu 20.04.1 LTS) / x86_64  OK  OK  ERROR 
riesling1 Windows Server 2019 Standard / x64  OK  ERROR  skipped 
Package 367/382HostnameOS / ArchINSTALLBUILDCHECK
tofsimsData 1.19.0
Lorenz Gerber
Last Commit: 9c611e8
Last Changed Date: 2020-10-27 10:16:06 -0500
malbec2 Linux (Ubuntu 20.04.1 LTS) / x86_64  OK  OK  OK UNNEEDED, same version exists in internal repository
riesling1 Windows Server 2019 Standard / x64  OK  OK  OK 
Package 368/382HostnameOS / ArchINSTALLBUILDCHECK
topdownrdata 1.13.0
Sebastian Gibb
Last Commit: ed158f8
Last Changed Date: 2020-10-27 10:24:28 -0500
malbec2 Linux (Ubuntu 20.04.1 LTS) / x86_64  OK  OK  OK UNNEEDED, same version exists in internal repository
riesling1 Windows Server 2019 Standard / x64  OK  OK  OK 
Package 369/382HostnameOS / ArchINSTALLBUILDCHECK
tweeDEseqCountData 1.29.0
Juan R Gonzalez
Last Commit: 09d38cb
Last Changed Date: 2020-10-27 09:54:08 -0500
malbec2 Linux (Ubuntu 20.04.1 LTS) / x86_64  OK  OK  OK UNNEEDED, same version exists in internal repository
riesling1 Windows Server 2019 Standard / x64  OK  OK  OK 
Package 370/382HostnameOS / ArchINSTALLBUILDCHECK
tximportData 1.19.0
Michael Love
Last Commit: 17aff3c
Last Changed Date: 2020-10-27 10:17:11 -0500
malbec2 Linux (Ubuntu 20.04.1 LTS) / x86_64  OK  OK  OK UNNEEDED, same version exists in internal repository
riesling1 Windows Server 2019 Standard / x64  OK  OK  OK 
V
ABCDEFGHIJKLMNOPQRSTUVWXYZ
Package 371/382HostnameOS / ArchINSTALLBUILDCHECK
VariantToolsData 1.15.0
Michael Lawrence
Last Commit: b62c1ca
Last Changed Date: 2020-10-27 10:22:22 -0500
malbec2 Linux (Ubuntu 20.04.1 LTS) / x86_64  OK  OK  WARNINGS UNNEEDED, same version exists in internal repository
riesling1 Windows Server 2019 Standard / x64  OK  OK  WARNINGS 
Package 372/382HostnameOS / ArchINSTALLBUILDCHECK
vulcandata 1.13.0
Federico M. Giorgi
Last Commit: a487b20
Last Changed Date: 2020-10-27 10:23:27 -0500
malbec2 Linux (Ubuntu 20.04.1 LTS) / x86_64  OK  OK  OK UNNEEDED, same version exists in internal repository
riesling1 Windows Server 2019 Standard / x64  OK  OK  OK 
W
ABCDEFGHIJKLMNOPQRSTUVWXYZ
Package 373/382HostnameOS / ArchINSTALLBUILDCHECK
WES.1KG.WUGSC 1.23.0
Yuchao Jiang
Last Commit: 9dfca2c
Last Changed Date: 2020-10-27 10:11:05 -0500
malbec2 Linux (Ubuntu 20.04.1 LTS) / x86_64  OK  OK  OK UNNEEDED, same version exists in internal repository
riesling1 Windows Server 2019 Standard / x64  OK  OK  OK 
Package 374/382HostnameOS / ArchINSTALLBUILDCHECK
WGSmapp 1.3.0
Rujin Wang
Last Commit: 3434c62
Last Changed Date: 2020-10-27 10:31:08 -0500
malbec2 Linux (Ubuntu 20.04.1 LTS) / x86_64  OK  OK  OK UNNEEDED, same version exists in internal repository
riesling1 Windows Server 2019 Standard / x64  OK  OK  OK 
X
ABCDEFGHIJKLMNOPQRSTUVWXYZ
Package 375/382HostnameOS / ArchINSTALLBUILDCHECK
XhybCasneuf 1.29.0
Tineke Casneuf
Last Commit: e8fd05c
Last Changed Date: 2020-10-27 09:48:27 -0500
malbec2 Linux (Ubuntu 20.04.1 LTS) / x86_64  OK  OK  WARNINGS UNNEEDED, same version exists in internal repository
riesling1 Windows Server 2019 Standard / x64  OK  OK  WARNINGS 
Y
ABCDEFGHIJKLMNOPQRSTUVWXYZ
Package 376/382HostnameOS / ArchINSTALLBUILDCHECK
yeastCC 1.31.0
Sandrine Dudoit
Last Commit: 40ffaf7
Last Changed Date: 2020-10-27 09:47:12 -0500
malbec2 Linux (Ubuntu 20.04.1 LTS) / x86_64  OK  OK  WARNINGS UNNEEDED, same version exists in internal repository
riesling1 Windows Server 2019 Standard / x64  OK  OK  WARNINGS 
Package 377/382HostnameOS / ArchINSTALLBUILDCHECK
yeastExpData 0.37.0
R. Gentleman
Last Commit: f9103f1
Last Changed Date: 2020-10-27 09:47:15 -0500
malbec2 Linux (Ubuntu 20.04.1 LTS) / x86_64  OK  OK  WARNINGS UNNEEDED, same version exists in internal repository
riesling1 Windows Server 2019 Standard / x64  OK  OK  WARNINGS 
Package 378/382HostnameOS / ArchINSTALLBUILDCHECK
yeastGSData 0.29.0
R. Gentleman
Last Commit: 73a4849
Last Changed Date: 2020-10-27 09:48:41 -0500
malbec2 Linux (Ubuntu 20.04.1 LTS) / x86_64  OK  OK  WARNINGS UNNEEDED, same version exists in internal repository
riesling1 Windows Server 2019 Standard / x64  OK  OK  WARNINGS 
Package 379/382HostnameOS / ArchINSTALLBUILDCHECK
yeastNagalakshmi 1.27.0
Bioconductor Package Maintainer
Last Commit: e549493
Last Changed Date: 2020-10-27 09:53:36 -0500
malbec2 Linux (Ubuntu 20.04.1 LTS) / x86_64  OK  OK  OK UNNEEDED, same version exists in internal repository
riesling1 Windows Server 2019 Standard / x64  OK  OK  OK 
Package 380/382HostnameOS / ArchINSTALLBUILDCHECK
yeastRNASeq 0.29.0
J. Bullard
Last Commit: cc19a70
Last Changed Date: 2020-10-27 09:51:20 -0500
malbec2 Linux (Ubuntu 20.04.1 LTS) / x86_64  OK  OK  WARNINGS UNNEEDED, same version exists in internal repository
riesling1 Windows Server 2019 Standard / x64  OK  OK  WARNINGS 
Package 381/382HostnameOS / ArchINSTALLBUILDCHECK
yri1kgv 0.33.0
VJ Carey
Last Commit: f2e560c
Last Changed Date: 2020-10-27 10:07:19 -0500
malbec2 Linux (Ubuntu 20.04.1 LTS) / x86_64  ERROR  OK  ERROR 
riesling1 Windows Server 2019 Standard / x64  ERROR  OK  ERROR 
Z
ABCDEFGHIJKLMNOPQRSTUVWXYZ
Package 382/382HostnameOS / ArchINSTALLBUILDCHECK
zebrafishRNASeq 1.11.0
Davide Risso
Last Commit: c9e148a
Last Changed Date: 2020-10-27 10:09:13 -0500
malbec2 Linux (Ubuntu 20.04.1 LTS) / x86_64  OK  OK  OK UNNEEDED, same version exists in internal repository
riesling1 Windows Server 2019 Standard / x64  OK  OK  OK