Long Tests report for BioC 3.13

See here for how to subscribe to these builds.

This page was generated on 2021-04-17 17:30:05 -0400 (Sat, 17 Apr 2021).

Approx. Package Snapshot Date (git pull): 2021-04-17 09:00:02 -0400 (Sat, 17 Apr 2021)

HostnameOSArch (*)Platform label (**)R versionInstalled pkgs
rex3Linux (Ubuntu 20.04.2 LTS)x86_64x86_64-linux-gnuR Under development (unstable) (2021-02-10 r79979) -- "Unsuffered Consequences" 4097
Click on any hostname to see more info about the system (e.g. compilers)      (*) as reported by 'uname -p', except on Windows and Mac OS X      (**) as reported by 'gcc -v'

Package status is indicated by one of the following glyphs
  TIMEOUT  
CHECK of package took more than 360 minutes
  ERROR  
Bad DESCRIPTION file or CHECK of package produced errors
  WARNINGS  
CHECK of package produced warnings
  OK  
CHECK
  NA  
CHECK result is not available because of an anomaly in the Build System
Click on any glyph in the report below to access the detailed report.

QUICK STATSOS / ArchCHECK
rex3Linux (Ubuntu 20.04.2 LTS) / x86_64
0822
PackageMaintainerCHECK
1/12APAlyzer 1.5.5  (landing page)Ruijia Wang  ERROR  
2/12autonomics 0.99.21  (landing page)Aditya Bhagwat  ERROR  
3/12beachmat 2.7.7  (landing page)Aaron Lun  ERROR  
4/12cBioPortalData 2.3.18  (landing page)Marcel Ramos  WARNINGS  
5/12ChromSCape 1.1.1  (landing page)Pacome Prompsy  ERROR  
6/12DelayedMatrixStats 1.13.5  (landing page)Peter Hickey  ERROR  
7/12DropletUtils 1.11.12  (landing page)Aaron Lun  OK  
8/12GenomicFeatures 1.43.8  (landing page)Bioconductor Package Maintainer  WARNINGS  
9/12HDF5Array 1.19.12  (landing page)Hervé Pagès  ERROR  
10/12midasHLA 0.99.28  (landing page)Maciej Migdał  ERROR  
11/12rhdf5 2.35.2  (landing page)Mike Smith  OK  
12/12xcms 3.13.7  (landing page)Steffen Neumann  ERROR