BioC 2.6: Multiple platform build/check report

This page was generated on 2009-12-08 00:00:08 -0800 (Tue, 08 Dec 2009).

svn info

Bioconductor Changelog
Snapshot Date: 2009-12-07 11:32:00 -0800 (Mon, 07 Dec 2009)
URL: https://hedgehog.fhcrc.org/bioconductor/trunk/madman/Rpacks
Last Changed Rev: 43434 / Revision: 43434
Last Changed Date: 2009-12-07 09:57:18 -0800 (Mon, 07 Dec 2009)

Hostname OS Arch (*) Platform label (**) R version Installed pkgs
wilson1 Linux (openSUSE 11.1) x86_64 x86_64-suse-linux 2.11.0 Under development (unstable) (2009-11-10 r50388) 729
liverpool Windows Server 2003 R2 (32-bit) x64 mingw32 2.11.0 Under development (unstable) (2009-10-22 r50179) 695
pitt Mac OS X Tiger (10.4.11) i386 i686-apple-darwin8 2.11.0 Under development (unstable) (2009-11-30 r50622) 710
pelham Mac OS X Leopard (10.5.8) i386 i686-apple-darwin9 2.11.0 Under development (unstable) (2009-11-30 r50622) 716
Click on any hostname to see more info about the system (e.g. compilers)      (*) as reported by 'uname -p', except on Windows      (**) as reported by 'gcc -v'

Package STATUS - Package status is indicated by one of the following glyphs:
 -  TIMEOUT  BUILD, CHECK or BUILD BIN of package took more than 40 minutes
 -  ERROR  BUILD, CHECK or BUILD BIN of package returned an error
 -  WARNINGS  CHECK of package produced warnings
 -  OK  BUILD, CHECK or BUILD BIN of package was OK
 - skipped  CHECK or BUILD BIN of package was skipped because the BUILD step failed (or because something bad happened with the Build System itself)
Click on any glyph in the report below to see the status details (command output).
Use the check boxes to show only packages with the selected status types:  TIMEOUT   ERROR   WARNINGS   OK 

SUMMARYOS / ArchBUILDCHECKBUILD BIN
wilson1 Linux (openSUSE 11.1) / x86_64 
113340
0215323
liverpool Windows Server 2003 R2 (32-bit) / x64 
19337
0417316
01336
pitt Mac OS X Tiger (10.4.11) / i386 
116332
0422306
00332
pelham Mac OS X Leopard (10.5.8) / i386 
116332
0223307
00332
A [A] B  C  D  E  F  G  H  I  J  K  L  M  N  O  P  Q  R  S  T  U  V  W  X  Y  Z 
Package 1/354HostnameOS / ArchBUILDCHECKBUILD BIN
ABarray 1.15.0
Yongming Andrew Sun
Bioconductor Changelog
Last Changed Rev: 42686 / Revision: 43434
Last Changed Date: 2009-10-27 16:45:24 -0700
wilson1 Linux (openSUSE 11.1) / x86_64  OK  OK 
liverpool Windows Server 2003 R2 (32-bit) / x64  OK  OK  OK 
pitt Mac OS X Tiger (10.4.11) / i386  OK  OK  OK 
pelham Mac OS X Leopard (10.5.8) / i386  OK  OK  OK 
Package 2/354HostnameOS / ArchBUILDCHECKBUILD BIN
aCGH 1.23.0
Peter Dimitrov
Bioconductor Changelog
Last Changed Rev: 42686 / Revision: 43434
Last Changed Date: 2009-10-27 16:45:24 -0700
wilson1 Linux (openSUSE 11.1) / x86_64  OK  OK 
liverpool Windows Server 2003 R2 (32-bit) / x64  OK  OK  OK 
pitt Mac OS X Tiger (10.4.11) / i386  OK  OK  OK 
pelham Mac OS X Leopard (10.5.8) / i386  OK  OK  OK 
Package 3/354HostnameOS / ArchBUILDCHECKBUILD BIN
ACME 2.3.0
Sean Davis
Bioconductor Changelog
Last Changed Rev: 42686 / Revision: 43434
Last Changed Date: 2009-10-27 16:45:24 -0700
wilson1 Linux (openSUSE 11.1) / x86_64  OK  OK 
liverpool Windows Server 2003 R2 (32-bit) / x64  OK  OK  OK 
pitt Mac OS X Tiger (10.4.11) / i386  OK  OK  OK 
pelham Mac OS X Leopard (10.5.8) / i386  OK  OK  OK 
Package 4/354HostnameOS / ArchBUILDCHECKBUILD BIN
adSplit 1.17.0
Claudio Lottaz
Bioconductor Changelog
Last Changed Rev: 42686 / Revision: 43434
Last Changed Date: 2009-10-27 16:45:24 -0700
wilson1 Linux (openSUSE 11.1) / x86_64  OK  OK 
liverpool Windows Server 2003 R2 (32-bit) / x64  OK  OK  OK 
pitt Mac OS X Tiger (10.4.11) / i386  OK  OK  OK 
pelham Mac OS X Leopard (10.5.8) / i386  OK  OK  OK 
Package 5/354HostnameOS / ArchBUILDCHECKBUILD BIN
affxparser 1.19.0
Kasper Daniel Hansen
Bioconductor Changelog
Last Changed Rev: 42763 / Revision: 43434
Last Changed Date: 2009-10-30 20:29:30 -0700
wilson1 Linux (openSUSE 11.1) / x86_64  OK  OK 
liverpool Windows Server 2003 R2 (32-bit) / x64  OK  OK  OK 
pitt Mac OS X Tiger (10.4.11) / i386  OK  OK  OK 
pelham Mac OS X Leopard (10.5.8) / i386  OK  OK  OK 
Package 6/354HostnameOS / ArchBUILDCHECKBUILD BIN
affy 1.25.2
Rafael A. Irizarry
Bioconductor Changelog
Last Changed Rev: 42876 / Revision: 43434
Last Changed Date: 2009-11-09 13:04:33 -0800
wilson1 Linux (openSUSE 11.1) / x86_64  OK  OK 
liverpool Windows Server 2003 R2 (32-bit) / x64  OK  OK  OK 
pitt Mac OS X Tiger (10.4.11) / i386  OK  OK  OK 
pelham Mac OS X Leopard (10.5.8) / i386  OK  OK  OK 
Package 7/354HostnameOS / ArchBUILDCHECKBUILD BIN
affycomp 1.23.0
Rafael A. Irizarry
Bioconductor Changelog
Last Changed Rev: 42686 / Revision: 43434
Last Changed Date: 2009-10-27 16:45:24 -0700
wilson1 Linux (openSUSE 11.1) / x86_64  OK  OK 
liverpool Windows Server 2003 R2 (32-bit) / x64  OK  OK  OK 
pitt Mac OS X Tiger (10.4.11) / i386  OK  OK  OK 
pelham Mac OS X Leopard (10.5.8) / i386  OK  OK  OK 
Package 8/354HostnameOS / ArchBUILDCHECKBUILD BIN
AffyCompatible 1.7.0
Martin Morgan
Bioconductor Changelog
Last Changed Rev: 42686 / Revision: 43434
Last Changed Date: 2009-10-27 16:45:24 -0700
wilson1 Linux (openSUSE 11.1) / x86_64  OK  OK 
liverpool Windows Server 2003 R2 (32-bit) / x64  OK  OK  OK 
pitt Mac OS X Tiger (10.4.11) / i386  OK  OK  OK 
pelham Mac OS X Leopard (10.5.8) / i386  OK  OK  OK 
Package 9/354HostnameOS / ArchBUILDCHECKBUILD BIN
affyContam 1.5.0
V. Carey
Bioconductor Changelog
Last Changed Rev: 42686 / Revision: 43434
Last Changed Date: 2009-10-27 16:45:24 -0700
wilson1 Linux (openSUSE 11.1) / x86_64  OK  OK 
liverpool Windows Server 2003 R2 (32-bit) / x64  OK  OK  OK 
pitt Mac OS X Tiger (10.4.11) / i386  OK  OK  OK 
pelham Mac OS X Leopard (10.5.8) / i386  OK  OK  OK 
Package 10/354HostnameOS / ArchBUILDCHECKBUILD BIN
affycoretools 1.19.0
James W. MacDonald
Bioconductor Changelog
Last Changed Rev: 42686 / Revision: 43434
Last Changed Date: 2009-10-27 16:45:24 -0700
wilson1 Linux (openSUSE 11.1) / x86_64  OK  WARNINGS 
liverpool Windows Server 2003 R2 (32-bit) / x64  OK  WARNINGS  OK 
pitt Mac OS X Tiger (10.4.11) / i386  OK  WARNINGS  OK 
pelham Mac OS X Leopard (10.5.8) / i386  OK  WARNINGS  OK 
Package 11/354HostnameOS / ArchBUILDCHECKBUILD BIN
AffyExpress 1.13.0
Xuejun Arthur Li
Bioconductor Changelog
Last Changed Rev: 42686 / Revision: 43434
Last Changed Date: 2009-10-27 16:45:24 -0700
wilson1 Linux (openSUSE 11.1) / x86_64  OK  OK 
liverpool Windows Server 2003 R2 (32-bit) / x64  OK  OK  OK 
pitt Mac OS X Tiger (10.4.11) / i386  OK  OK  OK 
pelham Mac OS X Leopard (10.5.8) / i386  OK  OK  OK 
Package 12/354HostnameOS / ArchBUILDCHECKBUILD BIN
affyio 1.15.1
Benjamin Milo Bolstad
Bioconductor Changelog
Last Changed Rev: 42894 / Revision: 43434
Last Changed Date: 2009-11-10 06:17:57 -0800
wilson1 Linux (openSUSE 11.1) / x86_64  OK  OK 
liverpool Windows Server 2003 R2 (32-bit) / x64  OK  OK  OK 
pitt Mac OS X Tiger (10.4.11) / i386  OK  OK  OK 
pelham Mac OS X Leopard (10.5.8) / i386  OK  OK  OK 
Package 13/354HostnameOS / ArchBUILDCHECKBUILD BIN
affylmGUI 1.21.0
Keith Satterley
Bioconductor Changelog
Last Changed Rev: 42686 / Revision: 43434
Last Changed Date: 2009-10-27 16:45:24 -0700
wilson1 Linux (openSUSE 11.1) / x86_64  OK  OK 
liverpool Windows Server 2003 R2 (32-bit) / x64  OK  OK  OK 
pitt Mac OS X Tiger (10.4.11) / i386  OK  ERROR  OK 
pelham Mac OS X Leopard (10.5.8) / i386  OK  OK  OK 
Package 14/354HostnameOS / ArchBUILDCHECKBUILD BIN
affyPara 1.7.0
Markus Schmidberger
Bioconductor Changelog
Last Changed Rev: 43315 / Revision: 43434
Last Changed Date: 2009-12-01 03:10:04 -0800
wilson1 Linux (openSUSE 11.1) / x86_64  OK  WARNINGS 
liverpool Windows Server 2003 R2 (32-bit) / x64  OK  OK  OK 
pitt Mac OS X Tiger (10.4.11) / i386  OK  WARNINGS  OK 
pelham Mac OS X Leopard (10.5.8) / i386  OK  WARNINGS  OK 
Package 15/354HostnameOS / ArchBUILDCHECKBUILD BIN
affypdnn 1.21.0
Laurent Gautier
Bioconductor Changelog
Last Changed Rev: 42686 / Revision: 43434
Last Changed Date: 2009-10-27 16:45:24 -0700
wilson1 Linux (openSUSE 11.1) / x86_64  OK  OK 
liverpool Windows Server 2003 R2 (32-bit) / x64  OK  OK  OK 
pitt Mac OS X Tiger (10.4.11) / i386  OK  OK  OK 
pelham Mac OS X Leopard (10.5.8) / i386  OK  OK  OK 
Package 16/354HostnameOS / ArchBUILDCHECKBUILD BIN
affyPLM 1.23.0
Ben Bolstad
Bioconductor Changelog
Last Changed Rev: 42686 / Revision: 43434
Last Changed Date: 2009-10-27 16:45:24 -0700
wilson1 Linux (openSUSE 11.1) / x86_64  OK  WARNINGS 
liverpool Windows Server 2003 R2 (32-bit) / x64  OK  WARNINGS  OK 
pitt Mac OS X Tiger (10.4.11) / i386  OK  WARNINGS  OK 
pelham Mac OS X Leopard (10.5.8) / i386  OK  WARNINGS  OK 
Package 17/354HostnameOS / ArchBUILDCHECKBUILD BIN
affyQCReport 1.25.0
Craig Parman
Bioconductor Changelog
Last Changed Rev: 42686 / Revision: 43434
Last Changed Date: 2009-10-27 16:45:24 -0700
wilson1 Linux (openSUSE 11.1) / x86_64  OK  OK 
liverpool Windows Server 2003 R2 (32-bit) / x64  OK  OK  OK 
pitt Mac OS X Tiger (10.4.11) / i386  OK  OK  OK 
pelham Mac OS X Leopard (10.5.8) / i386  OK  OK  OK 
Package 18/354HostnameOS / ArchBUILDCHECKBUILD BIN
AffyTiling 1.5.1
Charles G. Danko
Bioconductor Changelog
Last Changed Rev: 42873 / Revision: 43434
Last Changed Date: 2009-11-09 10:13:18 -0800
wilson1 Linux (openSUSE 11.1) / x86_64  OK  OK 
liverpool Windows Server 2003 R2 (32-bit) / x64  OK  OK  OK 
pitt Mac OS X Tiger (10.4.11) / i386  OK  OK  OK 
pelham Mac OS X Leopard (10.5.8) / i386  OK  OK  OK 
Package 19/354HostnameOS / ArchBUILDCHECKBUILD BIN
Agi4x44PreProcess 1.7.0
Pedro Lopez-Romero
Bioconductor Changelog
Last Changed Rev: 42686 / Revision: 43434
Last Changed Date: 2009-10-27 16:45:24 -0700
wilson1 Linux (openSUSE 11.1) / x86_64  OK  OK 
liverpool Windows Server 2003 R2 (32-bit) / x64  OK  OK  OK 
pitt Mac OS X Tiger (10.4.11) / i386  OK  OK  OK 
pelham Mac OS X Leopard (10.5.8) / i386  OK  OK  OK 
Package 20/354HostnameOS / ArchBUILDCHECKBUILD BIN
AgiMicroRna 1.1.0
Pedro Lopez-Romero
Bioconductor Changelog
Last Changed Rev: 42686 / Revision: 43434
Last Changed Date: 2009-10-27 16:45:24 -0700
wilson1 Linux (openSUSE 11.1) / x86_64  OK  OK 
liverpool Windows Server 2003 R2 (32-bit) / x64  OK  OK  OK 
pitt Mac OS X Tiger (10.4.11) / i386  OK  OK  OK 
pelham Mac OS X Leopard (10.5.8) / i386  OK  OK  OK 
Package 21/354HostnameOS / ArchBUILDCHECKBUILD BIN
altcdfenvs 2.9.0
Laurent Gautier
Bioconductor Changelog
Last Changed Rev: 42686 / Revision: 43434
Last Changed Date: 2009-10-27 16:45:24 -0700
wilson1 Linux (openSUSE 11.1) / x86_64  OK  OK 
liverpool Windows Server 2003 R2 (32-bit) / x64  OK  OK  OK 
pitt Mac OS X Tiger (10.4.11) / i386  OK  OK  OK 
pelham Mac OS X Leopard (10.5.8) / i386  OK  OK  OK 
Package 22/354HostnameOS / ArchBUILDCHECKBUILD BIN
annaffy 1.19.0
Colin A. Smith
Bioconductor Changelog
Last Changed Rev: 42686 / Revision: 43434
Last Changed Date: 2009-10-27 16:45:24 -0700
wilson1 Linux (openSUSE 11.1) / x86_64  OK  OK 
liverpool Windows Server 2003 R2 (32-bit) / x64  OK  OK  OK 
pitt Mac OS X Tiger (10.4.11) / i386  OK  OK  OK 
pelham Mac OS X Leopard (10.5.8) / i386  OK  OK  OK 
Package 23/354HostnameOS / ArchBUILDCHECKBUILD BIN
annotate 1.25.0
Biocore Team c/o BioC user list
Bioconductor Changelog
Last Changed Rev: 42686 / Revision: 43434
Last Changed Date: 2009-10-27 16:45:24 -0700
wilson1 Linux (openSUSE 11.1) / x86_64  OK  OK 
liverpool Windows Server 2003 R2 (32-bit) / x64  OK  OK  OK 
pitt Mac OS X Tiger (10.4.11) / i386  OK  OK  OK 
pelham Mac OS X Leopard (10.5.8) / i386  OK  OK  OK 
Package 24/354HostnameOS / ArchBUILDCHECKBUILD BIN
AnnotationDbi 1.9.2
Biocore Team c/o BioC user list
Bioconductor Changelog
Last Changed Rev: 42875 / Revision: 43434
Last Changed Date: 2009-11-09 12:14:21 -0800
wilson1 Linux (openSUSE 11.1) / x86_64  ERROR  skipped 
liverpool Windows Server 2003 R2 (32-bit) / x64  ERROR  skipped  skipped 
pitt Mac OS X Tiger (10.4.11) / i386  ERROR  skipped  skipped 
pelham Mac OS X Leopard (10.5.8) / i386  ERROR  skipped  skipped 
Package 25/354HostnameOS / ArchBUILDCHECKBUILD BIN
annotationTools 1.19.0
Alexandre Kuhn
Bioconductor Changelog
Last Changed Rev: 42686 / Revision: 43434
Last Changed Date: 2009-10-27 16:45:24 -0700
wilson1 Linux (openSUSE 11.1) / x86_64  OK  OK 
liverpool Windows Server 2003 R2 (32-bit) / x64  OK  OK  OK 
pitt Mac OS X Tiger (10.4.11) / i386  OK  OK  OK 
pelham Mac OS X Leopard (10.5.8) / i386  OK  OK  OK 
Package 26/354HostnameOS / ArchBUILDCHECKBUILD BIN
apComplex 2.13.0
Denise Scholtens
Bioconductor Changelog
Last Changed Rev: 42686 / Revision: 43434
Last Changed Date: 2009-10-27 16:45:24 -0700
wilson1 Linux (openSUSE 11.1) / x86_64  OK  OK 
liverpool Windows Server 2003 R2 (32-bit) / x64  OK  OK  OK 
pitt Mac OS X Tiger (10.4.11) / i386  OK  OK  OK 
pelham Mac OS X Leopard (10.5.8) / i386  OK  OK  OK 
Package 27/354HostnameOS / ArchBUILDCHECKBUILD BIN
aroma.light 1.15.1
Henrik Bengtsson
Bioconductor Changelog
Last Changed Rev: 42779 / Revision: 43434
Last Changed Date: 2009-11-01 20:31:57 -0800
wilson1 Linux (openSUSE 11.1) / x86_64  OK  OK 
liverpool Windows Server 2003 R2 (32-bit) / x64  OK  OK  OK 
pitt Mac OS X Tiger (10.4.11) / i386  OK  OK  OK 
pelham Mac OS X Leopard (10.5.8) / i386  OK  OK  OK 
Package 28/354HostnameOS / ArchBUILDCHECKBUILD BIN
ArrayExpress 1.7.5
Audrey Kauffmann
Bioconductor Changelog
Last Changed Rev: 43295 / Revision: 43434
Last Changed Date: 2009-11-30 03:49:00 -0800
wilson1 Linux (openSUSE 11.1) / x86_64  OK  OK 
liverpool Windows Server 2003 R2 (32-bit) / x64  OK  OK  OK 
pitt Mac OS X Tiger (10.4.11) / i386  OK  OK  OK 
pelham Mac OS X Leopard (10.5.8) / i386  OK  OK  OK 
Package 29/354HostnameOS / ArchBUILDCHECKBUILD BIN
arrayMvout 1.5.0
V. Carey
Bioconductor Changelog
Last Changed Rev: 42686 / Revision: 43434
Last Changed Date: 2009-10-27 16:45:24 -0700
wilson1 Linux (openSUSE 11.1) / x86_64  OK  OK 
liverpool Windows Server 2003 R2 (32-bit) / x64  OK  OK  OK 
pitt Mac OS X Tiger (10.4.11) / i386  OK  OK  OK 
pelham Mac OS X Leopard (10.5.8) / i386  OK  OK  OK 
Package 30/354HostnameOS / ArchBUILDCHECKBUILD BIN
arrayQuality 1.25.0
Agnes Paquet
Bioconductor Changelog
Last Changed Rev: 42686 / Revision: 43434
Last Changed Date: 2009-10-27 16:45:24 -0700
wilson1 Linux (openSUSE 11.1) / x86_64  OK  OK 
liverpool Windows Server 2003 R2 (32-bit) / x64  OK  OK  OK 
pitt Mac OS X Tiger (10.4.11) / i386  OK  WARNINGS  OK 
pelham Mac OS X Leopard (10.5.8) / i386  OK  WARNINGS  OK 
Package 31/354HostnameOS / ArchBUILDCHECKBUILD BIN
arrayQualityMetrics 2.5.9
Audrey Kauffmann
Bioconductor Changelog
Last Changed Rev: 43396 / Revision: 43434
Last Changed Date: 2009-12-04 12:32:08 -0800
wilson1 Linux (openSUSE 11.1) / x86_64  OK  OK 
liverpool Windows Server 2003 R2 (32-bit) / x64  OK  OK  OK 
pitt Mac OS X Tiger (10.4.11) / i386  OK  OK  OK 
pelham Mac OS X Leopard (10.5.8) / i386  OK  OK  OK 
Package 32/354HostnameOS / ArchBUILDCHECKBUILD BIN
ArrayTools 1.7.0
Arthur Li
Bioconductor Changelog
Last Changed Rev: 42686 / Revision: 43434
Last Changed Date: 2009-10-27 16:45:24 -0700
wilson1 Linux (openSUSE 11.1) / x86_64  OK  OK 
liverpool Windows Server 2003 R2 (32-bit) / x64  OK  OK  OK 
pitt Mac OS X Tiger (10.4.11) / i386  OK  OK  OK 
pelham Mac OS X Leopard (10.5.8) / i386  OK  OK  OK 
B  A [B] C  D  E  F  G  H  I  J  K  L  M  N  O  P  Q  R  S  T  U  V  W  X  Y  Z 
Package 33/354HostnameOS / ArchBUILDCHECKBUILD BIN
BAC 1.7.0
Raphael Gottardo
Bioconductor Changelog
Last Changed Rev: 42686 / Revision: 43434
Last Changed Date: 2009-10-27 16:45:24 -0700
wilson1 Linux (openSUSE 11.1) / x86_64  OK  OK 
liverpool Windows Server 2003 R2 (32-bit) / x64  OK  OK  OK 
pitt Mac OS X Tiger (10.4.11) / i386  OK  OK  OK 
pelham Mac OS X Leopard (10.5.8) / i386  OK  OK  OK 
Package 34/354HostnameOS / ArchBUILDCHECKBUILD BIN
baySeq 1.1.0
Thomas J. Hardcastle
Bioconductor Changelog
Last Changed Rev: 42686 / Revision: 43434
Last Changed Date: 2009-10-27 16:45:24 -0700
wilson1 Linux (openSUSE 11.1) / x86_64  OK  OK 
liverpool Windows Server 2003 R2 (32-bit) / x64  OK  WARNINGS  OK 
pitt Mac OS X Tiger (10.4.11) / i386  OK  OK  OK 
pelham Mac OS X Leopard (10.5.8) / i386  OK  OK  OK 
Package 35/354HostnameOS / ArchBUILDCHECKBUILD BIN
BCRANK 1.9.0
Adam Ameur
Bioconductor Changelog
Last Changed Rev: 42686 / Revision: 43434
Last Changed Date: 2009-10-27 16:45:24 -0700
wilson1 Linux (openSUSE 11.1) / x86_64  OK  OK 
liverpool Windows Server 2003 R2 (32-bit) / x64  OK  OK  OK 
pitt Mac OS X Tiger (10.4.11) / i386  OK  OK  OK 
pelham Mac OS X Leopard (10.5.8) / i386  OK  OK  OK 
Package 36/354HostnameOS / ArchBUILDCHECKBUILD BIN
beadarray 1.15.1
Mark Dunning
Bioconductor Changelog
Last Changed Rev: 43116 / Revision: 43434
Last Changed Date: 2009-11-18 06:44:01 -0800
wilson1 Linux (openSUSE 11.1) / x86_64  OK  OK 
liverpool Windows Server 2003 R2 (32-bit) / x64  OK  OK  OK 
pitt Mac OS X Tiger (10.4.11) / i386  OK  OK  OK 
pelham Mac OS X Leopard (10.5.8) / i386  OK  OK  OK 
Package 37/354HostnameOS / ArchBUILDCHECKBUILD BIN
beadarraySNP 1.13.0
Jan Oosting
Bioconductor Changelog
Last Changed Rev: 42686 / Revision: 43434
Last Changed Date: 2009-10-27 16:45:24 -0700
wilson1 Linux (openSUSE 11.1) / x86_64  OK  OK 
liverpool Windows Server 2003 R2 (32-bit) / x64  OK  OK  OK 
pitt Mac OS X Tiger (10.4.11) / i386  OK  OK  OK 
pelham Mac OS X Leopard (10.5.8) / i386  OK  OK  OK 
Package 38/354HostnameOS / ArchBUILDCHECKBUILD BIN
betr 1.3.0
Martin Aryee
Bioconductor Changelog
Last Changed Rev: 42686 / Revision: 43434
Last Changed Date: 2009-10-27 16:45:24 -0700
wilson1 Linux (openSUSE 11.1) / x86_64  OK  OK 
liverpool Windows Server 2003 R2 (32-bit) / x64  OK  OK  OK 
pitt Mac OS X Tiger (10.4.11) / i386  OK  OK  OK 
pelham Mac OS X Leopard (10.5.8) / i386  OK  OK  OK 
Package 39/354HostnameOS / ArchBUILDCHECKBUILD BIN
bgafun 1.9.0
Iain Wallace
Bioconductor Changelog
Last Changed Rev: 42686 / Revision: 43434
Last Changed Date: 2009-10-27 16:45:24 -0700
wilson1 Linux (openSUSE 11.1) / x86_64  OK  OK 
liverpool Windows Server 2003 R2 (32-bit) / x64  OK  OK  OK 
pitt Mac OS X Tiger (10.4.11) / i386  OK  OK  OK 
pelham Mac OS X Leopard (10.5.8) / i386  OK  OK  OK 
Package 40/354HostnameOS / ArchBUILDCHECKBUILD BIN
BGmix 1.7.0
Alex Lewin
Bioconductor Changelog
Last Changed Rev: 42686 / Revision: 43434
Last Changed Date: 2009-10-27 16:45:24 -0700
wilson1 Linux (openSUSE 11.1) / x86_64  OK  OK 
liverpool Windows Server 2003 R2 (32-bit) / x64  OK  OK  OK 
pitt Mac OS X Tiger (10.4.11) / i386  OK  OK  OK 
pelham Mac OS X Leopard (10.5.8) / i386  OK  OK  OK 
Package 41/354HostnameOS / ArchBUILDCHECKBUILD BIN
bgx 1.11.0
Ernest Turro
Bioconductor Changelog
Last Changed Rev: 42686 / Revision: 43434
Last Changed Date: 2009-10-27 16:45:24 -0700
wilson1 Linux (openSUSE 11.1) / x86_64  OK  OK 
liverpool Windows Server 2003 R2 (32-bit) / x64  OK  OK  OK 
pitt Mac OS X Tiger (10.4.11) / i386  OK  OK  OK 
pelham Mac OS X Leopard (10.5.8) / i386  OK  OK  OK 
Package 42/354HostnameOS / ArchBUILDCHECKBUILD BIN
BicARE 1.5.0
Pierre Gestraud
Bioconductor Changelog
Last Changed Rev: 42686 / Revision: 43434
Last Changed Date: 2009-10-27 16:45:24 -0700
wilson1 Linux (openSUSE 11.1) / x86_64  OK  OK 
liverpool Windows Server 2003 R2 (32-bit) / x64  OK  OK  OK 
pitt Mac OS X Tiger (10.4.11) / i386  OK  OK  OK 
pelham Mac OS X Leopard (10.5.8) / i386  OK  OK  OK 
Package 43/354HostnameOS / ArchBUILDCHECKBUILD BIN
Biobase 2.7.2
Biocore Team c/o BioC user list
Bioconductor Changelog
Last Changed Rev: 43409 / Revision: 43434
Last Changed Date: 2009-12-05 06:47:25 -0800
wilson1 Linux (openSUSE 11.1) / x86_64  OK  OK 
liverpool Windows Server 2003 R2 (32-bit) / x64  OK  OK  OK 
pitt Mac OS X Tiger (10.4.11) / i386  OK  OK  OK 
pelham Mac OS X Leopard (10.5.8) / i386  OK  OK  OK 
Package 44/354HostnameOS / ArchBUILDCHECKBUILD BIN
BiocCaseStudies 1.9.0
Biocore Team c/o BioC user list
Bioconductor Changelog
Last Changed Rev: 42686 / Revision: 43434
Last Changed Date: 2009-10-27 16:45:24 -0700
wilson1 Linux (openSUSE 11.1) / x86_64  OK  OK 
liverpool Windows Server 2003 R2 (32-bit) / x64  OK  OK  OK 
pitt Mac OS X Tiger (10.4.11) / i386  OK  OK  OK 
pelham Mac OS X Leopard (10.5.8) / i386  OK  OK  OK 
Package 45/354HostnameOS / ArchBUILDCHECKBUILD BIN
biocDatasets 1.3.0
L. Gautier
Bioconductor Changelog
Last Changed Rev: 42686 / Revision: 43434
Last Changed Date: 2009-10-27 16:45:24 -0700
wilson1 Linux (openSUSE 11.1) / x86_64  OK  OK 
liverpool Windows Server 2003 R2 (32-bit) / x64  OK  OK  OK 
pitt Mac OS X Tiger (10.4.11) / i386  OK  OK  OK 
pelham Mac OS X Leopard (10.5.8) / i386  OK  OK  OK 
Package 46/354HostnameOS / ArchBUILDCHECKBUILD BIN
biocGraph 1.9.0
Florian Hahne
Bioconductor Changelog
Last Changed Rev: 42686 / Revision: 43434
Last Changed Date: 2009-10-27 16:45:24 -0700
wilson1 Linux (openSUSE 11.1) / x86_64  OK  OK 
liverpool Windows Server 2003 R2 (32-bit) / x64  OK  OK  OK 
pitt Mac OS X Tiger (10.4.11) / i386  OK  OK  OK 
pelham Mac OS X Leopard (10.5.8) / i386  OK  OK  OK 
Package 47/354HostnameOS / ArchBUILDCHECKBUILD BIN
biocViews 1.15.1
Biocore Team c/o BioC user list
Bioconductor Changelog
Last Changed Rev: 42990 / Revision: 43434
Last Changed Date: 2009-11-13 15:02:08 -0800
wilson1 Linux (openSUSE 11.1) / x86_64  OK  OK 
liverpool Windows Server 2003 R2 (32-bit) / x64  OK  OK  OK 
pitt Mac OS X Tiger (10.4.11) / i386  OK  OK  OK 
pelham Mac OS X Leopard (10.5.8) / i386  OK  OK  OK 
Package 48/354HostnameOS / ArchBUILDCHECKBUILD BIN
bioDist 1.19.0
Biocore Team c/o BioC user list
Bioconductor Changelog
Last Changed Rev: 42686 / Revision: 43434
Last Changed Date: 2009-10-27 16:45:24 -0700
wilson1 Linux (openSUSE 11.1) / x86_64  OK  OK 
liverpool Windows Server 2003 R2 (32-bit) / x64  OK  OK  OK 
pitt Mac OS X Tiger (10.4.11) / i386  OK  OK  OK 
pelham Mac OS X Leopard (10.5.8) / i386  OK  OK  OK 
Package 49/354HostnameOS / ArchBUILDCHECKBUILD BIN
biomaRt 2.3.0
Steffen Durinck
Bioconductor Changelog
Last Changed Rev: 42686 / Revision: 43434
Last Changed Date: 2009-10-27 16:45:24 -0700
wilson1 Linux (openSUSE 11.1) / x86_64  OK  OK 
liverpool Windows Server 2003 R2 (32-bit) / x64  OK  OK  OK 
pitt Mac OS X Tiger (10.4.11) / i386  OK  OK  OK 
pelham Mac OS X Leopard (10.5.8) / i386  OK  OK  OK 
Package 50/354HostnameOS / ArchBUILDCHECKBUILD BIN
BioMVCClass 1.15.0
Elizabeth Whalen
Bioconductor Changelog
Last Changed Rev: 42686 / Revision: 43434
Last Changed Date: 2009-10-27 16:45:24 -0700
wilson1 Linux (openSUSE 11.1) / x86_64  OK  OK 
liverpool Windows Server 2003 R2 (32-bit) / x64  OK  OK  OK 
pitt Mac OS X Tiger (10.4.11) / i386  OK  OK  OK 
pelham Mac OS X Leopard (10.5.8) / i386  OK  OK  OK 
Package 51/354HostnameOS / ArchBUILDCHECKBUILD BIN
BioSeqClass 1.1.0
Li Hong
Bioconductor Changelog
Last Changed Rev: 42686 / Revision: 43434
Last Changed Date: 2009-10-27 16:45:24 -0700
wilson1 Linux (openSUSE 11.1) / x86_64  OK  OK 
liverpool Windows Server 2003 R2 (32-bit) / x64  OK  OK  OK 
pitt Mac OS X Tiger (10.4.11) / i386  OK  OK  OK 
pelham Mac OS X Leopard (10.5.8) / i386  OK  OK  OK 
Package 52/354HostnameOS / ArchBUILDCHECKBUILD BIN
Biostrings 2.15.9
H. Pages
Bioconductor Changelog
Last Changed Rev: 43249 / Revision: 43434
Last Changed Date: 2009-11-24 22:25:48 -0800
wilson1 Linux (openSUSE 11.1) / x86_64  OK  OK 
liverpool Windows Server 2003 R2 (32-bit) / x64  OK  WARNINGS  OK 
pitt Mac OS X Tiger (10.4.11) / i386  OK  OK  OK 
pelham Mac OS X Leopard (10.5.8) / i386  OK  WARNINGS  OK 
Package 53/354HostnameOS / ArchBUILDCHECKBUILD BIN
bridge 1.11.0
Raphael Gottardo
Bioconductor Changelog
Last Changed Rev: 42686 / Revision: 43434
Last Changed Date: 2009-10-27 16:45:24 -0700
wilson1 Linux (openSUSE 11.1) / x86_64  OK  OK 
liverpool Windows Server 2003 R2 (32-bit) / x64  OK  OK  OK 
pitt Mac OS X Tiger (10.4.11) / i386  OK  OK  OK 
pelham Mac OS X Leopard (10.5.8) / i386  OK  OK  OK 
Package 54/354HostnameOS / ArchBUILDCHECKBUILD BIN
BSgenome 1.15.3
H. Pages
Bioconductor Changelog
Last Changed Rev: 43374 / Revision: 43434
Last Changed Date: 2009-12-03 13:56:41 -0800
wilson1 Linux (openSUSE 11.1) / x86_64  OK  OK 
liverpool Windows Server 2003 R2 (32-bit) / x64  OK  OK  OK 
pitt Mac OS X Tiger (10.4.11) / i386  OK  OK  OK 
pelham Mac OS X Leopard (10.5.8) / i386  OK  OK  OK 
Package 55/354HostnameOS / ArchBUILDCHECKBUILD BIN
BufferedMatrix 1.11.0
Benjamin Milo Bolstad
Bioconductor Changelog
Last Changed Rev: 42686 / Revision: 43434
Last Changed Date: 2009-10-27 16:45:24 -0700
wilson1 Linux (openSUSE 11.1) / x86_64  OK  OK 
liverpool Windows Server 2003 R2 (32-bit) / x64  OK  OK  OK 
pitt Mac OS X Tiger (10.4.11) / i386  OK  OK  OK 
pelham Mac OS X Leopard (10.5.8) / i386  OK  OK  OK 
Package 56/354HostnameOS / ArchBUILDCHECKBUILD BIN
BufferedMatrixMethods 1.11.1
B. M. Bolstad
Bioconductor Changelog
Last Changed Rev: 43137 / Revision: 43434
Last Changed Date: 2009-11-18 18:29:35 -0800
wilson1 Linux (openSUSE 11.1) / x86_64  OK  OK 
liverpool Windows Server 2003 R2 (32-bit) / x64  OK  OK  OK 
pitt Mac OS X Tiger (10.4.11) / i386  OK  OK  OK 
pelham Mac OS X Leopard (10.5.8) / i386  OK  OK  OK 
Package 57/354HostnameOS / ArchBUILDCHECKBUILD BIN
BUS 1.0.2
Yuanhua Liu
Bioconductor Changelog
Last Changed Rev: 42819 / Revision: 43434
Last Changed Date: 2009-11-04 16:42:53 -0800
wilson1 Linux (openSUSE 11.1) / x86_64  ERROR  skipped 
liverpool Windows Server 2003 R2 (32-bit) / x64  ERROR  skipped  skipped 
pitt Mac OS X Tiger (10.4.11) / i386  ERROR  skipped  skipped 
pelham Mac OS X Leopard (10.5.8) / i386  ERROR  skipped  skipped 
C  A  B [C] D  E  F  G  H  I  J  K  L  M  N  O  P  Q  R  S  T  U  V  W  X  Y  Z 
Package 58/354HostnameOS / ArchBUILDCHECKBUILD BIN
CALIB 1.13.0
Hui Zhao
Bioconductor Changelog
Last Changed Rev: 42686 / Revision: 43434
Last Changed Date: 2009-10-27 16:45:24 -0700
wilson1 Linux (openSUSE 11.1) / x86_64  OK  OK 
liverpool Windows Server 2003 R2 (32-bit) / x64  OK  OK  OK 
pitt Mac OS X Tiger (10.4.11) / i386  OK  OK  OK 
pelham Mac OS X Leopard (10.5.8) / i386  OK  OK  OK 
Package 59/354HostnameOS / ArchBUILDCHECKBUILD BIN
CAMERA 1.3.3
Carsten Kuhl
Bioconductor Changelog
Last Changed Rev: 43218 / Revision: 43434
Last Changed Date: 2009-11-23 04:26:31 -0800
wilson1 Linux (openSUSE 11.1) / x86_64  OK  OK 
liverpool Windows Server 2003 R2 (32-bit) / x64  OK  OK  OK 
pitt Mac OS X Tiger (10.4.11) / i386  OK  OK  OK 
pelham Mac OS X Leopard (10.5.8) / i386  OK  OK  OK 
Package 60/354HostnameOS / ArchBUILDCHECKBUILD BIN
Category 2.13.0
Robert Gentleman
Bioconductor Changelog
Last Changed Rev: 42686 / Revision: 43434
Last Changed Date: 2009-10-27 16:45:24 -0700
wilson1 Linux (openSUSE 11.1) / x86_64  OK  OK 
liverpool Windows Server 2003 R2 (32-bit) / x64  OK  OK  OK 
pitt Mac OS X Tiger (10.4.11) / i386  OK  OK  OK 
pelham Mac OS X Leopard (10.5.8) / i386  OK  OK  OK 
Package 61/354HostnameOS / ArchBUILDCHECKBUILD BIN
cellHTS 1.17.0
Ligia Bras
Bioconductor Changelog
Last Changed Rev: 42686 / Revision: 43434
Last Changed Date: 2009-10-27 16:45:24 -0700
wilson1 Linux (openSUSE 11.1) / x86_64  OK  OK 
liverpool Windows Server 2003 R2 (32-bit) / x64  OK  OK  OK 
pitt Mac OS X Tiger (10.4.11) / i386  OK  OK  OK 
pelham Mac OS X Leopard (10.5.8) / i386  OK  OK  OK 
Package 62/354HostnameOS / ArchBUILDCHECKBUILD BIN
cellHTS2 2.11.2
Florian Hahne
Bioconductor Changelog
Last Changed Rev: 43206 / Revision: 43434
Last Changed Date: 2009-11-22 07:54:41 -0800
wilson1 Linux (openSUSE 11.1) / x86_64  OK  OK 
liverpool Windows Server 2003 R2 (32-bit) / x64  OK  OK  OK 
pitt Mac OS X Tiger (10.4.11) / i386  OK  OK  OK 
pelham Mac OS X Leopard (10.5.8) / i386  OK  OK  OK 
Package 63/354HostnameOS / ArchBUILDCHECKBUILD BIN
CGHbase 1.5.0
Sjoerd Vosse
Bioconductor Changelog
Last Changed Rev: 42686 / Revision: 43434
Last Changed Date: 2009-10-27 16:45:24 -0700
wilson1 Linux (openSUSE 11.1) / x86_64  OK  OK 
liverpool Windows Server 2003 R2 (32-bit) / x64  OK  OK  OK 
pitt Mac OS X Tiger (10.4.11) / i386  OK  OK  OK 
pelham Mac OS X Leopard (10.5.8) / i386  OK  OK  OK 
Package 64/354HostnameOS / ArchBUILDCHECKBUILD BIN
CGHcall 2.7.0
Mark van de Wiel
Bioconductor Changelog
Last Changed Rev: 42686 / Revision: 43434
Last Changed Date: 2009-10-27 16:45:24 -0700
wilson1 Linux (openSUSE 11.1) / x86_64  OK  OK 
liverpool Windows Server 2003 R2 (32-bit) / x64  OK  OK  OK 
pitt Mac OS X Tiger (10.4.11) / i386  OK  OK  OK 
pelham Mac OS X Leopard (10.5.8) / i386  OK  OK  OK 
Package 65/354HostnameOS / ArchBUILDCHECKBUILD BIN
cghMCR 1.5.0
J. Zhang
Bioconductor Changelog
Last Changed Rev: 42686 / Revision: 43434
Last Changed Date: 2009-10-27 16:45:24 -0700
wilson1 Linux (openSUSE 11.1) / x86_64  OK  OK 
liverpool Windows Server 2003 R2 (32-bit) / x64  OK  OK  OK 
pitt Mac OS X Tiger (10.4.11) / i386  OK  OK  OK 
pelham Mac OS X Leopard (10.5.8) / i386  OK  OK  OK 
Package 66/354HostnameOS / ArchBUILDCHECKBUILD BIN
CGHnormaliter 1.1.0
Bart P.P. van Houte
Bioconductor Changelog
Last Changed Rev: 42686 / Revision: 43434
Last Changed Date: 2009-10-27 16:45:24 -0700
wilson1 Linux (openSUSE 11.1) / x86_64  OK  OK 
liverpool Windows Server 2003 R2 (32-bit) / x64  OK  OK  OK 
pitt Mac OS X Tiger (10.4.11) / i386  OK  OK  OK 
pelham Mac OS X Leopard (10.5.8) / i386  OK  OK  OK 
Package 67/354HostnameOS / ArchBUILDCHECKBUILD BIN
CGHregions 1.5.0
Mark van de Wiel
Bioconductor Changelog
Last Changed Rev: 42686 / Revision: 43434
Last Changed Date: 2009-10-27 16:45:24 -0700
wilson1 Linux (openSUSE 11.1) / x86_64  OK  OK 
liverpool Windows Server 2003 R2 (32-bit) / x64  OK  OK  OK 
pitt Mac OS X Tiger (10.4.11) / i386  OK  OK  OK 
pelham Mac OS X Leopard (10.5.8) / i386  OK  OK  OK 
Package 68/354HostnameOS / ArchBUILDCHECKBUILD BIN
ChemmineR 1.7.1
Y. Eddie Cao
Bioconductor Changelog
Last Changed Rev: 42754 / Revision: 43434
Last Changed Date: 2009-10-30 15:31:33 -0700
wilson1 Linux (openSUSE 11.1) / x86_64  OK  OK 
liverpool Windows Server 2003 R2 (32-bit) / x64  OK  OK  OK 
pitt Mac OS X Tiger (10.4.11) / i386  OK  OK  OK 
pelham Mac OS X Leopard (10.5.8) / i386  OK  OK  OK 
Package 69/354HostnameOS / ArchBUILDCHECKBUILD BIN
ChIPpeakAnno 1.3.1
Lihua Julie Zhu
Bioconductor Changelog
Last Changed Rev: 43336 / Revision: 43434
Last Changed Date: 2009-12-01 14:46:45 -0800
wilson1 Linux (openSUSE 11.1) / x86_64  ERROR  skipped 
liverpool Windows Server 2003 R2 (32-bit) / x64  OK  OK  OK 
pitt Mac OS X Tiger (10.4.11) / i386  ERROR  skipped  skipped 
pelham Mac OS X Leopard (10.5.8) / i386  ERROR  skipped  skipped 
Package 70/354HostnameOS / ArchBUILDCHECKBUILD BIN
chipseq 0.3.1
Biocore Team c/o BioC user list
Bioconductor Changelog
Last Changed Rev: 43193 / Revision: 43434
Last Changed Date: 2009-11-21 09:04:34 -0800
wilson1 Linux (openSUSE 11.1) / x86_64  OK  OK 
liverpool Windows Server 2003 R2 (32-bit) / x64  OK  OK  OK 
pitt Mac OS X Tiger (10.4.11) / i386  OK  OK  OK 
pelham Mac OS X Leopard (10.5.8) / i386  OK  OK  OK 
Package 71/354HostnameOS / ArchBUILDCHECKBUILD BIN
ChIPseqR 1.1.0
Peter Humburg
Bioconductor Changelog
Last Changed Rev: 42686 / Revision: 43434
Last Changed Date: 2009-10-27 16:45:24 -0700
wilson1 Linux (openSUSE 11.1) / x86_64  OK  OK 
liverpool Windows Server 2003 R2 (32-bit) / x64  OK  OK  OK 
pitt Mac OS X Tiger (10.4.11) / i386  OK  OK  OK 
pelham Mac OS X Leopard (10.5.8) / i386  OK  OK  OK 
Package 72/354HostnameOS / ArchBUILDCHECKBUILD BIN
ChIPsim 1.1.1
Peter Humburg
Bioconductor Changelog
Last Changed Rev: 42796 / Revision: 43434
Last Changed Date: 2009-11-03 14:56:49 -0800
wilson1 Linux (openSUSE 11.1) / x86_64  OK  OK 
liverpool Windows Server 2003 R2 (32-bit) / x64  OK  OK  OK 
pitt Mac OS X Tiger (10.4.11) / i386  OK  OK  OK 
pelham Mac OS X Leopard (10.5.8) / i386  OK  OK  OK 
Package 73/354HostnameOS / ArchBUILDCHECKBUILD BIN
ChromHeatMap 1.1.0
Tim F. Rayner
Bioconductor Changelog
Last Changed Rev: 42686 / Revision: 43434
Last Changed Date: 2009-10-27 16:45:24 -0700
wilson1 Linux (openSUSE 11.1) / x86_64  OK  OK 
liverpool Windows Server 2003 R2 (32-bit) / x64  OK  OK  OK 
pitt Mac OS X Tiger (10.4.11) / i386  OK  OK  OK 
pelham Mac OS X Leopard (10.5.8) / i386  OK  OK  OK 
Package 74/354HostnameOS / ArchBUILDCHECKBUILD BIN
clippda 1.1.0
Stephen Nyangoma
Bioconductor Changelog
Last Changed Rev: 42686 / Revision: 43434
Last Changed Date: 2009-10-27 16:45:24 -0700
wilson1 Linux (openSUSE 11.1) / x86_64  OK  OK 
liverpool Windows Server 2003 R2 (32-bit) / x64  OK  OK  OK 
pitt Mac OS X Tiger (10.4.11) / i386  OK  OK  OK 
pelham Mac OS X Leopard (10.5.8) / i386  OK  OK  OK 
Package 75/354HostnameOS / ArchBUILDCHECKBUILD BIN
clusterStab 1.19.0
James W. MacDonald
Bioconductor Changelog
Last Changed Rev: 42686 / Revision: 43434
Last Changed Date: 2009-10-27 16:45:24 -0700
wilson1 Linux (openSUSE 11.1) / x86_64  OK  OK 
liverpool Windows Server 2003 R2 (32-bit) / x64  OK  OK  OK 
pitt Mac OS X Tiger (10.4.11) / i386  OK  OK  OK 
pelham Mac OS X Leopard (10.5.8) / i386  OK  OK  OK 
Package 76/354HostnameOS / ArchBUILDCHECKBUILD BIN
CMA 1.5.0
Christoph Bernau
Bioconductor Changelog
Last Changed Rev: 42686 / Revision: 43434
Last Changed Date: 2009-10-27 16:45:24 -0700
wilson1 Linux (openSUSE 11.1) / x86_64  OK  OK 
liverpool Windows Server 2003 R2 (32-bit) / x64  OK  OK  OK 
pitt Mac OS X Tiger (10.4.11) / i386  OK  OK  OK 
pelham Mac OS X Leopard (10.5.8) / i386  OK  OK  OK 
Package 77/354HostnameOS / ArchBUILDCHECKBUILD BIN
CNTools 1.3.0
J. Zhang
Bioconductor Changelog
Last Changed Rev: 42686 / Revision: 43434
Last Changed Date: 2009-10-27 16:45:24 -0700
wilson1 Linux (openSUSE 11.1) / x86_64  OK  OK 
liverpool Windows Server 2003 R2 (32-bit) / x64  OK  OK  OK 
pitt Mac OS X Tiger (10.4.11) / i386  OK  OK  OK 
pelham Mac OS X Leopard (10.5.8) / i386  OK  OK  OK 
Package 78/354HostnameOS / ArchBUILDCHECKBUILD BIN
CNVtools 1.41.3
Chris Barnes
Bioconductor Changelog
Last Changed Rev: 43234 / Revision: 43434
Last Changed Date: 2009-11-24 07:00:54 -0800
wilson1 Linux (openSUSE 11.1) / x86_64  OK  OK 
liverpool Windows Server 2003 R2 (32-bit) / x64  OK  OK  OK 
pitt Mac OS X Tiger (10.4.11) / i386  OK  OK  OK 
pelham Mac OS X Leopard (10.5.8) / i386  OK  OK  OK 
Package 79/354HostnameOS / ArchBUILDCHECKBUILD BIN
CoCiteStats 1.19.0
R. Gentleman
Bioconductor Changelog
Last Changed Rev: 42686 / Revision: 43434
Last Changed Date: 2009-10-27 16:45:24 -0700
wilson1 Linux (openSUSE 11.1) / x86_64  OK  OK 
liverpool Windows Server 2003 R2 (32-bit) / x64  OK  OK  OK 
pitt Mac OS X Tiger (10.4.11) / i386  OK  OK  OK 
pelham Mac OS X Leopard (10.5.8) / i386  OK  OK  OK 
Package 80/354HostnameOS / ArchBUILDCHECKBUILD BIN
codelink 1.15.1
Diego Diez
Bioconductor Changelog
Last Changed Rev: 42947 / Revision: 43434
Last Changed Date: 2009-11-12 17:19:49 -0800
wilson1 Linux (openSUSE 11.1) / x86_64  OK  OK 
liverpool Windows Server 2003 R2 (32-bit) / x64  OK  OK  OK 
pitt Mac OS X Tiger (10.4.11) / i386  OK  OK  OK 
pelham Mac OS X Leopard (10.5.8) / i386  OK  OK  OK 
Package 81/354HostnameOS / ArchBUILDCHECKBUILD BIN
convert 1.23.0
Yee Hwa (Jean) Yang
Bioconductor Changelog
Last Changed Rev: 42686 / Revision: 43434
Last Changed Date: 2009-10-27 16:45:24 -0700
wilson1 Linux (openSUSE 11.1) / x86_64  OK  OK 
liverpool Windows Server 2003 R2 (32-bit) / x64  OK  OK  OK 
pitt Mac OS X Tiger (10.4.11) / i386  OK  OK  OK 
pelham Mac OS X Leopard (10.5.8) / i386  OK  OK  OK 
Package 82/354HostnameOS / ArchBUILDCHECKBUILD BIN
copa 1.15.0
James W. MacDonald
Bioconductor Changelog
Last Changed Rev: 42686 / Revision: 43434
Last Changed Date: 2009-10-27 16:45:24 -0700
wilson1 Linux (openSUSE 11.1) / x86_64  OK  OK 
liverpool Windows Server 2003 R2 (32-bit) / x64  OK  OK  OK 
pitt Mac OS X Tiger (10.4.11) / i386  OK  OK  OK 
pelham Mac OS X Leopard (10.5.8) / i386  OK  OK  OK 
Package 83/354HostnameOS / ArchBUILDCHECKBUILD BIN
CORREP 1.13.0
Dongxiao Zhu
Bioconductor Changelog
Last Changed Rev: 42686 / Revision: 43434
Last Changed Date: 2009-10-27 16:45:24 -0700
wilson1 Linux (openSUSE 11.1) / x86_64  OK  OK 
liverpool Windows Server 2003 R2 (32-bit) / x64  OK  OK  OK 
pitt Mac OS X Tiger (10.4.11) / i386  OK  OK  OK 
pelham Mac OS X Leopard (10.5.8) / i386  OK  OK  OK 
Package 84/354HostnameOS / ArchBUILDCHECKBUILD BIN
cosmo 1.13.0
Oliver Bembom
Bioconductor Changelog
Last Changed Rev: 42686 / Revision: 43434
Last Changed Date: 2009-10-27 16:45:24 -0700
wilson1 Linux (openSUSE 11.1) / x86_64  OK  WARNINGS 
liverpool Windows Server 2003 R2 (32-bit) / x64  OK  OK  OK 
pitt Mac OS X Tiger (10.4.11) / i386  OK  WARNINGS  OK 
pelham Mac OS X Leopard (10.5.8) / i386  OK  WARNINGS  OK 
Package 85/354HostnameOS / ArchBUILDCHECKBUILD BIN
cosmoGUI 1.13.0
Oliver Bembom
Bioconductor Changelog
Last Changed Rev: 42686 / Revision: 43434
Last Changed Date: 2009-10-27 16:45:24 -0700
wilson1 Linux (openSUSE 11.1) / x86_64  OK  OK 
liverpool Windows Server 2003 R2 (32-bit) / x64  OK  OK  OK 
pitt Mac OS X Tiger (10.4.11) / i386  OK  OK  OK 
pelham Mac OS X Leopard (10.5.8) / i386  OK  OK  OK 
Package 86/354HostnameOS / ArchBUILDCHECKBUILD BIN
crlmm 1.5.11
Benilton S Carvalho , Robert Scharpf , Matt Ritchie
Bioconductor Changelog
Last Changed Rev: 43392 / Revision: 43434
Last Changed Date: 2009-12-04 10:21:42 -0800
wilson1 Linux (openSUSE 11.1) / x86_64  OK  WARNINGS 
liverpool Windows Server 2003 R2 (32-bit) / x64  OK  WARNINGS  OK 
pitt Mac OS X Tiger (10.4.11) / i386  OK  WARNINGS  OK 
pelham Mac OS X Leopard (10.5.8) / i386  OK  WARNINGS  OK 
Package 87/354HostnameOS / ArchBUILDCHECKBUILD BIN
ctc 1.21.0
Antoine Lucas
Bioconductor Changelog
Last Changed Rev: 42686 / Revision: 43434
Last Changed Date: 2009-10-27 16:45:24 -0700
wilson1 Linux (openSUSE 11.1) / x86_64  OK  OK 
liverpool Windows Server 2003 R2 (32-bit) / x64  OK  OK  OK 
pitt Mac OS X Tiger (10.4.11) / i386  OK  OK  OK 
pelham Mac OS X Leopard (10.5.8) / i386  OK  OK  OK 
Package 88/354HostnameOS / ArchBUILDCHECKBUILD BIN
cycle 1.1.0
Matthias Futschik
Bioconductor Changelog
Last Changed Rev: 42686 / Revision: 43434
Last Changed Date: 2009-10-27 16:45:24 -0700
wilson1 Linux (openSUSE 11.1) / x86_64  OK  OK 
liverpool Windows Server 2003 R2 (32-bit) / x64  OK  OK  OK 
pitt Mac OS X Tiger (10.4.11) / i386  OK  OK  OK 
pelham Mac OS X Leopard (10.5.8) / i386  OK  OK  OK 
D  A  B  C [D] E  F  G  H  I  J  K  L  M  N  O  P  Q  R  S  T  U  V  W  X  Y  Z 
Package 89/354HostnameOS / ArchBUILDCHECKBUILD BIN
daMA 1.19.0
Jobst Landgrebe
Bioconductor Changelog
Last Changed Rev: 42686 / Revision: 43434
Last Changed Date: 2009-10-27 16:45:24 -0700
wilson1 Linux (openSUSE 11.1) / x86_64  OK  OK 
liverpool Windows Server 2003 R2 (32-bit) / x64  OK  OK  OK 
pitt Mac OS X Tiger (10.4.11) / i386  OK  OK  OK 
pelham Mac OS X Leopard (10.5.8) / i386  OK  OK  OK 
Package 90/354HostnameOS / ArchBUILDCHECKBUILD BIN
DAVIDQuery 1.5.0
Roger Day
Bioconductor Changelog
Last Changed Rev: 42686 / Revision: 43434
Last Changed Date: 2009-10-27 16:45:24 -0700
wilson1 Linux (openSUSE 11.1) / x86_64  OK  OK 
liverpool Windows Server 2003 R2 (32-bit) / x64  OK  OK  OK 
pitt Mac OS X Tiger (10.4.11) / i386  OK  OK  OK 
pelham Mac OS X Leopard (10.5.8) / i386  OK  OK  OK 
Package 91/354HostnameOS / ArchBUILDCHECKBUILD BIN
ddCt 1.1.0
Jitao David Zhang
Bioconductor Changelog
Last Changed Rev: 42686 / Revision: 43434
Last Changed Date: 2009-10-27 16:45:24 -0700
wilson1 Linux (openSUSE 11.1) / x86_64  OK  OK 
liverpool Windows Server 2003 R2 (32-bit) / x64  OK  OK  OK 
pitt Mac OS X Tiger (10.4.11) / i386  OK  OK  OK 
pelham Mac OS X Leopard (10.5.8) / i386  OK  OK  OK 
Package 92/354HostnameOS / ArchBUILDCHECKBUILD BIN
DEDS 1.21.0
Yuanyuan Xiao
Bioconductor Changelog
Last Changed Rev: 42686 / Revision: 43434
Last Changed Date: 2009-10-27 16:45:24 -0700
wilson1 Linux (openSUSE 11.1) / x86_64  OK  OK 
liverpool Windows Server 2003 R2 (32-bit) / x64  OK  OK  OK 
pitt Mac OS X Tiger (10.4.11) / i386  OK  OK  OK 
pelham Mac OS X Leopard (10.5.8) / i386  OK  OK  OK 
Package 93/354HostnameOS / ArchBUILDCHECKBUILD BIN
DEGseq 1.1.2
Likun Wang
Bioconductor Changelog
Last Changed Rev: 43216 / Revision: 43434
Last Changed Date: 2009-11-23 01:30:34 -0800
wilson1 Linux (openSUSE 11.1) / x86_64  OK  OK 
liverpool Windows Server 2003 R2 (32-bit) / x64  OK  OK  OK 
pitt Mac OS X Tiger (10.4.11) / i386  OK  OK  OK 
pelham Mac OS X Leopard (10.5.8) / i386  OK  OK  OK 
Package 94/354HostnameOS / ArchBUILDCHECKBUILD BIN
DFP 1.5.0
Rodrigo Alvarez-Glez
Bioconductor Changelog
Last Changed Rev: 42686 / Revision: 43434
Last Changed Date: 2009-10-27 16:45:24 -0700
wilson1 Linux (openSUSE 11.1) / x86_64  OK  OK 
liverpool Windows Server 2003 R2 (32-bit) / x64  OK  OK  OK 
pitt Mac OS X Tiger (10.4.11) / i386  OK  OK  OK 
pelham Mac OS X Leopard (10.5.8) / i386  OK  OK  OK 
Package 95/354HostnameOS / ArchBUILDCHECKBUILD BIN
diffGeneAnalysis 1.29.0
Choudary Jagarlamudi
Bioconductor Changelog
Last Changed Rev: 42686 / Revision: 43434
Last Changed Date: 2009-10-27 16:45:24 -0700
wilson1 Linux (openSUSE 11.1) / x86_64  OK  OK 
liverpool Windows Server 2003 R2 (32-bit) / x64  OK  OK  OK 
pitt Mac OS X Tiger (10.4.11) / i386  OK  OK  OK 
pelham Mac OS X Leopard (10.5.8) / i386  OK  OK  OK 
Package 96/354HostnameOS / ArchBUILDCHECKBUILD BIN
DNAcopy 1.21.0
Venkatraman E. Seshan
Bioconductor Changelog
Last Changed Rev: 42686 / Revision: 43434
Last Changed Date: 2009-10-27 16:45:24 -0700
wilson1 Linux (openSUSE 11.1) / x86_64  OK  OK 
liverpool Windows Server 2003 R2 (32-bit) / x64  OK  OK  OK 
pitt Mac OS X Tiger (10.4.11) / i386  OK  OK  OK 
pelham Mac OS X Leopard (10.5.8) / i386  OK  OK  OK 
Package 97/354HostnameOS / ArchBUILDCHECKBUILD BIN
domainsignatures 1.7.0
Florian Hahne
Bioconductor Changelog
Last Changed Rev: 42686 / Revision: 43434
Last Changed Date: 2009-10-27 16:45:24 -0700
wilson1 Linux (openSUSE 11.1) / x86_64  OK  OK 
liverpool Windows Server 2003 R2 (32-bit) / x64  OK  OK  OK 
pitt Mac OS X Tiger (10.4.11) / i386  OK  OK  OK 
pelham Mac OS X Leopard (10.5.8) / i386  OK  OK  OK 
Package 98/354HostnameOS / ArchBUILDCHECKBUILD BIN
dualKS 1.7.0
Eric J. Kort
Bioconductor Changelog
Last Changed Rev: 42686 / Revision: 43434
Last Changed Date: 2009-10-27 16:45:24 -0700
wilson1 Linux (openSUSE 11.1) / x86_64  OK  OK 
liverpool Windows Server 2003 R2 (32-bit) / x64  OK  OK  OK 
pitt Mac OS X Tiger (10.4.11) / i386  OK  OK  OK 
pelham Mac OS X Leopard (10.5.8) / i386  OK  OK  OK 
Package 99/354HostnameOS / ArchBUILDCHECKBUILD BIN
dyebias 1.5.7
Philip Lijnzaad
Bioconductor Changelog
Last Changed Rev: 43425 / Revision: 43434
Last Changed Date: 2009-12-07 01:59:38 -0800
wilson1 Linux (openSUSE 11.1) / x86_64  OK  OK 
liverpool Windows Server 2003 R2 (32-bit) / x64  OK  OK  OK 
pitt Mac OS X Tiger (10.4.11) / i386  OK  OK  OK 
pelham Mac OS X Leopard (10.5.8) / i386  OK  OK  OK 
Package 100/354HostnameOS / ArchBUILDCHECKBUILD BIN
DynDoc 1.25.0
Biocore Team c/o BioC user list
Bioconductor Changelog
Last Changed Rev: 42686 / Revision: 43434
Last Changed Date: 2009-10-27 16:45:24 -0700
wilson1 Linux (openSUSE 11.1) / x86_64  OK  OK 
liverpool Windows Server 2003 R2 (32-bit) / x64  OK  OK  OK 
pitt Mac OS X Tiger (10.4.11) / i386  OK  OK  OK 
pelham Mac OS X Leopard (10.5.8) / i386  OK  OK  OK 
E  A  B  C  D [E] F  G  H  I  J  K  L  M  N  O  P  Q  R  S  T  U  V  W  X  Y  Z 
Package 101/354HostnameOS / ArchBUILDCHECKBUILD BIN
EBarrays 2.11.0
Ming Yuan
Bioconductor Changelog
Last Changed Rev: 42686 / Revision: 43434
Last Changed Date: 2009-10-27 16:45:24 -0700
wilson1 Linux (openSUSE 11.1) / x86_64  OK  OK 
liverpool Windows Server 2003 R2 (32-bit) / x64  OK  OK  OK 
pitt Mac OS X Tiger (10.4.11) / i386  OK  OK  OK 
pelham Mac OS X Leopard (10.5.8) / i386  OK  OK  OK 
Package 102/354HostnameOS / ArchBUILDCHECKBUILD BIN
EBImage 3.3.1
Gregoire Pau
Bioconductor Changelog
Last Changed Rev: 43352 / Revision: 43434
Last Changed Date: 2009-12-02 15:10:22 -0800
wilson1 Linux (openSUSE 11.1) / x86_64  OK  OK 
liverpool Windows Server 2003 R2 (32-bit) / x64  OK  OK  OK 
pitt Mac OS X Tiger (10.4.11) / i386  OK  OK  OK 
pelham Mac OS X Leopard (10.5.8) / i386  OK  OK  OK 
Package 103/354HostnameOS / ArchBUILDCHECKBUILD BIN
ecolitk 1.19.0
Laurent
Bioconductor Changelog
Last Changed Rev: 42686 / Revision: 43434
Last Changed Date: 2009-10-27 16:45:24 -0700
wilson1 Linux (openSUSE 11.1) / x86_64  OK  OK 
liverpool Windows Server 2003 R2 (32-bit) / x64  OK  OK  OK 
pitt Mac OS X Tiger (10.4.11) / i386  OK  OK  OK 
pelham Mac OS X Leopard (10.5.8) / i386  OK  OK  OK 
Package 104/354HostnameOS / ArchBUILDCHECKBUILD BIN
edd 1.25.0
Vince Carey
Bioconductor Changelog
Last Changed Rev: 42686 / Revision: 43434
Last Changed Date: 2009-10-27 16:45:24 -0700
wilson1 Linux (openSUSE 11.1) / x86_64  OK  OK 
liverpool Windows Server 2003 R2 (32-bit) / x64  OK  OK  OK 
pitt Mac OS X Tiger (10.4.11) / i386  OK  OK  OK 
pelham Mac OS X Leopard (10.5.8) / i386  OK  OK  OK 
Package 105/354HostnameOS / ArchBUILDCHECKBUILD BIN
edgeR 1.5.3
Mark Robinson , Davis McCarthy , Gordon Smyth
Bioconductor Changelog
Last Changed Rev: 43111 / Revision: 43434
Last Changed Date: 2009-11-18 03:12:51 -0800
wilson1 Linux (openSUSE 11.1) / x86_64  OK  OK 
liverpool Windows Server 2003 R2 (32-bit) / x64  OK  OK  OK 
pitt Mac OS X Tiger (10.4.11) / i386  OK  OK  OK 
pelham Mac OS X Leopard (10.5.8) / i386  OK  OK  OK 
Package 106/354HostnameOS / ArchBUILDCHECKBUILD BIN
exonmap 2.5.0
Crispin Miller
Bioconductor Changelog
Last Changed Rev: 42686 / Revision: 43434
Last Changed Date: 2009-10-27 16:45:24 -0700
wilson1 Linux (openSUSE 11.1) / x86_64  OK  OK 
liverpool Windows Server 2003 R2 (32-bit) / x64  OK  OK  OK 
pitt Mac OS X Tiger (10.4.11) / i386  OK  OK  OK 
pelham Mac OS X Leopard (10.5.8) / i386  OK  OK  OK 
Package 107/354HostnameOS / ArchBUILDCHECKBUILD BIN
explorase 1.11.0
Michael Lawrence
Bioconductor Changelog
Last Changed Rev: 42686 / Revision: 43434
Last Changed Date: 2009-10-27 16:45:24 -0700
wilson1 Linux (openSUSE 11.1) / x86_64  OK  OK 
liverpool Windows Server 2003 R2 (32-bit) / x64  OK  OK  OK 
pitt Mac OS X Tiger (10.4.11) / i386 N O T   S U P P O R T E D
pelham Mac OS X Leopard (10.5.8) / i386  ERROR  skipped  skipped 
Package 108/354HostnameOS / ArchBUILDCHECKBUILD BIN
externalVector 1.13.0
Biocore Team c/o BioC user list
Bioconductor Changelog
Last Changed Rev: 42686 / Revision: 43434
Last Changed Date: 2009-10-27 16:45:24 -0700
wilson1 Linux (openSUSE 11.1) / x86_64  OK  WARNINGS 
liverpool Windows Server 2003 R2 (32-bit) / x64  OK  OK  OK 
pitt Mac OS X Tiger (10.4.11) / i386  OK  WARNINGS  OK 
pelham Mac OS X Leopard (10.5.8) / i386  OK  WARNINGS  OK 
F  A  B  C  D  E [F] G  H  I  J  K  L  M  N  O  P  Q  R  S  T  U  V  W  X  Y  Z 
Package 109/354HostnameOS / ArchBUILDCHECKBUILD BIN
factDesign 1.23.0
Denise Scholtens
Bioconductor Changelog
Last Changed Rev: 42686 / Revision: 43434
Last Changed Date: 2009-10-27 16:45:24 -0700
wilson1 Linux (openSUSE 11.1) / x86_64  OK  OK 
liverpool Windows Server 2003 R2 (32-bit) / x64  OK  OK  OK 
pitt Mac OS X Tiger (10.4.11) / i386  OK  OK  OK 
pelham Mac OS X Leopard (10.5.8) / i386  OK  OK  OK 
Package 110/354HostnameOS / ArchBUILDCHECKBUILD BIN
fbat 1.11.0
The R Genetics Project
Bioconductor Changelog
Last Changed Rev: 42686 / Revision: 43434
Last Changed Date: 2009-10-27 16:45:24 -0700
wilson1 Linux (openSUSE 11.1) / x86_64  OK  OK 
liverpool Windows Server 2003 R2 (32-bit) / x64  OK  OK  OK 
pitt Mac OS X Tiger (10.4.11) / i386  OK  OK  OK 
pelham Mac OS X Leopard (10.5.8) / i386  OK  OK  OK 
Package 111/354HostnameOS / ArchBUILDCHECKBUILD BIN
fdrame 1.19.0
Effi Kenigsberg
Bioconductor Changelog
Last Changed Rev: 42686 / Revision: 43434
Last Changed Date: 2009-10-27 16:45:24 -0700
wilson1 Linux (openSUSE 11.1) / x86_64  OK  OK 
liverpool Windows Server 2003 R2 (32-bit) / x64  OK  OK  OK 
pitt Mac OS X Tiger (10.4.11) / i386  OK  OK  OK 
pelham Mac OS X Leopard (10.5.8) / i386  OK  OK  OK 
Package 112/354HostnameOS / ArchBUILDCHECKBUILD BIN
flagme 1.3.0
Mark Robinson
Bioconductor Changelog
Last Changed Rev: 42686 / Revision: 43434
Last Changed Date: 2009-10-27 16:45:24 -0700
wilson1 Linux (openSUSE 11.1) / x86_64  OK  OK 
liverpool Windows Server 2003 R2 (32-bit) / x64  OK  OK  OK 
pitt Mac OS X Tiger (10.4.11) / i386  OK  WARNINGS  OK 
pelham Mac OS X Leopard (10.5.8) / i386  OK  WARNINGS  OK 
Package 113/354HostnameOS / ArchBUILDCHECKBUILD BIN
flowClust 2.5.0
Raphael Gottardo
Bioconductor Changelog
Last Changed Rev: 42686 / Revision: 43434
Last Changed Date: 2009-10-27 16:45:24 -0700
wilson1 Linux (openSUSE 11.1) / x86_64  OK  OK 
liverpool Windows Server 2003 R2 (32-bit) / x64  OK  OK  OK 
pitt Mac OS X Tiger (10.4.11) / i386  OK  OK  OK 
pelham Mac OS X Leopard (10.5.8) / i386  OK  OK  OK 
Package 114/354HostnameOS / ArchBUILDCHECKBUILD BIN
flowCore 1.13.1
F. Hahne
Bioconductor Changelog
Last Changed Rev: 42847 / Revision: 43434
Last Changed Date: 2009-11-06 12:28:16 -0800
wilson1 Linux (openSUSE 11.1) / x86_64  OK  OK 
liverpool Windows Server 2003 R2 (32-bit) / x64  OK  OK  OK 
pitt Mac OS X Tiger (10.4.11) / i386  OK  OK  OK 
pelham Mac OS X Leopard (10.5.8) / i386  OK  OK  OK 
Package 115/354HostnameOS / ArchBUILDCHECKBUILD BIN
flowFlowJo 1.5.0
John J. Gosink
Bioconductor Changelog
Last Changed Rev: 42686 / Revision: 43434
Last Changed Date: 2009-10-27 16:45:24 -0700
wilson1 Linux (openSUSE 11.1) / x86_64  OK  OK 
liverpool Windows Server 2003 R2 (32-bit) / x64  OK  OK  OK 
pitt Mac OS X Tiger (10.4.11) / i386  OK  OK  OK 
pelham Mac OS X Leopard (10.5.8) / i386  OK  OK  OK 
Package 116/354HostnameOS / ArchBUILDCHECKBUILD BIN
flowFP 1.3.0
Herb Holyst
Bioconductor Changelog
Last Changed Rev: 42686 / Revision: 43434
Last Changed Date: 2009-10-27 16:45:24 -0700
wilson1 Linux (openSUSE 11.1) / x86_64  OK  OK 
liverpool Windows Server 2003 R2 (32-bit) / x64  OK  OK  OK 
pitt Mac OS X Tiger (10.4.11) / i386  OK  OK  OK 
pelham Mac OS X Leopard (10.5.8) / i386  OK  OK  OK 
Package 117/354HostnameOS / ArchBUILDCHECKBUILD BIN
flowMerge 1.1.2
Greg Finak
Bioconductor Changelog
Last Changed Rev: 43233 / Revision: 43434
Last Changed Date: 2009-11-24 06:46:17 -0800
wilson1 Linux (openSUSE 11.1) / x86_64  OK  OK 
liverpool Windows Server 2003 R2 (32-bit) / x64  OK  OK  OK 
pitt Mac OS X Tiger (10.4.11) / i386  OK  OK  OK 
pelham Mac OS X Leopard (10.5.8) / i386  OK  OK  OK 
Package 118/354HostnameOS / ArchBUILDCHECKBUILD BIN
flowQ 1.7.0
F. Hahne
Bioconductor Changelog
Last Changed Rev: 42686 / Revision: 43434
Last Changed Date: 2009-10-27 16:45:24 -0700
wilson1 Linux (openSUSE 11.1) / x86_64  OK  OK 
liverpool Windows Server 2003 R2 (32-bit) / x64  OK  OK  OK 
pitt Mac OS X Tiger (10.4.11) / i386  OK  OK  OK 
pelham Mac OS X Leopard (10.5.8) / i386  OK  OK  OK 
Package 119/354HostnameOS / ArchBUILDCHECKBUILD BIN
flowStats 1.5.4
Florian Hahne and Chao-Jen Wong
Bioconductor Changelog
Last Changed Rev: 43402 / Revision: 43434
Last Changed Date: 2009-12-04 16:56:30 -0800
wilson1 Linux (openSUSE 11.1) / x86_64  OK  WARNINGS 
liverpool Windows Server 2003 R2 (32-bit) / x64  OK  WARNINGS  OK 
pitt Mac OS X Tiger (10.4.11) / i386  OK  WARNINGS  OK 
pelham Mac OS X Leopard (10.5.8) / i386  OK  WARNINGS  OK 
Package 120/354HostnameOS / ArchBUILDCHECKBUILD BIN
flowUtils 1.7.0
Nishant Gopalakrishnan
Bioconductor Changelog
Last Changed Rev: 42686 / Revision: 43434
Last Changed Date: 2009-10-27 16:45:24 -0700
wilson1 Linux (openSUSE 11.1) / x86_64  OK  OK 
liverpool Windows Server 2003 R2 (32-bit) / x64  OK  OK  OK 
pitt Mac OS X Tiger (10.4.11) / i386  OK  WARNINGS  OK 
pelham Mac OS X Leopard (10.5.8) / i386  OK  WARNINGS  OK 
Package 121/354HostnameOS / ArchBUILDCHECKBUILD BIN
flowViz 1.11.0
Florian Hahne
Bioconductor Changelog
Last Changed Rev: 42686 / Revision: 43434
Last Changed Date: 2009-10-27 16:45:24 -0700
wilson1 Linux (openSUSE 11.1) / x86_64  OK  OK 
liverpool Windows Server 2003 R2 (32-bit) / x64  OK  OK  OK 
pitt Mac OS X Tiger (10.4.11) / i386  OK  OK  OK 
pelham Mac OS X Leopard (10.5.8) / i386  OK  OK  OK 
G  A  B  C  D  E  F [G] H  I  J  K  L  M  N  O  P  Q  R  S  T  U  V  W  X  Y  Z 
Package 122/354HostnameOS / ArchBUILDCHECKBUILD BIN
gaga 1.7.0
David Rossell
Bioconductor Changelog
Last Changed Rev: 42686 / Revision: 43434
Last Changed Date: 2009-10-27 16:45:24 -0700
wilson1 Linux (openSUSE 11.1) / x86_64  OK  OK 
liverpool Windows Server 2003 R2 (32-bit) / x64  OK  OK  OK 
pitt Mac OS X Tiger (10.4.11) / i386  OK  OK  OK 
pelham Mac OS X Leopard (10.5.8) / i386  OK  OK  OK 
Package 123/354HostnameOS / ArchBUILDCHECKBUILD BIN
gaggle 1.15.0
Dan Tenenbaum
Bioconductor Changelog
Last Changed Rev: 42686 / Revision: 43434
Last Changed Date: 2009-10-27 16:45:24 -0700
wilson1 Linux (openSUSE 11.1) / x86_64  OK  OK 
liverpool Windows Server 2003 R2 (32-bit) / x64  OK  OK  OK 
pitt Mac OS X Tiger (10.4.11) / i386  OK  OK  OK 
pelham Mac OS X Leopard (10.5.8) / i386  OK  OK  OK 
Package 124/354HostnameOS / ArchBUILDCHECKBUILD BIN
gcrma 2.19.0
Z. Wu
Bioconductor Changelog
Last Changed Rev: 42686 / Revision: 43434
Last Changed Date: 2009-10-27 16:45:24 -0700
wilson1 Linux (openSUSE 11.1) / x86_64  OK  OK 
liverpool Windows Server 2003 R2 (32-bit) / x64  OK  OK  OK 
pitt Mac OS X Tiger (10.4.11) / i386  OK  OK  OK 
pelham Mac OS X Leopard (10.5.8) / i386  OK  OK  OK 
Package 125/354HostnameOS / ArchBUILDCHECKBUILD BIN
genArise 1.23.0
IFC Development Team
Bioconductor Changelog
Last Changed Rev: 42686 / Revision: 43434
Last Changed Date: 2009-10-27 16:45:24 -0700
wilson1 Linux (openSUSE 11.1) / x86_64  OK  OK 
liverpool Windows Server 2003 R2 (32-bit) / x64  OK  OK  OK 
pitt Mac OS X Tiger (10.4.11) / i386  ERROR  skipped  skipped 
pelham Mac OS X Leopard (10.5.8) / i386  OK  OK  OK 
Package 126/354HostnameOS / ArchBUILDCHECKBUILD BIN
gene2pathway 1.5.0
Holger Froehlich
Bioconductor Changelog
Last Changed Rev: 42686 / Revision: 43434
Last Changed Date: 2009-10-27 16:45:24 -0700
wilson1 Linux (openSUSE 11.1) / x86_64  OK  OK 
liverpool Windows Server 2003 R2 (32-bit) / x64  OK  OK  OK 
pitt Mac OS X Tiger (10.4.11) / i386  OK  OK  OK 
pelham Mac OS X Leopard (10.5.8) / i386  OK  OK  OK 
Package 127/354HostnameOS / ArchBUILDCHECKBUILD BIN
GeneAnswers 1.3.1
Gang Feng and Pan Du
Bioconductor Changelog
Last Changed Rev: 43242 / Revision: 43434
Last Changed Date: 2009-11-24 12:51:07 -0800
wilson1 Linux (openSUSE 11.1) / x86_64  OK  OK 
liverpool Windows Server 2003 R2 (32-bit) / x64  OK  OK  OK 
pitt Mac OS X Tiger (10.4.11) / i386  OK  OK  OK 
pelham Mac OS X Leopard (10.5.8) / i386  OK  OK  OK 
Package 128/354HostnameOS / ArchBUILDCHECKBUILD BIN
genefilter 1.29.5
Biocore Team c/o BioC user list
Bioconductor Changelog
Last Changed Rev: 43306 / Revision: 43434
Last Changed Date: 2009-11-30 14:37:41 -0800
wilson1 Linux (openSUSE 11.1) / x86_64  OK  OK 
liverpool Windows Server 2003 R2 (32-bit) / x64  OK  OK  OK 
pitt Mac OS X Tiger (10.4.11) / i386  OK  OK  OK 
pelham Mac OS X Leopard (10.5.8) / i386  OK  OK  OK 
Package 129/354HostnameOS / ArchBUILDCHECKBUILD BIN
GeneMeta 1.19.0
Biocore Team c/o BioC user list
Bioconductor Changelog
Last Changed Rev: 42686 / Revision: 43434
Last Changed Date: 2009-10-27 16:45:24 -0700
wilson1 Linux (openSUSE 11.1) / x86_64  OK  OK 
liverpool Windows Server 2003 R2 (32-bit) / x64  OK  OK  OK 
pitt Mac OS X Tiger (10.4.11) / i386  OK  OK  OK 
pelham Mac OS X Leopard (10.5.8) / i386  OK  OK  OK 
Package 130/354HostnameOS / ArchBUILDCHECKBUILD BIN
geneplotter 1.25.0
Biocore Team c/o BioC user list
Bioconductor Changelog
Last Changed Rev: 42686 / Revision: 43434
Last Changed Date: 2009-10-27 16:45:24 -0700
wilson1 Linux (openSUSE 11.1) / x86_64  OK  OK 
liverpool Windows Server 2003 R2 (32-bit) / x64  OK  OK  OK 
pitt Mac OS X Tiger (10.4.11) / i386  OK  OK  OK 
pelham Mac OS X Leopard (10.5.8) / i386  OK  OK  OK 
Package 131/354HostnameOS / ArchBUILDCHECKBUILD BIN
GeneR 2.17.0
Y. d'Aubenton-Carafa
Bioconductor Changelog
Last Changed Rev: 42686 / Revision: 43434
Last Changed Date: 2009-10-27 16:45:24 -0700
wilson1 Linux (openSUSE 11.1) / x86_64  OK  OK 
liverpool Windows Server 2003 R2 (32-bit) / x64  OK  OK  OK 
pitt Mac OS X Tiger (10.4.11) / i386  OK  OK  OK 
pelham Mac OS X Leopard (10.5.8) / i386  OK  OK  OK 
Package 132/354HostnameOS / ArchBUILDCHECKBUILD BIN
geneRecommender 1.19.0
Greg Hather
Bioconductor Changelog
Last Changed Rev: 42686 / Revision: 43434
Last Changed Date: 2009-10-27 16:45:24 -0700
wilson1 Linux (openSUSE 11.1) / x86_64  OK  OK 
liverpool Windows Server 2003 R2 (32-bit) / x64  OK  OK  OK 
pitt Mac OS X Tiger (10.4.11) / i386  OK  OK  OK 
pelham Mac OS X Leopard (10.5.8) / i386  OK  OK  OK 
Package 133/354HostnameOS / ArchBUILDCHECKBUILD BIN
GeneRegionScan 1.3.2
Lasse Folkersen
Bioconductor Changelog
Last Changed Rev: 42842 / Revision: 43434
Last Changed Date: 2009-11-06 02:28:15 -0800
wilson1 Linux (openSUSE 11.1) / x86_64  ERROR  skipped 
liverpool Windows Server 2003 R2 (32-bit) / x64  OK  WARNINGS  OK 
pitt Mac OS X Tiger (10.4.11) / i386  ERROR  skipped  skipped 
pelham Mac OS X Leopard (10.5.8) / i386  ERROR  skipped  skipped 
Package 134/354HostnameOS / ArchBUILDCHECKBUILD BIN
GeneRfold 1.5.0
Antoine Lucas
Bioconductor Changelog
Last Changed Rev: 42686 / Revision: 43434
Last Changed Date: 2009-10-27 16:45:24 -0700
wilson1 Linux (openSUSE 11.1) / x86_64  OK  OK 
liverpool Windows Server 2003 R2 (32-bit) / x64 N O T   S U P P O R T E D
pitt Mac OS X Tiger (10.4.11) / i386  OK  OK  OK 
pelham Mac OS X Leopard (10.5.8) / i386  OK  OK  OK 
Package 135/354HostnameOS / ArchBUILDCHECKBUILD BIN
GeneSelectMMD 1.3.0
Weiliang Qiu
Bioconductor Changelog
Last Changed Rev: 42686 / Revision: 43434
Last Changed Date: 2009-10-27 16:45:24 -0700
wilson1 Linux (openSUSE 11.1) / x86_64  OK  OK 
liverpool Windows Server 2003 R2 (32-bit) / x64  OK  OK  OK 
pitt Mac OS X Tiger (10.4.11) / i386  OK  OK  OK 
pelham Mac OS X Leopard (10.5.8) / i386  OK  OK  OK 
Package 136/354HostnameOS / ArchBUILDCHECKBUILD BIN
GeneSelector 2.3.0
Martin Slawski
Bioconductor Changelog
Last Changed Rev: 42686 / Revision: 43434
Last Changed Date: 2009-10-27 16:45:24 -0700
wilson1 Linux (openSUSE 11.1) / x86_64  OK  OK 
liverpool Windows Server 2003 R2 (32-bit) / x64  OK  OK  OK 
pitt Mac OS X Tiger (10.4.11) / i386  OK  OK  OK 
pelham Mac OS X Leopard (10.5.8) / i386  OK  OK  OK 
Package 137/354HostnameOS / ArchBUILDCHECKBUILD BIN
GeneSpring 2.21.0
Thon de Boer
Bioconductor Changelog
Last Changed Rev: 42686 / Revision: 43434
Last Changed Date: 2009-10-27 16:45:24 -0700
wilson1 Linux (openSUSE 11.1) / x86_64  OK  OK 
liverpool Windows Server 2003 R2 (32-bit) / x64  OK  OK  OK 
pitt Mac OS X Tiger (10.4.11) / i386  OK  OK  OK 
pelham Mac OS X Leopard (10.5.8) / i386  OK  OK  OK 
Package 138/354HostnameOS / ArchBUILDCHECKBUILD BIN
GeneticsBase 1.13.0
The R Genetics Project
Bioconductor Changelog
Last Changed Rev: 42686 / Revision: 43434
Last Changed Date: 2009-10-27 16:45:24 -0700
wilson1 Linux (openSUSE 11.1) / x86_64  OK  WARNINGS 
liverpool Windows Server 2003 R2 (32-bit) / x64  OK  WARNINGS  OK 
pitt Mac OS X Tiger (10.4.11) / i386  OK  WARNINGS  OK 
pelham Mac OS X Leopard (10.5.8) / i386  OK  WARNINGS  OK 
Package 139/354HostnameOS / ArchBUILDCHECKBUILD BIN
GeneticsDesign 1.15.0
The R Genetics Project
Bioconductor Changelog
Last Changed Rev: 42686 / Revision: 43434
Last Changed Date: 2009-10-27 16:45:24 -0700
wilson1 Linux (openSUSE 11.1) / x86_64  OK  OK 
liverpool Windows Server 2003 R2 (32-bit) / x64  OK  OK  OK 
pitt Mac OS X Tiger (10.4.11) / i386  OK  OK  OK 
pelham Mac OS X Leopard (10.5.8) / i386  OK  OK  OK 
Package 140/354HostnameOS / ArchBUILDCHECKBUILD BIN
GeneticsPed 1.9.0
The R Genetics Project
Bioconductor Changelog
Last Changed Rev: 42686 / Revision: 43434
Last Changed Date: 2009-10-27 16:45:24 -0700
wilson1 Linux (openSUSE 11.1) / x86_64  OK  OK 
liverpool Windows Server 2003 R2 (32-bit) / x64  OK  OK  OK 
pitt Mac OS X Tiger (10.4.11) / i386  OK  OK  OK 
pelham Mac OS X Leopard (10.5.8) / i386  OK  OK  OK 
Package 141/354HostnameOS / ArchBUILDCHECKBUILD BIN
GeneTraffic 1.19.0
Daniel Iordan
Bioconductor Changelog
Last Changed Rev: 42686 / Revision: 43434
Last Changed Date: 2009-10-27 16:45:24 -0700
wilson1 Linux (openSUSE 11.1) / x86_64  OK  OK 
liverpool Windows Server 2003 R2 (32-bit) / x64  OK  OK  OK 
pitt Mac OS X Tiger (10.4.11) / i386  OK  OK  OK 
pelham Mac OS X Leopard (10.5.8) / i386  OK  OK  OK 
Package 142/354HostnameOS / ArchBUILDCHECKBUILD BIN
GenomeGraphs 1.7.0
Steffen Durinck
Bioconductor Changelog
Last Changed Rev: 42898 / Revision: 43434
Last Changed Date: 2009-11-10 11:16:55 -0800
wilson1 Linux (openSUSE 11.1) / x86_64  TIMEOUT  skipped 
liverpool Windows Server 2003 R2 (32-bit) / x64  TIMEOUT  skipped  skipped 
pitt Mac OS X Tiger (10.4.11) / i386  TIMEOUT  skipped  skipped 
pelham Mac OS X Leopard (10.5.8) / i386  TIMEOUT  skipped  skipped 
Package 143/354HostnameOS / ArchBUILDCHECKBUILD BIN
genomeIntervals 1.3.0
Julien Gagneur
Bioconductor Changelog
Last Changed Rev: 42686 / Revision: 43434
Last Changed Date: 2009-10-27 16:45:24 -0700
wilson1 Linux (openSUSE 11.1) / x86_64  OK  OK 
liverpool Windows Server 2003 R2 (32-bit) / x64  OK  OK  OK 
pitt Mac OS X Tiger (10.4.11) / i386  OK  OK  OK 
pelham Mac OS X Leopard (10.5.8) / i386  OK  OK  OK 
Package 144/354HostnameOS / ArchBUILDCHECKBUILD BIN
GenomicFeatures 0.3.1
Biocore Team c/o BioC user list
Bioconductor Changelog
Last Changed Rev: 43328 / Revision: 43434
Last Changed Date: 2009-12-01 11:21:49 -0800
wilson1 Linux (openSUSE 11.1) / x86_64  OK  OK 
liverpool Windows Server 2003 R2 (32-bit) / x64  OK  OK  OK 
pitt Mac OS X Tiger (10.4.11) / i386  OK  WARNINGS  OK 
pelham Mac OS X Leopard (10.5.8) / i386  OK  WARNINGS  OK 
Package 145/354HostnameOS / ArchBUILDCHECKBUILD BIN
Genominator 1.1.1
James Bullard
Bioconductor Changelog
Last Changed Rev: 43247 / Revision: 43434
Last Changed Date: 2009-11-24 18:42:11 -0800
wilson1 Linux (openSUSE 11.1) / x86_64  ERROR  skipped 
liverpool Windows Server 2003 R2 (32-bit) / x64  ERROR  skipped  skipped 
pitt Mac OS X Tiger (10.4.11) / i386  ERROR  skipped  skipped 
pelham Mac OS X Leopard (10.5.8) / i386  ERROR  skipped  skipped 
Package 146/354HostnameOS / ArchBUILDCHECKBUILD BIN
GEOmetadb 1.7.0
Jack Zhu
Bioconductor Changelog
Last Changed Rev: 42686 / Revision: 43434
Last Changed Date: 2009-10-27 16:45:24 -0700
wilson1 Linux (openSUSE 11.1) / x86_64  OK  OK 
liverpool Windows Server 2003 R2 (32-bit) / x64  OK  OK  OK 
pitt Mac OS X Tiger (10.4.11) / i386  OK  OK  OK 
pelham Mac OS X Leopard (10.5.8) / i386  OK  OK  OK 
Package 147/354HostnameOS / ArchBUILDCHECKBUILD BIN
GEOquery 2.11.1
Sean Davis
Bioconductor Changelog
Last Changed Rev: 43430 / Revision: 43434
Last Changed Date: 2009-12-07 04:31:26 -0800
wilson1 Linux (openSUSE 11.1) / x86_64  OK  OK 
liverpool Windows Server 2003 R2 (32-bit) / x64  OK  OK  OK 
pitt Mac OS X Tiger (10.4.11) / i386  OK  OK  OK 
pelham Mac OS X Leopard (10.5.8) / i386  OK  OK  OK 
Package 148/354HostnameOS / ArchBUILDCHECKBUILD BIN
GGBase 3.7.5
Vince Carey
Bioconductor Changelog
Last Changed Rev: 43357 / Revision: 43434
Last Changed Date: 2009-12-03 01:45:59 -0800
wilson1 Linux (openSUSE 11.1) / x86_64  OK  OK 
liverpool Windows Server 2003 R2 (32-bit) / x64  OK  OK  OK 
pitt Mac OS X Tiger (10.4.11) / i386  OK  OK  OK 
pelham Mac OS X Leopard (10.5.8) / i386  OK  OK  OK 
Package 149/354HostnameOS / ArchBUILDCHECKBUILD BIN
GGtools 3.5.19
Vince Carey
Bioconductor Changelog
Last Changed Rev: 43359 / Revision: 43434
Last Changed Date: 2009-12-03 01:55:12 -0800
wilson1 Linux (openSUSE 11.1) / x86_64  OK  ERROR 
liverpool Windows Server 2003 R2 (32-bit) / x64  OK  ERROR  OK 
pitt Mac OS X Tiger (10.4.11) / i386  OK  OK  OK 
pelham Mac OS X Leopard (10.5.8) / i386  OK  OK  OK 
Package 150/354HostnameOS / ArchBUILDCHECKBUILD BIN
GLAD 2.8.0
Philippe Hupe
Bioconductor Changelog
Last Changed Rev: 42814 / Revision: 43434
Last Changed Date: 2009-11-04 09:47:17 -0800
wilson1 Linux (openSUSE 11.1) / x86_64  OK  OK 
liverpool Windows Server 2003 R2 (32-bit) / x64  OK  OK  OK 
pitt Mac OS X Tiger (10.4.11) / i386  OK  OK  OK 
pelham Mac OS X Leopard (10.5.8) / i386  OK  OK  OK 
Package 151/354HostnameOS / ArchBUILDCHECKBUILD BIN
GlobalAncova 3.13.0
R. Meister
Bioconductor Changelog
Last Changed Rev: 42686 / Revision: 43434
Last Changed Date: 2009-10-27 16:45:24 -0700
wilson1 Linux (openSUSE 11.1) / x86_64  OK  OK 
liverpool Windows Server 2003 R2 (32-bit) / x64  OK  OK  OK 
pitt Mac OS X Tiger (10.4.11) / i386  OK  OK  OK 
pelham Mac OS X Leopard (10.5.8) / i386  OK  OK  OK 
Package 152/354HostnameOS / ArchBUILDCHECKBUILD BIN
globaltest 5.1.2
Jelle Goeman
Bioconductor Changelog
Last Changed Rev: 43387 / Revision: 43434
Last Changed Date: 2009-12-04 05:24:31 -0800
wilson1 Linux (openSUSE 11.1) / x86_64  OK  OK 
liverpool Windows Server 2003 R2 (32-bit) / x64  OK  OK  OK 
pitt Mac OS X Tiger (10.4.11) / i386  OK  OK  OK 
pelham Mac OS X Leopard (10.5.8) / i386  OK  OK  OK 
Package 153/354HostnameOS / ArchBUILDCHECKBUILD BIN
goProfiles 1.9.0
Alex Sanchez
Bioconductor Changelog
Last Changed Rev: 42686 / Revision: 43434
Last Changed Date: 2009-10-27 16:45:24 -0700
wilson1 Linux (openSUSE 11.1) / x86_64  OK  OK 
liverpool Windows Server 2003 R2 (32-bit) / x64  OK  OK  OK 
pitt Mac OS X Tiger (10.4.11) / i386  OK  OK  OK 
pelham Mac OS X Leopard (10.5.8) / i386  OK  OK  OK 
Package 154/354HostnameOS / ArchBUILDCHECKBUILD BIN
GOSemSim 1.5.0
Guangchuang Yu
Bioconductor Changelog
Last Changed Rev: 42686 / Revision: 43434
Last Changed Date: 2009-10-27 16:45:24 -0700
wilson1 Linux (openSUSE 11.1) / x86_64  OK  OK 
liverpool Windows Server 2003 R2 (32-bit) / x64  OK  OK  OK 
pitt Mac OS X Tiger (10.4.11) / i386  OK  OK  OK 
pelham Mac OS X Leopard (10.5.8) / i386  OK  OK  OK 
Package 155/354HostnameOS / ArchBUILDCHECKBUILD BIN
GOstats 2.13.0
Robert Gentleman
Bioconductor Changelog
Last Changed Rev: 42686 / Revision: 43434
Last Changed Date: 2009-10-27 16:45:24 -0700
wilson1 Linux (openSUSE 11.1) / x86_64  OK  OK 
liverpool Windows Server 2003 R2 (32-bit) / x64  OK  OK  OK 
pitt Mac OS X Tiger (10.4.11) / i386  OK  OK  OK 
pelham Mac OS X Leopard (10.5.8) / i386  OK  OK  OK 
Package 156/354HostnameOS / ArchBUILDCHECKBUILD BIN
goTools 1.21.0
Agnes Paquet
Bioconductor Changelog
Last Changed Rev: 42686 / Revision: 43434
Last Changed Date: 2009-10-27 16:45:24 -0700
wilson1 Linux (openSUSE 11.1) / x86_64  OK  OK 
liverpool Windows Server 2003 R2 (32-bit) / x64  OK  OK  OK 
pitt Mac OS X Tiger (10.4.11) / i386  OK  OK  OK 
pelham Mac OS X Leopard (10.5.8) / i386  OK  OK  OK 
Package 157/354HostnameOS / ArchBUILDCHECKBUILD BIN
gpls 1.19.0
Biocore Team c/o BioC user list
Bioconductor Changelog
Last Changed Rev: 42686 / Revision: 43434
Last Changed Date: 2009-10-27 16:45:24 -0700
wilson1 Linux (openSUSE 11.1) / x86_64  OK  OK 
liverpool Windows Server 2003 R2 (32-bit) / x64  OK  OK  OK 
pitt Mac OS X Tiger (10.4.11) / i386  OK  OK  OK 
pelham Mac OS X Leopard (10.5.8) / i386  OK  OK  OK 
Package 158/354HostnameOS / ArchBUILDCHECKBUILD BIN
graph 1.25.3
Seth Falcon
Bioconductor Changelog
Last Changed Rev: 43372 / Revision: 43434
Last Changed Date: 2009-12-03 13:01:28 -0800
wilson1 Linux (openSUSE 11.1) / x86_64  OK  OK 
liverpool Windows Server 2003 R2 (32-bit) / x64  OK  WARNINGS  OK 
pitt Mac OS X Tiger (10.4.11) / i386  OK  OK  OK 
pelham Mac OS X Leopard (10.5.8) / i386  OK  OK  OK 
Package 159/354HostnameOS / ArchBUILDCHECKBUILD BIN
GraphAlignment 1.9.0
Joern P. Meier
Bioconductor Changelog
Last Changed Rev: 42686 / Revision: 43434
Last Changed Date: 2009-10-27 16:45:24 -0700
wilson1 Linux (openSUSE 11.1) / x86_64  OK  OK 
liverpool Windows Server 2003 R2 (32-bit) / x64  OK  OK  OK 
pitt Mac OS X Tiger (10.4.11) / i386  OK  OK  OK 
pelham Mac OS X Leopard (10.5.8) / i386  OK  OK  OK 
Package 160/354HostnameOS / ArchBUILDCHECKBUILD BIN
GraphAT 1.19.0
Thomas LaFramboise
Bioconductor Changelog
Last Changed Rev: 42686 / Revision: 43434
Last Changed Date: 2009-10-27 16:45:24 -0700
wilson1 Linux (openSUSE 11.1) / x86_64  OK  OK 
liverpool Windows Server 2003 R2 (32-bit) / x64  OK  OK  OK 
pitt Mac OS X Tiger (10.4.11) / i386  OK  OK  OK 
pelham Mac OS X Leopard (10.5.8) / i386  OK  OK  OK 
Package 161/354HostnameOS / ArchBUILDCHECKBUILD BIN
GSEABase 1.9.0
Biocore Team c/o BioC user list
Bioconductor Changelog
Last Changed Rev: 42686 / Revision: 43434
Last Changed Date: 2009-10-27 16:45:24 -0700
wilson1 Linux (openSUSE 11.1) / x86_64  OK  OK 
liverpool Windows Server 2003 R2 (32-bit) / x64  OK  OK  OK 
pitt Mac OS X Tiger (10.4.11) / i386  OK  OK  OK 
pelham Mac OS X Leopard (10.5.8) / i386  OK  OK  OK 
Package 162/354HostnameOS / ArchBUILDCHECKBUILD BIN
GSEAlm 1.7.1
Assaf Oron
Bioconductor Changelog
Last Changed Rev: 42708 / Revision: 43434
Last Changed Date: 2009-10-28 17:21:03 -0700
wilson1 Linux (openSUSE 11.1) / x86_64  ERROR  skipped 
liverpool Windows Server 2003 R2 (32-bit) / x64  ERROR  skipped  skipped 
pitt Mac OS X Tiger (10.4.11) / i386  ERROR  skipped  skipped 
pelham Mac OS X Leopard (10.5.8) / i386  ERROR  skipped  skipped 
H  A  B  C  D  E  F  G [H] I  J  K  L  M  N  O  P  Q  R  S  T  U  V  W  X  Y  Z 
Package 163/354HostnameOS / ArchBUILDCHECKBUILD BIN
Harshlight 1.17.0
Maurizio Pellegrino
Bioconductor Changelog
Last Changed Rev: 42686 / Revision: 43434
Last Changed Date: 2009-10-27 16:45:24 -0700
wilson1 Linux (openSUSE 11.1) / x86_64  OK  OK 
liverpool Windows Server 2003 R2 (32-bit) / x64  OK  OK  OK 
pitt Mac OS X Tiger (10.4.11) / i386  OK  OK  OK 
pelham Mac OS X Leopard (10.5.8) / i386  OK  OK  OK 
Package 164/354HostnameOS / ArchBUILDCHECKBUILD BIN
Heatplus 1.17.0
Alexander Ploner
Bioconductor Changelog
Last Changed Rev: 42686 / Revision: 43434
Last Changed Date: 2009-10-27 16:45:24 -0700
wilson1 Linux (openSUSE 11.1) / x86_64  OK  OK 
liverpool Windows Server 2003 R2 (32-bit) / x64  OK  OK  OK 
pitt Mac OS X Tiger (10.4.11) / i386  OK  OK  OK 
pelham Mac OS X Leopard (10.5.8) / i386  OK  OK  OK 
Package 165/354HostnameOS / ArchBUILDCHECKBUILD BIN
HELP 1.5.0
Reid F. Thompson
Bioconductor Changelog
Last Changed Rev: 42686 / Revision: 43434
Last Changed Date: 2009-10-27 16:45:24 -0700
wilson1 Linux (openSUSE 11.1) / x86_64  OK  OK 
liverpool Windows Server 2003 R2 (32-bit) / x64  OK  OK  OK 
pitt Mac OS X Tiger (10.4.11) / i386  OK  OK  OK 
pelham Mac OS X Leopard (10.5.8) / i386  OK  OK  OK 
Package 166/354HostnameOS / ArchBUILDCHECKBUILD BIN
HEM 1.19.0
HyungJun Cho
Bioconductor Changelog
Last Changed Rev: 42686 / Revision: 43434
Last Changed Date: 2009-10-27 16:45:24 -0700
wilson1 Linux (openSUSE 11.1) / x86_64  OK  OK 
liverpool Windows Server 2003 R2 (32-bit) / x64  OK  OK  OK 
pitt Mac OS X Tiger (10.4.11) / i386  OK  OK  OK 
pelham Mac OS X Leopard (10.5.8) / i386  OK  OK  OK 
Package 167/354HostnameOS / ArchBUILDCHECKBUILD BIN
hexbin 1.21.0
Nicholas Lewin-Koh
Bioconductor Changelog
Last Changed Rev: 42686 / Revision: 43434
Last Changed Date: 2009-10-27 16:45:24 -0700
wilson1 Linux (openSUSE 11.1) / x86_64  OK  OK 
liverpool Windows Server 2003 R2 (32-bit) / x64  OK  OK  OK 
pitt Mac OS X Tiger (10.4.11) / i386  OK  OK  OK 
pelham Mac OS X Leopard (10.5.8) / i386  OK  OK  OK 
Package 168/354HostnameOS / ArchBUILDCHECKBUILD BIN
HilbertVis 1.5.0
Simon Anders
Bioconductor Changelog
Last Changed Rev: 42686 / Revision: 43434
Last Changed Date: 2009-10-27 16:45:24 -0700
wilson1 Linux (openSUSE 11.1) / x86_64  OK  OK 
liverpool Windows Server 2003 R2 (32-bit) / x64  OK  OK  OK 
pitt Mac OS X Tiger (10.4.11) / i386  OK  OK  OK 
pelham Mac OS X Leopard (10.5.8) / i386  OK  OK  OK 
Package 169/354HostnameOS / ArchBUILDCHECKBUILD BIN
HilbertVisGUI 1.5.0
Simon Anders
Bioconductor Changelog
Last Changed Rev: 42686 / Revision: 43434
Last Changed Date: 2009-10-27 16:45:24 -0700
wilson1 Linux (openSUSE 11.1) / x86_64  OK  OK 
liverpool Windows Server 2003 R2 (32-bit) / x64  OK  WARNINGS  OK 
pitt Mac OS X Tiger (10.4.11) / i386  OK  OK  OK 
pelham Mac OS X Leopard (10.5.8) / i386  OK  OK  OK 
Package 170/354HostnameOS / ArchBUILDCHECKBUILD BIN
hopach 2.7.0
Katherine S. Pollard
Bioconductor Changelog
Last Changed Rev: 42686 / Revision: 43434
Last Changed Date: 2009-10-27 16:45:24 -0700
wilson1 Linux (openSUSE 11.1) / x86_64  OK  OK 
liverpool Windows Server 2003 R2 (32-bit) / x64  OK  OK  OK 
pitt Mac OS X Tiger (10.4.11) / i386  ERROR  skipped  skipped 
pelham Mac OS X Leopard (10.5.8) / i386  ERROR  skipped  skipped 
Package 171/354HostnameOS / ArchBUILDCHECKBUILD BIN
HTqPCR 1.1.0
Heidi Dvinge , Paul Bertone
Bioconductor Changelog
Last Changed Rev: 42686 / Revision: 43434
Last Changed Date: 2009-10-27 16:45:24 -0700
wilson1 Linux (openSUSE 11.1) / x86_64  OK  OK 
liverpool Windows Server 2003 R2 (32-bit) / x64  OK  OK  OK 
pitt Mac OS X Tiger (10.4.11) / i386  OK  OK  OK 
pelham Mac OS X Leopard (10.5.8) / i386  OK  OK  OK 
Package 172/354HostnameOS / ArchBUILDCHECKBUILD BIN
hypergraph 1.19.0
Robert Gentleman
Bioconductor Changelog
Last Changed Rev: 42686 / Revision: 43434
Last Changed Date: 2009-10-27 16:45:24 -0700
wilson1 Linux (openSUSE 11.1) / x86_64  OK  OK 
liverpool Windows Server 2003 R2 (32-bit) / x64  OK  OK  OK 
pitt Mac OS X Tiger (10.4.11) / i386  OK  OK  OK 
pelham Mac OS X Leopard (10.5.8) / i386  OK  OK  OK 
I  A  B  C  D  E  F  G  H [I] J  K  L  M  N  O  P  Q  R  S  T  U  V  W  X  Y  Z 
Package 173/354HostnameOS / ArchBUILDCHECKBUILD BIN
Icens 1.19.0
Biocore Team c/o BioC user list
Bioconductor Changelog
Last Changed Rev: 42686 / Revision: 43434
Last Changed Date: 2009-10-27 16:45:24 -0700
wilson1 Linux (openSUSE 11.1) / x86_64  OK  OK 
liverpool Windows Server 2003 R2 (32-bit) / x64  OK  OK  OK 
pitt Mac OS X Tiger (10.4.11) / i386  OK  OK  OK 
pelham Mac OS X Leopard (10.5.8) / i386  OK  OK  OK 
Package 174/354HostnameOS / ArchBUILDCHECKBUILD BIN
idiogram 1.23.0
Karl J. Dykema
Bioconductor Changelog
Last Changed Rev: 42686 / Revision: 43434
Last Changed Date: 2009-10-27 16:45:24 -0700
wilson1 Linux (openSUSE 11.1) / x86_64  OK  OK 
liverpool Windows Server 2003 R2 (32-bit) / x64  OK  OK  OK 
pitt Mac OS X Tiger (10.4.11) / i386  OK  OK  OK 
pelham Mac OS X Leopard (10.5.8) / i386  OK  OK  OK 
Package 175/354HostnameOS / ArchBUILDCHECKBUILD BIN
impute 1.21.0
Balasubramanian Narasimhan
Bioconductor Changelog
Last Changed Rev: 42686 / Revision: 43434
Last Changed Date: 2009-10-27 16:45:24 -0700
wilson1 Linux (openSUSE 11.1) / x86_64  OK  OK 
liverpool Windows Server 2003 R2 (32-bit) / x64  OK  OK  OK 
pitt Mac OS X Tiger (10.4.11) / i386  OK  OK  OK 
pelham Mac OS X Leopard (10.5.8) / i386  OK  OK  OK 
Package 176/354HostnameOS / ArchBUILDCHECKBUILD BIN
IRanges 1.5.16
Biocore Team c/o BioC user list
Bioconductor Changelog
Last Changed Rev: 43434 / Revision: 43434
Last Changed Date: 2009-12-07 09:57:18 -0800
wilson1 Linux (openSUSE 11.1) / x86_64  OK  WARNINGS 
liverpool Windows Server 2003 R2 (32-bit) / x64  OK  WARNINGS  OK 
pitt Mac OS X Tiger (10.4.11) / i386  OK  WARNINGS  OK 
pelham Mac OS X Leopard (10.5.8) / i386  OK  WARNINGS  OK 
Package 177/354HostnameOS / ArchBUILDCHECKBUILD BIN
ITALICS 2.7.0
Guillem Rigaill
Bioconductor Changelog
Last Changed Rev: 42686 / Revision: 43434
Last Changed Date: 2009-10-27 16:45:24 -0700
wilson1 Linux (openSUSE 11.1) / x86_64  OK  OK 
liverpool Windows Server 2003 R2 (32-bit) / x64  OK  OK  OK 
pitt Mac OS X Tiger (10.4.11) / i386  OK  OK  OK 
pelham Mac OS X Leopard (10.5.8) / i386  OK  OK  OK 
Package 178/354HostnameOS / ArchBUILDCHECKBUILD BIN
iterativeBMA 1.5.0
Ka Yee Yeung
Bioconductor Changelog
Last Changed Rev: 42686 / Revision: 43434
Last Changed Date: 2009-10-27 16:45:24 -0700
wilson1 Linux (openSUSE 11.1) / x86_64  OK  OK 
liverpool Windows Server 2003 R2 (32-bit) / x64  OK  OK  OK 
pitt Mac OS X Tiger (10.4.11) / i386  OK  OK  OK 
pelham Mac OS X Leopard (10.5.8) / i386  OK  OK  OK 
Package 179/354HostnameOS / ArchBUILDCHECKBUILD BIN
iterativeBMAsurv 1.5.0
Ka Yee Yeung
Bioconductor Changelog
Last Changed Rev: 42686 / Revision: 43434
Last Changed Date: 2009-10-27 16:45:24 -0700
wilson1 Linux (openSUSE 11.1) / x86_64  OK  OK 
liverpool Windows Server 2003 R2 (32-bit) / x64  OK  OK  OK 
pitt Mac OS X Tiger (10.4.11) / i386  OK  OK  OK 
pelham Mac OS X Leopard (10.5.8) / i386  OK  OK  OK 
K  A  B  C  D  E  F  G  H  I  J [K] L  M  N  O  P  Q  R  S  T  U  V  W  X  Y  Z 
Package 180/354HostnameOS / ArchBUILDCHECKBUILD BIN
KCsmart 2.5.1
Jorma de Ronde
Bioconductor Changelog
Last Changed Rev: 43274 / Revision: 43434
Last Changed Date: 2009-11-26 08:01:16 -0800
wilson1 Linux (openSUSE 11.1) / x86_64  OK  OK 
liverpool Windows Server 2003 R2 (32-bit) / x64  OK  OK  OK 
pitt Mac OS X Tiger (10.4.11) / i386  OK  OK  OK 
pelham Mac OS X Leopard (10.5.8) / i386  OK  OK  OK 
Package 181/354HostnameOS / ArchBUILDCHECKBUILD BIN
KEGGgraph 1.3.1
Jitao David Zhang
Bioconductor Changelog
Last Changed Rev: 43221 / Revision: 43434
Last Changed Date: 2009-11-23 10:14:38 -0800
wilson1 Linux (openSUSE 11.1) / x86_64  OK  OK 
liverpool Windows Server 2003 R2 (32-bit) / x64  OK  OK  OK 
pitt Mac OS X Tiger (10.4.11) / i386  OK  OK  OK 
pelham Mac OS X Leopard (10.5.8) / i386  OK  OK  OK 
Package 182/354HostnameOS / ArchBUILDCHECKBUILD BIN
keggorth 1.9.0
VJ Carey
Bioconductor Changelog
Last Changed Rev: 42686 / Revision: 43434
Last Changed Date: 2009-10-27 16:45:24 -0700
wilson1 Linux (openSUSE 11.1) / x86_64  OK  OK 
liverpool Windows Server 2003 R2 (32-bit) / x64  OK  OK  OK 
pitt Mac OS X Tiger (10.4.11) / i386  OK  OK  OK 
pelham Mac OS X Leopard (10.5.8) / i386  OK  OK  OK 
Package 183/354HostnameOS / ArchBUILDCHECKBUILD BIN
KEGGSOAP 1.21.0
Robert Gentleman
Bioconductor Changelog
Last Changed Rev: 42686 / Revision: 43434
Last Changed Date: 2009-10-27 16:45:24 -0700
wilson1 Linux (openSUSE 11.1) / x86_64  OK  OK 
liverpool Windows Server 2003 R2 (32-bit) / x64  OK  OK  OK 
pitt Mac OS X Tiger (10.4.11) / i386  OK  OK  OK 
pelham Mac OS X Leopard (10.5.8) / i386  OK  OK  OK 
L  A  B  C  D  E  F  G  H  I  J  K [L] M  N  O  P  Q  R  S  T  U  V  W  X  Y  Z 
Package 184/354HostnameOS / ArchBUILDCHECKBUILD BIN
lapmix 1.13.0
Yann Ruffieux
Bioconductor Changelog
Last Changed Rev: 42686 / Revision: 43434
Last Changed Date: 2009-10-27 16:45:24 -0700
wilson1 Linux (openSUSE 11.1) / x86_64  OK  OK 
liverpool Windows Server 2003 R2 (32-bit) / x64  OK  OK  OK 
pitt Mac OS X Tiger (10.4.11) / i386  OK  OK  OK 
pelham Mac OS X Leopard (10.5.8) / i386  OK  OK  OK 
Package 185/354HostnameOS / ArchBUILDCHECKBUILD BIN
LBE 1.15.0
Cyril Dalmasso
Bioconductor Changelog
Last Changed Rev: 42686 / Revision: 43434
Last Changed Date: 2009-10-27 16:45:24 -0700
wilson1 Linux (openSUSE 11.1) / x86_64  OK  OK 
liverpool Windows Server 2003 R2 (32-bit) / x64  OK  OK  OK 
pitt Mac OS X Tiger (10.4.11) / i386  OK  OK  OK 
pelham Mac OS X Leopard (10.5.8) / i386  OK  OK  OK 
Package 186/354HostnameOS / ArchBUILDCHECKBUILD BIN
limma 3.3.2
Gordon Smyth
Bioconductor Changelog
Last Changed Rev: 43423 / Revision: 43434
Last Changed Date: 2009-12-06 21:09:31 -0800
wilson1 Linux (openSUSE 11.1) / x86_64  OK  OK 
liverpool Windows Server 2003 R2 (32-bit) / x64  OK  OK  OK 
pitt Mac OS X Tiger (10.4.11) / i386  OK  OK  OK 
pelham Mac OS X Leopard (10.5.8) / i386  OK  OK  OK 
Package 187/354HostnameOS / ArchBUILDCHECKBUILD BIN
limmaGUI 1.23.0
Keith Satterley
Bioconductor Changelog
Last Changed Rev: 42686 / Revision: 43434
Last Changed Date: 2009-10-27 16:45:24 -0700
wilson1 Linux (openSUSE 11.1) / x86_64  OK  OK 
liverpool Windows Server 2003 R2 (32-bit) / x64  OK  OK  OK 
pitt Mac OS X Tiger (10.4.11) / i386  OK  ERROR  OK 
pelham Mac OS X Leopard (10.5.8) / i386  OK  OK  OK 
Package 188/354HostnameOS / ArchBUILDCHECKBUILD BIN
LiquidAssociation 1.1.0
Yen-Yi Ho
Bioconductor Changelog
Last Changed Rev: 42686 / Revision: 43434
Last Changed Date: 2009-10-27 16:45:24 -0700
wilson1 Linux (openSUSE 11.1) / x86_64  OK  OK 
liverpool Windows Server 2003 R2 (32-bit) / x64  OK  OK  OK 
pitt Mac OS X Tiger (10.4.11) / i386  OK  OK  OK 
pelham Mac OS X Leopard (10.5.8) / i386  OK  OK  OK 
Package 189/354HostnameOS / ArchBUILDCHECKBUILD BIN
LMGene 1.17.0
John Tillinghast
Bioconductor Changelog
Last Changed Rev: 42686 / Revision: 43434
Last Changed Date: 2009-10-27 16:45:24 -0700
wilson1 Linux (openSUSE 11.1) / x86_64  OK  OK 
liverpool Windows Server 2003 R2 (32-bit) / x64  OK  OK  OK 
pitt Mac OS X Tiger (10.4.11) / i386  OK  OK  OK 
pelham Mac OS X Leopard (10.5.8) / i386  OK  OK  OK 
Package 190/354HostnameOS / ArchBUILDCHECKBUILD BIN
logicFS 1.17.0
Holger Schwender
Bioconductor Changelog
Last Changed Rev: 42686 / Revision: 43434
Last Changed Date: 2009-10-27 16:45:24 -0700
wilson1 Linux (openSUSE 11.1) / x86_64  OK  OK 
liverpool Windows Server 2003 R2 (32-bit) / x64  OK  OK  OK 
pitt Mac OS X Tiger (10.4.11) / i386  OK  OK  OK 
pelham Mac OS X Leopard (10.5.8) / i386  OK  OK  OK 
Package 191/354HostnameOS / ArchBUILDCHECKBUILD BIN
logitT 1.5.0
Tobias Guennel
Bioconductor Changelog
Last Changed Rev: 42686 / Revision: 43434
Last Changed Date: 2009-10-27 16:45:24 -0700
wilson1 Linux (openSUSE 11.1) / x86_64  OK  OK 
liverpool Windows Server 2003 R2 (32-bit) / x64  OK  OK  OK 
pitt Mac OS X Tiger (10.4.11) / i386  OK  OK  OK 
pelham Mac OS X Leopard (10.5.8) / i386  OK  OK  OK 
Package 192/354HostnameOS / ArchBUILDCHECKBUILD BIN
LPE 1.21.0
Nitin Jain
Bioconductor Changelog
Last Changed Rev: 42686 / Revision: 43434
Last Changed Date: 2009-10-27 16:45:24 -0700
wilson1 Linux (openSUSE 11.1) / x86_64  OK  OK 
liverpool Windows Server 2003 R2 (32-bit) / x64  OK  OK  OK 
pitt Mac OS X Tiger (10.4.11) / i386  OK  OK  OK 
pelham Mac OS X Leopard (10.5.8) / i386  OK  OK  OK 
Package 193/354HostnameOS / ArchBUILDCHECKBUILD BIN
LPEadj 1.7.0
Carl Murie
Bioconductor Changelog
Last Changed Rev: 42686 / Revision: 43434
Last Changed Date: 2009-10-27 16:45:24 -0700
wilson1 Linux (openSUSE 11.1) / x86_64  OK  OK 
liverpool Windows Server 2003 R2 (32-bit) / x64  OK  OK  OK 
pitt Mac OS X Tiger (10.4.11) / i386  OK  OK  OK 
pelham Mac OS X Leopard (10.5.8) / i386  OK  OK  OK 
Package 194/354HostnameOS / ArchBUILDCHECKBUILD BIN
lumi 1.13.4
Pan Du
Bioconductor Changelog
Last Changed Rev: 43406 / Revision: 43434
Last Changed Date: 2009-12-04 21:04:33 -0800
wilson1 Linux (openSUSE 11.1) / x86_64  OK  OK 
liverpool Windows Server 2003 R2 (32-bit) / x64  OK  OK  OK 
pitt Mac OS X Tiger (10.4.11) / i386  OK  OK  OK 
pelham Mac OS X Leopard (10.5.8) / i386  OK  OK  OK 
M  A  B  C  D  E  F  G  H  I  J  K  L [M] N  O  P  Q  R  S  T  U  V  W  X  Y  Z 
Package 195/354HostnameOS / ArchBUILDCHECKBUILD BIN
maanova 1.17.0
Keith Sheppard
Bioconductor Changelog
Last Changed Rev: 42686 / Revision: 43434
Last Changed Date: 2009-10-27 16:45:24 -0700
wilson1 Linux (openSUSE 11.1) / x86_64  OK  OK 
liverpool Windows Server 2003 R2 (32-bit) / x64  OK  OK  OK 
pitt Mac OS X Tiger (10.4.11) / i386  OK  OK  OK 
pelham Mac OS X Leopard (10.5.8) / i386  OK  OK  OK 
Package 196/354HostnameOS / ArchBUILDCHECKBUILD BIN
macat 1.21.0
Joern Toedling
Bioconductor Changelog
Last Changed Rev: 42686 / Revision: 43434
Last Changed Date: 2009-10-27 16:45:24 -0700
wilson1 Linux (openSUSE 11.1) / x86_64  OK  OK 
liverpool Windows Server 2003 R2 (32-bit) / x64  OK  OK  OK 
pitt Mac OS X Tiger (10.4.11) / i386  OK  OK  OK 
pelham Mac OS X Leopard (10.5.8) / i386  OK  OK  OK 
Package 197/354HostnameOS / ArchBUILDCHECKBUILD BIN
maCorrPlot 1.17.0
Alexander Ploner
Bioconductor Changelog
Last Changed Rev: 42686 / Revision: 43434
Last Changed Date: 2009-10-27 16:45:24 -0700
wilson1 Linux (openSUSE 11.1) / x86_64  OK  OK 
liverpool Windows Server 2003 R2 (32-bit) / x64  OK  OK  OK 
pitt Mac OS X Tiger (10.4.11) / i386  OK  OK  OK 
pelham Mac OS X Leopard (10.5.8) / i386  OK  OK  OK 
Package 198/354HostnameOS / ArchBUILDCHECKBUILD BIN
maDB 1.19.0
Johannes Rainer
Bioconductor Changelog
Last Changed Rev: 42686 / Revision: 43434
Last Changed Date: 2009-10-27 16:45:24 -0700
wilson1 Linux (openSUSE 11.1) / x86_64  OK  OK 
liverpool Windows Server 2003 R2 (32-bit) / x64 N O T   S U P P O R T E D
pitt Mac OS X Tiger (10.4.11) / i386  OK  OK  OK 
pelham Mac OS X Leopard (10.5.8) / i386  OK  OK  OK 
Package 199/354HostnameOS / ArchBUILDCHECKBUILD BIN
made4 1.21.0
Aedin Culhane
Bioconductor Changelog
Last Changed Rev: 42686 / Revision: 43434
Last Changed Date: 2009-10-27 16:45:24 -0700
wilson1 Linux (openSUSE 11.1) / x86_64  OK  OK 
liverpool Windows Server 2003 R2 (32-bit) / x64  OK  OK  OK 
pitt Mac OS X Tiger (10.4.11) / i386  OK  OK  OK 
pelham Mac OS X Leopard (10.5.8) / i386  OK  OK  OK 
Package 200/354HostnameOS / ArchBUILDCHECKBUILD BIN
maigesPack 1.11.0
Gustavo H. Esteves
Bioconductor Changelog
Last Changed Rev: 42686 / Revision: 43434
Last Changed Date: 2009-10-27 16:45:24 -0700
wilson1 Linux (openSUSE 11.1) / x86_64  OK  OK 
liverpool Windows Server 2003 R2 (32-bit) / x64  OK  OK  OK 
pitt Mac OS X Tiger (10.4.11) / i386  OK  OK  OK 
pelham Mac OS X Leopard (10.5.8) / i386  OK  OK  OK 
Package 201/354HostnameOS / ArchBUILDCHECKBUILD BIN
makecdfenv 1.25.1
James W. MacDonald
Bioconductor Changelog
Last Changed Rev: 43325 / Revision: 43434
Last Changed Date: 2009-12-01 08:30:09 -0800
wilson1 Linux (openSUSE 11.1) / x86_64  OK  OK 
liverpool Windows Server 2003 R2 (32-bit) / x64  OK  OK  OK 
pitt Mac OS X Tiger (10.4.11) / i386  OK  OK  OK 
pelham Mac OS X Leopard (10.5.8) / i386  OK  OK  OK 
Package 202/354HostnameOS / ArchBUILDCHECKBUILD BIN
makePlatformDesign 1.11.0
Benilton Carvalho
Bioconductor Changelog
Last Changed Rev: 42686 / Revision: 43434
Last Changed Date: 2009-10-27 16:45:24 -0700
wilson1 Linux (openSUSE 11.1) / x86_64  OK  OK 
liverpool Windows Server 2003 R2 (32-bit) / x64  OK  OK  OK 
pitt Mac OS X Tiger (10.4.11) / i386  OK  OK  OK 
pelham Mac OS X Leopard (10.5.8) / i386  OK  OK  OK 
Package 203/354HostnameOS / ArchBUILDCHECKBUILD BIN
MANOR 1.19.0
Pierre Neuvial
Bioconductor Changelog
Last Changed Rev: 42686 / Revision: 43434
Last Changed Date: 2009-10-27 16:45:24 -0700
wilson1 Linux (openSUSE 11.1) / x86_64  OK  OK 
liverpool Windows Server 2003 R2 (32-bit) / x64  OK  OK  OK 
pitt Mac OS X Tiger (10.4.11) / i386  OK  OK  OK 
pelham Mac OS X Leopard (10.5.8) / i386  OK  OK  OK 
Package 204/354HostnameOS / ArchBUILDCHECKBUILD BIN
MantelCorr 1.17.0
Brian Steinmeyer
Bioconductor Changelog
Last Changed Rev: 42686 / Revision: 43434
Last Changed Date: 2009-10-27 16:45:24 -0700
wilson1 Linux (openSUSE 11.1) / x86_64  OK  OK 
liverpool Windows Server 2003 R2 (32-bit) / x64  OK  OK  OK 
pitt Mac OS X Tiger (10.4.11) / i386  OK  OK  OK 
pelham Mac OS X Leopard (10.5.8) / i386  OK  OK  OK 
Package 205/354HostnameOS / ArchBUILDCHECKBUILD BIN
marray 1.25.0
Yee Hwa (Jean) Yang
Bioconductor Changelog
Last Changed Rev: 42686 / Revision: 43434
Last Changed Date: 2009-10-27 16:45:24 -0700
wilson1 Linux (openSUSE 11.1) / x86_64  OK  OK 
liverpool Windows Server 2003 R2 (32-bit) / x64  OK  OK  OK 
pitt Mac OS X Tiger (10.4.11) / i386  OK  OK  OK 
pelham Mac OS X Leopard (10.5.8) / i386  OK  OK  OK 
Package 206/354HostnameOS / ArchBUILDCHECKBUILD BIN
maSigPro 1.19.0
Ana Conesa
Bioconductor Changelog
Last Changed Rev: 42686 / Revision: 43434
Last Changed Date: 2009-10-27 16:45:24 -0700
wilson1 Linux (openSUSE 11.1) / x86_64  OK  OK 
liverpool Windows Server 2003 R2 (32-bit) / x64  OK  OK  OK 
pitt Mac OS X Tiger (10.4.11) / i386  OK  OK  OK 
pelham Mac OS X Leopard (10.5.8) / i386  OK  OK  OK 
Package 207/354HostnameOS / ArchBUILDCHECKBUILD BIN
MassSpecWavelet 1.13.0
Pan Du
Bioconductor Changelog
Last Changed Rev: 42686 / Revision: 43434
Last Changed Date: 2009-10-27 16:45:24 -0700
wilson1 Linux (openSUSE 11.1) / x86_64  OK  OK 
liverpool Windows Server 2003 R2 (32-bit) / x64  OK  OK  OK 
pitt Mac OS X Tiger (10.4.11) / i386  OK  OK  OK 
pelham Mac OS X Leopard (10.5.8) / i386  OK  OK  OK 
Package 208/354HostnameOS / ArchBUILDCHECKBUILD BIN
matchprobes 1.19.0
Biocore Team c/o BioC user list
Bioconductor Changelog
Last Changed Rev: 42686 / Revision: 43434
Last Changed Date: 2009-10-27 16:45:24 -0700
wilson1 Linux (openSUSE 11.1) / x86_64  OK  OK 
liverpool Windows Server 2003 R2 (32-bit) / x64  OK  OK  OK 
pitt Mac OS X Tiger (10.4.11) / i386  OK  OK  OK 
pelham Mac OS X Leopard (10.5.8) / i386  OK  OK  OK 
Package 209/354HostnameOS / ArchBUILDCHECKBUILD BIN
mBPCR 1.1.0
P.M.V. Rancoita
Bioconductor Changelog
Last Changed Rev: 42686 / Revision: 43434
Last Changed Date: 2009-10-27 16:45:24 -0700
wilson1 Linux (openSUSE 11.1) / x86_64  ERROR  skipped 
liverpool Windows Server 2003 R2 (32-bit) / x64  ERROR  skipped  skipped 
pitt Mac OS X Tiger (10.4.11) / i386  ERROR  skipped  skipped 
pelham Mac OS X Leopard (10.5.8) / i386  ERROR  skipped  skipped 
Package 210/354HostnameOS / ArchBUILDCHECKBUILD BIN
MCRestimate 2.3.0
Marc Johannes
Bioconductor Changelog
Last Changed Rev: 42686 / Revision: 43434
Last Changed Date: 2009-10-27 16:45:24 -0700
wilson1 Linux (openSUSE 11.1) / x86_64  OK  OK 
liverpool Windows Server 2003 R2 (32-bit) / x64  OK  OK  OK 
pitt Mac OS X Tiger (10.4.11) / i386  OK  OK  OK 
pelham Mac OS X Leopard (10.5.8) / i386  OK  OK  OK 
Package 211/354HostnameOS / ArchBUILDCHECKBUILD BIN
mdqc 1.9.0
Gabriela Cohen-Freue
Bioconductor Changelog
Last Changed Rev: 42686 / Revision: 43434
Last Changed Date: 2009-10-27 16:45:24 -0700
wilson1 Linux (openSUSE 11.1) / x86_64  OK  OK 
liverpool Windows Server 2003 R2 (32-bit) / x64  OK  OK  OK 
pitt Mac OS X Tiger (10.4.11) / i386  OK  OK  OK 
pelham Mac OS X Leopard (10.5.8) / i386  OK  OK  OK 
Package 212/354HostnameOS / ArchBUILDCHECKBUILD BIN
MeasurementError.cor 1.19.0
Beiying Ding
Bioconductor Changelog
Last Changed Rev: 42686 / Revision: 43434
Last Changed Date: 2009-10-27 16:45:24 -0700
wilson1 Linux (openSUSE 11.1) / x86_64  OK  OK 
liverpool Windows Server 2003 R2 (32-bit) / x64  OK  OK  OK 
pitt Mac OS X Tiger (10.4.11) / i386  OK  OK  OK 
pelham Mac OS X Leopard (10.5.8) / i386  OK  OK  OK 
Package 213/354HostnameOS / ArchBUILDCHECKBUILD BIN
MEDME 1.7.0
Mattia Pelizzola
Bioconductor Changelog
Last Changed Rev: 42686 / Revision: 43434
Last Changed Date: 2009-10-27 16:45:24 -0700
wilson1 Linux (openSUSE 11.1) / x86_64  OK  OK 
liverpool Windows Server 2003 R2 (32-bit) / x64  OK  OK  OK 
pitt Mac OS X Tiger (10.4.11) / i386  OK  OK  OK 
pelham Mac OS X Leopard (10.5.8) / i386  OK  OK  OK 
Package 214/354HostnameOS / ArchBUILDCHECKBUILD BIN
MergeMaid 2.19.0
Xiaogang Zhong
Bioconductor Changelog
Last Changed Rev: 42686 / Revision: 43434
Last Changed Date: 2009-10-27 16:45:24 -0700
wilson1 Linux (openSUSE 11.1) / x86_64  OK  OK 
liverpool Windows Server 2003 R2 (32-bit) / x64  OK  OK  OK 
pitt Mac OS X Tiger (10.4.11) / i386  OK  OK  OK 
pelham Mac OS X Leopard (10.5.8) / i386  OK  OK  OK 
Package 215/354HostnameOS / ArchBUILDCHECKBUILD BIN
metaArray 1.23.0
Hyungwon Choi
Bioconductor Changelog
Last Changed Rev: 42686 / Revision: 43434
Last Changed Date: 2009-10-27 16:45:24 -0700
wilson1 Linux (openSUSE 11.1) / x86_64  OK  OK 
liverpool Windows Server 2003 R2 (32-bit) / x64  OK  OK  OK 
pitt Mac OS X Tiger (10.4.11) / i386  OK  OK  OK 
pelham Mac OS X Leopard (10.5.8) / i386  OK  OK  OK 
Package 216/354HostnameOS / ArchBUILDCHECKBUILD BIN
metahdep 1.5.0
John R. Stevens
Bioconductor Changelog
Last Changed Rev: 42686 / Revision: 43434
Last Changed Date: 2009-10-27 16:45:24 -0700
wilson1 Linux (openSUSE 11.1) / x86_64  OK  OK 
liverpool Windows Server 2003 R2 (32-bit) / x64  OK  OK  OK 
pitt Mac OS X Tiger (10.4.11) / i386  OK  OK  OK 
pelham Mac OS X Leopard (10.5.8) / i386  OK  OK  OK 
Package 217/354HostnameOS / ArchBUILDCHECKBUILD BIN
methylumi 1.1.0
Sean Davis
Bioconductor Changelog
Last Changed Rev: 42686 / Revision: 43434
Last Changed Date: 2009-10-27 16:45:24 -0700
wilson1 Linux (openSUSE 11.1) / x86_64  OK  OK 
liverpool Windows Server 2003 R2 (32-bit) / x64  OK  OK  OK 
pitt Mac OS X Tiger (10.4.11) / i386  OK  OK  OK 
pelham Mac OS X Leopard (10.5.8) / i386  OK  OK  OK 
Package 218/354HostnameOS / ArchBUILDCHECKBUILD BIN
Mfuzz 2.5.0
Matthias Futschik
Bioconductor Changelog
Last Changed Rev: 42686 / Revision: 43434
Last Changed Date: 2009-10-27 16:45:24 -0700
wilson1 Linux (openSUSE 11.1) / x86_64  OK  OK 
liverpool Windows Server 2003 R2 (32-bit) / x64  OK  OK  OK 
pitt Mac OS X Tiger (10.4.11) / i386  OK  OK  OK 
pelham Mac OS X Leopard (10.5.8) / i386  OK  OK  OK 
Package 219/354HostnameOS / ArchBUILDCHECKBUILD BIN
MiChip 1.1.0
Jonathon Blake
Bioconductor Changelog
Last Changed Rev: 42686 / Revision: 43434
Last Changed Date: 2009-10-27 16:45:24 -0700
wilson1 Linux (openSUSE 11.1) / x86_64  OK  OK 
liverpool Windows Server 2003 R2 (32-bit) / x64  OK  OK  OK 
pitt Mac OS X Tiger (10.4.11) / i386  OK  OK  OK 
pelham Mac OS X Leopard (10.5.8) / i386  OK  OK  OK 
Package 220/354HostnameOS / ArchBUILDCHECKBUILD BIN
microRNA 1.5.1
Chao-Jen Wong
Bioconductor Changelog
Last Changed Rev: 43307 / Revision: 43434
Last Changed Date: 2009-11-30 17:41:17 -0800
wilson1 Linux (openSUSE 11.1) / x86_64  OK  OK 
liverpool Windows Server 2003 R2 (32-bit) / x64  OK  ERROR  ERROR 
pitt Mac OS X Tiger (10.4.11) / i386  OK  OK  OK 
pelham Mac OS X Leopard (10.5.8) / i386  OK  OK  OK 
Package 221/354HostnameOS / ArchBUILDCHECKBUILD BIN
minet 2.2.1
Patrick E. Meyer
Bioconductor Changelog
Last Changed Rev: 43257 / Revision: 43434
Last Changed Date: 2009-11-25 06:54:59 -0800
wilson1 Linux (openSUSE 11.1) / x86_64  OK  OK 
liverpool Windows Server 2003 R2 (32-bit) / x64  OK  OK  OK 
pitt Mac OS X Tiger (10.4.11) / i386  OK  OK  OK 
pelham Mac OS X Leopard (10.5.8) / i386  OK  OK  OK 
Package 222/354HostnameOS / ArchBUILDCHECKBUILD BIN
MiPP 1.19.0
Sukwoo Kim
Bioconductor Changelog
Last Changed Rev: 42686 / Revision: 43434
Last Changed Date: 2009-10-27 16:45:24 -0700
wilson1 Linux (openSUSE 11.1) / x86_64  OK  OK 
liverpool Windows Server 2003 R2 (32-bit) / x64  OK  OK  OK 
pitt Mac OS X Tiger (10.4.11) / i386  OK  OK  OK 
pelham Mac OS X Leopard (10.5.8) / i386  OK  OK  OK 
Package 223/354HostnameOS / ArchBUILDCHECKBUILD BIN
miRNApath 1.7.0
James M. Ward
Bioconductor Changelog
Last Changed Rev: 42686 / Revision: 43434
Last Changed Date: 2009-10-27 16:45:24 -0700
wilson1 Linux (openSUSE 11.1) / x86_64  OK  OK 
liverpool Windows Server 2003 R2 (32-bit) / x64  OK  OK  OK 
pitt Mac OS X Tiger (10.4.11) / i386  OK  OK  OK 
pelham Mac OS X Leopard (10.5.8) / i386  OK  OK  OK 
Package 224/354HostnameOS / ArchBUILDCHECKBUILD BIN
MLInterfaces 1.27.0
V. Carey
Bioconductor Changelog
Last Changed Rev: 42686 / Revision: 43434
Last Changed Date: 2009-10-27 16:45:24 -0700
wilson1 Linux (openSUSE 11.1) / x86_64  OK  ERROR 
liverpool Windows Server 2003 R2 (32-bit) / x64  OK  ERROR  OK 
pitt Mac OS X Tiger (10.4.11) / i386  OK  ERROR  OK 
pelham Mac OS X Leopard (10.5.8) / i386  OK  ERROR  OK 
Package 225/354HostnameOS / ArchBUILDCHECKBUILD BIN
multiscan 1.7.0
Mizanur Khondoker
Bioconductor Changelog
Last Changed Rev: 42686 / Revision: 43434
Last Changed Date: 2009-10-27 16:45:24 -0700
wilson1 Linux (openSUSE 11.1) / x86_64  OK  OK 
liverpool Windows Server 2003 R2 (32-bit) / x64  OK  OK  OK 
pitt Mac OS X Tiger (10.4.11) / i386  OK  OK  OK 
pelham Mac OS X Leopard (10.5.8) / i386  OK  OK  OK 
Package 226/354HostnameOS / ArchBUILDCHECKBUILD BIN
multtest 2.3.0
Katherine S. Pollard
Bioconductor Changelog
Last Changed Rev: 42686 / Revision: 43434
Last Changed Date: 2009-10-27 16:45:24 -0700
wilson1 Linux (openSUSE 11.1) / x86_64  OK  OK 
liverpool Windows Server 2003 R2 (32-bit) / x64  OK  OK  OK 
pitt Mac OS X Tiger (10.4.11) / i386  OK  OK  OK 
pelham Mac OS X Leopard (10.5.8) / i386  OK  OK  OK 
Package 227/354HostnameOS / ArchBUILDCHECKBUILD BIN
MVCClass 1.21.0
Elizabeth Whalen
Bioconductor Changelog
Last Changed Rev: 42686 / Revision: 43434
Last Changed Date: 2009-10-27 16:45:24 -0700
wilson1 Linux (openSUSE 11.1) / x86_64  OK  OK 
liverpool Windows Server 2003 R2 (32-bit) / x64  OK  OK  OK 
pitt Mac OS X Tiger (10.4.11) / i386  OK  OK  OK 
pelham Mac OS X Leopard (10.5.8) / i386  OK  OK  OK 
N  A  B  C  D  E  F  G  H  I  J  K  L  M [N] O  P  Q  R  S  T  U  V  W  X  Y  Z 
Package 228/354HostnameOS / ArchBUILDCHECKBUILD BIN
nem 2.11.0
Christian Bender
Bioconductor Changelog
Last Changed Rev: 42686 / Revision: 43434
Last Changed Date: 2009-10-27 16:45:24 -0700
wilson1 Linux (openSUSE 11.1) / x86_64  OK  OK 
liverpool Windows Server 2003 R2 (32-bit) / x64  OK  OK  OK 
pitt Mac OS X Tiger (10.4.11) / i386  OK  OK  OK 
pelham Mac OS X Leopard (10.5.8) / i386  OK  OK  OK 
Package 229/354HostnameOS / ArchBUILDCHECKBUILD BIN
nnNorm 2.11.0
Adi Laurentiu Tarca
Bioconductor Changelog
Last Changed Rev: 42686 / Revision: 43434
Last Changed Date: 2009-10-27 16:45:24 -0700
wilson1 Linux (openSUSE 11.1) / x86_64  OK  OK 
liverpool Windows Server 2003 R2 (32-bit) / x64  OK  OK  OK 
pitt Mac OS X Tiger (10.4.11) / i386  OK  WARNINGS  OK 
pelham Mac OS X Leopard (10.5.8) / i386  OK  WARNINGS  OK 
Package 230/354HostnameOS / ArchBUILDCHECKBUILD BIN
nudge 1.13.0
N. Dean
Bioconductor Changelog
Last Changed Rev: 42686 / Revision: 43434
Last Changed Date: 2009-10-27 16:45:24 -0700
wilson1 Linux (openSUSE 11.1) / x86_64  OK  OK 
liverpool Windows Server 2003 R2 (32-bit) / x64  OK  OK  OK 
pitt Mac OS X Tiger (10.4.11) / i386  OK  OK  OK 
pelham Mac OS X Leopard (10.5.8) / i386  OK  OK  OK 
O  A  B  C  D  E  F  G  H  I  J  K  L  M  N [O] P  Q  R  S  T  U  V  W  X  Y  Z 
Package 231/354HostnameOS / ArchBUILDCHECKBUILD BIN
occugene 1.7.0
Oliver Will
Bioconductor Changelog
Last Changed Rev: 42686 / Revision: 43434
Last Changed Date: 2009-10-27 16:45:24 -0700
wilson1 Linux (openSUSE 11.1) / x86_64  OK  OK 
liverpool Windows Server 2003 R2 (32-bit) / x64  OK  OK  OK 
pitt Mac OS X Tiger (10.4.11) / i386  OK  OK  OK 
pelham Mac OS X Leopard (10.5.8) / i386  OK  OK  OK 
Package 232/354HostnameOS / ArchBUILDCHECKBUILD BIN
OCplus 1.21.0
Alexander Ploner
Bioconductor Changelog
Last Changed Rev: 42686 / Revision: 43434
Last Changed Date: 2009-10-27 16:45:24 -0700
wilson1 Linux (openSUSE 11.1) / x86_64  OK  OK 
liverpool Windows Server 2003 R2 (32-bit) / x64  OK  OK  OK 
pitt Mac OS X Tiger (10.4.11) / i386  OK  OK  OK 
pelham Mac OS X Leopard (10.5.8) / i386  OK  OK  OK 
Package 233/354HostnameOS / ArchBUILDCHECKBUILD BIN
oligo 1.11.9
Benilton Carvalho
Bioconductor Changelog
Last Changed Rev: 43391 / Revision: 43434
Last Changed Date: 2009-12-04 08:39:35 -0800
wilson1 Linux (openSUSE 11.1) / x86_64  OK  WARNINGS 
liverpool Windows Server 2003 R2 (32-bit) / x64  OK  WARNINGS  OK 
pitt Mac OS X Tiger (10.4.11) / i386  OK  WARNINGS  OK 
pelham Mac OS X Leopard (10.5.8) / i386  OK  WARNINGS  OK 
Package 234/354HostnameOS / ArchBUILDCHECKBUILD BIN
oligoClasses 1.9.14
Benilton Carvalho
Bioconductor Changelog
Last Changed Rev: 43417 / Revision: 43434
Last Changed Date: 2009-12-06 05:32:34 -0800
wilson1 Linux (openSUSE 11.1) / x86_64  OK  WARNINGS 
liverpool Windows Server 2003 R2 (32-bit) / x64  OK  WARNINGS  OK 
pitt Mac OS X Tiger (10.4.11) / i386  OK  WARNINGS  OK 
pelham Mac OS X Leopard (10.5.8) / i386  OK  WARNINGS  OK 
Package 235/354HostnameOS / ArchBUILDCHECKBUILD BIN
OLIN 1.25.0
Matthias Futschik
Bioconductor Changelog
Last Changed Rev: 42686 / Revision: 43434
Last Changed Date: 2009-10-27 16:45:24 -0700
wilson1 Linux (openSUSE 11.1) / x86_64  OK  OK 
liverpool Windows Server 2003 R2 (32-bit) / x64  OK  OK  OK 
pitt Mac OS X Tiger (10.4.11) / i386  OK  OK  OK 
pelham Mac OS X Leopard (10.5.8) / i386  OK  OK  OK 
Package 236/354HostnameOS / ArchBUILDCHECKBUILD BIN
OLINgui 1.21.0
Matthias Futschik
Bioconductor Changelog
Last Changed Rev: 42686 / Revision: 43434
Last Changed Date: 2009-10-27 16:45:24 -0700
wilson1 Linux (openSUSE 11.1) / x86_64  OK  OK 
liverpool Windows Server 2003 R2 (32-bit) / x64  OK  OK  OK 
pitt Mac OS X Tiger (10.4.11) / i386  OK  OK  OK 
pelham Mac OS X Leopard (10.5.8) / i386  OK  OK  OK 
Package 237/354HostnameOS / ArchBUILDCHECKBUILD BIN
oneChannelGUI 1.13.0
Raffaele A Calogero
Bioconductor Changelog
Last Changed Rev: 42686 / Revision: 43434
Last Changed Date: 2009-10-27 16:45:24 -0700
wilson1 Linux (openSUSE 11.1) / x86_64  OK  OK 
liverpool Windows Server 2003 R2 (32-bit) / x64  OK  OK  OK 
pitt Mac OS X Tiger (10.4.11) / i386  OK  OK  OK 
pelham Mac OS X Leopard (10.5.8) / i386  OK  OK  OK 
Package 238/354HostnameOS / ArchBUILDCHECKBUILD BIN
ontoTools 1.25.0
Vince Carey
Bioconductor Changelog
Last Changed Rev: 42686 / Revision: 43434
Last Changed Date: 2009-10-27 16:45:24 -0700
wilson1 Linux (openSUSE 11.1) / x86_64  ERROR  skipped 
liverpool Windows Server 2003 R2 (32-bit) / x64  OK  OK  OK 
pitt Mac OS X Tiger (10.4.11) / i386  ERROR  skipped  skipped 
pelham Mac OS X Leopard (10.5.8) / i386  ERROR  skipped  skipped 
Package 239/354HostnameOS / ArchBUILDCHECKBUILD BIN
OrderedList 1.19.0
Claudio Lottaz
Bioconductor Changelog
Last Changed Rev: 42686 / Revision: 43434
Last Changed Date: 2009-10-27 16:45:24 -0700
wilson1 Linux (openSUSE 11.1) / x86_64  OK  OK 
liverpool Windows Server 2003 R2 (32-bit) / x64  OK  OK  OK 
pitt Mac OS X Tiger (10.4.11) / i386  OK  OK  OK 
pelham Mac OS X Leopard (10.5.8) / i386  OK  OK  OK 
Package 240/354HostnameOS / ArchBUILDCHECKBUILD BIN
OutlierD 1.11.0
Sukwoo Kim
Bioconductor Changelog
Last Changed Rev: 42686 / Revision: 43434
Last Changed Date: 2009-10-27 16:45:24 -0700
wilson1 Linux (openSUSE 11.1) / x86_64  OK  OK 
liverpool Windows Server 2003 R2 (32-bit) / x64  OK  OK  OK 
pitt Mac OS X Tiger (10.4.11) / i386  OK  OK  OK 
pelham Mac OS X Leopard (10.5.8) / i386  OK  OK  OK 
P  A  B  C  D  E  F  G  H  I  J  K  L  M  N  O [P] Q  R  S  T  U  V  W  X  Y  Z 
Package 241/354HostnameOS / ArchBUILDCHECKBUILD BIN
pamr 1.45.0
Rob Tibshirani
Bioconductor Changelog
Last Changed Rev: 42686 / Revision: 43434
Last Changed Date: 2009-10-27 16:45:24 -0700
wilson1 Linux (openSUSE 11.1) / x86_64  OK  OK 
liverpool Windows Server 2003 R2 (32-bit) / x64  OK  OK  OK 
pitt Mac OS X Tiger (10.4.11) / i386  OK  OK  OK 
pelham Mac OS X Leopard (10.5.8) / i386  OK  OK  OK 
Package 242/354HostnameOS / ArchBUILDCHECKBUILD BIN
PAnnBuilder 1.9.0
Li Hong
Bioconductor Changelog
Last Changed Rev: 42686 / Revision: 43434
Last Changed Date: 2009-10-27 16:45:24 -0700
wilson1 Linux (openSUSE 11.1) / x86_64  OK  OK 
liverpool Windows Server 2003 R2 (32-bit) / x64  OK  OK  OK 
pitt Mac OS X Tiger (10.4.11) / i386  OK  OK  OK 
pelham Mac OS X Leopard (10.5.8) / i386  OK  OK  OK 
Package 243/354HostnameOS / ArchBUILDCHECKBUILD BIN
panp 1.17.0
Peter Warren
Bioconductor Changelog
Last Changed Rev: 42686 / Revision: 43434
Last Changed Date: 2009-10-27 16:45:24 -0700
wilson1 Linux (openSUSE 11.1) / x86_64  OK  OK 
liverpool Windows Server 2003 R2 (32-bit) / x64  OK  OK  OK 
pitt Mac OS X Tiger (10.4.11) / i386  OK  OK  OK 
pelham Mac OS X Leopard (10.5.8) / i386  OK  OK  OK 
Package 244/354HostnameOS / ArchBUILDCHECKBUILD BIN
parody 1.5.0
VJ Carey
Bioconductor Changelog
Last Changed Rev: 42686 / Revision: 43434
Last Changed Date: 2009-10-27 16:45:24 -0700
wilson1 Linux (openSUSE 11.1) / x86_64  OK  OK 
liverpool Windows Server 2003 R2 (32-bit) / x64  OK  OK  OK 
pitt Mac OS X Tiger (10.4.11) / i386  OK  OK  OK 
pelham Mac OS X Leopard (10.5.8) / i386  OK  OK  OK 
Package 245/354HostnameOS / ArchBUILDCHECKBUILD BIN
pathRender 1.15.0
Li Long
Bioconductor Changelog
Last Changed Rev: 42686 / Revision: 43434
Last Changed Date: 2009-10-27 16:45:24 -0700
wilson1 Linux (openSUSE 11.1) / x86_64  OK  OK 
liverpool Windows Server 2003 R2 (32-bit) / x64  OK  OK  OK 
pitt Mac OS X Tiger (10.4.11) / i386  OK  OK  OK 
pelham Mac OS X Leopard (10.5.8) / i386  OK  OK  OK 
Package 246/354HostnameOS / ArchBUILDCHECKBUILD BIN
pcaMethods 1.25.1
Wolfram Stacklies
Bioconductor Changelog
Last Changed Rev: 42777 / Revision: 43434
Last Changed Date: 2009-11-01 17:41:34 -0800
wilson1 Linux (openSUSE 11.1) / x86_64  OK  OK 
liverpool Windows Server 2003 R2 (32-bit) / x64  OK  OK  OK 
pitt Mac OS X Tiger (10.4.11) / i386  OK  OK  OK 
pelham Mac OS X Leopard (10.5.8) / i386  OK  OK  OK 
Package 247/354HostnameOS / ArchBUILDCHECKBUILD BIN
pcot2 1.15.0
Sarah Song
Bioconductor Changelog
Last Changed Rev: 42686 / Revision: 43434
Last Changed Date: 2009-10-27 16:45:24 -0700
wilson1 Linux (openSUSE 11.1) / x86_64  OK  OK 
liverpool Windows Server 2003 R2 (32-bit) / x64  OK  OK  OK 
pitt Mac OS X Tiger (10.4.11) / i386  OK  OK  OK 
pelham Mac OS X Leopard (10.5.8) / i386  OK  OK  OK 
Package 248/354HostnameOS / ArchBUILDCHECKBUILD BIN
PCpheno 1.9.0
Nolwenn Le Meur
Bioconductor Changelog
Last Changed Rev: 42686 / Revision: 43434
Last Changed Date: 2009-10-27 16:45:24 -0700
wilson1 Linux (openSUSE 11.1) / x86_64  OK  OK 
liverpool Windows Server 2003 R2 (32-bit) / x64  OK  OK  OK 
pitt Mac OS X Tiger (10.4.11) / i386  OK  WARNINGS  OK 
pelham Mac OS X Leopard (10.5.8) / i386  OK  WARNINGS  OK 
Package 249/354HostnameOS / ArchBUILDCHECKBUILD BIN
pdInfoBuilder 1.11.2
Benilton Carvalho
Bioconductor Changelog
Last Changed Rev: 42906 / Revision: 43434
Last Changed Date: 2009-11-10 15:58:46 -0800
wilson1 Linux (openSUSE 11.1) / x86_64  OK  OK 
liverpool Windows Server 2003 R2 (32-bit) / x64  OK  OK  OK 
pitt Mac OS X Tiger (10.4.11) / i386  OK  OK  OK 
pelham Mac OS X Leopard (10.5.8) / i386  OK  OK  OK 
Package 250/354HostnameOS / ArchBUILDCHECKBUILD BIN
pdmclass 1.19.0
James W. MacDonald
Bioconductor Changelog
Last Changed Rev: 42686 / Revision: 43434
Last Changed Date: 2009-10-27 16:45:24 -0700
wilson1 Linux (openSUSE 11.1) / x86_64  OK  OK 
liverpool Windows Server 2003 R2 (32-bit) / x64  OK  OK  OK 
pitt Mac OS X Tiger (10.4.11) / i386  OK  OK  OK 
pelham Mac OS X Leopard (10.5.8) / i386  OK  OK  OK 
Package 251/354HostnameOS / ArchBUILDCHECKBUILD BIN
PGSEA 1.15.0
Karl Dykema
Bioconductor Changelog
Last Changed Rev: 42686 / Revision: 43434
Last Changed Date: 2009-10-27 16:45:24 -0700
wilson1 Linux (openSUSE 11.1) / x86_64  ERROR  skipped 
liverpool Windows Server 2003 R2 (32-bit) / x64  OK  OK  OK 
pitt Mac OS X Tiger (10.4.11) / i386  OK  OK  OK 
pelham Mac OS X Leopard (10.5.8) / i386  OK  OK  OK 
Package 252/354HostnameOS / ArchBUILDCHECKBUILD BIN
pgUtils 1.19.0
Johannes Rainer
Bioconductor Changelog
Last Changed Rev: 42686 / Revision: 43434
Last Changed Date: 2009-10-27 16:45:24 -0700
wilson1 Linux (openSUSE 11.1) / x86_64  OK  OK 
liverpool Windows Server 2003 R2 (32-bit) / x64 N O T   S U P P O R T E D
pitt Mac OS X Tiger (10.4.11) / i386  OK  OK  OK 
pelham Mac OS X Leopard (10.5.8) / i386  OK  OK  OK 
Package 253/354HostnameOS / ArchBUILDCHECKBUILD BIN
pickgene 1.19.0
Brian S. Yandell
Bioconductor Changelog
Last Changed Rev: 42686 / Revision: 43434
Last Changed Date: 2009-10-27 16:45:24 -0700
wilson1 Linux (openSUSE 11.1) / x86_64  OK  OK 
liverpool Windows Server 2003 R2 (32-bit) / x64  OK  OK  OK 
pitt Mac OS X Tiger (10.4.11) / i386  OK  OK  OK 
pelham Mac OS X Leopard (10.5.8) / i386  OK  OK  OK 
Package 254/354HostnameOS / ArchBUILDCHECKBUILD BIN
pkgDepTools 1.13.0
Seth Falcon
Bioconductor Changelog
Last Changed Rev: 42686 / Revision: 43434
Last Changed Date: 2009-10-27 16:45:24 -0700
wilson1 Linux (openSUSE 11.1) / x86_64  OK  OK 
liverpool Windows Server 2003 R2 (32-bit) / x64  OK  OK  OK 
pitt Mac OS X Tiger (10.4.11) / i386  OK  OK  OK 
pelham Mac OS X Leopard (10.5.8) / i386  OK  OK  OK 
Package 255/354HostnameOS / ArchBUILDCHECKBUILD BIN
plateCore 1.5.0
Errol Strain
Bioconductor Changelog
Last Changed Rev: 42686 / Revision: 43434
Last Changed Date: 2009-10-27 16:45:24 -0700
wilson1 Linux (openSUSE 11.1) / x86_64  OK  OK 
liverpool Windows Server 2003 R2 (32-bit) / x64  OK  OK  OK 
pitt Mac OS X Tiger (10.4.11) / i386  OK  OK  OK 
pelham Mac OS X Leopard (10.5.8) / i386  OK  OK  OK 
Package 256/354HostnameOS / ArchBUILDCHECKBUILD BIN
plgem 1.19.2
Norman Pavelka
Bioconductor Changelog
Last Changed Rev: 42883 / Revision: 43434
Last Changed Date: 2009-11-09 18:02:27 -0800
wilson1 Linux (openSUSE 11.1) / x86_64  OK  OK 
liverpool Windows Server 2003 R2 (32-bit) / x64  OK  OK  OK 
pitt Mac OS X Tiger (10.4.11) / i386  OK  OK  OK 
pelham Mac OS X Leopard (10.5.8) / i386  OK  OK  OK 
Package 257/354HostnameOS / ArchBUILDCHECKBUILD BIN
plier 1.17.0
Crispin Miller
Bioconductor Changelog
Last Changed Rev: 42686 / Revision: 43434
Last Changed Date: 2009-10-27 16:45:24 -0700
wilson1 Linux (openSUSE 11.1) / x86_64  OK  OK 
liverpool Windows Server 2003 R2 (32-bit) / x64  OK  OK  OK 
pitt Mac OS X Tiger (10.4.11) / i386  OK  OK  OK 
pelham Mac OS X Leopard (10.5.8) / i386  OK  OK  OK 
Package 258/354HostnameOS / ArchBUILDCHECKBUILD BIN
PLPE 1.7.0
Soo-heang Eo
Bioconductor Changelog
Last Changed Rev: 42686 / Revision: 43434
Last Changed Date: 2009-10-27 16:45:24 -0700
wilson1 Linux (openSUSE 11.1) / x86_64  OK  OK 
liverpool Windows Server 2003 R2 (32-bit) / x64  OK  OK  OK 
pitt Mac OS X Tiger (10.4.11) / i386  OK  OK  OK 
pelham Mac OS X Leopard (10.5.8) / i386  OK  OK  OK 
Package 259/354HostnameOS / ArchBUILDCHECKBUILD BIN
plw 1.7.0
Magnus Astrand
Bioconductor Changelog
Last Changed Rev: 42686 / Revision: 43434
Last Changed Date: 2009-10-27 16:45:24 -0700
wilson1 Linux (openSUSE 11.1) / x86_64  OK  OK 
liverpool Windows Server 2003 R2 (32-bit) / x64  OK  OK  OK 
pitt Mac OS X Tiger (10.4.11) / i386  OK  OK  OK 
pelham Mac OS X Leopard (10.5.8) / i386  OK  OK  OK 
Package 260/354HostnameOS / ArchBUILDCHECKBUILD BIN
ppiStats 1.13.0
Tony Chiang
Bioconductor Changelog
Last Changed Rev: 42686 / Revision: 43434
Last Changed Date: 2009-10-27 16:45:24 -0700
wilson1 Linux (openSUSE 11.1) / x86_64  OK  OK 
liverpool Windows Server 2003 R2 (32-bit) / x64  OK  OK  OK 
pitt Mac OS X Tiger (10.4.11) / i386  OK  OK  OK 
pelham Mac OS X Leopard (10.5.8) / i386  OK  OK  OK 
Package 261/354HostnameOS / ArchBUILDCHECKBUILD BIN
prada 1.23.0
Florian Hahne
Bioconductor Changelog
Last Changed Rev: 42686 / Revision: 43434
Last Changed Date: 2009-10-27 16:45:24 -0700
wilson1 Linux (openSUSE 11.1) / x86_64  OK  OK 
liverpool Windows Server 2003 R2 (32-bit) / x64  OK  OK  OK 
pitt Mac OS X Tiger (10.4.11) / i386  OK  OK  OK 
pelham Mac OS X Leopard (10.5.8) / i386  OK  OK  OK 
Package 262/354HostnameOS / ArchBUILDCHECKBUILD BIN
preprocessCore 1.9.0
Benjamin Milo Bolstad
Bioconductor Changelog
Last Changed Rev: 42686 / Revision: 43434
Last Changed Date: 2009-10-27 16:45:24 -0700
wilson1 Linux (openSUSE 11.1) / x86_64  OK  OK 
liverpool Windows Server 2003 R2 (32-bit) / x64  OK  OK  OK 
pitt Mac OS X Tiger (10.4.11) / i386  OK  OK  OK 
pelham Mac OS X Leopard (10.5.8) / i386  OK  OK  OK 
Package 263/354HostnameOS / ArchBUILDCHECKBUILD BIN
PROcess 1.23.0
Xiaochun Li
Bioconductor Changelog
Last Changed Rev: 42686 / Revision: 43434
Last Changed Date: 2009-10-27 16:45:24 -0700
wilson1 Linux (openSUSE 11.1) / x86_64  OK  OK 
liverpool Windows Server 2003 R2 (32-bit) / x64  OK  OK  OK 
pitt Mac OS X Tiger (10.4.11) / i386  OK  OK  OK 
pelham Mac OS X Leopard (10.5.8) / i386  OK  OK  OK 
Package 264/354HostnameOS / ArchBUILDCHECKBUILD BIN
puma 1.99.0
Richard Pearson , Li Zhang
Bioconductor Changelog
Last Changed Rev: 43427 / Revision: 43434
Last Changed Date: 2009-12-07 02:45:21 -0800
wilson1 Linux (openSUSE 11.1) / x86_64  OK  WARNINGS 
liverpool Windows Server 2003 R2 (32-bit) / x64  OK  WARNINGS  OK 
pitt Mac OS X Tiger (10.4.11) / i386  OK  WARNINGS  OK 
pelham Mac OS X Leopard (10.5.8) / i386  OK  WARNINGS  OK 
Q  A  B  C  D  E  F  G  H  I  J  K  L  M  N  O  P [Q] R  S  T  U  V  W  X  Y  Z 
Package 265/354HostnameOS / ArchBUILDCHECKBUILD BIN
qpcrNorm 1.5.1
Jessica Mar
Bioconductor Changelog
Last Changed Rev: 42882 / Revision: 43434
Last Changed Date: 2009-11-09 15:04:50 -0800
wilson1 Linux (openSUSE 11.1) / x86_64  OK  OK 
liverpool Windows Server 2003 R2 (32-bit) / x64  OK  OK  OK 
pitt Mac OS X Tiger (10.4.11) / i386  OK  OK  OK 
pelham Mac OS X Leopard (10.5.8) / i386  OK  OK  OK 
Package 266/354HostnameOS / ArchBUILDCHECKBUILD BIN
qpgraph 1.3.4
Robert Castelo
Bioconductor Changelog
Last Changed Rev: 43313 / Revision: 43434
Last Changed Date: 2009-12-01 01:13:06 -0800
wilson1 Linux (openSUSE 11.1) / x86_64  OK  OK 
liverpool Windows Server 2003 R2 (32-bit) / x64  OK  OK  OK 
pitt Mac OS X Tiger (10.4.11) / i386  OK  OK  OK 
pelham Mac OS X Leopard (10.5.8) / i386  OK  OK  OK 
Package 267/354HostnameOS / ArchBUILDCHECKBUILD BIN
quantsmooth 1.13.0
Jan Oosting
Bioconductor Changelog
Last Changed Rev: 42686 / Revision: 43434
Last Changed Date: 2009-10-27 16:45:24 -0700
wilson1 Linux (openSUSE 11.1) / x86_64  OK  OK 
liverpool Windows Server 2003 R2 (32-bit) / x64  OK  OK  OK 
pitt Mac OS X Tiger (10.4.11) / i386  OK  OK  OK 
pelham Mac OS X Leopard (10.5.8) / i386  OK  OK  OK 
Package 268/354HostnameOS / ArchBUILDCHECKBUILD BIN
qvalue 1.21.0
John D. Storey
Bioconductor Changelog
Last Changed Rev: 42686 / Revision: 43434
Last Changed Date: 2009-10-27 16:45:24 -0700
wilson1 Linux (openSUSE 11.1) / x86_64  OK  OK 
liverpool Windows Server 2003 R2 (32-bit) / x64  OK  OK  OK 
pitt Mac OS X Tiger (10.4.11) / i386  OK  OK  OK 
pelham Mac OS X Leopard (10.5.8) / i386  OK  OK  OK 
R  A  B  C  D  E  F  G  H  I  J  K  L  M  N  O  P  Q [R] S  T  U  V  W  X  Y  Z 
Package 269/354HostnameOS / ArchBUILDCHECKBUILD BIN
rama 1.21.0
Raphael Gottardo
Bioconductor Changelog
Last Changed Rev: 42686 / Revision: 43434
Last Changed Date: 2009-10-27 16:45:24 -0700
wilson1 Linux (openSUSE 11.1) / x86_64  OK  OK 
liverpool Windows Server 2003 R2 (32-bit) / x64  OK  OK  OK 
pitt Mac OS X Tiger (10.4.11) / i386  OK  OK  OK 
pelham Mac OS X Leopard (10.5.8) / i386  OK  OK  OK 
Package 270/354HostnameOS / ArchBUILDCHECKBUILD BIN
RankProd 2.19.0
Fangxin Hong
Bioconductor Changelog
Last Changed Rev: 42686 / Revision: 43434
Last Changed Date: 2009-10-27 16:45:24 -0700
wilson1 Linux (openSUSE 11.1) / x86_64  OK  OK 
liverpool Windows Server 2003 R2 (32-bit) / x64  OK  OK  OK 
pitt Mac OS X Tiger (10.4.11) / i386  OK  OK  OK 
pelham Mac OS X Leopard (10.5.8) / i386  OK  OK  OK 
Package 271/354HostnameOS / ArchBUILDCHECKBUILD BIN
RbcBook1 1.15.0
Vince Carey
Bioconductor Changelog
Last Changed Rev: 42686 / Revision: 43434
Last Changed Date: 2009-10-27 16:45:24 -0700
wilson1 Linux (openSUSE 11.1) / x86_64  OK  OK 
liverpool Windows Server 2003 R2 (32-bit) / x64  OK  OK  OK 
pitt Mac OS X Tiger (10.4.11) / i386  OK  OK  OK 
pelham Mac OS X Leopard (10.5.8) / i386  OK  OK  OK 
Package 272/354HostnameOS / ArchBUILDCHECKBUILD BIN
RBGL 1.23.0
Li Long
Bioconductor Changelog
Last Changed Rev: 42686 / Revision: 43434
Last Changed Date: 2009-10-27 16:45:24 -0700
wilson1 Linux (openSUSE 11.1) / x86_64  OK  OK 
liverpool Windows Server 2003 R2 (32-bit) / x64  OK  WARNINGS  OK 
pitt Mac OS X Tiger (10.4.11) / i386  OK  WARNINGS  OK 
pelham Mac OS X Leopard (10.5.8) / i386  OK  WARNINGS  OK 
Package 273/354HostnameOS / ArchBUILDCHECKBUILD BIN
RBioinf 1.7.0
Robert Gentleman
Bioconductor Changelog
Last Changed Rev: 42686 / Revision: 43434
Last Changed Date: 2009-10-27 16:45:24 -0700
wilson1 Linux (openSUSE 11.1) / x86_64  OK  OK 
liverpool Windows Server 2003 R2 (32-bit) / x64  OK  OK  OK 
pitt Mac OS X Tiger (10.4.11) / i386  OK  OK  OK 
pelham Mac OS X Leopard (10.5.8) / i386  OK  OK  OK 
Package 274/354HostnameOS / ArchBUILDCHECKBUILD BIN
rbsurv 2.5.0
Soo-heang Eo
Bioconductor Changelog
Last Changed Rev: 42686 / Revision: 43434
Last Changed Date: 2009-10-27 16:45:24 -0700
wilson1 Linux (openSUSE 11.1) / x86_64  OK  OK 
liverpool Windows Server 2003 R2 (32-bit) / x64  OK  OK  OK 
pitt Mac OS X Tiger (10.4.11) / i386  OK  OK  OK 
pelham Mac OS X Leopard (10.5.8) / i386  OK  OK  OK 
Package 275/354HostnameOS / ArchBUILDCHECKBUILD BIN
Rdbi 1.21.0
Jianhua Zhang
Bioconductor Changelog
Last Changed Rev: 42686 / Revision: 43434
Last Changed Date: 2009-10-27 16:45:24 -0700
wilson1 Linux (openSUSE 11.1) / x86_64  OK  OK 
liverpool Windows Server 2003 R2 (32-bit) / x64  OK  OK  OK 
pitt Mac OS X Tiger (10.4.11) / i386  OK  OK  OK 
pelham Mac OS X Leopard (10.5.8) / i386  OK  OK  OK 
Package 276/354HostnameOS / ArchBUILDCHECKBUILD BIN
RdbiPgSQL 1.21.0
Jianhua Zhang
Bioconductor Changelog
Last Changed Rev: 42686 / Revision: 43434
Last Changed Date: 2009-10-27 16:45:24 -0700
wilson1 Linux (openSUSE 11.1) / x86_64  OK  OK 
liverpool Windows Server 2003 R2 (32-bit) / x64 N O T   S U P P O R T E D
pitt Mac OS X Tiger (10.4.11) / i386  OK  OK  OK 
pelham Mac OS X Leopard (10.5.8) / i386  OK  OK  OK 
Package 277/354HostnameOS / ArchBUILDCHECKBUILD BIN
Rdisop 1.7.0
Steffen Neumann
Bioconductor Changelog
Last Changed Rev: 42686 / Revision: 43434
Last Changed Date: 2009-10-27 16:45:24 -0700
wilson1 Linux (openSUSE 11.1) / x86_64  OK  OK 
liverpool Windows Server 2003 R2 (32-bit) / x64  OK  OK  OK 
pitt Mac OS X Tiger (10.4.11) / i386 N O T   S U P P O R T E D
pelham Mac OS X Leopard (10.5.8) / i386 N O T   S U P P O R T E D
Package 278/354HostnameOS / ArchBUILDCHECKBUILD BIN
reb 1.21.0
Karl J. Dykema
Bioconductor Changelog
Last Changed Rev: 42686 / Revision: 43434
Last Changed Date: 2009-10-27 16:45:24 -0700
wilson1 Linux (openSUSE 11.1) / x86_64  OK  OK 
liverpool Windows Server 2003 R2 (32-bit) / x64  OK  OK  OK 
pitt Mac OS X Tiger (10.4.11) / i386  OK  WARNINGS  OK 
pelham Mac OS X Leopard (10.5.8) / i386  OK  WARNINGS  OK 
Package 279/354HostnameOS / ArchBUILDCHECKBUILD BIN
RefPlus 1.17.0
Kai-Ming Chang
Bioconductor Changelog
Last Changed Rev: 42686 / Revision: 43434
Last Changed Date: 2009-10-27 16:45:24 -0700
wilson1 Linux (openSUSE 11.1) / x86_64  OK  OK 
liverpool Windows Server 2003 R2 (32-bit) / x64  OK  OK  OK 
pitt Mac OS X Tiger (10.4.11) / i386  OK  OK  OK 
pelham Mac OS X Leopard (10.5.8) / i386  OK  OK  OK 
Package 280/354HostnameOS / ArchBUILDCHECKBUILD BIN
Resourcerer 1.21.0
Jianhua Zhang
Bioconductor Changelog
Last Changed Rev: 42686 / Revision: 43434
Last Changed Date: 2009-10-27 16:45:24 -0700
wilson1 Linux (openSUSE 11.1) / x86_64  OK  OK 
liverpool Windows Server 2003 R2 (32-bit) / x64  OK  OK  OK 
pitt Mac OS X Tiger (10.4.11) / i386  OK  OK  OK 
pelham Mac OS X Leopard (10.5.8) / i386  OK  OK  OK 
Package 281/354HostnameOS / ArchBUILDCHECKBUILD BIN
rflowcyt 1.19.0
N. LeMeur
Bioconductor Changelog
Last Changed Rev: 42686 / Revision: 43434
Last Changed Date: 2009-10-27 16:45:24 -0700
wilson1 Linux (openSUSE 11.1) / x86_64  OK  OK 
liverpool Windows Server 2003 R2 (32-bit) / x64  OK  OK  OK 
pitt Mac OS X Tiger (10.4.11) / i386  OK  OK  OK 
pelham Mac OS X Leopard (10.5.8) / i386  OK  OK  OK 
Package 282/354HostnameOS / ArchBUILDCHECKBUILD BIN
Rgraphviz 1.25.0
Kasper Hansen
Bioconductor Changelog
Last Changed Rev: 42686 / Revision: 43434
Last Changed Date: 2009-10-27 16:45:24 -0700
wilson1 Linux (openSUSE 11.1) / x86_64  OK  OK 
liverpool Windows Server 2003 R2 (32-bit) / x64  OK  OK  OK 
pitt Mac OS X Tiger (10.4.11) / i386  OK  OK  OK 
pelham Mac OS X Leopard (10.5.8) / i386  OK  OK  OK 
Package 283/354HostnameOS / ArchBUILDCHECKBUILD BIN
rHVDM 1.13.0
Martino Barenco
Bioconductor Changelog
Last Changed Rev: 42686 / Revision: 43434
Last Changed Date: 2009-10-27 16:45:24 -0700
wilson1 Linux (openSUSE 11.1) / x86_64  OK  OK 
liverpool Windows Server 2003 R2 (32-bit) / x64  OK  OK  OK 
pitt Mac OS X Tiger (10.4.11) / i386  OK  OK  OK 
pelham Mac OS X Leopard (10.5.8) / i386  OK  OK  OK 
Package 284/354HostnameOS / ArchBUILDCHECKBUILD BIN
Ringo 1.11.2
J. Toedling
Bioconductor Changelog
Last Changed Rev: 43324 / Revision: 43434
Last Changed Date: 2009-12-01 07:36:58 -0800
wilson1 Linux (openSUSE 11.1) / x86_64  OK  OK 
liverpool Windows Server 2003 R2 (32-bit) / x64  OK  OK  OK 
pitt Mac OS X Tiger (10.4.11) / i386  OK  OK  OK 
pelham Mac OS X Leopard (10.5.8) / i386  OK  OK  OK 
Package 285/354HostnameOS / ArchBUILDCHECKBUILD BIN
RLMM 1.9.0
Nusrat Rabbee
Bioconductor Changelog
Last Changed Rev: 42686 / Revision: 43434
Last Changed Date: 2009-10-27 16:45:24 -0700
wilson1 Linux (openSUSE 11.1) / x86_64  OK  OK 
liverpool Windows Server 2003 R2 (32-bit) / x64  OK  OK  OK 
pitt Mac OS X Tiger (10.4.11) / i386  OK  OK  OK 
pelham Mac OS X Leopard (10.5.8) / i386  OK  OK  OK 
Package 286/354HostnameOS / ArchBUILDCHECKBUILD BIN
RMAGEML 2.21.0
Steffen Durinck
Bioconductor Changelog
Last Changed Rev: 42686 / Revision: 43434
Last Changed Date: 2009-10-27 16:45:24 -0700
wilson1 Linux (openSUSE 11.1) / x86_64  OK  OK 
liverpool Windows Server 2003 R2 (32-bit) / x64 N O T   S U P P O R T E D
pitt Mac OS X Tiger (10.4.11) / i386 N O T   S U P P O R T E D
pelham Mac OS X Leopard (10.5.8) / i386 N O T   S U P P O R T E D
Package 287/354HostnameOS / ArchBUILDCHECKBUILD BIN
Rmagpie 1.3.0
Camille Maumet
Bioconductor Changelog
Last Changed Rev: 42686 / Revision: 43434
Last Changed Date: 2009-10-27 16:45:24 -0700
wilson1 Linux (openSUSE 11.1) / x86_64  OK  OK 
liverpool Windows Server 2003 R2 (32-bit) / x64  OK  OK  OK 
pitt Mac OS X Tiger (10.4.11) / i386  OK  OK  OK 
pelham Mac OS X Leopard (10.5.8) / i386  OK  OK  OK 
Package 288/354HostnameOS / ArchBUILDCHECKBUILD BIN
rMAT 2.3.3
Arnaud Droit and Raphael Gottardo
Bioconductor Changelog
Last Changed Rev: 43398 / Revision: 43434
Last Changed Date: 2009-12-04 14:24:17 -0800
wilson1 Linux (openSUSE 11.1) / x86_64  OK  OK 
liverpool Windows Server 2003 R2 (32-bit) / x64  OK  OK  OK 
pitt Mac OS X Tiger (10.4.11) / i386  OK  OK  OK 
pelham Mac OS X Leopard (10.5.8) / i386  OK  OK  OK 
Package 289/354HostnameOS / ArchBUILDCHECKBUILD BIN
RmiR 1.3.0
Francesco Favero
Bioconductor Changelog
Last Changed Rev: 42686 / Revision: 43434
Last Changed Date: 2009-10-27 16:45:24 -0700
wilson1 Linux (openSUSE 11.1) / x86_64  OK  OK 
liverpool Windows Server 2003 R2 (32-bit) / x64  OK  OK  OK 
pitt Mac OS X Tiger (10.4.11) / i386  OK  OK  OK 
pelham Mac OS X Leopard (10.5.8) / i386  OK  OK  OK 
Package 290/354HostnameOS / ArchBUILDCHECKBUILD BIN
RNAither 1.7.1
Nora Rieber
Bioconductor Changelog
Last Changed Rev: 43413 / Revision: 43434
Last Changed Date: 2009-12-05 07:19:56 -0800
wilson1 Linux (openSUSE 11.1) / x86_64  OK  OK 
liverpool Windows Server 2003 R2 (32-bit) / x64  OK  OK  OK 
pitt Mac OS X Tiger (10.4.11) / i386  OK  ERROR  OK 
pelham Mac OS X Leopard (10.5.8) / i386  OK  ERROR  OK 
Package 291/354HostnameOS / ArchBUILDCHECKBUILD BIN
ROC 1.23.1
Vince Carey
Bioconductor Changelog
Last Changed Rev: 43301 / Revision: 43434
Last Changed Date: 2009-11-30 09:56:10 -0800
wilson1 Linux (openSUSE 11.1) / x86_64  OK  OK 
liverpool Windows Server 2003 R2 (32-bit) / x64  OK  OK  OK 
pitt Mac OS X Tiger (10.4.11) / i386  OK  OK  OK 
pelham Mac OS X Leopard (10.5.8) / i386  OK  OK  OK 
Package 292/354HostnameOS / ArchBUILDCHECKBUILD BIN
Rolexa 1.3.0
Jacques Rougemont
Bioconductor Changelog
Last Changed Rev: 42686 / Revision: 43434
Last Changed Date: 2009-10-27 16:45:24 -0700
wilson1 Linux (openSUSE 11.1) / x86_64  OK  OK 
liverpool Windows Server 2003 R2 (32-bit) / x64  OK  OK  OK 
pitt Mac OS X Tiger (10.4.11) / i386  OK  OK  OK 
pelham Mac OS X Leopard (10.5.8) / i386  OK  OK  OK 
Package 293/354HostnameOS / ArchBUILDCHECKBUILD BIN
RPA 1.3.0
Leo Lahti
Bioconductor Changelog
Last Changed Rev: 42686 / Revision: 43434
Last Changed Date: 2009-10-27 16:45:24 -0700
wilson1 Linux (openSUSE 11.1) / x86_64  OK  OK 
liverpool Windows Server 2003 R2 (32-bit) / x64  OK  OK  OK 
pitt Mac OS X Tiger (10.4.11) / i386  OK  OK  OK 
pelham Mac OS X Leopard (10.5.8) / i386  OK  OK  OK 
Package 294/354HostnameOS / ArchBUILDCHECKBUILD BIN
RpsiXML 1.7.1
Jitao David Zhang
Bioconductor Changelog
Last Changed Rev: 43258 / Revision: 43434
Last Changed Date: 2009-11-25 08:03:37 -0800
wilson1 Linux (openSUSE 11.1) / x86_64  OK  OK 
liverpool Windows Server 2003 R2 (32-bit) / x64  OK  OK  OK 
pitt Mac OS X Tiger (10.4.11) / i386  OK  OK  OK 
pelham Mac OS X Leopard (10.5.8) / i386  OK  OK  OK 
Package 295/354HostnameOS / ArchBUILDCHECKBUILD BIN
Rredland 1.13.0
VJ Carey
Bioconductor Changelog
Last Changed Rev: 42686 / Revision: 43434
Last Changed Date: 2009-10-27 16:45:24 -0700
wilson1 Linux (openSUSE 11.1) / x86_64  OK  OK 
liverpool Windows Server 2003 R2 (32-bit) / x64 N O T   S U P P O R T E D
pitt Mac OS X Tiger (10.4.11) / i386  OK  OK  OK 
pelham Mac OS X Leopard (10.5.8) / i386 N O T   S U P P O R T E D
Package 296/354HostnameOS / ArchBUILDCHECKBUILD BIN
rsbml 2.5.0
Michael Lawrence
Bioconductor Changelog
Last Changed Rev: 42686 / Revision: 43434
Last Changed Date: 2009-10-27 16:45:24 -0700
wilson1 Linux (openSUSE 11.1) / x86_64  OK  OK 
liverpool Windows Server 2003 R2 (32-bit) / x64  OK  WARNINGS  OK 
pitt Mac OS X Tiger (10.4.11) / i386  OK  OK  OK 
pelham Mac OS X Leopard (10.5.8) / i386  OK  OK  OK 
Package 297/354HostnameOS / ArchBUILDCHECKBUILD BIN
RTCA 1.1.0
Jitao David Zhang
Bioconductor Changelog
Last Changed Rev: 42686 / Revision: 43434
Last Changed Date: 2009-10-27 16:45:24 -0700
wilson1 Linux (openSUSE 11.1) / x86_64  ERROR  skipped 
liverpool Windows Server 2003 R2 (32-bit) / x64  OK  OK  OK 
pitt Mac OS X Tiger (10.4.11) / i386  ERROR  skipped  skipped 
pelham Mac OS X Leopard (10.5.8) / i386  ERROR  skipped  skipped 
Package 298/354HostnameOS / ArchBUILDCHECKBUILD BIN
RTools4TB 1.3.0
Aurelie Bergon
Bioconductor Changelog
Last Changed Rev: 42686 / Revision: 43434
Last Changed Date: 2009-10-27 16:45:24 -0700
wilson1 Linux (openSUSE 11.1) / x86_64  OK  OK 
liverpool Windows Server 2003 R2 (32-bit) / x64  OK  OK  OK 
pitt Mac OS X Tiger (10.4.11) / i386  OK  OK  OK 
pelham Mac OS X Leopard (10.5.8) / i386  OK  OK  OK 
Package 299/354HostnameOS / ArchBUILDCHECKBUILD BIN
rtracklayer 1.7.2
Michael Lawrence
Bioconductor Changelog
Last Changed Rev: 43345 / Revision: 43434
Last Changed Date: 2009-12-02 07:05:57 -0800
wilson1 Linux (openSUSE 11.1) / x86_64  OK  WARNINGS 
liverpool Windows Server 2003 R2 (32-bit) / x64  ERROR  skipped  skipped 
pitt Mac OS X Tiger (10.4.11) / i386  OK  WARNINGS  OK 
pelham Mac OS X Leopard (10.5.8) / i386  OK  WARNINGS  OK 
Package 300/354HostnameOS / ArchBUILDCHECKBUILD BIN
Rtreemix 1.9.0
Jasmina Bogojeska
Bioconductor Changelog
Last Changed Rev: 42686 / Revision: 43434
Last Changed Date: 2009-10-27 16:45:24 -0700
wilson1 Linux (openSUSE 11.1) / x86_64  OK  OK 
liverpool Windows Server 2003 R2 (32-bit) / x64  OK