Books build report for BioC 3.13

This page was generated on 2021-04-21 12:45:05 -0400 (Wed, 21 Apr 2021).

Approx. Package Snapshot Date (git pull): 2021-04-21 03:30:01 -0400 (Wed, 21 Apr 2021)

HostnameOSArch (*)Platform label (**)R versionInstalled pkgs
malbec2Linux (Ubuntu 20.04.2 LTS)x86_64x86_64-linux-gnuR Under development (unstable) (2021-04-06 r80146) -- "Unsuffered Consequences" 4047
Click on any hostname to see more info about the system (e.g. compilers)      (*) as reported by 'uname -p', except on Windows and Mac OS X      (**) as reported by 'gcc -v'

Package status is indicated by one of the following glyphs
  TIMEOUT  
INSTALL or BUILD of package took more than 40 or 300 minutes, respectively
  ERROR  
Bad DESCRIPTION file or INSTALL or BUILD of package failed
  OK  
INSTALL or BUILD
skipped
CHECK or BUILD BIN of package was skipped because the BUILD step failed
  NA  
BUILD result is not available because of an anomaly in the Build System
Click on any glyph in the report below to access the detailed report.
Package propagation status is indicated by one of the following LEDs
YES YES: Package was propagated because it didn't previously exist or version was bumped
NO NO: Package was not propagated because of a problem (impossible dependencies, or version lower than what is already propagated)
UNNEEDED UNNEEDED: Package was not propagated because it is already in the repository with this version. A version bump is required in order to propagate it

A crossed-out package name indicates the package is deprecated


QUICK STATSOS / ArchINSTALLBUILD
malbec2Linux (Ubuntu 20.04.2 LTS) / x86_64
008
035
PackageMaintainerINSTALLBUILD
1/8csawBook 0.99.4  (landing page)Aaron Lun  OK    OK  UNNEEDED, same version exists in internal repository
2/8OSCA 1.1.19  (landing page)Aaron Lun  OK    OK  UNNEEDED, same version exists in internal repository
3/8OSCA.advanced 0.99.16  (landing page)Aaron Lun  OK    ERROR  
4/8OSCA.basic 0.99.12  (landing page)Aaron Lun  OK    OK  UNNEEDED, same version exists in internal repository
5/8OSCA.intro 0.99.6  (landing page)Aaron Lun  OK    ERROR  
6/8OSCA.multisample 0.99.7  (landing page)Aaron Lun  OK    ERROR  
7/8OSCA.workflows 0.99.10  (landing page)Aaron Lun  OK    OK  UNNEEDED, same version exists in internal repository
8/8SingleRBook 1.1.2  (landing page)Aaron Lun  OK    OK  UNNEEDED, same version exists in internal repository