BioC 2.9: Multiple platform build/check report

This page was generated on 2011-05-09 23:02:38 -0700 (Mon, 09 May 2011).

svn info

Snapshot Date: 2011-05-09 07:20:56 -0700 (Mon, 09 May 2011)
URL: https://hedgehog.fhcrc.org/bioconductor/trunk/madman/Rpacks
Last Changed Rev: 55359 / Revision: 55359
Last Changed Date: 2011-05-09 07:18:42 -0700 (Mon, 09 May 2011)

Hostname OS Arch (*) Platform label (**) R version Installed pkgs
wilson2 Linux (openSUSE 11.4) x86_64 x86_64-suse-linux 2.14.0 Under development (unstable) (2011-04-18 r55504) 1019
liverpool Windows Server 2003 R2 (32-bit) x64 mingw32 2.14.0 Under development (unstable) (2011-04-17 r55484) 1007
gewurz Windows Server 2008 R2 Enterprise (64-bit) x64 x86_64-w64-mingw32 2.14.0 Under development (unstable) (2011-04-17 r55484) 931
pelham Mac OS X Leopard (10.5.8) i386 i686-apple-darwin9 2.14.0 Under development (unstable) (2011-04-24 r55634) 948
Click on any hostname to see more info about the system (e.g. compilers)      (*) as reported by 'uname -p', except on Windows      (**) as reported by 'gcc -v'

Package STATUS - Package status is indicated by one of the following glyphs:
 -  TIMEOUT  BUILD, CHECK or BUILD BIN of package took more than 40 minutes
 -  ERROR  BUILD, CHECK or BUILD BIN of package returned an error
 -  WARNINGS  CHECK of package produced warnings
 -  OK  BUILD, CHECK or BUILD BIN of package was OK
 - skipped  CHECK or BUILD BIN of package was skipped because the BUILD step failed (or because something bad happened with the Build System itself)
Click on any glyph in the report below to see the status details (command output).
Use the check boxes to show only packages with the selected status types:  TIMEOUT   ERROR   WARNINGS   OK 

SUMMARYOS / ArchBUILDCHECKBUILD BIN
wilson2 Linux (openSUSE 11.4) / x86_64 
17454
0524425
liverpool Windows Server 2003 R2 (32-bit) / x64 
112435
1520409
00435
gewurz Windows Server 2008 R2 Enterprise (64-bit) / x64 
06428
0623399
00428
pelham Mac OS X Leopard (10.5.8) / i386 
05445
0622417
00445
A [A] B  C  D  E  F  G  H  I  J  K  L  M  N  O  P  Q  R  S  T  U  V  W  X  Y  Z 
Package 1/462HostnameOS / ArchBUILDCHECKBUILD BIN
a4 1.1.1
Tobias Verbeke
Last Changed Rev: 54827 / Revision: 55359
Last Changed Date: 2011-04-14 10:35:57 -0700
wilson2 Linux (openSUSE 11.4) / x86_64  ERROR  skipped 
liverpool Windows Server 2003 R2 (32-bit) / x64  ERROR  skipped  skipped 
gewurz Windows Server 2008 R2 Enterprise (64-bit) / x64  ERROR  skipped  skipped 
pelham Mac OS X Leopard (10.5.8) / i386  ERROR  skipped  skipped 
Package 2/462HostnameOS / ArchBUILDCHECKBUILD BIN
a4Base 1.1.1
Tobias Verbeke
Last Changed Rev: 54828 / Revision: 55359
Last Changed Date: 2011-04-14 10:39:51 -0700
wilson2 Linux (openSUSE 11.4) / x86_64  OK  ERROR 
liverpool Windows Server 2003 R2 (32-bit) / x64  OK  ERROR  OK 
gewurz Windows Server 2008 R2 Enterprise (64-bit) / x64  OK  ERROR  OK 
pelham Mac OS X Leopard (10.5.8) / i386  OK  ERROR  OK 
Package 3/462HostnameOS / ArchBUILDCHECKBUILD BIN
a4Classif 1.1.1
Tobias Verbeke
Last Changed Rev: 54829 / Revision: 55359
Last Changed Date: 2011-04-14 10:40:06 -0700
wilson2 Linux (openSUSE 11.4) / x86_64  OK  ERROR 
liverpool Windows Server 2003 R2 (32-bit) / x64  OK  ERROR  OK 
gewurz Windows Server 2008 R2 Enterprise (64-bit) / x64  OK  ERROR  OK 
pelham Mac OS X Leopard (10.5.8) / i386  OK  ERROR  OK 
Package 4/462HostnameOS / ArchBUILDCHECKBUILD BIN
a4Core 1.1.1
Tobias Verbeke
Last Changed Rev: 54830 / Revision: 55359
Last Changed Date: 2011-04-14 10:40:18 -0700
wilson2 Linux (openSUSE 11.4) / x86_64  OK  OK 
liverpool Windows Server 2003 R2 (32-bit) / x64  OK  OK  OK 
gewurz Windows Server 2008 R2 Enterprise (64-bit) / x64  OK  OK  OK 
pelham Mac OS X Leopard (10.5.8) / i386  OK  OK  OK 
Package 5/462HostnameOS / ArchBUILDCHECKBUILD BIN
a4Preproc 1.1.1
Tobias Verbeke
Last Changed Rev: 54832 / Revision: 55359
Last Changed Date: 2011-04-14 10:40:32 -0700
wilson2 Linux (openSUSE 11.4) / x86_64  OK  OK 
liverpool Windows Server 2003 R2 (32-bit) / x64  OK  OK  OK 
gewurz Windows Server 2008 R2 Enterprise (64-bit) / x64  OK  OK  OK 
pelham Mac OS X Leopard (10.5.8) / i386  OK  OK  OK 
Package 6/462HostnameOS / ArchBUILDCHECKBUILD BIN
a4Reporting 1.1.1
Tobias Verbeke
Last Changed Rev: 54833 / Revision: 55359
Last Changed Date: 2011-04-14 10:40:46 -0700
wilson2 Linux (openSUSE 11.4) / x86_64  OK  OK 
liverpool Windows Server 2003 R2 (32-bit) / x64  OK  OK  OK 
gewurz Windows Server 2008 R2 Enterprise (64-bit) / x64  OK  OK  OK 
pelham Mac OS X Leopard (10.5.8) / i386  OK  OK  OK 
Package 7/462HostnameOS / ArchBUILDCHECKBUILD BIN
ABarray 1.21.0
Yongming Andrew Sun
Last Changed Rev: 54810 / Revision: 55359
Last Changed Date: 2011-04-13 18:14:51 -0700
wilson2 Linux (openSUSE 11.4) / x86_64  OK  OK 
liverpool Windows Server 2003 R2 (32-bit) / x64  OK  OK  OK 
gewurz Windows Server 2008 R2 Enterprise (64-bit) / x64  OK  OK  OK 
pelham Mac OS X Leopard (10.5.8) / i386  OK  OK  OK 
Package 8/462HostnameOS / ArchBUILDCHECKBUILD BIN
aCGH 1.31.0
Peter Dimitrov
Last Changed Rev: 54802 / Revision: 55359
Last Changed Date: 2011-04-13 15:36:43 -0700
wilson2 Linux (openSUSE 11.4) / x86_64  OK  OK 
liverpool Windows Server 2003 R2 (32-bit) / x64  OK  OK  OK 
gewurz Windows Server 2008 R2 Enterprise (64-bit) / x64  OK  OK  OK 
pelham Mac OS X Leopard (10.5.8) / i386  OK  OK  OK 
Package 9/462HostnameOS / ArchBUILDCHECKBUILD BIN
ACME 2.9.0
Sean Davis
Last Changed Rev: 54802 / Revision: 55359
Last Changed Date: 2011-04-13 15:36:43 -0700
wilson2 Linux (openSUSE 11.4) / x86_64  OK  OK 
liverpool Windows Server 2003 R2 (32-bit) / x64  OK  OK  OK 
gewurz Windows Server 2008 R2 Enterprise (64-bit) / x64  OK  OK  OK 
pelham Mac OS X Leopard (10.5.8) / i386  OK  OK  OK 
Package 10/462HostnameOS / ArchBUILDCHECKBUILD BIN
ADaCGH2 1.3.0
Ramon Diaz-Uriarte
Last Changed Rev: 54802 / Revision: 55359
Last Changed Date: 2011-04-13 15:36:43 -0700
wilson2 Linux (openSUSE 11.4) / x86_64  OK  OK 
liverpool Windows Server 2003 R2 (32-bit) / x64  OK  OK  OK 
gewurz Windows Server 2008 R2 Enterprise (64-bit) / x64  OK  OK  OK 
pelham Mac OS X Leopard (10.5.8) / i386  OK  OK  OK 
Package 11/462HostnameOS / ArchBUILDCHECKBUILD BIN
adSplit 1.23.0
Claudio Lottaz
Last Changed Rev: 54802 / Revision: 55359
Last Changed Date: 2011-04-13 15:36:43 -0700
wilson2 Linux (openSUSE 11.4) / x86_64  OK  OK 
liverpool Windows Server 2003 R2 (32-bit) / x64  OK  OK  OK 
gewurz Windows Server 2008 R2 Enterprise (64-bit) / x64  OK  OK  OK 
pelham Mac OS X Leopard (10.5.8) / i386  OK  OK  OK 
Package 12/462HostnameOS / ArchBUILDCHECKBUILD BIN
affxparser 1.25.0
Kasper Daniel Hansen
Last Changed Rev: 54802 / Revision: 55359
Last Changed Date: 2011-04-13 15:36:43 -0700
wilson2 Linux (openSUSE 11.4) / x86_64  OK  OK 
liverpool Windows Server 2003 R2 (32-bit) / x64  OK  OK  OK 
gewurz Windows Server 2008 R2 Enterprise (64-bit) / x64  OK  OK  OK 
pelham Mac OS X Leopard (10.5.8) / i386  OK  OK  OK 
Package 13/462HostnameOS / ArchBUILDCHECKBUILD BIN
affy 1.31.1
Rafael A. Irizarry
Last Changed Rev: 55189 / Revision: 55359
Last Changed Date: 2011-04-30 16:17:17 -0700
wilson2 Linux (openSUSE 11.4) / x86_64  OK  OK 
liverpool Windows Server 2003 R2 (32-bit) / x64  OK  OK  OK 
gewurz Windows Server 2008 R2 Enterprise (64-bit) / x64  OK  OK  OK 
pelham Mac OS X Leopard (10.5.8) / i386  OK  OK  OK 
Package 14/462HostnameOS / ArchBUILDCHECKBUILD BIN
affycomp 1.29.0
Rafael A. Irizarry
Last Changed Rev: 54802 / Revision: 55359
Last Changed Date: 2011-04-13 15:36:43 -0700
wilson2 Linux (openSUSE 11.4) / x86_64  OK  OK 
liverpool Windows Server 2003 R2 (32-bit) / x64  OK  OK  OK 
gewurz Windows Server 2008 R2 Enterprise (64-bit) / x64  OK  OK  OK 
pelham Mac OS X Leopard (10.5.8) / i386  OK  OK  OK 
Package 15/462HostnameOS / ArchBUILDCHECKBUILD BIN
AffyCompatible 1.13.0
Martin Morgan
Last Changed Rev: 54802 / Revision: 55359
Last Changed Date: 2011-04-13 15:36:43 -0700
wilson2 Linux (openSUSE 11.4) / x86_64  OK  OK 
liverpool Windows Server 2003 R2 (32-bit) / x64  OK  OK  OK 
gewurz Windows Server 2008 R2 Enterprise (64-bit) / x64  OK  OK  OK 
pelham Mac OS X Leopard (10.5.8) / i386  OK  OK  OK 
Package 16/462HostnameOS / ArchBUILDCHECKBUILD BIN
affyContam 1.11.0
V. Carey
Last Changed Rev: 54802 / Revision: 55359
Last Changed Date: 2011-04-13 15:36:43 -0700
wilson2 Linux (openSUSE 11.4) / x86_64  OK  OK 
liverpool Windows Server 2003 R2 (32-bit) / x64  OK  OK  OK 
gewurz Windows Server 2008 R2 Enterprise (64-bit) / x64  OK  OK  OK 
pelham Mac OS X Leopard (10.5.8) / i386  OK  OK  OK 
Package 17/462HostnameOS / ArchBUILDCHECKBUILD BIN
affycoretools 1.25.0
James W. MacDonald
Last Changed Rev: 54802 / Revision: 55359
Last Changed Date: 2011-04-13 15:36:43 -0700
wilson2 Linux (openSUSE 11.4) / x86_64  OK  OK 
liverpool Windows Server 2003 R2 (32-bit) / x64  OK  OK  OK 
gewurz Windows Server 2008 R2 Enterprise (64-bit) / x64  OK  OK  OK 
pelham Mac OS X Leopard (10.5.8) / i386  OK  OK  OK 
Package 18/462HostnameOS / ArchBUILDCHECKBUILD BIN
AffyExpress 1.19.0
Xuejun Arthur Li
Last Changed Rev: 54802 / Revision: 55359
Last Changed Date: 2011-04-13 15:36:43 -0700
wilson2 Linux (openSUSE 11.4) / x86_64  OK  OK 
liverpool Windows Server 2003 R2 (32-bit) / x64  OK  OK  OK 
gewurz Windows Server 2008 R2 Enterprise (64-bit) / x64  OK  OK  OK 
pelham Mac OS X Leopard (10.5.8) / i386  OK  OK  OK 
Package 19/462HostnameOS / ArchBUILDCHECKBUILD BIN
affyILM 1.5.0
Myriam Kroll and Fabrice Berger
Last Changed Rev: 54802 / Revision: 55359
Last Changed Date: 2011-04-13 15:36:43 -0700
wilson2 Linux (openSUSE 11.4) / x86_64  OK  OK 
liverpool Windows Server 2003 R2 (32-bit) / x64  OK  OK  OK 
gewurz Windows Server 2008 R2 Enterprise (64-bit) / x64  OK  OK  OK 
pelham Mac OS X Leopard (10.5.8) / i386  OK  OK  OK 
Package 20/462HostnameOS / ArchBUILDCHECKBUILD BIN
affyio 1.21.1
Benjamin Milo Bolstad
Last Changed Rev: 55189 / Revision: 55359
Last Changed Date: 2011-04-30 16:17:17 -0700
wilson2 Linux (openSUSE 11.4) / x86_64  OK  OK 
liverpool Windows Server 2003 R2 (32-bit) / x64  OK  OK  OK 
gewurz Windows Server 2008 R2 Enterprise (64-bit) / x64  OK  OK  OK 
pelham Mac OS X Leopard (10.5.8) / i386  OK  OK  OK 
Package 21/462HostnameOS / ArchBUILDCHECKBUILD BIN
affylmGUI 1.27.0
Keith Satterley
Last Changed Rev: 54810 / Revision: 55359
Last Changed Date: 2011-04-13 18:14:51 -0700
wilson2 Linux (openSUSE 11.4) / x86_64  OK  OK 
liverpool Windows Server 2003 R2 (32-bit) / x64  OK  OK  OK 
gewurz Windows Server 2008 R2 Enterprise (64-bit) / x64  OK  OK  OK 
pelham Mac OS X Leopard (10.5.8) / i386  OK  OK  OK 
Package 22/462HostnameOS / ArchBUILDCHECKBUILD BIN
affyPara 1.13.0
Markus Schmidberger
Last Changed Rev: 54802 / Revision: 55359
Last Changed Date: 2011-04-13 15:36:43 -0700
wilson2 Linux (openSUSE 11.4) / x86_64  OK  OK 
liverpool Windows Server 2003 R2 (32-bit) / x64  OK  OK  OK 
gewurz Windows Server 2008 R2 Enterprise (64-bit) / x64  OK  OK  OK 
pelham Mac OS X Leopard (10.5.8) / i386  OK  OK  OK 
Package 23/462HostnameOS / ArchBUILDCHECKBUILD BIN
affypdnn 1.27.0
Laurent Gautier
Last Changed Rev: 54802 / Revision: 55359
Last Changed Date: 2011-04-13 15:36:43 -0700
wilson2 Linux (openSUSE 11.4) / x86_64  OK  OK 
liverpool Windows Server 2003 R2 (32-bit) / x64  OK  OK  OK 
gewurz Windows Server 2008 R2 Enterprise (64-bit) / x64  OK  OK  OK 
pelham Mac OS X Leopard (10.5.8) / i386  OK  OK  OK 
Package 24/462HostnameOS / ArchBUILDCHECKBUILD BIN
affyPLM 1.29.1
Ben Bolstad
Last Changed Rev: 55189 / Revision: 55359
Last Changed Date: 2011-04-30 16:17:17 -0700
wilson2 Linux (openSUSE 11.4) / x86_64  OK  OK 
liverpool Windows Server 2003 R2 (32-bit) / x64  ERROR  skipped  skipped 
gewurz Windows Server 2008 R2 Enterprise (64-bit) / x64  OK  OK  OK 
pelham Mac OS X Leopard (10.5.8) / i386  OK  OK  OK 
Package 25/462HostnameOS / ArchBUILDCHECKBUILD BIN
affyQCReport 1.31.0
Craig Parman
Last Changed Rev: 54802 / Revision: 55359
Last Changed Date: 2011-04-13 15:36:43 -0700
wilson2 Linux (openSUSE 11.4) / x86_64  OK  OK 
liverpool Windows Server 2003 R2 (32-bit) / x64  OK  OK  OK 
gewurz Windows Server 2008 R2 Enterprise (64-bit) / x64  OK  OK  OK 
pelham Mac OS X Leopard (10.5.8) / i386  OK  OK  OK 
Package 26/462HostnameOS / ArchBUILDCHECKBUILD BIN
AffyTiling 1.11.0
Charles G. Danko
Last Changed Rev: 54802 / Revision: 55359
Last Changed Date: 2011-04-13 15:36:43 -0700
wilson2 Linux (openSUSE 11.4) / x86_64  OK  OK 
liverpool Windows Server 2003 R2 (32-bit) / x64  OK  OK  OK 
gewurz Windows Server 2008 R2 Enterprise (64-bit) / x64  OK  OK  OK 
pelham Mac OS X Leopard (10.5.8) / i386  OK  OK  OK 
Package 27/462HostnameOS / ArchBUILDCHECKBUILD BIN
Agi4x44PreProcess 1.13.1
Pedro Lopez-Romero
Last Changed Rev: 55341 / Revision: 55359
Last Changed Date: 2011-05-08 20:15:32 -0700
wilson2 Linux (openSUSE 11.4) / x86_64  OK  OK 
liverpool Windows Server 2003 R2 (32-bit) / x64  OK  OK  OK 
gewurz Windows Server 2008 R2 Enterprise (64-bit) / x64  OK  OK  OK 
pelham Mac OS X Leopard (10.5.8) / i386  OK  OK  OK 
Package 28/462HostnameOS / ArchBUILDCHECKBUILD BIN
AgiMicroRna 2.3.1
Pedro Lopez-Romero
Last Changed Rev: 55341 / Revision: 55359
Last Changed Date: 2011-05-08 20:15:32 -0700
wilson2 Linux (openSUSE 11.4) / x86_64  OK  OK 
liverpool Windows Server 2003 R2 (32-bit) / x64  OK  OK  OK 
gewurz Windows Server 2008 R2 Enterprise (64-bit) / x64  OK  OK  OK 
pelham Mac OS X Leopard (10.5.8) / i386  OK  OK  OK 
Package 29/462HostnameOS / ArchBUILDCHECKBUILD BIN
altcdfenvs 2.15.0
Laurent Gautier
Last Changed Rev: 54802 / Revision: 55359
Last Changed Date: 2011-04-13 15:36:43 -0700
wilson2 Linux (openSUSE 11.4) / x86_64  OK  OK 
liverpool Windows Server 2003 R2 (32-bit) / x64  OK  OK  OK 
gewurz Windows Server 2008 R2 Enterprise (64-bit) / x64  OK  OK  OK 
pelham Mac OS X Leopard (10.5.8) / i386  OK  OK  OK 
Package 30/462HostnameOS / ArchBUILDCHECKBUILD BIN
annaffy 1.25.0
Colin A. Smith
Last Changed Rev: 54802 / Revision: 55359
Last Changed Date: 2011-04-13 15:36:43 -0700
wilson2 Linux (openSUSE 11.4) / x86_64  OK  OK 
liverpool Windows Server 2003 R2 (32-bit) / x64  OK  OK  OK 
gewurz Windows Server 2008 R2 Enterprise (64-bit) / x64  OK  OK  OK 
pelham Mac OS X Leopard (10.5.8) / i386  OK  OK  OK 
Package 31/462HostnameOS / ArchBUILDCHECKBUILD BIN
annotate 1.31.0
Biocore Team c/o BioC user list
Last Changed Rev: 54802 / Revision: 55359
Last Changed Date: 2011-04-13 15:36:43 -0700
wilson2 Linux (openSUSE 11.4) / x86_64  OK  OK 
liverpool Windows Server 2003 R2 (32-bit) / x64  OK  OK  OK 
gewurz Windows Server 2008 R2 Enterprise (64-bit) / x64  OK  OK  OK 
pelham Mac OS X Leopard (10.5.8) / i386  OK  OK  OK 
Package 32/462HostnameOS / ArchBUILDCHECKBUILD BIN
AnnotationDbi 1.15.2
Biocore Team c/o BioC user list
Last Changed Rev: 55164 / Revision: 55359
Last Changed Date: 2011-04-29 11:33:23 -0700
wilson2 Linux (openSUSE 11.4) / x86_64  OK  OK 
liverpool Windows Server 2003 R2 (32-bit) / x64  OK  OK  OK 
gewurz Windows Server 2008 R2 Enterprise (64-bit) / x64  OK  OK  OK 
pelham Mac OS X Leopard (10.5.8) / i386  OK  OK  OK 
Package 33/462HostnameOS / ArchBUILDCHECKBUILD BIN
AnnotationFuncs 1.1.2
Stefan McKinnon Edwards
Last Changed Rev: 55247 / Revision: 55359
Last Changed Date: 2011-05-04 03:51:30 -0700
wilson2 Linux (openSUSE 11.4) / x86_64  OK  ERROR 
liverpool Windows Server 2003 R2 (32-bit) / x64  OK  ERROR  OK 
gewurz Windows Server 2008 R2 Enterprise (64-bit) / x64  OK  ERROR  OK 
pelham Mac OS X Leopard (10.5.8) / i386  OK  ERROR  OK 
Package 34/462HostnameOS / ArchBUILDCHECKBUILD BIN
annotationTools 1.27.0
Alexandre Kuhn
Last Changed Rev: 54802 / Revision: 55359
Last Changed Date: 2011-04-13 15:36:43 -0700
wilson2 Linux (openSUSE 11.4) / x86_64  OK  OK 
liverpool Windows Server 2003 R2 (32-bit) / x64  OK  OK  OK 
gewurz Windows Server 2008 R2 Enterprise (64-bit) / x64  OK  OK  OK 
pelham Mac OS X Leopard (10.5.8) / i386  OK  OK  OK 
Package 35/462HostnameOS / ArchBUILDCHECKBUILD BIN
anota 1.1.0
Ola Larsson
Last Changed Rev: 54802 / Revision: 55359
Last Changed Date: 2011-04-13 15:36:43 -0700
wilson2 Linux (openSUSE 11.4) / x86_64  OK  OK 
liverpool Windows Server 2003 R2 (32-bit) / x64  OK  OK  OK 
gewurz Windows Server 2008 R2 Enterprise (64-bit) / x64  OK  OK  OK 
pelham Mac OS X Leopard (10.5.8) / i386  OK  OK  OK 
Package 36/462HostnameOS / ArchBUILDCHECKBUILD BIN
apComplex 2.19.0
Denise Scholtens
Last Changed Rev: 54802 / Revision: 55359
Last Changed Date: 2011-04-13 15:36:43 -0700
wilson2 Linux (openSUSE 11.4) / x86_64  OK  OK 
liverpool Windows Server 2003 R2 (32-bit) / x64  OK  OK  OK 
gewurz Windows Server 2008 R2 Enterprise (64-bit) / x64  OK  OK  OK 
pelham Mac OS X Leopard (10.5.8) / i386  OK  OK  OK 
Package 37/462HostnameOS / ArchBUILDCHECKBUILD BIN
aroma.light 1.21.0
Henrik Bengtsson
Last Changed Rev: 54869 / Revision: 55359
Last Changed Date: 2011-04-14 18:05:47 -0700
wilson2 Linux (openSUSE 11.4) / x86_64  OK  ERROR 
liverpool Windows Server 2003 R2 (32-bit) / x64  OK  ERROR  OK 
gewurz Windows Server 2008 R2 Enterprise (64-bit) / x64  OK  ERROR  OK 
pelham Mac OS X Leopard (10.5.8) / i386  OK  ERROR  OK 
Package 38/462HostnameOS / ArchBUILDCHECKBUILD BIN
ArrayExpress 1.13.0
Audrey Kauffmann
Last Changed Rev: 54984 / Revision: 55359
Last Changed Date: 2011-04-20 09:53:45 -0700
wilson2 Linux (openSUSE 11.4) / x86_64  OK  OK 
liverpool Windows Server 2003 R2 (32-bit) / x64  OK  OK  OK 
gewurz Windows Server 2008 R2 Enterprise (64-bit) / x64  OK  OK  OK 
pelham Mac OS X Leopard (10.5.8) / i386  OK  OK  OK 
Package 39/462HostnameOS / ArchBUILDCHECKBUILD BIN
ArrayExpressHTS 1.3.0
Angela Goncalves , Andrew Tikhonov
Last Changed Rev: 55212 / Revision: 55359
Last Changed Date: 2011-05-03 06:23:29 -0700
wilson2 Linux (openSUSE 11.4) / x86_64  OK  OK 
liverpool Windows Server 2003 R2 (32-bit) / x64 N O T   S U P P O R T E D
gewurz Windows Server 2008 R2 Enterprise (64-bit) / x64 N O T   S U P P O R T E D
pelham Mac OS X Leopard (10.5.8) / i386  OK  OK  OK 
Package 40/462HostnameOS / ArchBUILDCHECKBUILD BIN
arrayMvout 1.11.0
V. Carey
Last Changed Rev: 54802 / Revision: 55359
Last Changed Date: 2011-04-13 15:36:43 -0700
wilson2 Linux (openSUSE 11.4) / x86_64  OK  OK 
liverpool Windows Server 2003 R2 (32-bit) / x64  OK  OK  OK 
gewurz Windows Server 2008 R2 Enterprise (64-bit) / x64  OK  OK  OK 
pelham Mac OS X Leopard (10.5.8) / i386  OK  OK  OK 
Package 41/462HostnameOS / ArchBUILDCHECKBUILD BIN
arrayQuality 1.31.0
Agnes Paquet
Last Changed Rev: 54802 / Revision: 55359
Last Changed Date: 2011-04-13 15:36:43 -0700
wilson2 Linux (openSUSE 11.4) / x86_64  OK  OK 
liverpool Windows Server 2003 R2 (32-bit) / x64  OK  OK  OK 
gewurz Windows Server 2008 R2 Enterprise (64-bit) / x64  OK  OK  OK 
pelham Mac OS X Leopard (10.5.8) / i386  OK  OK  OK 
Package 42/462HostnameOS / ArchBUILDCHECKBUILD BIN
arrayQualityMetrics 3.9.0
Audrey Kauffmann
Last Changed Rev: 54802 / Revision: 55359
Last Changed Date: 2011-04-13 15:36:43 -0700
wilson2 Linux (openSUSE 11.4) / x86_64  OK  OK 
liverpool Windows Server 2003 R2 (32-bit) / x64  OK  WARNINGS  OK 
gewurz Windows Server 2008 R2 Enterprise (64-bit) / x64  OK  OK  OK 
pelham Mac OS X Leopard (10.5.8) / i386  OK  OK  OK 
Package 43/462HostnameOS / ArchBUILDCHECKBUILD BIN
ArrayTools 1.13.0
Arthur Li
Last Changed Rev: 54802 / Revision: 55359
Last Changed Date: 2011-04-13 15:36:43 -0700
wilson2 Linux (openSUSE 11.4) / x86_64  OK  OK 
liverpool Windows Server 2003 R2 (32-bit) / x64  OK  OK  OK 
gewurz Windows Server 2008 R2 Enterprise (64-bit) / x64  OK  OK  OK 
pelham Mac OS X Leopard (10.5.8) / i386  OK  OK  OK 
Package 44/462HostnameOS / ArchBUILDCHECKBUILD BIN
attract 1.5.0
Jessica Mar
Last Changed Rev: 54802 / Revision: 55359
Last Changed Date: 2011-04-13 15:36:43 -0700
wilson2 Linux (openSUSE 11.4) / x86_64  OK  OK 
liverpool Windows Server 2003 R2 (32-bit) / x64  OK  OK  OK 
gewurz Windows Server 2008 R2 Enterprise (64-bit) / x64  OK  OK  OK 
pelham Mac OS X Leopard (10.5.8) / i386  OK  OK  OK 
B  A [B] C  D  E  F  G  H  I  J  K  L  M  N  O  P  Q  R  S  T  U  V  W  X  Y  Z 
Package 45/462HostnameOS / ArchBUILDCHECKBUILD BIN
BAC 1.13.0
Raphael Gottardo
Last Changed Rev: 54802 / Revision: 55359
Last Changed Date: 2011-04-13 15:36:43 -0700
wilson2 Linux (openSUSE 11.4) / x86_64  OK  OK 
liverpool Windows Server 2003 R2 (32-bit) / x64  OK  OK  OK 
gewurz Windows Server 2008 R2 Enterprise (64-bit) / x64  OK  OK  OK 
pelham Mac OS X Leopard (10.5.8) / i386  OK  OK  OK 
Package 46/462HostnameOS / ArchBUILDCHECKBUILD BIN
BayesPeak 1.5.0
Jonathan Cairns
Last Changed Rev: 54802 / Revision: 55359
Last Changed Date: 2011-04-13 15:36:43 -0700
wilson2 Linux (openSUSE 11.4) / x86_64  OK  OK 
liverpool Windows Server 2003 R2 (32-bit) / x64  OK  OK  OK 
gewurz Windows Server 2008 R2 Enterprise (64-bit) / x64  OK  OK  OK 
pelham Mac OS X Leopard (10.5.8) / i386  OK  OK  OK 
Package 47/462HostnameOS / ArchBUILDCHECKBUILD BIN
baySeq 1.7.0
Thomas J. Hardcastle
Last Changed Rev: 54802 / Revision: 55359
Last Changed Date: 2011-04-13 15:36:43 -0700
wilson2 Linux (openSUSE 11.4) / x86_64  OK  OK 
liverpool Windows Server 2003 R2 (32-bit) / x64  OK  OK  OK 
gewurz Windows Server 2008 R2 Enterprise (64-bit) / x64  OK  OK  OK 
pelham Mac OS X Leopard (10.5.8) / i386  OK  OK  OK 
Package 48/462HostnameOS / ArchBUILDCHECKBUILD BIN
BCRANK 1.15.0
Adam Ameur
Last Changed Rev: 54802 / Revision: 55359
Last Changed Date: 2011-04-13 15:36:43 -0700
wilson2 Linux (openSUSE 11.4) / x86_64  OK  OK 
liverpool Windows Server 2003 R2 (32-bit) / x64  OK  OK  OK 
gewurz Windows Server 2008 R2 Enterprise (64-bit) / x64  OK  OK  OK 
pelham Mac OS X Leopard (10.5.8) / i386  OK  OK  OK 
Package 49/462HostnameOS / ArchBUILDCHECKBUILD BIN
beadarray 2.3.1
Mark Dunning
Last Changed Rev: 55216 / Revision: 55359
Last Changed Date: 2011-05-03 07:49:30 -0700
wilson2 Linux (openSUSE 11.4) / x86_64  OK  OK 
liverpool Windows Server 2003 R2 (32-bit) / x64  OK  OK  OK 
gewurz Windows Server 2008 R2 Enterprise (64-bit) / x64  OK  OK  OK 
pelham Mac OS X Leopard (10.5.8) / i386  OK  OK  OK 
Package 50/462HostnameOS / ArchBUILDCHECKBUILD BIN
beadarraySNP 1.19.0
Jan Oosting
Last Changed Rev: 54802 / Revision: 55359
Last Changed Date: 2011-04-13 15:36:43 -0700
wilson2 Linux (openSUSE 11.4) / x86_64  OK  OK 
liverpool Windows Server 2003 R2 (32-bit) / x64  OK  OK  OK 
gewurz Windows Server 2008 R2 Enterprise (64-bit) / x64  OK  OK  OK 
pelham Mac OS X Leopard (10.5.8) / i386  OK  OK  OK 
Package 51/462HostnameOS / ArchBUILDCHECKBUILD BIN
BeadDataPackR 1.5.0
Mike Smith
Last Changed Rev: 54802 / Revision: 55359
Last Changed Date: 2011-04-13 15:36:43 -0700
wilson2 Linux (openSUSE 11.4) / x86_64  OK  OK 
liverpool Windows Server 2003 R2 (32-bit) / x64  OK  OK  OK 
gewurz Windows Server 2008 R2 Enterprise (64-bit) / x64  OK  OK  OK 
pelham Mac OS X Leopard (10.5.8) / i386  OK  OK  OK 
Package 52/462HostnameOS / ArchBUILDCHECKBUILD BIN
betr 1.9.0
Martin Aryee
Last Changed Rev: 54802 / Revision: 55359
Last Changed Date: 2011-04-13 15:36:43 -0700
wilson2 Linux (openSUSE 11.4) / x86_64  OK  OK 
liverpool Windows Server 2003 R2 (32-bit) / x64  OK  OK  OK 
gewurz Windows Server 2008 R2 Enterprise (64-bit) / x64  OK  OK  OK 
pelham Mac OS X Leopard (10.5.8) / i386  OK  OK  OK 
Package 53/462HostnameOS / ArchBUILDCHECKBUILD BIN
bgafun 1.15.0
Iain Wallace
Last Changed Rev: 54802 / Revision: 55359
Last Changed Date: 2011-04-13 15:36:43 -0700
wilson2 Linux (openSUSE 11.4) / x86_64  OK  OK 
liverpool Windows Server 2003 R2 (32-bit) / x64  OK  OK  OK 
gewurz Windows Server 2008 R2 Enterprise (64-bit) / x64  OK  WARNINGS  OK 
pelham Mac OS X Leopard (10.5.8) / i386  OK  OK  OK 
Package 54/462HostnameOS / ArchBUILDCHECKBUILD BIN
BGmix 1.13.0
Alex Lewin
Last Changed Rev: 54802 / Revision: 55359
Last Changed Date: 2011-04-13 15:36:43 -0700
wilson2 Linux (openSUSE 11.4) / x86_64  OK  OK 
liverpool Windows Server 2003 R2 (32-bit) / x64  OK  OK  OK 
gewurz Windows Server 2008 R2 Enterprise (64-bit) / x64 N O T   S U P P O R T E D
pelham Mac OS X Leopard (10.5.8) / i386  OK  OK  OK 
Package 55/462HostnameOS / ArchBUILDCHECKBUILD BIN
bgx 1.17.0
Ernest Turro
Last Changed Rev: 54802 / Revision: 55359
Last Changed Date: 2011-04-13 15:36:43 -0700
wilson2 Linux (openSUSE 11.4) / x86_64  OK  OK 
liverpool Windows Server 2003 R2 (32-bit) / x64  OK  OK  OK 
gewurz Windows Server 2008 R2 Enterprise (64-bit) / x64  OK  OK  OK 
pelham Mac OS X Leopard (10.5.8) / i386  OK  OK  OK 
Package 56/462HostnameOS / ArchBUILDCHECKBUILD BIN
BHC 1.5.0
Rich Savage
Last Changed Rev: 54802 / Revision: 55359
Last Changed Date: 2011-04-13 15:36:43 -0700
wilson2 Linux (openSUSE 11.4) / x86_64  OK  OK 
liverpool Windows Server 2003 R2 (32-bit) / x64  OK  OK  OK 
gewurz Windows Server 2008 R2 Enterprise (64-bit) / x64  OK  OK  OK 
pelham Mac OS X Leopard (10.5.8) / i386  OK  OK  OK 
Package 57/462HostnameOS / ArchBUILDCHECKBUILD BIN
BicARE 1.11.0
Pierre Gestraud
Last Changed Rev: 54802 / Revision: 55359
Last Changed Date: 2011-04-13 15:36:43 -0700
wilson2 Linux (openSUSE 11.4) / x86_64  OK  OK 
liverpool Windows Server 2003 R2 (32-bit) / x64  OK  OK  OK 
gewurz Windows Server 2008 R2 Enterprise (64-bit) / x64  OK  OK  OK 
pelham Mac OS X Leopard (10.5.8) / i386  OK  OK  OK 
Package 58/462HostnameOS / ArchBUILDCHECKBUILD BIN
Biobase 2.13.2
Biocore Team c/o BioC user list
Last Changed Rev: 55198 / Revision: 55359
Last Changed Date: 2011-05-01 23:56:27 -0700
wilson2 Linux (openSUSE 11.4) / x86_64  OK  WARNINGS 
liverpool Windows Server 2003 R2 (32-bit) / x64  OK  WARNINGS  OK 
gewurz Windows Server 2008 R2 Enterprise (64-bit) / x64  OK  WARNINGS  OK 
pelham Mac OS X Leopard (10.5.8) / i386  OK  WARNINGS  OK 
Package 59/462HostnameOS / ArchBUILDCHECKBUILD BIN
BiocCaseStudies 1.15.0
Biocore Team c/o BioC user list
Last Changed Rev: 54802 / Revision: 55359
Last Changed Date: 2011-04-13 15:36:43 -0700
wilson2 Linux (openSUSE 11.4) / x86_64  OK  OK 
liverpool Windows Server 2003 R2 (32-bit) / x64  OK  OK  OK 
gewurz Windows Server 2008 R2 Enterprise (64-bit) / x64  OK  OK  OK 
pelham Mac OS X Leopard (10.5.8) / i386  OK  OK  OK 
Package 60/462HostnameOS / ArchBUILDCHECKBUILD BIN
biocGraph 1.15.0
Florian Hahne
Last Changed Rev: 54802 / Revision: 55359
Last Changed Date: 2011-04-13 15:36:43 -0700
wilson2 Linux (openSUSE 11.4) / x86_64  OK  OK 
liverpool Windows Server 2003 R2 (32-bit) / x64  OK  OK  OK 
gewurz Windows Server 2008 R2 Enterprise (64-bit) / x64  OK  OK  OK 
pelham Mac OS X Leopard (10.5.8) / i386  OK  OK  OK 
Package 61/462HostnameOS / ArchBUILDCHECKBUILD BIN
Bioconductor 1.1.4
Biocore Team c/o BioC user list
Last Changed Rev: 55334 / Revision: 55359
Last Changed Date: 2011-05-08 18:27:45 -0700
wilson2 Linux (openSUSE 11.4) / x86_64  OK  OK 
liverpool Windows Server 2003 R2 (32-bit) / x64  OK  OK  OK 
gewurz Windows Server 2008 R2 Enterprise (64-bit) / x64  OK  OK  OK 
pelham Mac OS X Leopard (10.5.8) / i386  OK  OK  OK 
Package 62/462HostnameOS / ArchBUILDCHECKBUILD BIN
biocViews 1.21.2
Biocore Team c/o BioC user list
Last Changed Rev: 55078 / Revision: 55359
Last Changed Date: 2011-04-25 15:13:02 -0700
wilson2 Linux (openSUSE 11.4) / x86_64  OK  WARNINGS 
liverpool Windows Server 2003 R2 (32-bit) / x64  OK  WARNINGS  OK 
gewurz Windows Server 2008 R2 Enterprise (64-bit) / x64  OK  WARNINGS  OK 
pelham Mac OS X Leopard (10.5.8) / i386  OK  WARNINGS  OK 
Package 63/462HostnameOS / ArchBUILDCHECKBUILD BIN
bioDist 1.25.0
Biocore Team c/o BioC user list
Last Changed Rev: 54802 / Revision: 55359
Last Changed Date: 2011-04-13 15:36:43 -0700
wilson2 Linux (openSUSE 11.4) / x86_64  OK  OK 
liverpool Windows Server 2003 R2 (32-bit) / x64  OK  OK  OK 
gewurz Windows Server 2008 R2 Enterprise (64-bit) / x64  OK  OK  OK 
pelham Mac OS X Leopard (10.5.8) / i386  OK  OK  OK 
Package 64/462HostnameOS / ArchBUILDCHECKBUILD BIN
biomaRt 2.9.1
Steffen Durinck
Last Changed Rev: 55129 / Revision: 55359
Last Changed Date: 2011-04-28 09:51:14 -0700
wilson2 Linux (openSUSE 11.4) / x86_64  OK  OK 
liverpool Windows Server 2003 R2 (32-bit) / x64  OK  OK  OK 
gewurz Windows Server 2008 R2 Enterprise (64-bit) / x64  OK  OK  OK 
pelham Mac OS X Leopard (10.5.8) / i386  OK  OK  OK 
Package 65/462HostnameOS / ArchBUILDCHECKBUILD BIN
BioMVCClass 1.21.0
Elizabeth Whalen
Last Changed Rev: 54802 / Revision: 55359
Last Changed Date: 2011-04-13 15:36:43 -0700
wilson2 Linux (openSUSE 11.4) / x86_64  OK  OK 
liverpool Windows Server 2003 R2 (32-bit) / x64  OK  OK  OK 
gewurz Windows Server 2008 R2 Enterprise (64-bit) / x64  OK  OK  OK 
pelham Mac OS X Leopard (10.5.8) / i386  OK  OK  OK 
Package 66/462HostnameOS / ArchBUILDCHECKBUILD BIN
BioNet 1.10.1
Marcus Dittrich
Last Changed Rev: 55223 / Revision: 55359
Last Changed Date: 2011-05-03 11:24:00 -0700
wilson2 Linux (openSUSE 11.4) / x86_64  OK  OK 
liverpool Windows Server 2003 R2 (32-bit) / x64  OK  OK  OK 
gewurz Windows Server 2008 R2 Enterprise (64-bit) / x64  OK  OK  OK 
pelham Mac OS X Leopard (10.5.8) / i386  OK  OK  OK 
Package 67/462HostnameOS / ArchBUILDCHECKBUILD BIN
BioSeqClass 1.11.0
Li Hong
Last Changed Rev: 54802 / Revision: 55359
Last Changed Date: 2011-04-13 15:36:43 -0700
wilson2 Linux (openSUSE 11.4) / x86_64  OK  OK 
liverpool Windows Server 2003 R2 (32-bit) / x64  OK  OK  OK 
gewurz Windows Server 2008 R2 Enterprise (64-bit) / x64  OK  OK  OK 
pelham Mac OS X Leopard (10.5.8) / i386  OK  OK  OK 
Package 68/462HostnameOS / ArchBUILDCHECKBUILD BIN
Biostrings 2.21.1
H. Pages
Last Changed Rev: 54976 / Revision: 55359
Last Changed Date: 2011-04-19 22:47:05 -0700
wilson2 Linux (openSUSE 11.4) / x86_64  OK  OK 
liverpool Windows Server 2003 R2 (32-bit) / x64  OK  OK  OK 
gewurz Windows Server 2008 R2 Enterprise (64-bit) / x64  OK  OK  OK 
pelham Mac OS X Leopard (10.5.8) / i386  OK  OK  OK 
Package 69/462HostnameOS / ArchBUILDCHECKBUILD BIN
bridge 1.17.0
Raphael Gottardo
Last Changed Rev: 54802 / Revision: 55359
Last Changed Date: 2011-04-13 15:36:43 -0700
wilson2 Linux (openSUSE 11.4) / x86_64  OK  OK 
liverpool Windows Server 2003 R2 (32-bit) / x64  OK  OK  OK 
gewurz Windows Server 2008 R2 Enterprise (64-bit) / x64  OK  OK  OK 
pelham Mac OS X Leopard (10.5.8) / i386  OK  OK  OK 
Package 70/462HostnameOS / ArchBUILDCHECKBUILD BIN
BSgenome 1.21.0
H. Pages
Last Changed Rev: 54802 / Revision: 55359
Last Changed Date: 2011-04-13 15:36:43 -0700
wilson2 Linux (openSUSE 11.4) / x86_64  OK  OK 
liverpool Windows Server 2003 R2 (32-bit) / x64  OK  OK  OK 
gewurz Windows Server 2008 R2 Enterprise (64-bit) / x64  OK  OK  OK 
pelham Mac OS X Leopard (10.5.8) / i386  OK  OK  OK 
Package 71/462HostnameOS / ArchBUILDCHECKBUILD BIN
BufferedMatrix 1.17.0
Benjamin Milo Bolstad
Last Changed Rev: 54802 / Revision: 55359
Last Changed Date: 2011-04-13 15:36:43 -0700
wilson2 Linux (openSUSE 11.4) / x86_64  OK  OK 
liverpool Windows Server 2003 R2 (32-bit) / x64  OK  OK  OK 
gewurz Windows Server 2008 R2 Enterprise (64-bit) / x64  OK  OK  OK 
pelham Mac OS X Leopard (10.5.8) / i386  OK  OK  OK 
Package 72/462HostnameOS / ArchBUILDCHECKBUILD BIN
BufferedMatrixMethods 1.17.0
B. M. Bolstad
Last Changed Rev: 54802 / Revision: 55359
Last Changed Date: 2011-04-13 15:36:43 -0700
wilson2 Linux (openSUSE 11.4) / x86_64  OK  OK 
liverpool Windows Server 2003 R2 (32-bit) / x64  OK  OK  OK 
gewurz Windows Server 2008 R2 Enterprise (64-bit) / x64  OK  OK  OK 
pelham Mac OS X Leopard (10.5.8) / i386  OK  OK  OK 
Package 73/462HostnameOS / ArchBUILDCHECKBUILD BIN
BUS 1.9.0
Yuanhua Liu
Last Changed Rev: 54802 / Revision: 55359
Last Changed Date: 2011-04-13 15:36:43 -0700
wilson2 Linux (openSUSE 11.4) / x86_64  OK  OK 
liverpool Windows Server 2003 R2 (32-bit) / x64  OK  OK  OK 
gewurz Windows Server 2008 R2 Enterprise (64-bit) / x64  OK  OK  OK 
pelham Mac OS X Leopard (10.5.8) / i386  OK  OK  OK 
C  A  B [C] D  E  F  G  H  I  J  K  L  M  N  O  P  Q  R  S  T  U  V  W  X  Y  Z 
Package 74/462HostnameOS / ArchBUILDCHECKBUILD BIN
CALIB 1.19.0
Hui Zhao
Last Changed Rev: 54802 / Revision: 55359
Last Changed Date: 2011-04-13 15:36:43 -0700
wilson2 Linux (openSUSE 11.4) / x86_64  OK  OK 
liverpool Windows Server 2003 R2 (32-bit) / x64  OK  OK  OK 
gewurz Windows Server 2008 R2 Enterprise (64-bit) / x64  OK  OK  OK 
pelham Mac OS X Leopard (10.5.8) / i386  OK  OK  OK 
Package 75/462HostnameOS / ArchBUILDCHECKBUILD BIN
CAMERA 1.9.1
Carsten Kuhl
Last Changed Rev: 55125 / Revision: 55359
Last Changed Date: 2011-04-28 07:56:27 -0700
wilson2 Linux (openSUSE 11.4) / x86_64  OK  OK 
liverpool Windows Server 2003 R2 (32-bit) / x64  OK  OK  OK 
gewurz Windows Server 2008 R2 Enterprise (64-bit) / x64  OK  OK  OK 
pelham Mac OS X Leopard (10.5.8) / i386  OK  OK  OK 
Package 76/462HostnameOS / ArchBUILDCHECKBUILD BIN
Category 2.19.1
Biocore Team c/o BioC user list
Last Changed Rev: 55298 / Revision: 55359
Last Changed Date: 2011-05-06 04:33:28 -0700
wilson2 Linux (openSUSE 11.4) / x86_64  ERROR  skipped 
liverpool Windows Server 2003 R2 (32-bit) / x64  ERROR  skipped  skipped 
gewurz Windows Server 2008 R2 Enterprise (64-bit) / x64  ERROR  skipped  skipped 
pelham Mac OS X Leopard (10.5.8) / i386  ERROR  skipped  skipped 
Package 77/462HostnameOS / ArchBUILDCHECKBUILD BIN
cellHTS 1.23.0
Ligia Bras
Last Changed Rev: 54802 / Revision: 55359
Last Changed Date: 2011-04-13 15:36:43 -0700
wilson2 Linux (openSUSE 11.4) / x86_64  OK  OK 
liverpool Windows Server 2003 R2 (32-bit) / x64  OK  OK  OK 
gewurz Windows Server 2008 R2 Enterprise (64-bit) / x64  OK  OK  OK 
pelham Mac OS X Leopard (10.5.8) / i386  OK  OK  OK 
Package 78/462HostnameOS / ArchBUILDCHECKBUILD BIN
cellHTS2 2.17.0
Florian Hahne
Last Changed Rev: 54802 / Revision: 55359
Last Changed Date: 2011-04-13 15:36:43 -0700
wilson2 Linux (openSUSE 11.4) / x86_64  OK  OK 
liverpool Windows Server 2003 R2 (32-bit) / x64  OK  OK  OK 
gewurz Windows Server 2008 R2 Enterprise (64-bit) / x64  OK  OK  OK 
pelham Mac OS X Leopard (10.5.8) / i386  OK  OK  OK 
Package 79/462HostnameOS / ArchBUILDCHECKBUILD BIN
CGEN 1.5.0
William Wheeler
Last Changed Rev: 54802 / Revision: 55359
Last Changed Date: 2011-04-13 15:36:43 -0700
wilson2 Linux (openSUSE 11.4) / x86_64  OK  OK 
liverpool Windows Server 2003 R2 (32-bit) / x64  OK  OK  OK 
gewurz Windows Server 2008 R2 Enterprise (64-bit) / x64  OK  OK  OK 
pelham Mac OS X Leopard (10.5.8) / i386  OK  OK  OK 
Package 80/462HostnameOS / ArchBUILDCHECKBUILD BIN
CGHbase 1.11.0
Sjoerd Vosse
Last Changed Rev: 54802 / Revision: 55359
Last Changed Date: 2011-04-13 15:36:43 -0700
wilson2 Linux (openSUSE 11.4) / x86_64  OK  OK 
liverpool Windows Server 2003 R2 (32-bit) / x64  OK  OK  OK 
gewurz Windows Server 2008 R2 Enterprise (64-bit) / x64  OK  OK  OK 
pelham Mac OS X Leopard (10.5.8) / i386  OK  OK  OK 
Package 81/462HostnameOS / ArchBUILDCHECKBUILD BIN
CGHcall 2.13.0
Mark van de Wiel
Last Changed Rev: 54810 / Revision: 55359
Last Changed Date: 2011-04-13 18:14:51 -0700
wilson2 Linux (openSUSE 11.4) / x86_64  OK  OK 
liverpool Windows Server 2003 R2 (32-bit) / x64  OK  OK  OK 
gewurz Windows Server 2008 R2 Enterprise (64-bit) / x64  OK  OK  OK 
pelham Mac OS X Leopard (10.5.8) / i386  OK  OK  OK 
Package 82/462HostnameOS / ArchBUILDCHECKBUILD BIN
cghMCR 1.11.0
J. Zhang
Last Changed Rev: 54802 / Revision: 55359
Last Changed Date: 2011-04-13 15:36:43 -0700
wilson2 Linux (openSUSE 11.4) / x86_64  OK  OK 
liverpool Windows Server 2003 R2 (32-bit) / x64  OK  OK  OK 
gewurz Windows Server 2008 R2 Enterprise (64-bit) / x64  OK  OK  OK 
pelham Mac OS X Leopard (10.5.8) / i386  OK  OK  OK 
Package 83/462HostnameOS / ArchBUILDCHECKBUILD BIN
CGHnormaliter 1.7.0
Bart P.P. van Houte
Last Changed Rev: 54802 / Revision: 55359
Last Changed Date: 2011-04-13 15:36:43 -0700
wilson2 Linux (openSUSE 11.4) / x86_64  OK  WARNINGS 
liverpool Windows Server 2003 R2 (32-bit) / x64  OK  OK  OK 
gewurz Windows Server 2008 R2 Enterprise (64-bit) / x64  OK  OK  OK 
pelham Mac OS X Leopard (10.5.8) / i386  OK  WARNINGS  OK 
Package 84/462HostnameOS / ArchBUILDCHECKBUILD BIN
CGHregions 1.11.0
Sjoerd Vosse
Last Changed Rev: 54802 / Revision: 55359
Last Changed Date: 2011-04-13 15:36:43 -0700
wilson2 Linux (openSUSE 11.4) / x86_64  OK  OK 
liverpool Windows Server 2003 R2 (32-bit) / x64  OK  OK  OK 
gewurz Windows Server 2008 R2 Enterprise (64-bit) / x64  OK  OK  OK 
pelham Mac OS X Leopard (10.5.8) / i386  OK  OK  OK 
Package 85/462HostnameOS / ArchBUILDCHECKBUILD BIN
charm 1.5.4
Martin Aryee
Last Changed Rev: 55273 / Revision: 55359
Last Changed Date: 2011-05-05 10:11:59 -0700
wilson2 Linux (openSUSE 11.4) / x86_64  OK  OK 
liverpool Windows Server 2003 R2 (32-bit) / x64  OK  OK  OK 
gewurz Windows Server 2008 R2 Enterprise (64-bit) / x64  OK  OK  OK 
pelham Mac OS X Leopard (10.5.8) / i386  OK  OK  OK 
Package 86/462HostnameOS / ArchBUILDCHECKBUILD BIN
ChemmineR 2.5.0
ChemmineR Team
Last Changed Rev: 54802 / Revision: 55359
Last Changed Date: 2011-04-13 15:36:43 -0700
wilson2 Linux (openSUSE 11.4) / x86_64  OK  OK 
liverpool Windows Server 2003 R2 (32-bit) / x64  OK  OK  OK 
gewurz Windows Server 2008 R2 Enterprise (64-bit) / x64  OK  OK  OK 
pelham Mac OS X Leopard (10.5.8) / i386  OK  OK  OK 
Package 87/462HostnameOS / ArchBUILDCHECKBUILD BIN
ChIPpeakAnno 1.9.0
Lihua Julie Zhu
Last Changed Rev: 54802 / Revision: 55359
Last Changed Date: 2011-04-13 15:36:43 -0700
wilson2 Linux (openSUSE 11.4) / x86_64  ERROR  skipped 
liverpool Windows Server 2003 R2 (32-bit) / x64  ERROR  skipped  skipped 
gewurz Windows Server 2008 R2 Enterprise (64-bit) / x64  ERROR  skipped  skipped 
pelham Mac OS X Leopard (10.5.8) / i386  ERROR  skipped  skipped 
Package 88/462HostnameOS / ArchBUILDCHECKBUILD BIN
chipseq 1.3.0
Biocore Team c/o BioC user list
Last Changed Rev: 54802 / Revision: 55359
Last Changed Date: 2011-04-13 15:36:43 -0700
wilson2 Linux (openSUSE 11.4) / x86_64  OK  WARNINGS 
liverpool Windows Server 2003 R2 (32-bit) / x64  OK  WARNINGS  OK 
gewurz Windows Server 2008 R2 Enterprise (64-bit) / x64  OK  WARNINGS  OK 
pelham Mac OS X Leopard (10.5.8) / i386  OK  WARNINGS  OK 
Package 89/462HostnameOS / ArchBUILDCHECKBUILD BIN
ChIPseqR 1.7.0
Peter Humburg
Last Changed Rev: 55011 / Revision: 55359
Last Changed Date: 2011-04-21 01:15:39 -0700
wilson2 Linux (openSUSE 11.4) / x86_64  OK  OK 
liverpool Windows Server 2003 R2 (32-bit) / x64  OK  OK  OK 
gewurz Windows Server 2008 R2 Enterprise (64-bit) / x64  OK  OK  OK 
pelham Mac OS X Leopard (10.5.8) / i386  OK  OK  OK 
Package 90/462HostnameOS / ArchBUILDCHECKBUILD BIN
ChIPsim 1.7.0
Peter Humburg
Last Changed Rev: 54802 / Revision: 55359
Last Changed Date: 2011-04-13 15:36:43 -0700
wilson2 Linux (openSUSE 11.4) / x86_64  OK  OK 
liverpool Windows Server 2003 R2 (32-bit) / x64  OK  OK  OK 
gewurz Windows Server 2008 R2 Enterprise (64-bit) / x64  OK  OK  OK 
pelham Mac OS X Leopard (10.5.8) / i386  OK  OK  OK 
Package 91/462HostnameOS / ArchBUILDCHECKBUILD BIN
chopsticks 1.17.1
Hin-Tak Leung
Last Changed Rev: 55058 / Revision: 55359
Last Changed Date: 2011-04-24 21:27:03 -0700
wilson2 Linux (openSUSE 11.4) / x86_64  OK  OK 
liverpool Windows Server 2003 R2 (32-bit) / x64  OK  OK  OK 
gewurz Windows Server 2008 R2 Enterprise (64-bit) / x64  OK  OK  OK 
pelham Mac OS X Leopard (10.5.8) / i386  OK  OK  OK 
Package 92/462HostnameOS / ArchBUILDCHECKBUILD BIN
ChromHeatMap 1.7.0
Tim F. Rayner
Last Changed Rev: 54810 / Revision: 55359
Last Changed Date: 2011-04-13 18:14:51 -0700
wilson2 Linux (openSUSE 11.4) / x86_64  OK  OK 
liverpool Windows Server 2003 R2 (32-bit) / x64  OK  OK  OK 
gewurz Windows Server 2008 R2 Enterprise (64-bit) / x64  OK  OK  OK 
pelham Mac OS X Leopard (10.5.8) / i386  OK  OK  OK 
Package 93/462HostnameOS / ArchBUILDCHECKBUILD BIN
clippda 1.3.0
Stephen Nyangoma
Last Changed Rev: 54802 / Revision: 55359
Last Changed Date: 2011-04-13 15:36:43 -0700
wilson2 Linux (openSUSE 11.4) / x86_64  OK  OK 
liverpool Windows Server 2003 R2 (32-bit) / x64  OK  OK  OK 
gewurz Windows Server 2008 R2 Enterprise (64-bit) / x64  OK  OK  OK 
pelham Mac OS X Leopard (10.5.8) / i386  OK  OK  OK 
Package 94/462HostnameOS / ArchBUILDCHECKBUILD BIN
Clonality 1.1.0
Irina Ostrovnaya
Last Changed Rev: 54802 / Revision: 55359
Last Changed Date: 2011-04-13 15:36:43 -0700
wilson2 Linux (openSUSE 11.4) / x86_64  OK  OK 
liverpool Windows Server 2003 R2 (32-bit) / x64  OK  OK  OK 
gewurz Windows Server 2008 R2 Enterprise (64-bit) / x64  OK  OK  OK 
pelham Mac OS X Leopard (10.5.8) / i386  OK  OK  OK 
Package 95/462HostnameOS / ArchBUILDCHECKBUILD BIN
clst 1.1.0
Noah Hoffman
Last Changed Rev: 55172 / Revision: 55359
Last Changed Date: 2011-04-29 16:27:12 -0700
wilson2 Linux (openSUSE 11.4) / x86_64  OK  OK 
liverpool Windows Server 2003 R2 (32-bit) / x64  OK  OK  OK 
gewurz Windows Server 2008 R2 Enterprise (64-bit) / x64  OK  OK  OK 
pelham Mac OS X Leopard (10.5.8) / i386  OK  OK  OK 
Package 96/462HostnameOS / ArchBUILDCHECKBUILD BIN
clstutils 1.1.0
Noah Hoffman
Last Changed Rev: 54802 / Revision: 55359
Last Changed Date: 2011-04-13 15:36:43 -0700
wilson2 Linux (openSUSE 11.4) / x86_64  OK  OK 
liverpool Windows Server 2003 R2 (32-bit) / x64  OK  OK  OK 
gewurz Windows Server 2008 R2 Enterprise (64-bit) / x64  OK  OK  OK 
pelham Mac OS X Leopard (10.5.8) / i386  OK  OK  OK 
Package 97/462HostnameOS / ArchBUILDCHECKBUILD BIN
clusterProfiler 1.1.3
Guangchuang Yu
Last Changed Rev: 55117 / Revision: 55359
Last Changed Date: 2011-04-28 02:25:11 -0700
wilson2 Linux (openSUSE 11.4) / x86_64  OK  OK 
liverpool Windows Server 2003 R2 (32-bit) / x64  OK  OK  OK 
gewurz Windows Server 2008 R2 Enterprise (64-bit) / x64  OK  OK  OK 
pelham Mac OS X Leopard (10.5.8) / i386  OK  OK  OK 
Package 98/462HostnameOS / ArchBUILDCHECKBUILD BIN
clusterStab 1.25.1
James W. MacDonald
Last Changed Rev: 54916 / Revision: 55359
Last Changed Date: 2011-04-18 10:27:55 -0700
wilson2 Linux (openSUSE 11.4) / x86_64  OK  OK 
liverpool Windows Server 2003 R2 (32-bit) / x64  OK  OK  OK 
gewurz Windows Server 2008 R2 Enterprise (64-bit) / x64  OK  OK  OK 
pelham Mac OS X Leopard (10.5.8) / i386  OK  OK  OK 
Package 99/462HostnameOS / ArchBUILDCHECKBUILD BIN
CMA 1.11.0
Christoph Bernau
Last Changed Rev: 54802 / Revision: 55359
Last Changed Date: 2011-04-13 15:36:43 -0700
wilson2 Linux (openSUSE 11.4) / x86_64  OK  OK 
liverpool Windows Server 2003 R2 (32-bit) / x64  OK  OK  OK 
gewurz Windows Server 2008 R2 Enterprise (64-bit) / x64  OK  OK  OK 
pelham Mac OS X Leopard (10.5.8) / i386  OK  OK  OK 
Package 100/462HostnameOS / ArchBUILDCHECKBUILD BIN
cn.farms 1.1.1
Andreas Mitterecker
Last Changed Rev: 55081 / Revision: 55359
Last Changed Date: 2011-04-26 01:41:25 -0700
wilson2 Linux (openSUSE 11.4) / x86_64  OK  OK 
liverpool Windows Server 2003 R2 (32-bit) / x64  OK  OK  OK 
gewurz Windows Server 2008 R2 Enterprise (64-bit) / x64  OK  OK  OK 
pelham Mac OS X Leopard (10.5.8) / i386  OK  OK  OK 
Package 101/462HostnameOS / ArchBUILDCHECKBUILD BIN
CNTools 1.9.0
J. Zhang
Last Changed Rev: 54802 / Revision: 55359
Last Changed Date: 2011-04-13 15:36:43 -0700
wilson2 Linux (openSUSE 11.4) / x86_64  OK  OK 
liverpool Windows Server 2003 R2 (32-bit) / x64  OK  OK  OK 
gewurz Windows Server 2008 R2 Enterprise (64-bit) / x64  OK  OK  OK 
pelham Mac OS X Leopard (10.5.8) / i386  OK  OK  OK 
Package 102/462HostnameOS / ArchBUILDCHECKBUILD BIN
CNVtools 1.47.0
Chris Barnes
Last Changed Rev: 54802 / Revision: 55359
Last Changed Date: 2011-04-13 15:36:43 -0700
wilson2 Linux (openSUSE 11.4) / x86_64  OK  OK 
liverpool Windows Server 2003 R2 (32-bit) / x64  OK  OK  OK 
gewurz Windows Server 2008 R2 Enterprise (64-bit) / x64  OK  OK  OK 
pelham Mac OS X Leopard (10.5.8) / i386  OK  OK  OK 
Package 103/462HostnameOS / ArchBUILDCHECKBUILD BIN
CoCiteStats 1.25.0
Biocore Team c/o BioC user list
Last Changed Rev: 54802 / Revision: 55359
Last Changed Date: 2011-04-13 15:36:43 -0700
wilson2 Linux (openSUSE 11.4) / x86_64  OK  OK 
liverpool Windows Server 2003 R2 (32-bit) / x64  OK  OK  OK 
gewurz Windows Server 2008 R2 Enterprise (64-bit) / x64  OK  OK  OK 
pelham Mac OS X Leopard (10.5.8) / i386  OK  OK  OK 
Package 104/462HostnameOS / ArchBUILDCHECKBUILD BIN
codelink 1.21.0
Diego Diez
Last Changed Rev: 54802 / Revision: 55359
Last Changed Date: 2011-04-13 15:36:43 -0700
wilson2 Linux (openSUSE 11.4) / x86_64  OK  OK 
liverpool Windows Server 2003 R2 (32-bit) / x64  OK  OK  OK 
gewurz Windows Server 2008 R2 Enterprise (64-bit) / x64  OK  OK  OK 
pelham Mac OS X Leopard (10.5.8) / i386  OK  OK  OK 
Package 105/462HostnameOS / ArchBUILDCHECKBUILD BIN
CoGAPS 1.3.0
Elana J. Fertig , Michael F. Ochs
Last Changed Rev: 54810 / Revision: 55359
Last Changed Date: 2011-04-13 18:14:51 -0700
wilson2 Linux (openSUSE 11.4) / x86_64  OK  OK 
liverpool Windows Server 2003 R2 (32-bit) / x64 N O T   S U P P O R T E D
gewurz Windows Server 2008 R2 Enterprise (64-bit) / x64 N O T   S U P P O R T E D
pelham Mac OS X Leopard (10.5.8) / i386 N O T   S U P P O R T E D
Package 106/462HostnameOS / ArchBUILDCHECKBUILD BIN
ConsensusClusterPlus 1.5.0
Matt Wilkerson
Last Changed Rev: 54802 / Revision: 55359
Last Changed Date: 2011-04-13 15:36:43 -0700
wilson2 Linux (openSUSE 11.4) / x86_64  OK  OK 
liverpool Windows Server 2003 R2 (32-bit) / x64  OK  OK  OK 
gewurz Windows Server 2008 R2 Enterprise (64-bit) / x64  OK  OK  OK 
pelham Mac OS X Leopard (10.5.8) / i386  OK  OK  OK 
Package 107/462HostnameOS / ArchBUILDCHECKBUILD BIN
convert 1.29.0
Yee Hwa (Jean) Yang
Last Changed Rev: 54802 / Revision: 55359
Last Changed Date: 2011-04-13 15:36:43 -0700
wilson2 Linux (openSUSE 11.4) / x86_64  OK  OK 
liverpool Windows Server 2003 R2 (32-bit) / x64  OK  OK  OK 
gewurz Windows Server 2008 R2 Enterprise (64-bit) / x64  OK  OK  OK 
pelham Mac OS X Leopard (10.5.8) / i386  OK  OK  OK 
Package 108/462HostnameOS / ArchBUILDCHECKBUILD BIN
copa 1.21.0
James W. MacDonald
Last Changed Rev: 54802 / Revision: 55359
Last Changed Date: 2011-04-13 15:36:43 -0700
wilson2 Linux (openSUSE 11.4) / x86_64  OK  OK 
liverpool Windows Server 2003 R2 (32-bit) / x64  OK  OK  OK 
gewurz Windows Server 2008 R2 Enterprise (64-bit) / x64  OK  OK  OK 
pelham Mac OS X Leopard (10.5.8) / i386  OK  OK  OK 
Package 109/462HostnameOS / ArchBUILDCHECKBUILD BIN
coRNAi 1.3.0
Elin Axelsson
Last Changed Rev: 54802 / Revision: 55359
Last Changed Date: 2011-04-13 15:36:43 -0700
wilson2 Linux (openSUSE 11.4) / x86_64  OK  OK 
liverpool Windows Server 2003 R2 (32-bit) / x64  OK  OK  OK 
gewurz Windows Server 2008 R2 Enterprise (64-bit) / x64  OK  OK  OK 
pelham Mac OS X Leopard (10.5.8) / i386  OK  OK  OK 
Package 110/462HostnameOS / ArchBUILDCHECKBUILD BIN
CORREP 1.19.0
Dongxiao Zhu
Last Changed Rev: 54802 / Revision: 55359
Last Changed Date: 2011-04-13 15:36:43 -0700
wilson2 Linux (openSUSE 11.4) / x86_64  OK  OK 
liverpool Windows Server 2003 R2 (32-bit) / x64  OK  OK  OK 
gewurz Windows Server 2008 R2 Enterprise (64-bit) / x64  OK  OK  OK 
pelham Mac OS X Leopard (10.5.8) / i386  OK  OK  OK 
Package 111/462HostnameOS / ArchBUILDCHECKBUILD BIN
cosmo 1.19.0
Oliver Bembom
Last Changed Rev: 54802 / Revision: 55359
Last Changed Date: 2011-04-13 15:36:43 -0700
wilson2 Linux (openSUSE 11.4) / x86_64  OK  OK 
liverpool Windows Server 2003 R2 (32-bit) / x64  OK  OK  OK 
gewurz Windows Server 2008 R2 Enterprise (64-bit) / x64  OK  OK  OK 
pelham Mac OS X Leopard (10.5.8) / i386  OK  OK  OK 
Package 112/462HostnameOS / ArchBUILDCHECKBUILD BIN
cosmoGUI 1.19.0
Oliver Bembom
Last Changed Rev: 54802 / Revision: 55359
Last Changed Date: 2011-04-13 15:36:43 -0700
wilson2 Linux (openSUSE 11.4) / x86_64  OK  OK 
liverpool Windows Server 2003 R2 (32-bit) / x64  OK  OK  OK 
gewurz Windows Server 2008 R2 Enterprise (64-bit) / x64  OK  OK  OK 
pelham Mac OS X Leopard (10.5.8) / i386  OK  OK  OK 
Package 113/462HostnameOS / ArchBUILDCHECKBUILD BIN
CRImage 1.3.0
Henrik Failmezger , Yinyin Yuan
Last Changed Rev: 54810 / Revision: 55359
Last Changed Date: 2011-04-13 18:14:51 -0700
wilson2 Linux (openSUSE 11.4) / x86_64  OK  OK 
liverpool Windows Server 2003 R2 (32-bit) / x64  OK  OK  OK 
gewurz Windows Server 2008 R2 Enterprise (64-bit) / x64 N O T   S U P P O R T E D
pelham Mac OS X Leopard (10.5.8) / i386 N O T   S U P P O R T E D
Package 114/462HostnameOS / ArchBUILDCHECKBUILD BIN
crlmm 1.11.2
Benilton S Carvalho , Robert Scharpf , Matt Ritchie
Last Changed Rev: 55182 / Revision: 55359
Last Changed Date: 2011-04-30 04:38:33 -0700
wilson2 Linux (openSUSE 11.4) / x86_64  OK  WARNINGS 
liverpool Windows Server 2003 R2 (32-bit) / x64  OK  WARNINGS  OK 
gewurz Windows Server 2008 R2 Enterprise (64-bit) / x64  OK  WARNINGS  OK 
pelham Mac OS X Leopard (10.5.8) / i386  OK  WARNINGS  OK 
Package 115/462HostnameOS / ArchBUILDCHECKBUILD BIN
CSAR 1.5.0
Jose M Muino
Last Changed Rev: 54810 / Revision: 55359
Last Changed Date: 2011-04-13 18:14:51 -0700
wilson2 Linux (openSUSE 11.4) / x86_64  OK  OK 
liverpool Windows Server 2003 R2 (32-bit) / x64  OK  OK  OK 
gewurz Windows Server 2008 R2 Enterprise (64-bit) / x64  OK  OK  OK 
pelham Mac OS X Leopard (10.5.8) / i386  OK  OK  OK 
Package 116/462HostnameOS / ArchBUILDCHECKBUILD BIN
ctc 1.27.0
Antoine Lucas
Last Changed Rev: 54802 / Revision: 55359
Last Changed Date: 2011-04-13 15:36:43 -0700
wilson2 Linux (openSUSE 11.4) / x86_64  OK  OK 
liverpool Windows Server 2003 R2 (32-bit) / x64  OK  OK  OK 
gewurz Windows Server 2008 R2 Enterprise (64-bit) / x64  OK  OK  OK 
pelham Mac OS X Leopard (10.5.8) / i386  OK  OK  OK 
Package 117/462HostnameOS / ArchBUILDCHECKBUILD BIN
cycle 1.7.0
Matthias Futschik
Last Changed Rev: 54802 / Revision: 55359
Last Changed Date: 2011-04-13 15:36:43 -0700
wilson2 Linux (openSUSE 11.4) / x86_64  OK  OK 
liverpool Windows Server 2003 R2 (32-bit) / x64  OK  OK  OK 
gewurz Windows Server 2008 R2 Enterprise (64-bit) / x64  OK  OK  OK 
pelham Mac OS X Leopard (10.5.8) / i386  OK  OK  OK 
D  A  B  C [D] E  F  G  H  I  J  K  L  M  N  O  P  Q  R  S  T  U  V  W  X  Y  Z 
Package 118/462HostnameOS / ArchBUILDCHECKBUILD BIN
daMA 1.25.0
Jobst Landgrebe
Last Changed Rev: 54802 / Revision: 55359
Last Changed Date: 2011-04-13 15:36:43 -0700
wilson2 Linux (openSUSE 11.4) / x86_64  OK  OK 
liverpool Windows Server 2003 R2 (32-bit) / x64  OK  OK  OK 
gewurz Windows Server 2008 R2 Enterprise (64-bit) / x64  OK  OK  OK 
pelham Mac OS X Leopard (10.5.8) / i386  OK  OK  OK 
Package 119/462HostnameOS / ArchBUILDCHECKBUILD BIN
DAVIDQuery 1.13.0
Roger Day
Last Changed Rev: 54810 / Revision: 55359
Last Changed Date: 2011-04-13 18:14:51 -0700
wilson2 Linux (openSUSE 11.4) / x86_64  OK  OK 
liverpool Windows Server 2003 R2 (32-bit) / x64  OK  OK  OK 
gewurz Windows Server 2008 R2 Enterprise (64-bit) / x64  OK  OK  OK 
pelham Mac OS X Leopard (10.5.8) / i386  OK  OK  OK 
Package 120/462HostnameOS / ArchBUILDCHECKBUILD BIN
ddCt 1.7.0
Jitao David Zhang
Last Changed Rev: 54802 / Revision: 55359
Last Changed Date: 2011-04-13 15:36:43 -0700
wilson2 Linux (openSUSE 11.4) / x86_64  OK  OK 
liverpool Windows Server 2003 R2 (32-bit) / x64  OK  OK  OK 
gewurz Windows Server 2008 R2 Enterprise (64-bit) / x64  OK  OK  OK 
pelham Mac OS X Leopard (10.5.8) / i386  OK  OK  OK 
Package 121/462HostnameOS / ArchBUILDCHECKBUILD BIN
DEDS 1.27.0
Yuanyuan Xiao
Last Changed Rev: 54802 / Revision: 55359
Last Changed Date: 2011-04-13 15:36:43 -0700
wilson2 Linux (openSUSE 11.4) / x86_64  OK  OK 
liverpool Windows Server 2003 R2 (32-bit) / x64  OK  OK  OK 
gewurz Windows Server 2008 R2 Enterprise (64-bit) / x64  OK  OK  OK 
pelham Mac OS X Leopard (10.5.8) / i386  OK  OK  OK 
Package 122/462HostnameOS / ArchBUILDCHECKBUILD BIN
DEGraph 1.5.0
Laurent Jacob
Last Changed Rev: 54802 / Revision: 55359
Last Changed Date: 2011-04-13 15:36:43 -0700
wilson2 Linux (openSUSE 11.4) / x86_64  OK  OK 
liverpool Windows Server 2003 R2 (32-bit) / x64  OK  OK  OK 
gewurz Windows Server 2008 R2 Enterprise (64-bit) / x64  OK  OK  OK 
pelham Mac OS X Leopard (10.5.8) / i386  OK  OK  OK 
Package 123/462HostnameOS / ArchBUILDCHECKBUILD BIN
DEGseq 1.7.0
Likun Wang
Last Changed Rev: 54802 / Revision: 55359
Last Changed Date: 2011-04-13 15:36:43 -0700
wilson2 Linux (openSUSE 11.4) / x86_64  OK  OK 
liverpool Windows Server 2003 R2 (32-bit) / x64  OK  OK  OK 
gewurz Windows Server 2008 R2 Enterprise (64-bit) / x64  OK  OK  OK 
pelham Mac OS X Leopard (10.5.8) / i386  OK  OK  OK 
Package 124/462HostnameOS / ArchBUILDCHECKBUILD BIN
DESeq 1.5.1
Simon Anders
Last Changed Rev: 54998 / Revision: 55359
Last Changed Date: 2011-04-20 13:19:15 -0700
wilson2 Linux (openSUSE 11.4) / x86_64  OK  OK 
liverpool Windows Server 2003 R2 (32-bit) / x64  OK  OK  OK 
gewurz Windows Server 2008 R2 Enterprise (64-bit) / x64  OK  OK  OK 
pelham Mac OS X Leopard (10.5.8) / i386  OK  OK  OK 
Package 125/462HostnameOS / ArchBUILDCHECKBUILD BIN
DFP 1.11.0
Rodrigo Alvarez-Glez
Last Changed Rev: 54802 / Revision: 55359
Last Changed Date: 2011-04-13 15:36:43 -0700
wilson2 Linux (openSUSE 11.4) / x86_64  OK  OK 
liverpool Windows Server 2003 R2 (32-bit) / x64  OK  OK  OK 
gewurz Windows Server 2008 R2 Enterprise (64-bit) / x64  OK  OK  OK 
pelham Mac OS X Leopard (10.5.8) / i386  OK  OK  OK 
Package 126/462HostnameOS / ArchBUILDCHECKBUILD BIN
diffGeneAnalysis 1.35.0
Choudary Jagarlamudi
Last Changed Rev: 54802 / Revision: 55359
Last Changed Date: 2011-04-13 15:36:43 -0700
wilson2 Linux (openSUSE 11.4) / x86_64  OK  OK 
liverpool Windows Server 2003 R2 (32-bit) / x64  OK  OK  OK 
gewurz Windows Server 2008 R2 Enterprise (64-bit) / x64  OK  OK  OK 
pelham Mac OS X Leopard (10.5.8) / i386  OK  OK  OK 
Package 127/462HostnameOS / ArchBUILDCHECKBUILD BIN
DNAcopy 1.27.0
Venkatraman E. Seshan
Last Changed Rev: 54802 / Revision: 55359
Last Changed Date: 2011-04-13 15:36:43 -0700
wilson2 Linux (openSUSE 11.4) / x86_64  OK  OK 
liverpool Windows Server 2003 R2 (32-bit) / x64  OK  OK  OK 
gewurz Windows Server 2008 R2 Enterprise (64-bit) / x64  OK  OK  OK 
pelham Mac OS X Leopard (10.5.8) / i386  OK  OK  OK 
Package 128/462HostnameOS / ArchBUILDCHECKBUILD BIN
domainsignatures 1.13.0
Florian Hahne
Last Changed Rev: 54802 / Revision: 55359
Last Changed Date: 2011-04-13 15:36:43 -0700
wilson2 Linux (openSUSE 11.4) / x86_64  OK  OK 
liverpool Windows Server 2003 R2 (32-bit) / x64  OK  OK  OK 
gewurz Windows Server 2008 R2 Enterprise (64-bit) / x64  OK  OK  OK 
pelham Mac OS X Leopard (10.5.8) / i386  OK  OK  OK 
Package 129/462HostnameOS / ArchBUILDCHECKBUILD BIN
dualKS 1.13.0
Eric J. Kort
Last Changed Rev: 54802 / Revision: 55359
Last Changed Date: 2011-04-13 15:36:43 -0700
wilson2 Linux (openSUSE 11.4) / x86_64  OK  OK 
liverpool Windows Server 2003 R2 (32-bit) / x64  OK  OK  OK 
gewurz Windows Server 2008 R2 Enterprise (64-bit) / x64  OK  OK  OK 
pelham Mac OS X Leopard (10.5.8) / i386  OK  OK  OK 
Package 130/462HostnameOS / ArchBUILDCHECKBUILD BIN
dyebias 1.11.0
Philip Lijnzaad
Last Changed Rev: 54802 / Revision: 55359
Last Changed Date: 2011-04-13 15:36:43 -0700
wilson2 Linux (openSUSE 11.4) / x86_64  OK  OK 
liverpool Windows Server 2003 R2 (32-bit) / x64  OK  OK  OK 
gewurz Windows Server 2008 R2 Enterprise (64-bit) / x64  OK  OK  OK 
pelham Mac OS X Leopard (10.5.8) / i386  OK  OK  OK 
Package 131/462HostnameOS / ArchBUILDCHECKBUILD BIN
DynDoc 1.31.0
Biocore Team c/o BioC user list
Last Changed Rev: 54802 / Revision: 55359
Last Changed Date: 2011-04-13 15:36:43 -0700
wilson2 Linux (openSUSE 11.4) / x86_64  OK  OK 
liverpool Windows Server 2003 R2 (32-bit) / x64  OK  OK  OK 
gewurz Windows Server 2008 R2 Enterprise (64-bit) / x64  OK  OK  OK 
pelham Mac OS X Leopard (10.5.8) / i386  OK  OK  OK 
E  A  B  C  D [E] F  G  H  I  J  K  L  M  N  O  P  Q  R  S  T  U  V  W  X  Y  Z 
Package 132/462HostnameOS / ArchBUILDCHECKBUILD BIN
EBarrays 2.17.0
Ming Yuan
Last Changed Rev: 54802 / Revision: 55359
Last Changed Date: 2011-04-13 15:36:43 -0700
wilson2 Linux (openSUSE 11.4) / x86_64  OK  OK 
liverpool Windows Server 2003 R2 (32-bit) / x64  OK  OK  OK 
gewurz Windows Server 2008 R2 Enterprise (64-bit) / x64  OK  OK  OK 
pelham Mac OS X Leopard (10.5.8) / i386  OK  OK  OK 
Package 133/462HostnameOS / ArchBUILDCHECKBUILD BIN
EBImage 3.9.2
Gregoire Pau
Last Changed Rev: 55271 / Revision: 55359
Last Changed Date: 2011-05-05 09:21:07 -0700
wilson2 Linux (openSUSE 11.4) / x86_64  OK  OK 
liverpool Windows Server 2003 R2 (32-bit) / x64  ERROR  skipped  skipped 
gewurz Windows Server 2008 R2 Enterprise (64-bit) / x64 N O T   S U P P O R T E D
pelham Mac OS X Leopard (10.5.8) / i386 N O T   S U P P O R T E D
Package 134/462HostnameOS / ArchBUILDCHECKBUILD BIN
ecolitk 1.25.0
Laurent Gautier
Last Changed Rev: 54802 / Revision: 55359
Last Changed Date: 2011-04-13 15:36:43 -0700
wilson2 Linux (openSUSE 11.4) / x86_64  OK  WARNINGS 
liverpool Windows Server 2003 R2 (32-bit) / x64  OK  WARNINGS  OK 
gewurz Windows Server 2008 R2 Enterprise (64-bit) / x64  OK  WARNINGS  OK 
pelham Mac OS X Leopard (10.5.8) / i386  OK  WARNINGS  OK 
Package 135/462HostnameOS / ArchBUILDCHECKBUILD BIN
edd 1.31.0
Vince Carey
Last Changed Rev: 54810 / Revision: 55359
Last Changed Date: 2011-04-13 18:14:51 -0700
wilson2 Linux (openSUSE 11.4) / x86_64  OK  OK 
liverpool Windows Server 2003 R2 (32-bit) / x64  OK  OK  OK 
gewurz Windows Server 2008 R2 Enterprise (64-bit) / x64  OK  OK  OK 
pelham Mac OS X Leopard (10.5.8) / i386  OK  OK  OK 
Package 136/462HostnameOS / ArchBUILDCHECKBUILD BIN
edgeR 2.3.13
Mark Robinson , Davis McCarthy , Gordon Smyth
Last Changed Rev: 55347 / Revision: 55359
Last Changed Date: 2011-05-08 23:31:05 -0700
wilson2 Linux (openSUSE 11.4) / x86_64  OK  OK 
liverpool Windows Server 2003 R2 (32-bit) / x64  OK  OK  OK 
gewurz Windows Server 2008 R2 Enterprise (64-bit) / x64  OK  OK  OK 
pelham Mac OS X Leopard (10.5.8) / i386  OK  OK  OK 
Package 137/462HostnameOS / ArchBUILDCHECKBUILD BIN
eisa 1.5.0
Gabor Csardi
Last Changed Rev: 54802 / Revision: 55359
Last Changed Date: 2011-04-13 15:36:43 -0700
wilson2 Linux (openSUSE 11.4) / x86_64  OK  OK 
liverpool Windows Server 2003 R2 (32-bit) / x64  ERROR  skipped  skipped 
gewurz Windows Server 2008 R2 Enterprise (64-bit) / x64  OK  OK  OK 
pelham Mac OS X Leopard (10.5.8) / i386  OK  OK  OK 
Package 138/462HostnameOS / ArchBUILDCHECKBUILD BIN
ENVISIONQuery 1.1.2
Alex Lisovich , Roger Day
Last Changed Rev: 54973 / Revision: 55359
Last Changed Date: 2011-04-19 19:42:31 -0700
wilson2 Linux (openSUSE 11.4) / x86_64  ERROR  skipped 
liverpool Windows Server 2003 R2 (32-bit) / x64  ERROR  skipped  skipped 
gewurz Windows Server 2008 R2 Enterprise (64-bit) / x64  ERROR  skipped  skipped 
pelham Mac OS X Leopard (10.5.8) / i386 N O T   S U P P O R T E D
Package 139/462HostnameOS / ArchBUILDCHECKBUILD BIN
ExiMiR 1.1.0
Sylvain Gubian
Last Changed Rev: 54979 / Revision: 55359
Last Changed Date: 2011-04-20 04:39:49 -0700
wilson2 Linux (openSUSE 11.4) / x86_64  OK  OK 
liverpool Windows Server 2003 R2 (32-bit) / x64  OK  OK  OK 
gewurz Windows Server 2008 R2 Enterprise (64-bit) / x64  OK  OK  OK 
pelham Mac OS X Leopard (10.5.8) / i386  OK  OK  OK 
Package 140/462HostnameOS / ArchBUILDCHECKBUILD BIN
explorase 1.17.0
Michael Lawrence
Last Changed Rev: 54802 / Revision: 55359
Last Changed Date: 2011-04-13 15:36:43 -0700
wilson2 Linux (openSUSE 11.4) / x86_64  OK  OK 
liverpool Windows Server 2003 R2 (32-bit) / x64  OK  OK  OK 
gewurz Windows Server 2008 R2 Enterprise (64-bit) / x64 N O T   S U P P O R T E D
pelham Mac OS X Leopard (10.5.8) / i386  OK  OK  OK 
Package 141/462HostnameOS / ArchBUILDCHECKBUILD BIN
ExpressionView 1.5.0
Gabor Csardi
Last Changed Rev: 54802 / Revision: 55359
Last Changed Date: 2011-04-13 15:36:43 -0700
wilson2 Linux (openSUSE 11.4) / x86_64  OK  WARNINGS 
liverpool Windows Server 2003 R2 (32-bit) / x64  OK  OK  OK 
gewurz Windows Server 2008 R2 Enterprise (64-bit) / x64  OK  OK  OK 
pelham Mac OS X Leopard (10.5.8) / i386  OK  WARNINGS  OK 
Package 142/462HostnameOS / ArchBUILDCHECKBUILD BIN
externalVector 1.19.0
Biocore Team c/o BioC user list
Last Changed Rev: 54802 / Revision: 55359
Last Changed Date: 2011-04-13 15:36:43 -0700
wilson2 Linux (openSUSE 11.4) / x86_64  OK  OK 
liverpool Windows Server 2003 R2 (32-bit) / x64  OK  OK  OK 
gewurz Windows Server 2008 R2 Enterprise (64-bit) / x64  OK  OK  OK 
pelham Mac OS X Leopard (10.5.8) / i386  OK  OK  OK 
F  A  B  C  D  E [F] G  H  I  J  K  L  M  N  O  P  Q  R  S  T  U  V  W  X  Y  Z 
Package 143/462HostnameOS / ArchBUILDCHECKBUILD BIN
fabia 1.5.0
Sepp Hochreiter
Last Changed Rev: 54810 / Revision: 55359
Last Changed Date: 2011-04-13 18:14:51 -0700
wilson2 Linux (openSUSE 11.4) / x86_64  OK  OK 
liverpool Windows Server 2003 R2 (32-bit) / x64  OK  OK  OK 
gewurz Windows Server 2008 R2 Enterprise (64-bit) / x64  OK  OK  OK 
pelham Mac OS X Leopard (10.5.8) / i386  OK  OK  OK 
Package 144/462HostnameOS / ArchBUILDCHECKBUILD BIN
factDesign 1.29.0
Denise Scholtens
Last Changed Rev: 54802 / Revision: 55359
Last Changed Date: 2011-04-13 15:36:43 -0700
wilson2 Linux (openSUSE 11.4) / x86_64  OK  OK 
liverpool Windows Server 2003 R2 (32-bit) / x64  OK  OK  OK 
gewurz Windows Server 2008 R2 Enterprise (64-bit) / x64  OK  OK  OK 
pelham Mac OS X Leopard (10.5.8) / i386  OK  OK  OK 
Package 145/462HostnameOS / ArchBUILDCHECKBUILD BIN
farms 1.5.0
Djork-Arne Clevert
Last Changed Rev: 54810 / Revision: 55359
Last Changed Date: 2011-04-13 18:14:51 -0700
wilson2 Linux (openSUSE 11.4) / x86_64  OK  OK 
liverpool Windows Server 2003 R2 (32-bit) / x64  OK  OK  OK 
gewurz Windows Server 2008 R2 Enterprise (64-bit) / x64  OK  OK  OK 
pelham Mac OS X Leopard (10.5.8) / i386  OK  OK  OK 
Package 146/462HostnameOS / ArchBUILDCHECKBUILD BIN
fdrame 1.25.0
Effi Kenigsberg
Last Changed Rev: 54810 / Revision: 55359
Last Changed Date: 2011-04-13 18:14:51 -0700
wilson2 Linux (openSUSE 11.4) / x86_64  OK  OK 
liverpool Windows Server 2003 R2 (32-bit) / x64  OK  OK  OK 
gewurz Windows Server 2008 R2 Enterprise (64-bit) / x64  OK  OK  OK 
pelham Mac OS X Leopard (10.5.8) / i386  OK  OK  OK 
Package 147/462HostnameOS / ArchBUILDCHECKBUILD BIN
flagme 1.9.0
Mark Robinson
Last Changed Rev: 54810 / Revision: 55359
Last Changed Date: 2011-04-13 18:14:51 -0700
wilson2 Linux (openSUSE 11.4) / x86_64  OK  OK 
liverpool Windows Server 2003 R2 (32-bit) / x64  OK  OK  OK 
gewurz Windows Server 2008 R2 Enterprise (64-bit) / x64  OK  OK  OK 
pelham Mac OS X Leopard (10.5.8) / i386  OK  OK  OK 
Package 148/462HostnameOS / ArchBUILDCHECKBUILD BIN
flowClust 2.11.0
Raphael Gottardo
Last Changed Rev: 54802 / Revision: 55359
Last Changed Date: 2011-04-13 15:36:43 -0700
wilson2 Linux (openSUSE 11.4) / x86_64  OK  WARNINGS 
liverpool Windows Server 2003 R2 (32-bit) / x64  OK  WARNINGS  OK 
gewurz Windows Server 2008 R2 Enterprise (64-bit) / x64  OK  WARNINGS  OK 
pelham Mac OS X Leopard (10.5.8) / i386  OK  WARNINGS  OK 
Package 149/462HostnameOS / ArchBUILDCHECKBUILD BIN
flowCore 1.19.1
F. Hahne
Last Changed Rev: 55063 / Revision: 55359
Last Changed Date: 2011-04-25 08:19:48 -0700
wilson2 Linux (openSUSE 11.4) / x86_64  OK  OK 
liverpool Windows Server 2003 R2 (32-bit) / x64  OK  OK  OK 
gewurz Windows Server 2008 R2 Enterprise (64-bit) / x64  OK  OK  OK 
pelham Mac OS X Leopard (10.5.8) / i386  OK  OK  OK 
Package 150/462HostnameOS / ArchBUILDCHECKBUILD BIN
flowFlowJo 1.11.0
John J. Gosink
Last Changed Rev: 54802 / Revision: 55359
Last Changed Date: 2011-04-13 15:36:43 -0700
wilson2 Linux (openSUSE 11.4) / x86_64  OK  OK 
liverpool Windows Server 2003 R2 (32-bit) / x64  OK  OK  OK 
gewurz Windows Server 2008 R2 Enterprise (64-bit) / x64  OK  OK  OK 
pelham Mac OS X Leopard (10.5.8) / i386  OK  OK  OK 
Package 151/462HostnameOS / ArchBUILDCHECKBUILD BIN
flowFP 1.9.0
Herb Holyst
Last Changed Rev: 54802 / Revision: 55359
Last Changed Date: 2011-04-13 15:36:43 -0700
wilson2 Linux (openSUSE 11.4) / x86_64  OK  OK 
liverpool Windows Server 2003 R2 (32-bit) / x64  OK  OK  OK 
gewurz Windows Server 2008 R2 Enterprise (64-bit) / x64  OK  OK  OK 
pelham Mac OS X Leopard (10.5.8) / i386  OK  OK  OK 
Package 152/462HostnameOS / ArchBUILDCHECKBUILD BIN
flowMeans 1.5.0
Nima Aghaeepour
Last Changed Rev: 54802 / Revision: 55359
Last Changed Date: 2011-04-13 15:36:43 -0700
wilson2 Linux (openSUSE 11.4) / x86_64  OK  WARNINGS 
liverpool Windows Server 2003 R2 (32-bit) / x64  OK  OK  OK 
gewurz Windows Server 2008 R2 Enterprise (64-bit) / x64  OK  OK  OK 
pelham Mac OS X Leopard (10.5.8) / i386  OK  WARNINGS  OK 
Package 153/462HostnameOS / ArchBUILDCHECKBUILD BIN
flowMerge 2.1.0
Greg Finak
Last Changed Rev: 54802 / Revision: 55359
Last Changed Date: 2011-04-13 15:36:43 -0700
wilson2 Linux (openSUSE 11.4) / x86_64  OK  WARNINGS 
liverpool Windows Server 2003 R2 (32-bit) / x64 N O T   S U P P O R T E D
gewurz Windows Server 2008 R2 Enterprise (64-bit) / x64 N O T   S U P P O R T E D
pelham Mac OS X Leopard (10.5.8) / i386  OK  WARNINGS  OK 
Package 154/462HostnameOS / ArchBUILDCHECKBUILD BIN
flowPhyto 1.5.0
David M. Schruth
Last Changed Rev: 54802 / Revision: 55359
Last Changed Date: 2011-04-13 15:36:43 -0700
wilson2 Linux (openSUSE 11.4) / x86_64  OK  WARNINGS 
liverpool Windows Server 2003 R2 (32-bit) / x64  OK  OK  OK 
gewurz Windows Server 2008 R2 Enterprise (64-bit) / x64  OK  OK  OK 
pelham Mac OS X Leopard (10.5.8) / i386  OK  WARNINGS  OK 
Package 155/462HostnameOS / ArchBUILDCHECKBUILD BIN
flowPlots 1.1.0
N. Hawkins
Last Changed Rev: 54802 / Revision: 55359
Last Changed Date: 2011-04-13 15:36:43 -0700
wilson2 Linux (openSUSE 11.4) / x86_64  OK  OK 
liverpool Windows Server 2003 R2 (32-bit) / x64  OK  OK  OK 
gewurz Windows Server 2008 R2 Enterprise (64-bit) / x64  OK  OK  OK 
pelham Mac OS X Leopard (10.5.8) / i386  OK  OK  OK 
Package 156/462HostnameOS / ArchBUILDCHECKBUILD BIN
flowQ 1.13.0
F. Hahne
Last Changed Rev: 54802 / Revision: 55359
Last Changed Date: 2011-04-13 15:36:43 -0700
wilson2 Linux (openSUSE 11.4) / x86_64  OK  OK 
liverpool Windows Server 2003 R2 (32-bit) / x64  OK  OK  OK 
gewurz Windows Server 2008 R2 Enterprise (64-bit) / x64  OK  OK  OK 
pelham Mac OS X Leopard (10.5.8) / i386  OK  OK  OK 
Package 157/462HostnameOS / ArchBUILDCHECKBUILD BIN
flowStats 1.11.0
Florian Hahne and Chao-Jen Wong
Last Changed Rev: 54802 / Revision: 55359
Last Changed Date: 2011-04-13 15:36:43 -0700
wilson2 Linux (openSUSE 11.4) / x86_64  OK  OK 
liverpool Windows Server 2003 R2 (32-bit) / x64  OK  OK  OK 
gewurz Windows Server 2008 R2 Enterprise (64-bit) / x64  OK  OK  OK 
pelham Mac OS X Leopard (10.5.8) / i386  OK  OK  OK 
Package 158/462HostnameOS / ArchBUILDCHECKBUILD BIN
flowTrans 1.5.0
Greg Finak
Last Changed Rev: 54802 / Revision: 55359
Last Changed Date: 2011-04-13 15:36:43 -0700
wilson2 Linux (openSUSE 11.4) / x86_64  OK  OK 
liverpool Windows Server 2003 R2 (32-bit) / x64  OK  OK  OK 
gewurz Windows Server 2008 R2 Enterprise (64-bit) / x64  OK  OK  OK 
pelham Mac OS X Leopard (10.5.8) / i386  OK  OK  OK 
Package 159/462HostnameOS / ArchBUILDCHECKBUILD BIN
flowUtils 1.13.0
Nishant Gopalakrishnan
Last Changed Rev: 54802 / Revision: 55359
Last Changed Date: 2011-04-13 15:36:43 -0700
wilson2 Linux (openSUSE 11.4) / x86_64  OK  OK 
liverpool Windows Server 2003 R2 (32-bit) / x64  OK  OK  OK 
gewurz Windows Server 2008 R2 Enterprise (64-bit) / x64  OK  OK  OK 
pelham Mac OS X Leopard (10.5.8) / i386  OK  OK  OK 
Package 160/462HostnameOS / ArchBUILDCHECKBUILD BIN
flowViz 1.17.0
Florian Hahne
Last Changed Rev: 54802 / Revision: 55359
Last Changed Date: 2011-04-13 15:36:43 -0700
wilson2 Linux (openSUSE 11.4) / x86_64  OK  OK 
liverpool Windows Server 2003 R2 (32-bit) / x64  OK  OK  OK 
gewurz Windows Server 2008 R2 Enterprise (64-bit) / x64  OK  OK  OK 
pelham Mac OS X Leopard (10.5.8) / i386  OK  OK  OK 
Package 161/462HostnameOS / ArchBUILDCHECKBUILD BIN
frma 1.5.0
Matthew N. McCall
Last Changed Rev: 54802 / Revision: 55359
Last Changed Date: 2011-04-13 15:36:43 -0700
wilson2 Linux (openSUSE 11.4) / x86_64  OK  OK 
liverpool Windows Server 2003 R2 (32-bit) / x64  OK  OK  OK 
gewurz Windows Server 2008 R2 Enterprise (64-bit) / x64  OK  OK  OK 
pelham Mac OS X Leopard (10.5.8) / i386  OK  OK  OK 
Package 162/462HostnameOS / ArchBUILDCHECKBUILD BIN
frmaTools 1.5.0
Matthew N. McCall
Last Changed Rev: 54802 / Revision: 55359
Last Changed Date: 2011-04-13 15:36:43 -0700
wilson2 Linux (openSUSE 11.4) / x86_64  OK  OK 
liverpool Windows Server 2003 R2 (32-bit) / x64  OK  OK  OK 
gewurz Windows Server 2008 R2 Enterprise (64-bit) / x64  OK  OK  OK 
pelham Mac OS X Leopard (10.5.8) / i386  OK  OK  OK 
G  A  B  C  D  E  F [G] H  I  J  K  L  M  N  O  P  Q  R  S  T  U  V  W  X  Y  Z 
Package 163/462HostnameOS / ArchBUILDCHECKBUILD BIN
gaga 1.2.0
David Rossell
Last Changed Rev: 55355 / Revision: 55359
Last Changed Date: 2011-05-09 02:37:23 -0700
wilson2 Linux (openSUSE 11.4) / x86_64  OK  OK 
liverpool Windows Server 2003 R2 (32-bit) / x64  OK  OK  OK 
gewurz Windows Server 2008 R2 Enterprise (64-bit) / x64  OK  OK  OK 
pelham Mac OS X Leopard (10.5.8) / i386  OK  OK  OK 
Package 164/462HostnameOS / ArchBUILDCHECKBUILD BIN
gage 2.3.2
Weijun Luo
Last Changed Rev: 55045 / Revision: 55359
Last Changed Date: 2011-04-22 10:03:08 -0700
wilson2 Linux (openSUSE 11.4) / x86_64  OK  OK 
liverpool Windows Server 2003 R2 (32-bit) / x64  OK  OK  OK 
gewurz Windows Server 2008 R2 Enterprise (64-bit) / x64  OK  OK  OK 
pelham Mac OS X Leopard (10.5.8) / i386  OK  OK  OK 
Package 165/462HostnameOS / ArchBUILDCHECKBUILD BIN
gaggle 1.21.0
Christopher Bare
Last Changed Rev: 54802 / Revision: 55359
Last Changed Date: 2011-04-13 15:36:43 -0700
wilson2 Linux (openSUSE 11.4) / x86_64  OK  OK 
liverpool Windows Server 2003 R2 (32-bit) / x64  OK  OK  OK 
gewurz Windows Server 2008 R2 Enterprise (64-bit) / x64  OK  OK  OK 
pelham Mac OS X Leopard (10.5.8) / i386  OK  OK  OK 
Package 166/462HostnameOS / ArchBUILDCHECKBUILD BIN
gaia 1.1.1
S. Morganella
Last Changed Rev: 55082 / Revision: 55359
Last Changed Date: 2011-04-26 02:54:28 -0700
wilson2 Linux (openSUSE 11.4) / x86_64  OK  OK 
liverpool Windows Server 2003 R2 (32-bit) / x64  OK  OK  OK 
gewurz Windows Server 2008 R2 Enterprise (64-bit) / x64  OK  OK  OK 
pelham Mac OS X Leopard (10.5.8) / i386  OK  OK  OK 
Package 167/462HostnameOS / ArchBUILDCHECKBUILD BIN
gcrma 2.25.2
Z. Wu
Last Changed Rev: 55007 / Revision: 55359
Last Changed Date: 2011-04-20 22:13:27 -0700
wilson2 Linux (openSUSE 11.4) / x86_64  OK  OK 
liverpool Windows Server 2003 R2 (32-bit) / x64  OK  OK  OK 
gewurz Windows Server 2008 R2 Enterprise (64-bit) / x64  OK  OK  OK 
pelham Mac OS X Leopard (10.5.8) / i386  OK  OK  OK 
Package 168/462HostnameOS / ArchBUILDCHECKBUILD BIN
genArise 1.29.0
IFC Development Team
Last Changed Rev: 54802 / Revision: 55359
Last Changed Date: 2011-04-13 15:36:43 -0700
wilson2 Linux (openSUSE 11.4) / x86_64  OK  OK 
liverpool Windows Server 2003 R2 (32-bit) / x64  OK  OK  OK 
gewurz Windows Server 2008 R2 Enterprise (64-bit) / x64  OK  OK  OK 
pelham Mac OS X Leopard (10.5.8) / i386  OK  OK  OK 
Package 169/462HostnameOS / ArchBUILDCHECKBUILD BIN
gene2pathway 2.3.0
Holger Froehlich
Last Changed Rev: 54802 / Revision: 55359
Last Changed Date: 2011-04-13 15:36:43 -0700
wilson2 Linux (openSUSE 11.4) / x86_64  OK  OK 
liverpool Windows Server 2003 R2 (32-bit) / x64  OK  TIMEOUT  OK 
gewurz Windows Server 2008 R2 Enterprise (64-bit) / x64  OK  OK  OK 
pelham Mac OS X Leopard (10.5.8) / i386  OK  OK  OK 
Package 170/462HostnameOS / ArchBUILDCHECKBUILD BIN
GeneAnswers 1.9.0
Gang Feng , Pan Du and Tian Xia
Last Changed Rev: 54802 / Revision: 55359
Last Changed Date: 2011-04-13 15:36:43 -0700
wilson2 Linux (openSUSE 11.4) / x86_64  OK  OK 
liverpool Windows Server 2003 R2 (32-bit) / x64  OK  OK  OK 
gewurz Windows Server 2008 R2 Enterprise (64-bit) / x64  OK  OK  OK 
pelham Mac OS X Leopard (10.5.8) / i386  OK  OK  OK 
Package 171/462HostnameOS / ArchBUILDCHECKBUILD BIN
genefilter 1.35.0
Biocore Team c/o BioC user list
Last Changed Rev: 54802 / Revision: 55359
Last Changed Date: 2011-04-13 15:36:43 -0700
wilson2 Linux (openSUSE 11.4) / x86_64  OK  OK 
liverpool Windows Server 2003 R2 (32-bit) / x64  OK  OK  OK 
gewurz Windows Server 2008 R2 Enterprise (64-bit) / x64  OK  OK  OK 
pelham Mac OS X Leopard (10.5.8) / i386  OK  OK  OK 
Package 172/462HostnameOS / ArchBUILDCHECKBUILD BIN
genefu 1.3.0
Benjamin Haibe-Kains , Markus Schroeder
Last Changed Rev: 54802 / Revision: 55359
Last Changed Date: 2011-04-13 15:36:43 -0700
wilson2 Linux (openSUSE 11.4) / x86_64  OK  OK 
liverpool Windows Server 2003 R2 (32-bit) / x64  OK  OK  OK 
gewurz Windows Server 2008 R2 Enterprise (64-bit) / x64  OK  OK  OK 
pelham Mac OS X Leopard (10.5.8) / i386  OK  OK  OK 
Package 173/462HostnameOS / ArchBUILDCHECKBUILD BIN
GeneGA 1.3.0
Zhenpeng Li
Last Changed Rev: 54802 / Revision: 55359
Last Changed Date: 2011-04-13 15:36:43 -0700
wilson2 Linux (openSUSE 11.4) / x86_64  OK  OK 
liverpool Windows Server 2003 R2 (32-bit) / x64 N O T   S U P P O R T E D
gewurz Windows Server 2008 R2 Enterprise (64-bit) / x64 N O T   S U P P O R T E D
pelham Mac OS X Leopard (10.5.8) / i386  OK  OK  OK 
Package 174/462HostnameOS / ArchBUILDCHECKBUILD BIN
GeneMeta 1.25.0
Biocore Team c/o BioC user list
Last Changed Rev: 54802 / Revision: 55359
Last Changed Date: 2011-04-13 15:36:43 -0700
wilson2 Linux (openSUSE 11.4) / x86_64  OK  OK 
liverpool Windows Server 2003 R2 (32-bit) / x64  OK  OK  OK 
gewurz Windows Server 2008 R2 Enterprise (64-bit) / x64  OK  OK  OK 
pelham Mac OS X Leopard (10.5.8) / i386  OK  OK  OK 
Package 175/462HostnameOS / ArchBUILDCHECKBUILD BIN
geneplotter 1.31.0
Biocore Team c/o BioC user list
Last Changed Rev: 54802 / Revision: 55359
Last Changed Date: 2011-04-13 15:36:43 -0700
wilson2 Linux (openSUSE 11.4) / x86_64  OK  OK 
liverpool Windows Server 2003 R2 (32-bit) / x64  OK  OK  OK 
gewurz Windows Server 2008 R2 Enterprise (64-bit) / x64  OK  OK  OK 
pelham Mac OS X Leopard (10.5.8) / i386  OK  OK  OK 
Package 176/462HostnameOS / ArchBUILDCHECKBUILD BIN
GeneR 2.23.0
Y. d'Aubenton-Carafa
Last Changed Rev: 54802 / Revision: 55359
Last Changed Date: 2011-04-13 15:36:43 -0700
wilson2 Linux (openSUSE 11.4) / x86_64  OK  OK 
liverpool Windows Server 2003 R2 (32-bit) / x64  OK  OK  OK 
gewurz Windows Server 2008 R2 Enterprise (64-bit) / x64  OK  ERROR  OK 
pelham Mac OS X Leopard (10.5.8) / i386  OK  OK  OK 
Package 177/462HostnameOS / ArchBUILDCHECKBUILD BIN
geneRecommender 1.25.0
Greg Hather
Last Changed Rev: 54802 / Revision: 55359
Last Changed Date: 2011-04-13 15:36:43 -0700
wilson2 Linux (openSUSE 11.4) / x86_64  OK  OK 
liverpool Windows Server 2003 R2 (32-bit) / x64  OK  OK  OK 
gewurz Windows Server 2008 R2 Enterprise (64-bit) / x64  OK  OK  OK 
pelham Mac OS X Leopard (10.5.8) / i386  OK  OK  OK 
Package 178/462HostnameOS / ArchBUILDCHECKBUILD BIN
GeneRegionScan 1.9.0
Lasse Folkersen
Last Changed Rev: 54802 / Revision: 55359
Last Changed Date: 2011-04-13 15:36:43 -0700
wilson2 Linux (openSUSE 11.4) / x86_64  ERROR  skipped 
liverpool Windows Server 2003 R2 (32-bit) / x64  ERROR  skipped  skipped 
gewurz Windows Server 2008 R2 Enterprise (64-bit) / x64  ERROR  skipped  skipped 
pelham Mac OS X Leopard (10.5.8) / i386  ERROR  skipped  skipped 
Package 179/462HostnameOS / ArchBUILDCHECKBUILD BIN
GeneRfold 1.11.0
Antoine Lucas
Last Changed Rev: 54802 / Revision: 55359
Last Changed Date: 2011-04-13 15:36:43 -0700
wilson2 Linux (openSUSE 11.4) / x86_64  OK  OK 
liverpool Windows Server 2003 R2 (32-bit) / x64 N O T   S U P P O R T E D
gewurz Windows Server 2008 R2 Enterprise (64-bit) / x64 N O T   S U P P O R T E D
pelham Mac OS X Leopard (10.5.8) / i386  OK  OK  OK 
Package 180/462HostnameOS / ArchBUILDCHECKBUILD BIN
GeneSelectMMD 1.9.0
Weiliang Qiu
Last Changed Rev: 54802 / Revision: 55359
Last Changed Date: 2011-04-13 15:36:43 -0700
wilson2 Linux (openSUSE 11.4) / x86_64  OK  OK 
liverpool Windows Server 2003 R2 (32-bit) / x64  OK  OK  OK 
gewurz Windows Server 2008 R2 Enterprise (64-bit) / x64  OK  OK  OK 
pelham Mac OS X Leopard (10.5.8) / i386  OK  OK  OK 
Package 181/462HostnameOS / ArchBUILDCHECKBUILD BIN
GeneSelector 2.3.0
Martin Slawski
Last Changed Rev: 54802 / Revision: 55359
Last Changed Date: 2011-04-13 15:36:43 -0700
wilson2 Linux (openSUSE 11.4) / x86_64  OK  OK 
liverpool Windows Server 2003 R2 (32-bit) / x64  OK  OK  OK 
gewurz Windows Server 2008 R2 Enterprise (64-bit) / x64  OK  OK  OK 
pelham Mac OS X Leopard (10.5.8) / i386  OK  OK  OK 
Package 182/462HostnameOS / ArchBUILDCHECKBUILD BIN
GeneticsDesign 1.21.0
The R Genetics Project
Last Changed Rev: 54802 / Revision: 55359
Last Changed Date: 2011-04-13 15:36:43 -0700
wilson2 Linux (openSUSE 11.4) / x86_64  OK  OK 
liverpool Windows Server 2003 R2 (32-bit) / x64  OK  OK  OK 
gewurz Windows Server 2008 R2 Enterprise (64-bit) / x64  OK  OK  OK 
pelham Mac OS X Leopard (10.5.8) / i386  OK  OK  OK 
Package 183/462HostnameOS / ArchBUILDCHECKBUILD BIN
GeneticsPed 1.15.0
David Henderson
Last Changed Rev: 54802 / Revision: 55359
Last Changed Date: 2011-04-13 15:36:43 -0700
wilson2 Linux (openSUSE 11.4) / x86_64  OK  OK 
liverpool Windows Server 2003 R2 (32-bit) / x64  OK  OK  OK 
gewurz Windows Server 2008 R2 Enterprise (64-bit) / x64  OK  WARNINGS  OK 
pelham Mac OS X Leopard (10.5.8) / i386  OK  OK  OK 
Package 184/462HostnameOS / ArchBUILDCHECKBUILD BIN
GeneTraffic 1.25.0
Daniel Iordan
Last Changed Rev: 54802 / Revision: 55359
Last Changed Date: 2011-04-13 15:36:43 -0700
wilson2 Linux (openSUSE 11.4) / x86_64  OK  WARNINGS 
liverpool Windows Server 2003 R2 (32-bit) / x64  OK  WARNINGS  OK 
gewurz Windows Server 2008 R2 Enterprise (64-bit) / x64  OK  WARNINGS  OK 
pelham Mac OS X Leopard (10.5.8) / i386  OK  ERROR  OK 
Package 185/462HostnameOS / ArchBUILDCHECKBUILD BIN
genoCN 1.5.0
Wei Sun
Last Changed Rev: 54802 / Revision: 55359
Last Changed Date: 2011-04-13 15:36:43 -0700
wilson2 Linux (openSUSE 11.4) / x86_64  OK  OK 
liverpool Windows Server 2003 R2 (32-bit) / x64  OK  OK  OK 
gewurz Windows Server 2008 R2 Enterprise (64-bit) / x64  OK  OK  OK 
pelham Mac OS X Leopard (10.5.8) / i386  OK  OK  OK 
Package 186/462HostnameOS / ArchBUILDCHECKBUILD BIN
GenomeGraphs 1.13.0
Steffen Durinck
Last Changed Rev: 54802 / Revision: 55359
Last Changed Date: 2011-04-13 15:36:43 -0700
wilson2 Linux (openSUSE 11.4) / x86_64  TIMEOUT  skipped 
liverpool Windows Server 2003 R2 (32-bit) / x64  TIMEOUT  skipped  skipped 
gewurz Windows Server 2008 R2 Enterprise (64-bit) / x64  OK  OK  OK 
pelham Mac OS X Leopard (10.5.8) / i386  OK  OK  OK 
Package 187/462HostnameOS / ArchBUILDCHECKBUILD BIN
genomeIntervals 1.9.0
Julien Gagneur
Last Changed Rev: 54802 / Revision: 55359
Last Changed Date: 2011-04-13 15:36:43 -0700
wilson2 Linux (openSUSE 11.4) / x86_64  OK  OK 
liverpool Windows Server 2003 R2 (32-bit) / x64  OK  OK  OK 
gewurz Windows Server 2008 R2 Enterprise (64-bit) / x64  OK  OK  OK 
pelham Mac OS X Leopard (10.5.8) / i386  OK  OK  OK 
Package 188/462HostnameOS / ArchBUILDCHECKBUILD BIN
genomes 1.9.0
Chris Stubben
Last Changed Rev: 54810 / Revision: 55359
Last Changed Date: 2011-04-13 18:14:51 -0700
wilson2 Linux (openSUSE 11.4) / x86_64  OK  ERROR 
liverpool Windows Server 2003 R2 (32-bit) / x64  OK  OK  OK 
gewurz Windows Server 2008 R2 Enterprise (64-bit) / x64  OK  OK  OK 
pelham Mac OS X Leopard (10.5.8) / i386  OK  OK  OK 
Package 189/462HostnameOS / ArchBUILDCHECKBUILD BIN
GenomicFeatures 1.5.5
Biocore Team c/o BioC user list
Last Changed Rev: 55286 / Revision: 55359
Last Changed Date: 2011-05-05 17:00:33 -0700
wilson2 Linux (openSUSE 11.4) / x86_64  OK  OK 
liverpool Windows Server 2003 R2 (32-bit) / x64  OK  OK  OK 
gewurz Windows Server 2008 R2 Enterprise (64-bit) / x64  OK  OK  OK 
pelham Mac OS X Leopard (10.5.8) / i386  OK  OK  OK 
Package 190/462HostnameOS / ArchBUILDCHECKBUILD BIN
GenomicRanges 1.5.6
Biocore Team c/o BioC user list
Last Changed Rev: 55255 / Revision: 55359
Last Changed Date: 2011-05-04 11:52:57 -0700
wilson2 Linux (openSUSE 11.4) / x86_64  OK  OK 
liverpool Windows Server 2003 R2 (32-bit) / x64  OK  OK  OK 
gewurz Windows Server 2008 R2 Enterprise (64-bit) / x64  OK  OK  OK 
pelham Mac OS X Leopard (10.5.8) / i386  OK  OK  OK 
Package 191/462HostnameOS / ArchBUILDCHECKBUILD BIN
Genominator 1.7.0
James Bullard
Last Changed Rev: 54802 / Revision: 55359
Last Changed Date: 2011-04-13 15:36:43 -0700
wilson2 Linux (openSUSE 11.4) / x86_64  OK  OK 
liverpool Windows Server 2003 R2 (32-bit) / x64  OK  OK  OK 
gewurz Windows Server 2008 R2 Enterprise (64-bit) / x64  OK  OK  OK 
pelham Mac OS X Leopard (10.5.8) / i386  OK  OK  OK 
Package 192/462HostnameOS / ArchBUILDCHECKBUILD BIN
genoset 1.1.0
Peter M. Haverty
Last Changed Rev: 54802 / Revision: 55359
Last Changed Date: 2011-04-13 15:36:43 -0700
wilson2 Linux (openSUSE 11.4) / x86_64  OK  OK 
liverpool Windows Server 2003 R2 (32-bit) / x64  OK  OK  OK 
gewurz Windows Server 2008 R2 Enterprise (64-bit) / x64  OK  OK  OK 
pelham Mac OS X Leopard (10.5.8) / i386  OK  OK  OK 
Package 193/462HostnameOS / ArchBUILDCHECKBUILD BIN
GEOmetadb 1.13.0
Jack Zhu
Last Changed Rev: 54802 / Revision: 55359
Last Changed Date: 2011-04-13 15:36:43 -0700
wilson2 Linux (openSUSE 11.4) / x86_64  OK  OK 
liverpool Windows Server 2003 R2 (32-bit) / x64  OK  OK  OK 
gewurz Windows Server 2008 R2 Enterprise (64-bit) / x64  OK  OK  OK 
pelham Mac OS X Leopard (10.5.8) / i386  OK  OK  OK 
Package 194/462HostnameOS / ArchBUILDCHECKBUILD BIN
GEOquery 2.19.0
Sean Davis
Last Changed Rev: 54802 / Revision: 55359
Last Changed Date: 2011-04-13 15:36:43 -0700
wilson2 Linux (openSUSE 11.4) / x86_64  OK  OK 
liverpool Windows Server 2003 R2 (32-bit) / x64  OK  OK  OK 
gewurz Windows Server 2008 R2 Enterprise (64-bit) / x64  OK  OK  OK 
pelham Mac OS X Leopard (10.5.8) / i386  OK  OK  OK 
Package 195/462HostnameOS / ArchBUILDCHECKBUILD BIN
GEOsubmission 1.5.0
Alexandre Kuhn
Last Changed Rev: 54802 / Revision: 55359
Last Changed Date: 2011-04-13 15:36:43 -0700
wilson2 Linux (openSUSE 11.4) / x86_64  OK  OK 
liverpool Windows Server 2003 R2 (32-bit) / x64  OK  OK  OK 
gewurz Windows Server 2008 R2 Enterprise (64-bit) / x64  OK  OK  OK 
pelham Mac OS X Leopard (10.5.8) / i386  OK  OK  OK 
Package 196/462HostnameOS / ArchBUILDCHECKBUILD BIN
GGBase 3.13.0
Vince Carey
Last Changed Rev: 54802 / Revision: 55359
Last Changed Date: 2011-04-13 15:36:43 -0700
wilson2 Linux (openSUSE 11.4) / x86_64  OK  OK 
liverpool Windows Server 2003 R2 (32-bit) / x64  OK  OK  OK 
gewurz Windows Server 2008 R2 Enterprise (64-bit) / x64  OK  OK  OK 
pelham Mac OS X Leopard (10.5.8) / i386  OK  OK  OK 
Package 197/462HostnameOS / ArchBUILDCHECKBUILD BIN
GGtools 3.11.18
Vince Carey
Last Changed Rev: 55337 / Revision: 55359
Last Changed Date: 2011-05-08 18:55:28 -0700
wilson2 Linux (openSUSE 11.4) / x86_64  OK  OK 
liverpool Windows Server 2003 R2 (32-bit) / x64  OK  ERROR  OK 
gewurz Windows Server 2008 R2 Enterprise (64-bit) / x64  OK  ERROR  OK 
pelham Mac OS X Leopard (10.5.8) / i386  OK  OK  OK 
Package 198/462HostnameOS / ArchBUILDCHECKBUILD BIN
girafe 1.5.0
J. Toedling
Last Changed Rev: 54810 / Revision: 55359
Last Changed Date: 2011-04-13 18:14:51 -0700
wilson2 Linux (openSUSE 11.4) / x86_64  OK  OK 
liverpool Windows Server 2003 R2 (32-bit) / x64  OK  OK  OK 
gewurz Windows Server 2008 R2 Enterprise (64-bit) / x64  OK  OK  OK 
pelham Mac OS X Leopard (10.5.8) / i386  OK  OK  OK 
Package 199/462HostnameOS / ArchBUILDCHECKBUILD BIN
GLAD 2.15.0
Philippe Hupe
Last Changed Rev: 54810 / Revision: 55359
Last Changed Date: 2011-04-13 18:14:51 -0700
wilson2 Linux (openSUSE 11.4) / x86_64  OK  OK 
liverpool Windows Server 2003 R2 (32-bit) / x64  OK  OK  OK 
gewurz Windows Server 2008 R2 Enterprise (64-bit) / x64  OK  OK  OK 
pelham Mac OS X Leopard (10.5.8) / i386  OK  OK  OK 
Package 200/462HostnameOS / ArchBUILDCHECKBUILD BIN
GlobalAncova 3.21.0
Manuela Hummel
Last Changed Rev: 55093 / Revision: 55359
Last Changed Date: 2011-04-27 01:26:53 -0700
wilson2 Linux (openSUSE 11.4) / x86_64  OK  OK 
liverpool Windows Server 2003 R2 (32-bit) / x64  OK  OK  OK 
gewurz Windows Server 2008 R2 Enterprise (64-bit) / x64  OK  OK  OK 
pelham Mac OS X Leopard (10.5.8) / i386  OK  OK  OK 
Package 201/462HostnameOS / ArchBUILDCHECKBUILD BIN
globaltest 5.7.2
Jelle Goeman
Last Changed Rev: 55357 / Revision: 55359
Last Changed Date: 2011-05-09 06:43:13 -0700
wilson2 Linux (openSUSE 11.4) / x86_64  OK  OK 
liverpool Windows Server 2003 R2 (32-bit) / x64  OK  OK  OK 
gewurz Windows Server 2008 R2 Enterprise (64-bit) / x64  OK  OK  OK 
pelham Mac OS X Leopard (10.5.8) / i386  OK  OK  OK 
Package 202/462HostnameOS / ArchBUILDCHECKBUILD BIN
goProfiles 1.15.0
Alex Sanchez
Last Changed Rev: 54810 / Revision: 55359
Last Changed Date: 2011-04-13 18:14:51 -0700
wilson2 Linux (openSUSE 11.4) / x86_64  OK  WARNINGS 
liverpool Windows Server 2003 R2 (32-bit) / x64  OK  OK  OK 
gewurz Windows Server 2008 R2 Enterprise (64-bit) / x64  OK  OK  OK 
pelham Mac OS X Leopard (10.5.8) / i386  OK  WARNINGS  OK 
Package 203/462HostnameOS / ArchBUILDCHECKBUILD BIN
GOSemSim 1.11.0
Guangchuang Yu
Last Changed Rev: 54810 / Revision: 55359
Last Changed Date: 2011-04-13 18:14:51 -0700
wilson2 Linux (openSUSE 11.4) / x86_64  OK  OK 
liverpool Windows Server 2003 R2 (32-bit) / x64  OK  OK  OK 
gewurz Windows Server 2008 R2 Enterprise (64-bit) / x64  OK  OK  OK 
pelham Mac OS X Leopard (10.5.8) / i386  OK  OK  OK 
Package 204/462HostnameOS / ArchBUILDCHECKBUILD BIN
goseq 1.5.0
Matthew Young
Last Changed Rev: 54802 / Revision: 55359
Last Changed Date: 2011-04-13 15:36:43 -0700
wilson2 Linux (openSUSE 11.4) / x86_64  OK  OK 
liverpool Windows Server 2003 R2 (32-bit) / x64  OK  OK  OK 
gewurz Windows Server 2008 R2 Enterprise (64-bit) / x64  OK  OK  OK 
pelham Mac OS X Leopard (10.5.8) / i386  OK  OK  OK 
Package 205/462HostnameOS / ArchBUILDCHECKBUILD BIN
GOstats 2.19.0
Biocore Team c/o BioC user list
Last Changed Rev: 54802 / Revision: 55359
Last Changed Date: 2011-04-13 15:36:43 -0700
wilson2 Linux (openSUSE 11.4) / x86_64  OK  OK 
liverpool Windows Server 2003 R2 (32-bit) / x64  OK  OK  OK 
gewurz Windows Server 2008 R2 Enterprise (64-bit) / x64  OK  OK  OK 
pelham Mac OS X Leopard (10.5.8) / i386  OK  OK  OK 
Package 206/462HostnameOS / ArchBUILDCHECKBUILD BIN
goTools 1.27.0
Agnes Paquet
Last Changed Rev: 54802 / Revision: 55359
Last Changed Date: 2011-04-13 15:36:43 -0700
wilson2 Linux (openSUSE 11.4) / x86_64  OK  OK 
liverpool Windows Server 2003 R2 (32-bit) / x64  OK  OK  OK 
gewurz Windows Server 2008 R2 Enterprise (64-bit) / x64  OK  OK  OK 
pelham Mac OS X Leopard (10.5.8) / i386  OK  OK  OK 
Package 207/462HostnameOS / ArchBUILDCHECKBUILD BIN
gpls 1.25.0
Biocore Team c/o BioC user list
Last Changed Rev: 54802 / Revision: 55359
Last Changed Date: 2011-04-13 15:36:43 -0700
wilson2 Linux (openSUSE 11.4) / x86_64  OK  OK 
liverpool Windows Server 2003 R2 (32-bit) / x64  OK  OK  OK 
gewurz Windows Server 2008 R2 Enterprise (64-bit) / x64  OK  OK  OK 
pelham Mac OS X Leopard (10.5.8) / i386  OK  OK  OK 
Package 208/462HostnameOS / ArchBUILDCHECKBUILD BIN
graph 1.31.1
Seth Falcon
Last Changed Rev: 54945 / Revision: 55359
Last Changed Date: 2011-04-19 13:42:15 -0700
wilson2 Linux (openSUSE 11.4) / x86_64  OK  OK 
liverpool Windows Server 2003 R2 (32-bit) / x64  OK  WARNINGS  OK 
gewurz Windows Server 2008 R2 Enterprise (64-bit) / x64  OK  WARNINGS  OK 
pelham Mac OS X Leopard (10.5.8) / i386  OK  OK  OK 
Package 209/462HostnameOS / ArchBUILDCHECKBUILD BIN
GraphAlignment 1.15.0
Joern P. Meier
Last Changed Rev: 54802 / Revision: 55359
Last Changed Date: 2011-04-13 15:36:43 -0700
wilson2 Linux (openSUSE 11.4) / x86_64  OK  OK 
liverpool Windows Server 2003 R2 (32-bit) / x64  OK  OK  OK 
gewurz Windows Server 2008 R2 Enterprise (64-bit) / x64  OK  OK  OK 
pelham Mac OS X Leopard (10.5.8) / i386  OK  OK  OK 
Package 210/462HostnameOS / ArchBUILDCHECKBUILD BIN
GraphAT 1.25.0
Thomas LaFramboise
Last Changed Rev: 54802 / Revision: 55359
Last Changed Date: 2011-04-13 15:36:43 -0700
wilson2 Linux (openSUSE 11.4) / x86_64  OK  OK 
liverpool Windows Server 2003 R2 (32-bit) / x64  OK  OK  OK 
gewurz Windows Server 2008 R2 Enterprise (64-bit) / x64  OK  OK  OK 
pelham Mac OS X Leopard (10.5.8) / i386  OK  OK  OK 
Package 211/462HostnameOS / ArchBUILDCHECKBUILD BIN
GSEABase 1.15.0
Biocore Team c/o BioC user list
Last Changed Rev: 54802 / Revision: 55359
Last Changed Date: 2011-04-13 15:36:43 -0700
wilson2 Linux (openSUSE 11.4) / x86_64  OK  OK 
liverpool Windows Server 2003 R2 (32-bit) / x64  OK  OK  OK 
gewurz Windows Server 2008 R2 Enterprise (64-bit) / x64  OK  OK  OK 
pelham Mac OS X Leopard (10.5.8) / i386  OK  OK  OK 
Package 212/462HostnameOS / ArchBUILDCHECKBUILD BIN
GSEAlm 1.13.0
Assaf Oron
Last Changed Rev: 54802 / Revision: 55359
Last Changed Date: 2011-04-13 15:36:43 -0700
wilson2 Linux (openSUSE 11.4) / x86_64  OK  OK 
liverpool Windows Server 2003 R2 (32-bit) / x64  OK  OK  OK 
gewurz Windows Server 2008 R2 Enterprise (64-bit) / x64  OK  OK  OK 
pelham Mac OS X Leopard (10.5.8) / i386  OK  OK  OK 
Package 213/462HostnameOS / ArchBUILDCHECKBUILD BIN
GSRI 2.1.0
Julian Gehring
Last Changed Rev: 54802 / Revision: 55359
Last Changed Date: 2011-04-13 15:36:43 -0700
wilson2 Linux (openSUSE 11.4) / x86_64  OK  OK 
liverpool Windows Server 2003 R2 (32-bit) / x64  OK  OK  OK 
gewurz Windows Server 2008 R2 Enterprise (64-bit) / x64  OK  OK  OK 
pelham Mac OS X Leopard (10.5.8) / i386  OK  OK  OK 
Package 214/462HostnameOS / ArchBUILDCHECKBUILD BIN
GSVA 1.1.1
Justin Guinney
Last Changed Rev: 55314 / Revision: 55359
Last Changed Date: 2011-05-06 17:38:48 -0700
wilson2 Linux (openSUSE 11.4) / x86_64  OK  OK 
liverpool Windows Server 2003 R2 (32-bit) / x64  OK  OK  OK 
gewurz Windows Server 2008 R2 Enterprise (64-bit) / x64  OK  OK  OK 
pelham Mac OS X Leopard (10.5.8) / i386  OK  OK  OK 
H  A  B  C  D  E  F  G [H] I  J  K  L  M  N  O  P  Q  R  S  T  U  V  W  X  Y  Z 
Package 215/462HostnameOS / ArchBUILDCHECKBUILD BIN
Harshlight 1.25.0
Maurizio Pellegrino
Last Changed Rev: 54802 / Revision: 55359
Last Changed Date: 2011-04-13 15:36:43 -0700
wilson2 Linux (openSUSE 11.4) / x86_64  OK  OK 
liverpool Windows Server 2003 R2 (32-bit) / x64  OK  OK  OK 
gewurz Windows Server 2008 R2 Enterprise (64-bit) / x64  OK  OK  OK 
pelham Mac OS X Leopard (10.5.8) / i386  OK  OK  OK 
Package 216/462HostnameOS / ArchBUILDCHECKBUILD BIN
Heatplus 1.23.0
Alexander Ploner
Last Changed Rev: 54802 / Revision: 55359
Last Changed Date: 2011-04-13 15:36:43 -0700
wilson2 Linux (openSUSE 11.4) / x86_64  OK  OK 
liverpool Windows Server 2003 R2 (32-bit) / x64  OK  OK  OK 
gewurz Windows Server 2008 R2 Enterprise (64-bit) / x64  OK  OK  OK 
pelham Mac OS X Leopard (10.5.8) / i386  OK  OK  OK 
Package 217/462HostnameOS / ArchBUILDCHECKBUILD BIN
HELP 1.11.0
Reid F. Thompson
Last Changed Rev: 54802 / Revision: 55359
Last Changed Date: 2011-04-13 15:36:43 -0700
wilson2 Linux (openSUSE 11.4) / x86_64  OK  OK 
liverpool Windows Server 2003 R2 (32-bit) / x64  OK  OK  OK 
gewurz Windows Server 2008 R2 Enterprise (64-bit) / x64  OK  OK  OK 
pelham Mac OS X Leopard (10.5.8) / i386  OK  OK  OK 
Package 218/462HostnameOS / ArchBUILDCHECKBUILD BIN
HEM 1.25.0
HyungJun Cho
Last Changed Rev: 54810 / Revision: 55359
Last Changed Date: 2011-04-13 18:14:51 -0700
wilson2 Linux (openSUSE 11.4) / x86_64  OK  OK 
liverpool Windows Server 2003 R2 (32-bit) / x64  OK  OK  OK 
gewurz Windows Server 2008 R2 Enterprise (64-bit) / x64  OK  OK  OK 
pelham Mac OS X Leopard (10.5.8) / i386  OK  OK  OK 
Package 219/462HostnameOS / ArchBUILDCHECKBUILD BIN
hexbin 1.27.0
Nicholas Lewin-Koh
Last Changed Rev: 54802 / Revision: 55359
Last Changed Date: 2011-04-13 15:36:43 -0700
wilson2 Linux (openSUSE 11.4) / x86_64  OK  OK 
liverpool Windows Server 2003 R2 (32-bit) / x64  OK  OK  OK 
gewurz Windows Server 2008 R2 Enterprise (64-bit) / x64  OK  OK  OK 
pelham Mac OS X Leopard (10.5.8) / i386  OK  OK  OK 
Package 220/462HostnameOS / ArchBUILDCHECKBUILD BIN
HilbertVis 1.11.1
Simon Anders
Last Changed Rev: 55297 / Revision: 55359
Last Changed Date: 2011-05-06 01:24:29 -0700
wilson2 Linux (openSUSE 11.4) / x86_64  OK  WARNINGS 
liverpool Windows Server 2003 R2 (32-bit) / x64  OK  WARNINGS  OK 
gewurz Windows Server 2008 R2 Enterprise (64-bit) / x64 N O T   S U P P O R T E D
pelham Mac OS X Leopard (10.5.8) / i386 N O T   S U P P O R T E D
Package 221/462HostnameOS / ArchBUILDCHECKBUILD BIN
HilbertVisGUI 1.11.0
Simon Anders
Last Changed Rev: 55180 / Revision: 55359
Last Changed Date: 2011-04-30 02:24:17 -0700
wilson2 Linux (openSUSE 11.4) / x86_64  OK  OK 
liverpool Windows Server 2003 R2 (32-bit) / x64  ERROR  skipped  skipped 
gewurz Windows Server 2008 R2 Enterprise (64-bit) / x64 N O T   S U P P O R T E D
pelham Mac OS X Leopard (10.5.8) / i386  OK  OK  OK 
Package 222/462HostnameOS / ArchBUILDCHECKBUILD BIN
hopach 2.13.0
Katherine S. Pollard
Last Changed Rev: 54810 / Revision: 55359
Last Changed Date: 2011-04-13 18:14:51 -0700
wilson2 Linux (openSUSE 11.4) / x86_64  OK  OK 
liverpool Windows Server 2003 R2 (32-bit) / x64  OK  OK  OK 
gewurz Windows Server 2008 R2 Enterprise (64-bit) / x64  OK  OK  OK 
pelham Mac OS X Leopard (10.5.8) / i386  OK  OK  OK 
Package 223/462HostnameOS / ArchBUILDCHECKBUILD BIN
HTqPCR 1.7.0
Heidi Dvinge
Last Changed Rev: 54802 / Revision: 55359
Last Changed Date: 2011-04-13 15:36:43 -0700
wilson2 Linux (openSUSE 11.4) / x86_64  ERROR  skipped 
liverpool Windows Server 2003 R2 (32-bit) / x64  ERROR  skipped  skipped 
gewurz Windows Server 2008 R2 Enterprise (64-bit) / x64  ERROR  skipped  skipped 
pelham Mac OS X Leopard (10.5.8) / i386  ERROR  skipped  skipped 
Package 224/462HostnameOS / ArchBUILDCHECKBUILD BIN
HTSanalyzeR 2.5.0
Xin Wang
Last Changed Rev: 54810 / Revision: 55359
Last Changed Date: 2011-04-13 18:14:51 -0700
wilson2 Linux (openSUSE 11.4) / x86_64  OK  OK 
liverpool Windows Server 2003 R2 (32-bit) / x64  OK  OK  OK 
gewurz Windows Server 2008 R2 Enterprise (64-bit) / x64  OK  OK  OK 
pelham Mac OS X Leopard (10.5.8) / i386  OK  OK  OK 
Package 225/462HostnameOS / ArchBUILDCHECKBUILD BIN
hyperdraw 1.5.0
Paul Murrell
Last Changed Rev: 54802 / Revision: 55359
Last Changed Date: 2011-04-13 15:36:43 -0700
wilson2 Linux (openSUSE 11.4) / x86_64  OK  OK 
liverpool Windows Server 2003 R2 (32-bit) / x64  OK  OK  OK 
gewurz Windows Server 2008 R2 Enterprise (64-bit) / x64  OK  OK  OK 
pelham Mac OS X Leopard (10.5.8) / i386  OK  OK  OK 
Package 226/462HostnameOS / ArchBUILDCHECKBUILD BIN
hypergraph 1.25.0
Biocore Team c/o BioC user list
Last Changed Rev: 54802 / Revision: 55359
Last Changed Date: 2011-04-13 15:36:43 -0700
wilson2 Linux (openSUSE 11.4) / x86_64  OK  OK 
liverpool Windows Server 2003 R2 (32-bit) / x64  OK  OK  OK 
gewurz Windows Server 2008 R2 Enterprise (64-bit) / x64  OK  OK  OK 
pelham Mac OS X Leopard (10.5.8) / i386  OK  OK  OK 
I  A  B  C  D  E  F  G  H [I] J  K  L  M  N  O  P  Q  R  S  T  U  V  W  X  Y  Z 
Package 227/462HostnameOS / ArchBUILDCHECKBUILD BIN
ibh 1.1.0
Kircicegi Korkmaz
Last Changed Rev: 54810 / Revision: 55359
Last Changed Date: 2011-04-13 18:14:51 -0700
wilson2 Linux (openSUSE 11.4) / x86_64  OK  OK 
liverpool Windows Server 2003 R2 (32-bit) / x64  OK  OK  OK 
gewurz Windows Server 2008 R2 Enterprise (64-bit) / x64  OK  OK  OK 
pelham Mac OS X Leopard (10.5.8) / i386  OK  OK  OK 
Package 228/462HostnameOS / ArchBUILDCHECKBUILD BIN
Icens 1.25.0
Biocore Team c/o BioC user list
Last Changed Rev: 54802 / Revision: 55359
Last Changed Date: 2011-04-13 15:36:43 -0700
wilson2 Linux (openSUSE 11.4) / x86_64  OK  OK 
liverpool Windows Server 2003 R2 (32-bit) / x64  OK  OK  OK 
gewurz Windows Server 2008 R2 Enterprise (64-bit) / x64  OK  OK  OK 
pelham Mac OS X Leopard (10.5.8) / i386  OK  OK  OK 
Package 229/462HostnameOS / ArchBUILDCHECKBUILD BIN
iChip 1.7.0
Qianxing Mo
Last Changed Rev: 54810 / Revision: 55359
Last Changed Date: 2011-04-13 18:14:51 -0700
wilson2 Linux (openSUSE 11.4) / x86_64  OK  OK 
liverpool Windows Server 2003 R2 (32-bit) / x64  OK  OK  OK 
gewurz Windows Server 2008 R2 Enterprise (64-bit) / x64  OK  OK  OK 
pelham Mac OS X Leopard (10.5.8) / i386  OK  OK  OK 
Package 230/462HostnameOS / ArchBUILDCHECKBUILD BIN
idiogram 1.29.0
Karl J. Dykema
Last Changed Rev: 54802 / Revision: 55359
Last Changed Date: 2011-04-13 15:36:43 -0700
wilson2 Linux (openSUSE 11.4) / x86_64  OK  OK 
liverpool Windows Server 2003 R2 (32-bit) / x64  OK  OK  OK 
gewurz Windows Server 2008 R2 Enterprise (64-bit) / x64  OK  OK  OK 
pelham Mac OS X Leopard (10.5.8) / i386  OK  OK  OK 
Package 231/462HostnameOS / ArchBUILDCHECKBUILD BIN
iFlow 2.5.0
Kyongryun Lee
Last Changed Rev: 54802 / Revision: 55359
Last Changed Date: 2011-04-13 15:36:43 -0700
wilson2 Linux (openSUSE 11.4) / x86_64  OK  WARNINGS 
liverpool Windows Server 2003 R2 (32-bit) / x64 N O T   S U P P O R T E D
gewurz Windows Server 2008 R2 Enterprise (64-bit) / x64 N O T   S U P P O R T E D
pelham Mac OS X Leopard (10.5.8) / i386  OK  WARNINGS  OK 
Package 232/462HostnameOS / ArchBUILDCHECKBUILD BIN
imageHTS 1.3.0
Gregoire Pau
Last Changed Rev: 54802 / Revision: 55359
Last Changed Date: 2011-04-13 15:36:43 -0700
wilson2 Linux (openSUSE 11.4) / x86_64  OK  OK 
liverpool Windows Server 2003 R2 (32-bit) / x64  OK  OK  OK 
gewurz Windows Server 2008 R2 Enterprise (64-bit) / x64 N O T   S U P P O R T E D
pelham Mac OS X Leopard (10.5.8) / i386 N O T   S U P P O R T E D
Package 233/462HostnameOS / ArchBUILDCHECKBUILD BIN
impute 1.27.0
Balasubramanian Narasimhan
Last Changed Rev: 54802 / Revision: 55359
Last Changed Date: 2011-04-13 15:36:43 -0700
wilson2 Linux (openSUSE 11.4) / x86_64  OK  OK 
liverpool Windows Server 2003 R2 (32-bit) / x64  OK  OK  OK 
gewurz Windows Server 2008 R2 Enterprise (64-bit) / x64  OK  OK  OK 
pelham Mac OS X Leopard (10.5.8) / i386  OK  OK  OK 
Package 234/462HostnameOS / ArchBUILDCHECKBUILD BIN
inveRsion 1.1.0
Alejandro Caceres
Last Changed Rev: 54810 / Revision: 55359
Last Changed Date: 2011-04-13 18:14:51 -0700
wilson2 Linux (openSUSE 11.4) / x86_64  OK  OK 
liverpool Windows Server 2003 R2 (32-bit) / x64  OK  OK  OK 
gewurz Windows Server 2008 R2 Enterprise (64-bit) / x64  OK  OK  OK 
pelham Mac OS X Leopard (10.5.8) / i386  OK  OK  OK 
Package 235/462HostnameOS / ArchBUILDCHECKBUILD BIN
IPPD 1.1.0
Martin Slawski
Last Changed Rev: 54810 / Revision: 55359
Last Changed Date: 2011-04-13 18:14:51 -0700
wilson2 Linux (openSUSE 11.4) / x86_64  OK  OK 
liverpool Windows Server 2003 R2 (32-bit) / x64  OK  OK  OK 
gewurz Windows Server 2008 R2 Enterprise (64-bit) / x64  OK  OK  OK 
pelham Mac OS X Leopard (10.5.8) / i386  OK  OK  OK 
Package 236/462HostnameOS / ArchBUILDCHECKBUILD BIN
IRanges 1.11.1
Biocore Team c/o BioC user list
Last Changed Rev: 55009 / Revision: 55359
Last Changed Date: 2011-04-20 22:58:51 -0700
wilson2 Linux (openSUSE 11.4) / x86_64  OK  OK 
liverpool Windows Server 2003 R2 (32-bit) / x64  OK  OK  OK 
gewurz Windows Server 2008 R2 Enterprise (64-bit) / x64  OK  OK  OK 
pelham Mac OS X Leopard (10.5.8) / i386  OK  OK  OK 
Package 237/462HostnameOS / ArchBUILDCHECKBUILD BIN
iSeq 1.5.0
Qianxing Mo
Last Changed Rev: 54810 / Revision: 55359
Last Changed Date: 2011-04-13 18:14:51 -0700
wilson2 Linux (openSUSE 11.4) / x86_64  OK  OK 
liverpool Windows Server 2003 R2 (32-bit) / x64  OK  OK  OK 
gewurz Windows Server 2008 R2 Enterprise (64-bit) / x64  OK  OK  OK 
pelham Mac OS X Leopard (10.5.8) / i386  OK  OK  OK 
Package 238/462HostnameOS / ArchBUILDCHECKBUILD BIN
IsoGeneGUI 1.5.0
Setia Pramana
Last Changed Rev: 54810 / Revision: 55359
Last Changed Date: 2011-04-13 18:14:51 -0700
wilson2 Linux (openSUSE 11.4) / x86_64  OK  OK 
liverpool Windows Server 2003 R2 (32-bit) / x64  OK  OK  OK 
gewurz Windows Server 2008 R2 Enterprise (64-bit) / x64  OK  OK  OK 
pelham Mac OS X Leopard (10.5.8) / i386  OK  OK  OK 
Package 239/462HostnameOS / ArchBUILDCHECKBUILD BIN
ITALICS 2.13.0
Guillem Rigaill
Last Changed Rev: 54810 / Revision: 55359
Last Changed Date: 2011-04-13 18:14:51 -0700
wilson2 Linux (openSUSE 11.4) / x86_64  OK  OK 
liverpool Windows Server 2003 R2 (32-bit) / x64  OK  OK  OK 
gewurz Windows Server 2008 R2 Enterprise (64-bit) / x64  OK  OK  OK 
pelham Mac OS X Leopard (10.5.8) / i386  OK  OK  OK 
Package 240/462HostnameOS / ArchBUILDCHECKBUILD BIN
iterativeBMA 1.11.0
Ka Yee Yeung
Last Changed Rev: 54810 / Revision: 55359
Last Changed Date: 2011-04-13 18:14:51 -0700
wilson2 Linux (openSUSE 11.4) / x86_64  OK  OK 
liverpool Windows Server 2003 R2 (32-bit) / x64  OK  OK  OK 
gewurz Windows Server 2008 R2 Enterprise (64-bit) / x64  OK  OK  OK 
pelham Mac OS X Leopard (10.5.8) / i386  OK  OK  OK 
Package 241/462HostnameOS / ArchBUILDCHECKBUILD BIN
iterativeBMAsurv 1.11.0
Ka Yee Yeung
Last Changed Rev: 54802 / Revision: 55359
Last Changed Date: 2011-04-13 15:36:43 -0700
wilson2 Linux (openSUSE 11.4) / x86_64  OK  OK 
liverpool Windows Server 2003 R2 (32-bit) / x64  OK  OK  OK 
gewurz Windows Server 2008 R2 Enterprise (64-bit) / x64  OK  OK  OK 
pelham Mac OS X Leopard (10.5.8) / i386  OK  OK  OK 
J  A  B  C  D  E  F  G  H  I [J] K  L  M  N  O  P  Q  R  S  T  U  V  W  X  Y  Z 
Package 242/462HostnameOS / ArchBUILDCHECKBUILD BIN
joda 1.1.0
Ewa Szczurek
Last Changed Rev: 54802 / Revision: 55359
Last Changed Date: 2011-04-13 15:36:43 -0700
wilson2 Linux (openSUSE 11.4) / x86_64  OK  OK 
liverpool Windows Server 2003 R2 (32-bit) / x64  OK  OK  OK 
gewurz Windows Server 2008 R2 Enterprise (64-bit) / x64  OK  OK  OK 
pelham Mac OS X Leopard (10.5.8) / i386  OK  OK  OK 
K  A  B  C  D  E  F  G  H  I  J [K] L  M  N  O  P  Q  R  S  T  U  V  W  X  Y  Z 
Package 243/462HostnameOS / ArchBUILDCHECKBUILD BIN
KCsmart 2.11.0
Jorma de Ronde
Last Changed Rev: 54802 / Revision: 55359
Last Changed Date: 2011-04-13 15:36:43 -0700
wilson2 Linux (openSUSE 11.4) / x86_64  OK  OK 
liverpool Windows Server 2003 R2 (32-bit) / x64  OK  OK  OK 
gewurz Windows Server 2008 R2 Enterprise (64-bit) / x64  OK  OK  OK 
pelham Mac OS X Leopard (10.5.8) / i386  OK  OK  OK 
Package 244/462HostnameOS / ArchBUILDCHECKBUILD BIN
KEGGgraph 1.9.0
Jitao David Zhang
Last Changed Rev: 54802 / Revision: 55359
Last Changed Date: 2011-04-13 15:36:43 -0700
wilson2 Linux (openSUSE 11.4) / x86_64  OK  OK 
liverpool Windows Server 2003 R2 (32-bit) / x64  OK  OK  OK 
gewurz Windows Server 2008 R2 Enterprise (64-bit) / x64  OK  OK  OK 
pelham Mac OS X Leopard (10.5.8) / i386  OK  OK  OK 
Package 245/462HostnameOS / ArchBUILDCHECKBUILD BIN
keggorthology 2.5.0
VJ Carey
Last Changed Rev: 54802 / Revision: 55359
Last Changed Date: 2011-04-13 15:36:43 -0700
wilson2 Linux (openSUSE 11.4) / x86_64  OK  OK 
liverpool Windows Server 2003 R2 (32-bit) / x64  OK  OK  OK 
gewurz Windows Server 2008 R2 Enterprise (64-bit) / x64  OK  OK  OK 
pelham Mac OS X Leopard (10.5.8) / i386  OK  OK  OK 
Package 246/462HostnameOS / ArchBUILDCHECKBUILD BIN
KEGGSOAP 1.27.0
Biocore Team c/o BioC user list
Last Changed Rev: 54802 / Revision: 55359
Last Changed Date: 2011-04-13 15:36:43 -0700
wilson2 Linux (openSUSE 11.4) / x86_64  OK  OK 
liverpool Windows Server 2003 R2 (32-bit) / x64  OK  OK  OK 
gewurz Windows Server 2008 R2 Enterprise (64-bit) / x64  OK  OK  OK 
pelham Mac OS X Leopard (10.5.8) / i386  OK  OK  OK 
L  A  B  C  D  E  F  G  H  I  J  K [L] M  N  O  P  Q  R  S  T  U  V  W  X  Y  Z 
Package 247/462HostnameOS / ArchBUILDCHECKBUILD BIN
lapmix 1.19.0
Yann Ruffieux
Last Changed Rev: 54802 / Revision: 55359
Last Changed Date: 2011-04-13 15:36:43 -0700
wilson2 Linux (openSUSE 11.4) / x86_64  OK  OK 
liverpool Windows Server 2003 R2 (32-bit) / x64  OK  OK  OK 
gewurz Windows Server 2008 R2 Enterprise (64-bit) / x64  OK  OK  OK 
pelham Mac OS X Leopard (10.5.8) / i386  OK  OK  OK 
Package 248/462HostnameOS / ArchBUILDCHECKBUILD BIN
LBE 1.21.0
Cyril Dalmasso
Last Changed Rev: 54802 / Revision: 55359
Last Changed Date: 2011-04-13 15:36:43 -0700
wilson2 Linux (openSUSE 11.4) / x86_64  OK  OK 
liverpool Windows Server 2003 R2 (32-bit) / x64  OK  OK  OK 
gewurz Windows Server 2008 R2 Enterprise (64-bit) / x64  OK  OK  OK 
pelham Mac OS X Leopard (10.5.8) / i386  OK  OK  OK 
Package 249/462HostnameOS / ArchBUILDCHECKBUILD BIN
les 1.3.0
Julian Gehring
Last Changed Rev: 54802 / Revision: 55359
Last Changed Date: 2011-04-13 15:36:43 -0700
wilson2 Linux (openSUSE 11.4) / x86_64  OK  OK 
liverpool Windows Server 2003 R2 (32-bit) / x64  OK  OK  OK 
gewurz Windows Server 2008 R2 Enterprise (64-bit) / x64  OK  OK  OK 
pelham Mac OS X Leopard (10.5.8) / i386  OK  OK  OK 
Package 250/462HostnameOS / ArchBUILDCHECKBUILD BIN
limma 3.9.2
Gordon Smyth
Last Changed Rev: 55291 / Revision: 55359
Last Changed Date: 2011-05-05 20:32:59 -0700
wilson2 Linux (openSUSE 11.4) / x86_64  OK  WARNINGS 
liverpool Windows Server 2003 R2 (32-bit) / x64  OK  WARNINGS  OK 
gewurz Windows Server 2008 R2 Enterprise (64-bit) / x64  OK  WARNINGS  OK 
pelham Mac OS X Leopard (10.5.8) / i386  OK  WARNINGS  OK 
Package 251/462HostnameOS / ArchBUILDCHECKBUILD BIN
limmaGUI 1.29.0
Keith Satterley
Last Changed Rev: 54810 / Revision: 55359
Last Changed Date: 2011-04-13 18:14:51 -0700
wilson2 Linux (openSUSE 11.4) / x86_64  OK  OK 
liverpool Windows Server 2003 R2 (32-bit) / x64  OK  OK  OK 
gewurz Windows Server 2008 R2 Enterprise (64-bit) / x64  OK  OK  OK 
pelham Mac OS X Leopard (10.5.8) / i386  OK  OK  OK 
Package 252/462HostnameOS / ArchBUILDCHECKBUILD BIN
LiquidAssociation 1.7.0
Yen-Yi Ho
Last Changed Rev: 54810 / Revision: 55359
Last Changed Date: 2011-04-13 18:14:51 -0700
wilson2 Linux (openSUSE 11.4) / x86_64  OK  OK 
liverpool Windows Server 2003 R2 (32-bit) / x64  OK  OK  OK 
gewurz Windows Server 2008 R2 Enterprise (64-bit) / x64  OK  OK  OK 
pelham Mac OS X Leopard (10.5.8) / i386  OK  OK  OK 
Package 253/462HostnameOS / ArchBUILDCHECKBUILD BIN
LMGene 2.9.0
Blythe Durbin-Johnson
Last Changed Rev: 54802 / Revision: 55359
Last Changed Date: 2011-04-13 15:36:43 -0700
wilson2 Linux (openSUSE 11.4) / x86_64  OK  OK 
liverpool Windows Server 2003 R2 (32-bit) / x64  OK  OK  OK 
gewurz Windows Server 2008 R2 Enterprise (64-bit) / x64  OK  OK  OK 
pelham Mac OS X Leopard (10.5.8) / i386  OK  OK  OK 
Package 254/462HostnameOS / ArchBUILDCHECKBUILD BIN
logicFS 1.23.0
Holger Schwender
Last Changed Rev: 54810 / Revision: 55359
Last Changed Date: 2011-04-13 18:14:51 -0700
wilson2 Linux (openSUSE 11.4) / x86_64  OK  OK 
liverpool Windows Server 2003 R2 (32-bit) / x64  OK  OK  OK 
gewurz Windows Server 2008 R2 Enterprise (64-bit) / x64  OK  OK  OK 
pelham Mac OS X Leopard (10.5.8) / i386  OK  OK  OK 
Package 255/462HostnameOS / ArchBUILDCHECKBUILD BIN
logitT 1.11.0
Tobias Guennel
Last Changed Rev: 54802 / Revision: 55359
Last Changed Date: 2011-04-13 15:36:43 -0700
wilson2 Linux (openSUSE 11.4) / x86_64  OK  OK 
liverpool Windows Server 2003 R2 (32-bit) / x64  OK  OK  OK 
gewurz Windows Server 2008 R2 Enterprise (64-bit) / x64  OK  OK  OK 
pelham Mac OS X Leopard (10.5.8) / i386  OK  OK  OK 
Package 256/462HostnameOS / ArchBUILDCHECKBUILD BIN
lol 1.1.0
Yinyin Yuan
Last Changed Rev: 54802 / Revision: 55359
Last Changed Date: 2011-04-13 15:36:43 -0700
wilson2 Linux (openSUSE 11.4) / x86_64  OK  OK 
liverpool Windows Server 2003 R2 (32-bit) / x64  OK  OK  OK 
gewurz Windows Server 2008 R2 Enterprise (64-bit) / x64  OK  OK  OK 
pelham Mac OS X Leopard (10.5.8) / i386  OK  OK  OK 
Package 257/462HostnameOS / ArchBUILDCHECKBUILD BIN
LPE 1.27.0
Nitin Jain
Last Changed Rev: 54802 / Revision: 55359
Last Changed Date: 2011-04-13 15:36:43 -0700
wilson2 Linux (openSUSE 11.4) / x86_64  OK  OK 
liverpool Windows Server 2003 R2 (32-bit) / x64  OK  OK  OK 
gewurz Windows Server 2008 R2 Enterprise (64-bit) / x64  OK  OK  OK 
pelham Mac OS X Leopard (10.5.8) / i386  OK  OK  OK 
Package 258/462HostnameOS / ArchBUILDCHECKBUILD BIN
LPEadj 1.13.0
Carl Murie
Last Changed Rev: 54802 / Revision: 55359
Last Changed Date: 2011-04-13 15:36:43 -0700
wilson2 Linux (openSUSE 11.4) / x86_64  OK  OK 
liverpool Windows Server 2003 R2 (32-bit) / x64  OK  OK  OK 
gewurz Windows Server 2008 R2 Enterprise (64-bit) / x64  OK  OK  OK 
pelham Mac OS X Leopard (10.5.8) / i386  OK  OK  OK 
Package 259/462HostnameOS / ArchBUILDCHECKBUILD BIN
lumi 2.5.1
Pan Du
Last Changed Rev: 55052 / Revision: 55359
Last Changed Date: 2011-04-23 17:59:02 -0700
wilson2 Linux (openSUSE 11.4) / x86_64  OK  OK 
liverpool Windows Server 2003 R2 (32-bit) / x64  OK  OK  OK 
gewurz Windows Server 2008 R2 Enterprise (64-bit) / x64  OK  OK  OK 
pelham Mac OS X Leopard (10.5.8) / i386  OK  OK  OK 
Package 260/462HostnameOS / ArchBUILDCHECKBUILD BIN
LVSmiRNA 1.3.1
Stefano Calza
Last Changed Rev: 55189 / Revision: 55359
Last Changed Date: 2011-04-30 16:17:17 -0700
wilson2 Linux (openSUSE 11.4) / x86_64  OK  OK 
liverpool Windows Server 2003 R2 (32-bit) / x64  OK  OK  OK 
gewurz Windows Server 2008 R2 Enterprise (64-bit) / x64  OK  OK  OK 
pelham Mac OS X Leopard (10.5.8) / i386  OK  OK  OK 
M  A  B  C  D  E  F  G  H  I  J  K  L [M] N  O  P  Q  R  S  T  U  V  W  X  Y  Z 
Package 261/462HostnameOS / ArchBUILDCHECKBUILD BIN
maanova 1.23.0
Keith Sheppard
Last Changed Rev: 54810 / Revision: 55359
Last Changed Date: 2011-04-13 18:14:51 -0700
wilson2 Linux (openSUSE 11.4) / x86_64  OK  OK 
liverpool Windows Server 2003 R2 (32-bit) / x64  OK  OK  OK 
gewurz Windows Server 2008 R2 Enterprise (64-bit) / x64  OK  OK  OK 
pelham Mac OS X Leopard (10.5.8) / i386  OK  OK  OK 
Package 262/462HostnameOS / ArchBUILDCHECKBUILD BIN
macat 1.27.0
Joern Toedling
Last Changed Rev: 54810 / Revision: 55359
Last Changed Date: 2011-04-13 18:14:51 -0700
wilson2 Linux (openSUSE 11.4) / x86_64  OK  WARNINGS 
liverpool Windows Server 2003 R2 (32-bit) / x64  OK  WARNINGS  OK 
gewurz Windows Server 2008 R2 Enterprise (64-bit) / x64  OK  WARNINGS  OK 
pelham Mac OS X Leopard (10.5.8) / i386  OK  WARNINGS  OK 
Package 263/462HostnameOS / ArchBUILDCHECKBUILD BIN
maCorrPlot 1.23.0
Alexander Ploner
Last Changed Rev: 54802 / Revision: 55359
Last Changed Date: 2011-04-13 15:36:43 -0700
wilson2 Linux (openSUSE 11.4) / x86_64  OK  OK 
liverpool Windows Server 2003 R2 (32-bit) / x64  OK  OK  OK 
gewurz Windows Server 2008 R2 Enterprise (64-bit) / x64  OK  OK  OK 
pelham Mac OS X Leopard (10.5.8) / i386  OK  OK  OK 
Package 264/462HostnameOS / ArchBUILDCHECKBUILD BIN
maDB 1.25.0
Johannes Rainer
Last Changed Rev: 54802 / Revision: 55359
Last Changed Date: 2011-04-13 15:36:43 -0700
wilson2 Linux (openSUSE 11.4) / x86_64  OK  OK 
liverpool Windows Server 2003 R2 (32-bit) / x64 N O T   S U P P O R T E D
gewurz Windows Server 2008 R2 Enterprise (64-bit) / x64 N O T   S U P P O R T E D
pelham Mac OS X Leopard (10.5.8) / i386  OK  OK  OK 
Package 265/462HostnameOS / ArchBUILDCHECKBUILD BIN
made4 1.27.0
Aedin Culhane
Last Changed Rev: 54810 / Revision: 55359
Last Changed Date: 2011-04-13 18:14:51 -0700
wilson2 Linux (openSUSE 11.4) / x86_64  OK  OK 
liverpool Windows Server 2003 R2 (32-bit) / x64  OK  OK  OK 
gewurz Windows Server 2008 R2 Enterprise (64-bit) / x64  OK  WARNINGS  OK 
pelham Mac OS X Leopard (10.5.8) / i386  OK  OK  OK 
Package 266/462HostnameOS / ArchBUILDCHECKBUILD BIN
maigesPack 1.17.0
Gustavo H. Esteves
Last Changed Rev: 55307 / Revision: 55359
Last Changed Date: 2011-05-06 14:58:56 -0700
wilson2 Linux (openSUSE 11.4) / x86_64  OK  OK 
liverpool Windows Server 2003 R2 (32-bit) / x64  OK  OK  OK 
gewurz Windows Server 2008 R2 Enterprise (64-bit) / x64  OK  OK  OK 
pelham Mac OS X Leopard (10.5.8) / i386  OK  OK  OK 
Package 267/462HostnameOS / ArchBUILDCHECKBUILD BIN
makecdfenv 1.31.1
James W. MacDonald
Last Changed Rev: 55189 / Revision: 55359
Last Changed Date: 2011-04-30 16:17:17 -0700
wilson2 Linux (openSUSE 11.4) / x86_64  OK  OK 
liverpool Windows Server 2003 R2 (32-bit) / x64  OK  OK  OK 
gewurz Windows Server 2008 R2 Enterprise (64-bit) / x64  OK  OK  OK 
pelham Mac OS X Leopard (10.5.8) / i386  OK  OK  OK 
Package 268/462HostnameOS / ArchBUILDCHECKBUILD BIN
MANOR 1.25.0
Pierre Neuvial
Last Changed Rev: 55306 / Revision: 55359
Last Changed Date: 2011-05-06 14:50:44 -0700
wilson2 Linux (openSUSE 11.4) / x86_64  OK  OK 
liverpool Windows Server 2003 R2 (32-bit) / x64  ERROR  skipped  skipped 
gewurz Windows Server 2008 R2 Enterprise (64-bit) / x64  OK  OK  OK 
pelham Mac OS X Leopard (10.5.8) / i386  OK  OK  OK 
Package 269/462HostnameOS / ArchBUILDCHECKBUILD BIN
MantelCorr 1.23.0
Brian Steinmeyer
Last Changed Rev: 54810 / Revision: 55359
Last Changed Date: 2011-04-13 18:14:51 -0700
wilson2 Linux (openSUSE 11.4) / x86_64  OK  OK 
liverpool Windows Server 2003 R2 (32-bit) / x64  OK  OK  OK 
gewurz Windows Server 2008 R2 Enterprise (64-bit) / x64  OK  OK  OK 
pelham Mac OS X Leopard (10.5.8) / i386  OK  OK  OK 
Package 270/462HostnameOS / ArchBUILDCHECKBUILD BIN
marray 1.31.0
Yee Hwa (Jean) Yang
Last Changed Rev: 54802 / Revision: 55359
Last Changed Date: 2011-04-13 15:36:43 -0700
wilson2 Linux (openSUSE 11.4) / x86_64  OK  OK 
liverpool Windows Server 2003 R2 (32-bit) / x64  OK  OK  OK 
gewurz Windows Server 2008 R2 Enterprise (64-bit) / x64  OK  OK  OK 
pelham Mac OS X Leopard (10.5.8) / i386  OK  OK  OK 
Package 271/462HostnameOS / ArchBUILDCHECKBUILD BIN
maSigPro 1.25.1
Maria Jose Nueda
Last Changed Rev: 55170 / Revision: 55359
Last Changed Date: 2011-04-29 15:54:14 -0700
wilson2 Linux (openSUSE 11.4) / x86_64  OK  OK 
liverpool Windows Server 2003 R2 (32-bit) / x64  OK  OK  OK 
gewurz Windows Server 2008 R2 Enterprise (64-bit) / x64  OK  OK  OK 
pelham Mac OS X Leopard (10.5.8) / i386  OK  OK  OK 
Package 272/462HostnameOS / ArchBUILDCHECKBUILD BIN
MassArray 1.5.0
Reid F. Thompson
Last Changed Rev: 55131 / Revision: 55359
Last Changed Date: 2011-04-28 10:32:14 -0700
wilson2 Linux (openSUSE 11.4) / x86_64  OK  OK 
liverpool Windows Server 2003 R2 (32-bit) / x64  OK  OK  OK 
gewurz Windows Server 2008 R2 Enterprise (64-bit) / x64  OK  OK  OK 
pelham Mac OS X Leopard (10.5.8) / i386  OK  OK  OK 
Package 273/462HostnameOS / ArchBUILDCHECKBUILD BIN
MassSpecWavelet 1.19.0
Pan Du
Last Changed Rev: 54802 / Revision: 55359
Last Changed Date: 2011-04-13 15:36:43 -0700
wilson2 Linux (openSUSE 11.4) / x86_64  OK  OK 
liverpool Windows Server 2003 R2 (32-bit) / x64  OK  OK  OK 
gewurz Windows Server 2008 R2 Enterprise (64-bit) / x64  OK  OK  OK 
pelham Mac OS X Leopard (10.5.8) / i386  OK  OK  OK 
Package 274/462HostnameOS / ArchBUILDCHECKBUILD BIN
MBCB 1.7.0
Jeff Allen
Last Changed Rev: 54802 / Revision: 55359
Last Changed Date: 2011-04-13 15:36:43 -0700
wilson2 Linux (openSUSE 11.4) / x86_64  OK  OK 
liverpool Windows Server 2003 R2 (32-bit) / x64  OK  OK  OK 
gewurz Windows Server 2008 R2 Enterprise (64-bit) / x64  OK  OK  OK 
pelham Mac OS X Leopard (10.5.8) / i386  OK  OK  OK 
Package 275/462HostnameOS / ArchBUILDCHECKBUILD BIN
mBPCR 1.7.0
P.M.V. Rancoita
Last Changed Rev: 54802 / Revision: 55359
Last Changed Date: 2011-04-13 15:36:43 -0700
wilson2 Linux (openSUSE 11.4) / x86_64  OK  OK 
liverpool Windows Server 2003 R2 (32-bit) / x64  OK  OK  OK 
gewurz Windows Server 2008 R2 Enterprise (64-bit) / x64  OK  OK  OK 
pelham Mac OS X Leopard (10.5.8) / i386  OK  OK  OK 
Package 276/462HostnameOS / ArchBUILDCHECKBUILD BIN
mcaGUI 1.1.0
Wade K. Copeland
Last Changed Rev: 54802 / Revision: 55359
Last Changed Date: 2011-04-13 15:36:43 -0700
wilson2 Linux (openSUSE 11.4) / x86_64  OK  OK 
liverpool Windows Server 2003 R2 (32-bit) / x64  OK  OK  OK 
gewurz Windows Server 2008 R2 Enterprise (64-bit) / x64  OK  OK  OK 
pelham Mac OS X Leopard (10.5.8) / i386  OK  OK  OK 
Package 277/462HostnameOS / ArchBUILDCHECKBUILD BIN
MCRestimate 2.9.0
Marc Johannes
Last Changed Rev: 54802 / Revision: 55359
Last Changed Date: 2011-04-13 15:36:43 -0700
wilson2 Linux (openSUSE 11.4) / x86_64  OK  OK 
liverpool Windows Server 2003 R2 (32-bit) / x64  OK  OK  OK 
gewurz Windows Server 2008 R2 Enterprise (64-bit) / x64  OK  OK  OK 
pelham Mac OS X Leopard (10.5.8) / i386  OK  OK  OK 
Package 278/462HostnameOS / ArchBUILDCHECKBUILD BIN
mdqc 1.15.0
Gabriela Cohen-Freue
Last Changed Rev: 54802 / Revision: 55359
Last Changed Date: 2011-04-13 15:36:43 -0700
wilson2 Linux (openSUSE 11.4) / x86_64  OK  OK 
liverpool Windows Server 2003 R2 (32-bit) / x64  OK  OK  OK 
gewurz Windows Server 2008 R2 Enterprise (64-bit) / x64  OK  OK  OK 
pelham Mac OS X Leopard (10.5.8) / i386  OK  OK  OK 
Package 279/462HostnameOS / ArchBUILDCHECKBUILD BIN
MeasurementError.cor 1.25.0
Beiying Ding
Last Changed Rev: 54802 / Revision: 55359
Last Changed Date: 2011-04-13 15:36:43 -0700
wilson2 Linux (openSUSE 11.4) / x86_64  OK  OK 
liverpool Windows Server 2003 R2 (32-bit) / x64  OK  OK  OK 
gewurz Windows Server 2008 R2 Enterprise (64-bit) / x64  OK  OK  OK 
pelham Mac OS X Leopard (10.5.8) / i386  OK  OK  OK 
Package 280/462HostnameOS / ArchBUILDCHECKBUILD BIN
MEDIPS 1.3.0
Lukas Chavez
Last Changed Rev: 54802 / Revision: 55359
Last Changed Date: 2011-04-13 15:36:43 -0700
wilson2 Linux (openSUSE 11.4) / x86_64  OK  OK 
liverpool Windows Server 2003 R2 (32-bit) / x64  OK  OK  OK 
gewurz Windows Server 2008 R2 Enterprise (64-bit) / x64  OK  OK  OK 
pelham Mac OS X Leopard (10.5.8) / i386  OK  OK  OK 
Package 281/462HostnameOS / ArchBUILDCHECKBUILD BIN
MEDME 1.13.0
Mattia Pelizzola
Last Changed Rev: 54802 / Revision: 55359
Last Changed Date: 2011-04-13 15:36:43 -0700
wilson2 Linux (openSUSE 11.4) / x86_64  OK  OK 
liverpool Windows Server 2003 R2 (32-bit) / x64  OK  OK  OK 
gewurz Windows Server 2008 R2 Enterprise (64-bit) / x64  OK  OK  OK 
pelham Mac OS X Leopard (10.5.8) / i386  OK  OK  OK 
Package 282/462HostnameOS / ArchBUILDCHECKBUILD BIN
MergeMaid 2.25.0
Xiaogang Zhong
Last Changed Rev: 54810 / Revision: 55359
Last Changed Date: 2011-04-13 18:14:51 -0700
wilson2 Linux (openSUSE 11.4) / x86_64  OK  OK 
liverpool Windows Server 2003 R2 (32-bit) / x64  OK  OK  OK 
gewurz Windows Server 2008 R2 Enterprise (64-bit) / x64  OK  OK  OK 
pelham Mac OS X Leopard (10.5.8) / i386  OK  OK  OK 
Package 283/462HostnameOS / ArchBUILDCHECKBUILD BIN
metaArray 1.29.0
Hyungwon Choi
Last Changed Rev: 54810 / Revision: 55359
Last Changed Date: 2011-04-13 18:14:51 -0700
wilson2 Linux (openSUSE 11.4) / x86_64  OK  OK 
liverpool Windows Server 2003 R2 (32-bit) / x64  OK  OK  OK 
gewurz Windows Server 2008 R2 Enterprise (64-bit) / x64  OK  OK  OK 
pelham Mac OS X Leopard (10.5.8) / i386  OK  OK  OK 
Package 284/462HostnameOS / ArchBUILDCHECKBUILD BIN
metahdep 1.11.0
John R. Stevens
Last Changed Rev: 54802 / Revision: 55359
Last Changed Date: 2011-04-13 15:36:43 -0700
wilson2 Linux (openSUSE 11.4) / x86_64  OK  OK 
liverpool Windows Server 2003 R2 (32-bit) / x64  OK  OK  OK 
gewurz Windows Server 2008 R2 Enterprise (64-bit) / x64  OK  OK  OK 
pelham Mac OS X Leopard (10.5.8) / i386  OK  OK  OK 
Package 285/462HostnameOS / ArchBUILDCHECKBUILD BIN
methVisual 1.5.0
Arie Zackay
Last Changed Rev: 54802 / Revision: 55359
Last Changed Date: 2011-04-13 15:36:43 -0700
wilson2 Linux (openSUSE 11.4) / x86_64  OK  OK 
liverpool Windows Server 2003 R2 (32-bit) / x64  OK  OK  OK 
gewurz Windows Server 2008 R2 Enterprise (64-bit) / x64  OK  OK  OK 
pelham Mac OS X Leopard (10.5.8) / i386  OK  OK  OK 
Package 286/462HostnameOS / ArchBUILDCHECKBUILD BIN
methylumi 1.9.0
Sean Davis
Last Changed Rev: 54802 / Revision: 55359
Last Changed Date: 2011-04-13 15:36:43 -0700
wilson2 Linux (openSUSE 11.4) / x86_64  OK  OK 
liverpool Windows Server 2003 R2 (32-bit) / x64  OK  OK  OK 
gewurz Windows Server 2008 R2 Enterprise (64-bit) / x64  OK  OK  OK 
pelham Mac OS X Leopard (10.5.8) / i386  OK  OK  OK 
Package 287/462HostnameOS / ArchBUILDCHECKBUILD BIN
Mfuzz 2.11.0
Matthias Futschik
Last Changed Rev: 54802 / Revision: 55359
Last Changed Date: 2011-04-13 15:36:43 -0700
wilson2 Linux (openSUSE 11.4) / x86_64  OK  OK 
liverpool Windows Server 2003 R2 (32-bit) / x64  OK  OK  OK 
gewurz Windows Server 2008 R2 Enterprise (64-bit) / x64  OK  OK  OK 
pelham Mac OS X Leopard (10.5.8) / i386  OK  OK  OK 
Package 288/462HostnameOS / ArchBUILDCHECKBUILD BIN
mgsa 1.1.1
Sebastian Bauer
Last Changed Rev: 55122 / Revision: 55359
Last Changed Date: 2011-04-28 04:32:25 -0700
wilson2 Linux (openSUSE 11.4) / x86_64  OK  OK 
liverpool Windows Server 2003 R2 (32-bit) / x64  OK  OK  OK 
gewurz Windows Server 2008 R2 Enterprise (64-bit) / x64  OK  WARNINGS  OK 
pelham Mac OS X Leopard (10.5.8) / i386  OK  OK  OK 
Package 289/462HostnameOS / ArchBUILDCHECKBUILD BIN
MiChip 1.7.0
Jonathon Blake
Last Changed Rev: 54802 / Revision: 55359
Last Changed Date: 2011-04-13 15:36:43 -0700
wilson2 Linux (openSUSE 11.4) / x86_64  OK  OK 
liverpool Windows Server 2003 R2 (32-bit) / x64  OK  OK  OK 
gewurz Windows Server 2008 R2 Enterprise (64-bit) / x64  OK  OK  OK 
pelham Mac OS X Leopard (10.5.8) / i386  OK  OK  OK 
Package 290/462HostnameOS / ArchBUILDCHECKBUILD BIN
microRNA 1.11.0
Chao-Jen Wong
Last Changed Rev: 54802 / Revision: 55359
Last Changed Date: 2011-04-13 15:36:43 -0700
wilson2 Linux (openSUSE 11.4) / x86_64  OK  OK 
liverpool Windows Server 2003 R2 (32-bit) / x64  OK  OK  OK 
gewurz Windows Server 2008 R2 Enterprise (64-bit) / x64  OK  OK  OK 
pelham Mac OS X Leopard (10.5.8) / i386  OK  OK  OK 
Package 291/462HostnameOS / ArchBUILDCHECKBUILD BIN
minet 3.7.0
Patrick E. Meyer
Last Changed Rev: 54802 / Revision: 55359
Last Changed Date: 2011-04-13 15:36:43 -0700
wilson2 Linux (openSUSE 11.4) / x86_64  OK  OK 
liverpool Windows Server 2003 R2 (32-bit) / x64  OK  OK  OK 
gewurz Windows Server 2008 R2 Enterprise (64-bit) / x64  OK  OK  OK 
pelham Mac OS X Leopard (10.5.8) / i386  OK  OK  OK 
Package 292/462HostnameOS / ArchBUILDCHECKBUILD BIN
MiPP 1.25.0
Sukwoo Kim
Last Changed Rev: 54810 / Revision: 55359
Last Changed Date: 2011-04-13 18:14:51 -0700
wilson2 Linux (openSUSE 11.4) / x86_64  OK  OK 
liverpool Windows Server 2003 R2 (32-bit) / x64  OK  OK  OK 
gewurz Windows Server 2008 R2 Enterprise (64-bit) / x64  OK  OK  OK 
pelham Mac OS X Leopard (10.5.8) / i386  OK  OK  OK 
Package 293/462HostnameOS / ArchBUILDCHECKBUILD BIN
miRNApath 1.13.0
James M. Ward
Last Changed Rev: 54802 / Revision: 55359
Last Changed Date: 2011-04-13 15:36:43 -0700
wilson2 Linux (openSUSE 11.4) / x86_64  OK  OK 
liverpool Windows Server 2003 R2 (32-bit) / x64  OK  OK  OK 
gewurz Windows Server 2008 R2 Enterprise (64-bit) / x64  OK  OK  OK 
pelham Mac OS X Leopard (10.5.8) / i386  OK  OK  OK 
Package 294/462HostnameOS / ArchBUILDCHECKBUILD BIN
MLInterfaces 1.33.0
V. Carey
Last Changed Rev: 54802 / Revision: 55359
Last Changed Date: 2011-04-13 15:36:43 -0700
wilson2 Linux (openSUSE 11.4) / x86_64  OK  OK 
liverpool Windows Server 2003 R2 (32-bit) / x64  OK  OK  OK 
gewurz Windows Server 2008 R2 Enterprise (64-bit) / x64  OK  OK  OK 
pelham Mac OS X Leopard (10.5.8) / i386  OK  OK  OK 
Package 295/462HostnameOS / ArchBUILDCHECKBUILD BIN
MLP 1.1.0
Tobias Verbeke
Last Changed Rev: 54810 / Revision: 55359
Last Changed Date: 2011-04-13 18:14:51 -0700
wilson2 Linux (openSUSE 11.4) / x86_64  OK  OK 
liverpool Windows Server 2003 R2 (32-bit) / x64  OK  OK  OK 
gewurz Windows Server 2008 R2 Enterprise (64-bit) / x64  OK  WARNINGS  OK 
pelham Mac OS X Leopard (10.5.8) / i386  OK  OK  OK 
Package 296/462HostnameOS / ArchBUILDCHECKBUILD BIN
mosaics 1.0.1
Dongjun Chung
Last Changed Rev: 55292 / Revision: 55359
Last Changed Date: 2011-05-05 21:33:58 -0700
wilson2 Linux (openSUSE 11.4) / x86_64  OK  OK 
liverpool Windows Server 2003 R2 (32-bit) / x64  OK  OK  OK 
gewurz Windows Server 2008 R2 Enterprise (64-bit) / x64  OK  OK  OK 
pelham Mac OS X Leopard (10.5.8) / i386  OK  OK  OK 
Package 297/462HostnameOS / ArchBUILDCHECKBUILD BIN
MotIV 1.7.0
Eloi Mercier , Raphael Gottardo
Last Changed Rev: 54811 / Revision: 55359
Last Changed Date: 2011-04-13 18:45:05 -0700
wilson2 Linux (openSUSE 11.4) / x86_64  OK  OK 
liverpool Windows Server 2003 R2 (32-bit) / x64  OK  OK  OK 
gewurz Windows Server 2008 R2 Enterprise (64-bit) / x64  OK  OK  OK 
pelham Mac OS X Leopard (10.5.8) / i386  OK  OK  OK 
Package 298/462HostnameOS / ArchBUILDCHECKBUILD BIN
MSnbase 1.1.7
Laurent Gatto
Last Changed Rev: 55356 / Revision: 55359
Last Changed Date: 2011-05-09 04:24:06 -0700
wilson2 Linux (openSUSE 11.4) / x86_64  OK  OK 
liverpool Windows Server 2003 R2 (32-bit) / x64  OK  OK  OK 
gewurz Windows Server 2008 R2 Enterprise (64-bit) / x64  OK  OK  OK 
pelham Mac OS X Leopard (10.5.8) / i386  OK  OK  OK 
Package 299/462HostnameOS / ArchBUILDCHECKBUILD BIN
Mulcom 1.3.0
Claudio Isella
Last Changed Rev: 54810 / Revision: 55359
Last Changed Date: 2011-04-13 18:14:51 -0700
wilson2 Linux (openSUSE 11.4) / x86_64  OK  OK 
liverpool Windows Server 2003 R2 (32-bit) / x64  OK  OK  OK 
gewurz Windows Server 2008 R2 Enterprise (64-bit) / x64  OK  OK  OK 
pelham Mac OS X Leopard (10.5.8) / i386  OK  OK  OK 
Package 300/462HostnameOS / ArchBUILDCHECKBUILD BIN
multiscan 1.13.0
Mizanur Khondoker
Last Changed Rev: 54802 / Revision: 55359
Last Changed Date: 2011-04-13 15:36:43 -0700
wilson2 Linux (openSUSE 11.4) / x86_64  OK  OK 
liverpool Windows Server 2003 R2 (32-bit) / x64  OK  OK  OK 
gewurz Windows Server 2008 R2 Enterprise (64-bit) / x64  OK  OK  OK 
pelham Mac OS X Leopard (10.5.8) / i386  OK  OK  OK 
Package 301/462HostnameOS / ArchBUILDCHECKBUILD BIN
multtest 2.9.0
Katherine S. Pollard
Last Changed Rev: 54810 / Revision: 55359
Last Changed Date: 2011-04-13 18:14:51 -0700
wilson2 Linux (openSUSE 11.4) / x86_64  OK  OK 
liverpool Windows Server 2003 R2 (32-bit) / x64  OK  OK  OK 
gewurz Windows Server 2008 R2 Enterprise (64-bit) / x64  OK  OK  OK 
pelham Mac OS X Leopard (10.5.8) / i386  OK  OK  OK 
Package 302/462HostnameOS / ArchBUILDCHECKBUILD BIN
MVCClass 1.27.0
Elizabeth Whalen
Last Changed Rev: 54802 / Revision: 55359
Last Changed Date: 2011-04-13 15:36:43 -0700
wilson2 Linux (openSUSE 11.4) / x86_64  OK  OK 
liverpool Windows Server 2003 R2 (32-bit) / x64  OK  OK  OK 
gewurz Windows Server 2008 R2 Enterprise (64-bit) / x64  OK  OK  OK 
pelham Mac OS X Leopard (10.5.8) / i386  OK  OK  OK 
N  A  B  C  D  E  F  G  H  I  J  K  L  M [N] O  P  Q  R  S  T  U  V  W  X  Y  Z 
Package 303/462HostnameOS / ArchBUILDCHECKBUILD BIN
NCIgraph 1.1.0
Laurent Jacob
Last Changed Rev: 54802 / Revision: 55359
Last Changed Date: 2011-04-13 15:36:43 -0700
wilson2 Linux (openSUSE 11.4) / x86_64  OK  OK 
liverpool Windows Server 2003 R2 (32-bit) / x64  OK  OK  OK 
gewurz Windows Server 2008 R2 Enterprise (64-bit) / x64  OK  OK  OK 
pelham Mac OS X Leopard (10.5.8) / i386  OK  OK  OK 
Package 304/462HostnameOS / ArchBUILDCHECKBUILD BIN
nem 2.17.0
Holger Froehlich
Last Changed Rev: 54930 / Revision: 55359
Last Changed Date: 2011-04-19 05:43:21 -0700
wilson2 Linux (openSUSE 11.4) / x86_64  OK  OK 
liverpool Windows Server 2003 R2 (32-bit) / x64  OK  OK  OK 
gewurz Windows Server 2008 R2 Enterprise (64-bit) / x64  OK  OK  OK 
pelham Mac OS X Leopard (10.5.8) / i386  OK  OK  OK 
Package 305/462HostnameOS / ArchBUILDCHECKBUILD BIN
netresponse 1.5.0
Leo Lahti
Last Changed Rev: 54802 / Revision: 55359
Last Changed Date: 2011-04-13 15:36:43 -0700
wilson2 Linux (openSUSE 11.4) / x86_64  OK  OK 
liverpool Windows Server 2003 R2 (32-bit) / x64  OK  OK  OK 
gewurz Windows Server 2008 R2 Enterprise (64-bit) / x64  OK  OK  OK 
pelham Mac OS X Leopard (10.5.8) / i386  OK  OK  OK 
Package 306/462HostnameOS / ArchBUILDCHECKBUILD BIN
nnNorm 2.17.0
Adi Laurentiu Tarca
Last Changed Rev: 54810 / Revision: 55359
Last Changed Date: 2011-04-13 18:14:51 -0700
wilson2 Linux (openSUSE 11.4) / x86_64  OK  OK 
liverpool Windows Server 2003 R2 (32-bit) / x64  OK  OK  OK 
gewurz Windows Server 2008 R2 Enterprise (64-bit) / x64  OK  OK  OK 
pelham Mac OS X Leopard (10.5.8) / i386  OK  OK  OK 
Package 307/462HostnameOS / ArchBUILDCHECKBUILD BIN
NTW 1.3.0
Yuanhua Liu
Last Changed Rev: 54802 / Revision: 55359
Last Changed Date: 2011-04-13 15:36:43 -0700
wilson2 Linux (openSUSE 11.4) / x86_64  OK  OK 
liverpool Windows Server 2003 R2 (32-bit) / x64  OK  OK  OK 
gewurz Windows Server 2008 R2 Enterprise (64-bit) / x64  OK  OK  OK 
pelham Mac OS X Leopard (10.5.8) / i386  OK  OK  OK 
Package 308/462HostnameOS / ArchBUILDCHECKBUILD BIN
nudge 1.19.0
N. Dean
Last Changed Rev: 54810 / Revision: 55359
Last Changed Date: 2011-04-13 18:14:51 -0700
wilson2 Linux (openSUSE 11.4) / x86_64  OK  OK 
liverpool Windows Server 2003 R2 (32-bit) / x64  OK  OK  OK 
gewurz Windows Server 2008 R2 Enterprise (64-bit) / x64  OK  OK  OK 
pelham Mac OS X Leopard (10.5.8) / i386  OK  OK  OK 
Package 309/462HostnameOS / ArchBUILDCHECKBUILD BIN
NuPoP 1.3.0
Ji-Ping Wang
Last Changed Rev: 54802 / Revision: 55359
Last Changed Date: 2011-04-13 15:36:43 -0700
wilson2 Linux (openSUSE 11.4) / x86_64  OK  OK 
liverpool Windows Server 2003 R2 (32-bit) / x64  OK  OK  OK 
gewurz Windows Server 2008 R2 Enterprise (64-bit) / x64  OK  OK  OK 
pelham Mac OS X Leopard (10.5.8) / i386  OK  OK  OK 
O  A  B  C  D  E  F  G  H  I  J  K  L  M  N [O] P  Q  R  S  T  U  V  W  X  Y  Z 
Package 310/462HostnameOS / ArchBUILDCHECKBUILD BIN