BioC 2.5: Multiple platform build/check report

This page was generated on 2010-04-03 11:59:41 -0700 (Sat, 03 Apr 2010).

svn info

Snapshot Date: 2010-04-02 23:28:25 -0700 (Fri, 02 Apr 2010)
URL: https://hedgehog.fhcrc.org/bioconductor/branches/RELEASE_2_5/madman/Rpacks
Last Changed Rev: 45620 / Revision: 45705
Last Changed Date: 2010-03-31 12:08:34 -0700 (Wed, 31 Mar 2010)

Hostname OS Arch (*) Platform label (**) R version Installed pkgs
wilson2 Linux (openSUSE 11.1) x86_64 x86_64-suse-linux 2.10.1 (2009-12-14) 734
liverpool Windows Server 2003 R2 (32-bit) x64 mingw32 2.10.1 (2009-12-14) 692
pitt Mac OS X Tiger (10.4.11) i386 i686-apple-darwin8 2.10.1 Patched (2009-12-14 r50738) 733
pelham Mac OS X Leopard (10.5.8) i386 i686-apple-darwin9 2.10.1 Patched (2009-12-14 r50738) 731
Click on any hostname to see more info about the system (e.g. compilers)      (*) as reported by 'uname -p', except on Windows      (**) as reported by 'gcc -v'

Package STATUS - Package status is indicated by one of the following glyphs:
 -  TIMEOUT  BUILD, CHECK or BUILD BIN of package took more than 40 minutes
 -  ERROR  BUILD, CHECK or BUILD BIN of package returned an error
 -  WARNINGS  CHECK of package produced warnings
 -  OK  BUILD, CHECK or BUILD BIN of package was OK
 - skipped  CHECK or BUILD BIN of package was skipped because the BUILD step failed (or because something bad happened with the Build System itself)
Click on any glyph in the report below to see the status details (command output).
Use the check boxes to show only packages with the selected status types:  TIMEOUT   ERROR   WARNINGS   OK 

SUMMARYOS / ArchBUILDCHECKBUILD BIN
wilson2 Linux (openSUSE 11.1) / x86_64 
24347
0214331
liverpool Windows Server 2003 R2 (32-bit) / x64 
13341
1220318
00341
pitt Mac OS X Tiger (10.4.11) / i386 
11346
0218326
00346
pelham Mac OS X Leopard (10.5.8) / i386 
12345
0218325
00345
A [A] B  C  D  E  F  G  H  I  J  K  L  M  N  O  P  Q  R  S  T  U  V  W  X  Y  Z 
Package 1/353HostnameOS / ArchBUILDCHECKBUILD BIN
ABarray 1.14.0
Yongming Andrew Sun
Last Changed Rev: 42684 / Revision: 45705
Last Changed Date: 2009-10-27 16:33:29 -0700
wilson2 Linux (openSUSE 11.1) / x86_64  OK  OK 
liverpool Windows Server 2003 R2 (32-bit) / x64  OK  OK  OK 
pitt Mac OS X Tiger (10.4.11) / i386  OK  OK  OK 
pelham Mac OS X Leopard (10.5.8) / i386  OK  OK  OK 
Package 2/353HostnameOS / ArchBUILDCHECKBUILD BIN
aCGH 1.22.0
Peter Dimitrov
Last Changed Rev: 42684 / Revision: 45705
Last Changed Date: 2009-10-27 16:33:29 -0700
wilson2 Linux (openSUSE 11.1) / x86_64  OK  OK 
liverpool Windows Server 2003 R2 (32-bit) / x64  OK  OK  OK 
pitt Mac OS X Tiger (10.4.11) / i386  OK  OK  OK 
pelham Mac OS X Leopard (10.5.8) / i386  OK  OK  OK 
Package 3/353HostnameOS / ArchBUILDCHECKBUILD BIN
ACME 2.2.0
Sean Davis
Last Changed Rev: 42684 / Revision: 45705
Last Changed Date: 2009-10-27 16:33:29 -0700
wilson2 Linux (openSUSE 11.1) / x86_64  OK  OK 
liverpool Windows Server 2003 R2 (32-bit) / x64  OK  OK  OK 
pitt Mac OS X Tiger (10.4.11) / i386  OK  OK  OK 
pelham Mac OS X Leopard (10.5.8) / i386  OK  OK  OK 
Package 4/353HostnameOS / ArchBUILDCHECKBUILD BIN
adSplit 1.16.0
Claudio Lottaz
Last Changed Rev: 42684 / Revision: 45705
Last Changed Date: 2009-10-27 16:33:29 -0700
wilson2 Linux (openSUSE 11.1) / x86_64  OK  OK 
liverpool Windows Server 2003 R2 (32-bit) / x64  OK  OK  OK 
pitt Mac OS X Tiger (10.4.11) / i386  OK  OK  OK 
pelham Mac OS X Leopard (10.5.8) / i386  OK  OK  OK 
Package 5/353HostnameOS / ArchBUILDCHECKBUILD BIN
affxparser 1.18.0
Kasper Daniel Hansen
Last Changed Rev: 42684 / Revision: 45705
Last Changed Date: 2009-10-27 16:33:29 -0700
wilson2 Linux (openSUSE 11.1) / x86_64  OK  OK 
liverpool Windows Server 2003 R2 (32-bit) / x64  OK  OK  OK 
pitt Mac OS X Tiger (10.4.11) / i386  OK  OK  OK 
pelham Mac OS X Leopard (10.5.8) / i386  OK  OK  OK 
Package 6/353HostnameOS / ArchBUILDCHECKBUILD BIN
affy 1.24.2
Rafael A. Irizarry
Last Changed Rev: 42877 / Revision: 45705
Last Changed Date: 2009-11-09 13:09:08 -0800
wilson2 Linux (openSUSE 11.1) / x86_64  OK  OK 
liverpool Windows Server 2003 R2 (32-bit) / x64  OK  OK  OK 
pitt Mac OS X Tiger (10.4.11) / i386  OK  OK  OK 
pelham Mac OS X Leopard (10.5.8) / i386  OK  OK  OK 
Package 7/353HostnameOS / ArchBUILDCHECKBUILD BIN
affycomp 1.22.1
Rafael A. Irizarry
Last Changed Rev: 44981 / Revision: 45705
Last Changed Date: 2010-03-02 08:43:00 -0800
wilson2 Linux (openSUSE 11.1) / x86_64  OK  OK 
liverpool Windows Server 2003 R2 (32-bit) / x64  OK  OK  OK 
pitt Mac OS X Tiger (10.4.11) / i386  OK  OK  OK 
pelham Mac OS X Leopard (10.5.8) / i386  OK  OK  OK 
Package 8/353HostnameOS / ArchBUILDCHECKBUILD BIN
AffyCompatible 1.6.1
Martin Morgan
Last Changed Rev: 44601 / Revision: 45705
Last Changed Date: 2010-02-09 17:07:41 -0800
wilson2 Linux (openSUSE 11.1) / x86_64  TIMEOUT  skipped 
liverpool Windows Server 2003 R2 (32-bit) / x64  TIMEOUT  skipped  skipped 
pitt Mac OS X Tiger (10.4.11) / i386  TIMEOUT  skipped  skipped 
pelham Mac OS X Leopard (10.5.8) / i386  TIMEOUT  skipped  skipped 
Package 9/353HostnameOS / ArchBUILDCHECKBUILD BIN
affyContam 1.4.0
V. Carey
Last Changed Rev: 42684 / Revision: 45705
Last Changed Date: 2009-10-27 16:33:29 -0700
wilson2 Linux (openSUSE 11.1) / x86_64  OK  OK 
liverpool Windows Server 2003 R2 (32-bit) / x64  OK  OK  OK 
pitt Mac OS X Tiger (10.4.11) / i386  OK  OK  OK 
pelham Mac OS X Leopard (10.5.8) / i386  OK  OK  OK 
Package 10/353HostnameOS / ArchBUILDCHECKBUILD BIN
affycoretools 1.18.0
James W. MacDonald
Last Changed Rev: 42684 / Revision: 45705
Last Changed Date: 2009-10-27 16:33:29 -0700
wilson2 Linux (openSUSE 11.1) / x86_64  OK  WARNINGS 
liverpool Windows Server 2003 R2 (32-bit) / x64  OK  WARNINGS  OK 
pitt Mac OS X Tiger (10.4.11) / i386  OK  WARNINGS  OK 
pelham Mac OS X Leopard (10.5.8) / i386  OK  WARNINGS  OK 
Package 11/353HostnameOS / ArchBUILDCHECKBUILD BIN
AffyExpress 1.12.0
Xuejun Arthur Li
Last Changed Rev: 42684 / Revision: 45705
Last Changed Date: 2009-10-27 16:33:29 -0700
wilson2 Linux (openSUSE 11.1) / x86_64  OK  OK 
liverpool Windows Server 2003 R2 (32-bit) / x64  OK  OK  OK 
pitt Mac OS X Tiger (10.4.11) / i386  OK  OK  OK 
pelham Mac OS X Leopard (10.5.8) / i386  OK  OK  OK 
Package 12/353HostnameOS / ArchBUILDCHECKBUILD BIN
affyio 1.14.0
Benjamin Milo Bolstad
Last Changed Rev: 42684 / Revision: 45705
Last Changed Date: 2009-10-27 16:33:29 -0700
wilson2 Linux (openSUSE 11.1) / x86_64  OK  OK 
liverpool Windows Server 2003 R2 (32-bit) / x64  OK  OK  OK 
pitt Mac OS X Tiger (10.4.11) / i386  OK  OK  OK 
pelham Mac OS X Leopard (10.5.8) / i386  OK  OK  OK 
Package 13/353HostnameOS / ArchBUILDCHECKBUILD BIN
affylmGUI 1.20.0
Keith Satterley
Last Changed Rev: 42684 / Revision: 45705
Last Changed Date: 2009-10-27 16:33:29 -0700
wilson2 Linux (openSUSE 11.1) / x86_64  OK  OK 
liverpool Windows Server 2003 R2 (32-bit) / x64  OK  OK  OK 
pitt Mac OS X Tiger (10.4.11) / i386  OK  OK  OK 
pelham Mac OS X Leopard (10.5.8) / i386  OK  OK  OK 
Package 14/353HostnameOS / ArchBUILDCHECKBUILD BIN
affyPara 1.6.0
Markus Schmidberger
Last Changed Rev: 42684 / Revision: 45705
Last Changed Date: 2009-10-27 16:33:29 -0700
wilson2 Linux (openSUSE 11.1) / x86_64  OK  OK 
liverpool Windows Server 2003 R2 (32-bit) / x64  OK  OK  OK 
pitt Mac OS X Tiger (10.4.11) / i386  OK  OK  OK 
pelham Mac OS X Leopard (10.5.8) / i386  OK  OK  OK 
Package 15/353HostnameOS / ArchBUILDCHECKBUILD BIN
affypdnn 1.20.0
Laurent Gautier
Last Changed Rev: 42684 / Revision: 45705
Last Changed Date: 2009-10-27 16:33:29 -0700
wilson2 Linux (openSUSE 11.1) / x86_64  OK  OK 
liverpool Windows Server 2003 R2 (32-bit) / x64  OK  OK  OK 
pitt Mac OS X Tiger (10.4.11) / i386  OK  OK  OK 
pelham Mac OS X Leopard (10.5.8) / i386  OK  OK  OK 
Package 16/353HostnameOS / ArchBUILDCHECKBUILD BIN
affyPLM 1.22.0
Ben Bolstad
Last Changed Rev: 42684 / Revision: 45705
Last Changed Date: 2009-10-27 16:33:29 -0700
wilson2 Linux (openSUSE 11.1) / x86_64  OK  WARNINGS 
liverpool Windows Server 2003 R2 (32-bit) / x64  OK  WARNINGS  OK 
pitt Mac OS X Tiger (10.4.11) / i386  OK  WARNINGS  OK 
pelham Mac OS X Leopard (10.5.8) / i386  OK  WARNINGS  OK 
Package 17/353HostnameOS / ArchBUILDCHECKBUILD BIN
affyQCReport 1.24.0
Craig Parman
Last Changed Rev: 42684 / Revision: 45705
Last Changed Date: 2009-10-27 16:33:29 -0700
wilson2 Linux (openSUSE 11.1) / x86_64  OK  OK 
liverpool Windows Server 2003 R2 (32-bit) / x64  OK  OK  OK 
pitt Mac OS X Tiger (10.4.11) / i386  OK  OK  OK 
pelham Mac OS X Leopard (10.5.8) / i386  OK  OK  OK 
Package 18/353HostnameOS / ArchBUILDCHECKBUILD BIN
AffyTiling 1.4.0
Charles G. Danko
Last Changed Rev: 43061 / Revision: 45705
Last Changed Date: 2009-11-17 05:31:51 -0800
wilson2 Linux (openSUSE 11.1) / x86_64  OK  OK 
liverpool Windows Server 2003 R2 (32-bit) / x64  OK  OK  OK 
pitt Mac OS X Tiger (10.4.11) / i386  OK  OK  OK 
pelham Mac OS X Leopard (10.5.8) / i386  OK  OK  OK 
Package 19/353HostnameOS / ArchBUILDCHECKBUILD BIN
Agi4x44PreProcess 1.6.0
Pedro Lopez-Romero
Last Changed Rev: 42684 / Revision: 45705
Last Changed Date: 2009-10-27 16:33:29 -0700
wilson2 Linux (openSUSE 11.1) / x86_64  OK  OK 
liverpool Windows Server 2003 R2 (32-bit) / x64  OK  OK  OK 
pitt Mac OS X Tiger (10.4.11) / i386  OK  OK  OK 
pelham Mac OS X Leopard (10.5.8) / i386  OK  OK  OK 
Package 20/353HostnameOS / ArchBUILDCHECKBUILD BIN
AgiMicroRna 1.0.0
Pedro Lopez-Romero
Last Changed Rev: 42684 / Revision: 45705
Last Changed Date: 2009-10-27 16:33:29 -0700
wilson2 Linux (openSUSE 11.1) / x86_64  OK  OK 
liverpool Windows Server 2003 R2 (32-bit) / x64  OK  OK  OK 
pitt Mac OS X Tiger (10.4.11) / i386  OK  OK  OK 
pelham Mac OS X Leopard (10.5.8) / i386  OK  OK  OK 
Package 21/353HostnameOS / ArchBUILDCHECKBUILD BIN
altcdfenvs 2.8.0
Laurent Gautier
Last Changed Rev: 42684 / Revision: 45705
Last Changed Date: 2009-10-27 16:33:29 -0700
wilson2 Linux (openSUSE 11.1) / x86_64  OK  OK 
liverpool Windows Server 2003 R2 (32-bit) / x64  OK  OK  OK 
pitt Mac OS X Tiger (10.4.11) / i386  OK  OK  OK 
pelham Mac OS X Leopard (10.5.8) / i386  OK  OK  OK 
Package 22/353HostnameOS / ArchBUILDCHECKBUILD BIN
annaffy 1.18.0
Colin A. Smith
Last Changed Rev: 42684 / Revision: 45705
Last Changed Date: 2009-10-27 16:33:29 -0700
wilson2 Linux (openSUSE 11.1) / x86_64  OK  OK 
liverpool Windows Server 2003 R2 (32-bit) / x64  OK  OK  OK 
pitt Mac OS X Tiger (10.4.11) / i386  OK  OK  OK 
pelham Mac OS X Leopard (10.5.8) / i386  OK  OK  OK 
Package 23/353HostnameOS / ArchBUILDCHECKBUILD BIN
annotate 1.24.1
Biocore Team c/o BioC user list
Last Changed Rev: 43918 / Revision: 45705
Last Changed Date: 2010-01-08 16:34:27 -0800
wilson2 Linux (openSUSE 11.1) / x86_64  OK  OK 
liverpool Windows Server 2003 R2 (32-bit) / x64  OK  OK  OK 
pitt Mac OS X Tiger (10.4.11) / i386  OK  OK  OK 
pelham Mac OS X Leopard (10.5.8) / i386  OK  OK  OK 
Package 24/353HostnameOS / ArchBUILDCHECKBUILD BIN
AnnotationDbi 1.8.2
Biocore Team c/o BioC user list
Last Changed Rev: 45364 / Revision: 45705
Last Changed Date: 2010-03-19 16:06:20 -0700
wilson2 Linux (openSUSE 11.1) / x86_64  OK  OK 
liverpool Windows Server 2003 R2 (32-bit) / x64  OK  OK  OK 
pitt Mac OS X Tiger (10.4.11) / i386  OK  OK  OK 
pelham Mac OS X Leopard (10.5.8) / i386  OK  OK  OK 
Package 25/353HostnameOS / ArchBUILDCHECKBUILD BIN
annotationTools 1.18.0
Alexandre Kuhn
Last Changed Rev: 42684 / Revision: 45705
Last Changed Date: 2009-10-27 16:33:29 -0700
wilson2 Linux (openSUSE 11.1) / x86_64  OK  OK 
liverpool Windows Server 2003 R2 (32-bit) / x64  OK  OK  OK 
pitt Mac OS X Tiger (10.4.11) / i386  OK  OK  OK 
pelham Mac OS X Leopard (10.5.8) / i386  OK  OK  OK 
Package 26/353HostnameOS / ArchBUILDCHECKBUILD BIN
apComplex 2.12.0
Denise Scholtens
Last Changed Rev: 42684 / Revision: 45705
Last Changed Date: 2009-10-27 16:33:29 -0700
wilson2 Linux (openSUSE 11.1) / x86_64  OK  OK 
liverpool Windows Server 2003 R2 (32-bit) / x64  OK  OK  OK 
pitt Mac OS X Tiger (10.4.11) / i386  OK  OK  OK 
pelham Mac OS X Leopard (10.5.8) / i386  OK  OK  OK 
Package 27/353HostnameOS / ArchBUILDCHECKBUILD BIN
aroma.light 1.14.0
Henrik Bengtsson
Last Changed Rev: 42684 / Revision: 45705
Last Changed Date: 2009-10-27 16:33:29 -0700
wilson2 Linux (openSUSE 11.1) / x86_64  OK  OK 
liverpool Windows Server 2003 R2 (32-bit) / x64  OK  OK  OK 
pitt Mac OS X Tiger (10.4.11) / i386  OK  OK  OK 
pelham Mac OS X Leopard (10.5.8) / i386  OK  OK  OK 
Package 28/353HostnameOS / ArchBUILDCHECKBUILD BIN
ArrayExpress 1.6.2
Audrey Kauffmann
Last Changed Rev: 44792 / Revision: 45705
Last Changed Date: 2010-02-22 07:16:45 -0800
wilson2 Linux (openSUSE 11.1) / x86_64  TIMEOUT  skipped 
liverpool Windows Server 2003 R2 (32-bit) / x64  OK  OK  OK 
pitt Mac OS X Tiger (10.4.11) / i386  OK  OK  OK 
pelham Mac OS X Leopard (10.5.8) / i386  OK  OK  OK 
Package 29/353HostnameOS / ArchBUILDCHECKBUILD BIN
arrayMvout 1.4.0
V. Carey
Last Changed Rev: 42684 / Revision: 45705
Last Changed Date: 2009-10-27 16:33:29 -0700
wilson2 Linux (openSUSE 11.1) / x86_64  OK  OK 
liverpool Windows Server 2003 R2 (32-bit) / x64  OK  OK  OK 
pitt Mac OS X Tiger (10.4.11) / i386  OK  OK  OK 
pelham Mac OS X Leopard (10.5.8) / i386  OK  OK  OK 
Package 30/353HostnameOS / ArchBUILDCHECKBUILD BIN
arrayQuality 1.24.0
Agnes Paquet
Last Changed Rev: 42684 / Revision: 45705
Last Changed Date: 2009-10-27 16:33:29 -0700
wilson2 Linux (openSUSE 11.1) / x86_64  OK  WARNINGS 
liverpool Windows Server 2003 R2 (32-bit) / x64  OK  WARNINGS  OK 
pitt Mac OS X Tiger (10.4.11) / i386  OK  WARNINGS  OK 
pelham Mac OS X Leopard (10.5.8) / i386  OK  WARNINGS  OK 
Package 31/353HostnameOS / ArchBUILDCHECKBUILD BIN
arrayQualityMetrics 2.4.3
Audrey Kauffmann
Last Changed Rev: 43267 / Revision: 45705
Last Changed Date: 2009-11-26 03:10:10 -0800
wilson2 Linux (openSUSE 11.1) / x86_64  OK  OK 
liverpool Windows Server 2003 R2 (32-bit) / x64  OK  OK  OK 
pitt Mac OS X Tiger (10.4.11) / i386  OK  OK  OK 
pelham Mac OS X Leopard (10.5.8) / i386  OK  OK  OK 
Package 32/353HostnameOS / ArchBUILDCHECKBUILD BIN
ArrayTools 1.6.0
Arthur Li
Last Changed Rev: 42684 / Revision: 45705
Last Changed Date: 2009-10-27 16:33:29 -0700
wilson2 Linux (openSUSE 11.1) / x86_64  OK  OK 
liverpool Windows Server 2003 R2 (32-bit) / x64  OK  OK  OK 
pitt Mac OS X Tiger (10.4.11) / i386  OK  OK  OK 
pelham Mac OS X Leopard (10.5.8) / i386  OK  OK  OK 
B  A [B] C  D  E  F  G  H  I  J  K  L  M  N  O  P  Q  R  S  T  U  V  W  X  Y  Z 
Package 33/353HostnameOS / ArchBUILDCHECKBUILD BIN
BAC 1.6.0
Raphael Gottardo
Last Changed Rev: 42684 / Revision: 45705
Last Changed Date: 2009-10-27 16:33:29 -0700
wilson2 Linux (openSUSE 11.1) / x86_64  OK  OK 
liverpool Windows Server 2003 R2 (32-bit) / x64  OK  OK  OK 
pitt Mac OS X Tiger (10.4.11) / i386  OK  OK  OK 
pelham Mac OS X Leopard (10.5.8) / i386  OK  OK  OK 
Package 34/353HostnameOS / ArchBUILDCHECKBUILD BIN
baySeq 1.0.0
Thomas J. Hardcastle
Last Changed Rev: 42684 / Revision: 45705
Last Changed Date: 2009-10-27 16:33:29 -0700
wilson2 Linux (openSUSE 11.1) / x86_64  OK  OK 
liverpool Windows Server 2003 R2 (32-bit) / x64  OK  WARNINGS  OK 
pitt Mac OS X Tiger (10.4.11) / i386  OK  OK  OK 
pelham Mac OS X Leopard (10.5.8) / i386  OK  OK  OK 
Package 35/353HostnameOS / ArchBUILDCHECKBUILD BIN
BCRANK 1.8.0
Adam Ameur
Last Changed Rev: 42684 / Revision: 45705
Last Changed Date: 2009-10-27 16:33:29 -0700
wilson2 Linux (openSUSE 11.1) / x86_64  OK  OK 
liverpool Windows Server 2003 R2 (32-bit) / x64  OK  OK  OK 
pitt Mac OS X Tiger (10.4.11) / i386  OK  OK  OK 
pelham Mac OS X Leopard (10.5.8) / i386  OK  OK  OK 
Package 36/353HostnameOS / ArchBUILDCHECKBUILD BIN
beadarray 1.14.0
Mark Dunning
Last Changed Rev: 42684 / Revision: 45705
Last Changed Date: 2009-10-27 16:33:29 -0700
wilson2 Linux (openSUSE 11.1) / x86_64  OK  OK 
liverpool Windows Server 2003 R2 (32-bit) / x64  OK  OK  OK 
pitt Mac OS X Tiger (10.4.11) / i386  OK  OK  OK 
pelham Mac OS X Leopard (10.5.8) / i386  OK  OK  OK 
Package 37/353HostnameOS / ArchBUILDCHECKBUILD BIN
beadarraySNP 1.12.0
Jan Oosting
Last Changed Rev: 42684 / Revision: 45705
Last Changed Date: 2009-10-27 16:33:29 -0700
wilson2 Linux (openSUSE 11.1) / x86_64  OK  OK 
liverpool Windows Server 2003 R2 (32-bit) / x64  OK  OK  OK 
pitt Mac OS X Tiger (10.4.11) / i386  OK  OK  OK 
pelham Mac OS X Leopard (10.5.8) / i386  OK  OK  OK 
Package 38/353HostnameOS / ArchBUILDCHECKBUILD BIN
betr 1.2.1
Martin Aryee
Last Changed Rev: 44934 / Revision: 45705
Last Changed Date: 2010-02-28 13:54:45 -0800
wilson2 Linux (openSUSE 11.1) / x86_64  OK  OK 
liverpool Windows Server 2003 R2 (32-bit) / x64  OK  OK  OK 
pitt Mac OS X Tiger (10.4.11) / i386  OK  OK  OK 
pelham Mac OS X Leopard (10.5.8) / i386  OK  OK  OK 
Package 39/353HostnameOS / ArchBUILDCHECKBUILD BIN
bgafun 1.8.0
Iain Wallace
Last Changed Rev: 42684 / Revision: 45705
Last Changed Date: 2009-10-27 16:33:29 -0700
wilson2 Linux (openSUSE 11.1) / x86_64  OK  OK 
liverpool Windows Server 2003 R2 (32-bit) / x64  OK  OK  OK 
pitt Mac OS X Tiger (10.4.11) / i386  OK  OK  OK 
pelham Mac OS X Leopard (10.5.8) / i386  OK  OK  OK 
Package 40/353HostnameOS / ArchBUILDCHECKBUILD BIN
BGmix 1.6.0
Alex Lewin
Last Changed Rev: 42684 / Revision: 45705
Last Changed Date: 2009-10-27 16:33:29 -0700
wilson2 Linux (openSUSE 11.1) / x86_64  OK  OK 
liverpool Windows Server 2003 R2 (32-bit) / x64  OK  OK  OK 
pitt Mac OS X Tiger (10.4.11) / i386  OK  OK  OK 
pelham Mac OS X Leopard (10.5.8) / i386  OK  OK  OK 
Package 41/353HostnameOS / ArchBUILDCHECKBUILD BIN
bgx 1.10.0
Ernest Turro
Last Changed Rev: 42684 / Revision: 45705
Last Changed Date: 2009-10-27 16:33:29 -0700
wilson2 Linux (openSUSE 11.1) / x86_64  OK  OK 
liverpool Windows Server 2003 R2 (32-bit) / x64  OK  OK  OK 
pitt Mac OS X Tiger (10.4.11) / i386  OK  OK  OK 
pelham Mac OS X Leopard (10.5.8) / i386  OK  OK  OK 
Package 42/353HostnameOS / ArchBUILDCHECKBUILD BIN
BicARE 1.4.0
Pierre Gestraud
Last Changed Rev: 42684 / Revision: 45705
Last Changed Date: 2009-10-27 16:33:29 -0700
wilson2 Linux (openSUSE 11.1) / x86_64  OK  OK 
liverpool Windows Server 2003 R2 (32-bit) / x64  OK  OK  OK 
pitt Mac OS X Tiger (10.4.11) / i386  OK  OK  OK 
pelham Mac OS X Leopard (10.5.8) / i386  OK  OK  OK 
Package 43/353HostnameOS / ArchBUILDCHECKBUILD BIN
Biobase 2.6.1
Biocore Team c/o BioC user list
Last Changed Rev: 43411 / Revision: 45705
Last Changed Date: 2009-12-05 06:53:32 -0800
wilson2 Linux (openSUSE 11.1) / x86_64  OK  OK 
liverpool Windows Server 2003 R2 (32-bit) / x64  OK  OK  OK 
pitt Mac OS X Tiger (10.4.11) / i386  OK  OK  OK 
pelham Mac OS X Leopard (10.5.8) / i386  OK  OK  OK 
Package 44/353HostnameOS / ArchBUILDCHECKBUILD BIN
BiocCaseStudies 1.8.0
Biocore Team c/o BioC user list
Last Changed Rev: 42684 / Revision: 45705
Last Changed Date: 2009-10-27 16:33:29 -0700
wilson2 Linux (openSUSE 11.1) / x86_64  OK  OK 
liverpool Windows Server 2003 R2 (32-bit) / x64  OK  OK  OK 
pitt Mac OS X Tiger (10.4.11) / i386  OK  OK  OK 
pelham Mac OS X Leopard (10.5.8) / i386  OK  OK  OK 
Package 45/353HostnameOS / ArchBUILDCHECKBUILD BIN
biocDatasets 1.2.0
L. Gautier
Last Changed Rev: 42684 / Revision: 45705
Last Changed Date: 2009-10-27 16:33:29 -0700
wilson2 Linux (openSUSE 11.1) / x86_64  OK  OK 
liverpool Windows Server 2003 R2 (32-bit) / x64  OK  OK  OK 
pitt Mac OS X Tiger (10.4.11) / i386  OK  OK  OK 
pelham Mac OS X Leopard (10.5.8) / i386  OK  OK  OK 
Package 46/353HostnameOS / ArchBUILDCHECKBUILD BIN
biocGraph 1.8.0
Florian Hahne
Last Changed Rev: 42684 / Revision: 45705
Last Changed Date: 2009-10-27 16:33:29 -0700
wilson2 Linux (openSUSE 11.1) / x86_64  OK  OK 
liverpool Windows Server 2003 R2 (32-bit) / x64  ERROR  skipped  skipped 
pitt Mac OS X Tiger (10.4.11) / i386  OK  OK  OK 
pelham Mac OS X Leopard (10.5.8) / i386  OK  OK  OK 
Package 47/353HostnameOS / ArchBUILDCHECKBUILD BIN
biocViews 1.14.1
Biocore Team c/o BioC user list
Last Changed Rev: 42990 / Revision: 45705
Last Changed Date: 2009-11-13 15:02:08 -0800
wilson2 Linux (openSUSE 11.1) / x86_64  OK  OK 
liverpool Windows Server 2003 R2 (32-bit) / x64  OK  OK  OK 
pitt Mac OS X Tiger (10.4.11) / i386  OK  OK  OK 
pelham Mac OS X Leopard (10.5.8) / i386  OK  OK  OK 
Package 48/353HostnameOS / ArchBUILDCHECKBUILD BIN
bioDist 1.18.0
Biocore Team c/o BioC user list
Last Changed Rev: 42684 / Revision: 45705
Last Changed Date: 2009-10-27 16:33:29 -0700
wilson2 Linux (openSUSE 11.1) / x86_64  OK  OK 
liverpool Windows Server 2003 R2 (32-bit) / x64  OK  OK  OK 
pitt Mac OS X Tiger (10.4.11) / i386  OK  OK  OK 
pelham Mac OS X Leopard (10.5.8) / i386  OK  OK  OK 
Package 49/353HostnameOS / ArchBUILDCHECKBUILD BIN
biomaRt 2.2.0
Steffen Durinck
Last Changed Rev: 42684 / Revision: 45705
Last Changed Date: 2009-10-27 16:33:29 -0700
wilson2 Linux (openSUSE 11.1) / x86_64  OK  OK 
liverpool Windows Server 2003 R2 (32-bit) / x64  OK  OK  OK 
pitt Mac OS X Tiger (10.4.11) / i386  OK  OK  OK 
pelham Mac OS X Leopard (10.5.8) / i386  OK  OK  OK 
Package 50/353HostnameOS / ArchBUILDCHECKBUILD BIN
BioMVCClass 1.14.0
Elizabeth Whalen
Last Changed Rev: 42684 / Revision: 45705
Last Changed Date: 2009-10-27 16:33:29 -0700
wilson2 Linux (openSUSE 11.1) / x86_64  OK  OK 
liverpool Windows Server 2003 R2 (32-bit) / x64  OK  OK  OK 
pitt Mac OS X Tiger (10.4.11) / i386  OK  OK  OK 
pelham Mac OS X Leopard (10.5.8) / i386  OK  OK  OK 
Package 51/353HostnameOS / ArchBUILDCHECKBUILD BIN
BioSeqClass 1.0.0
Li Hong
Last Changed Rev: 42684 / Revision: 45705
Last Changed Date: 2009-10-27 16:33:29 -0700
wilson2 Linux (openSUSE 11.1) / x86_64  OK  OK 
liverpool Windows Server 2003 R2 (32-bit) / x64  OK  OK  OK 
pitt Mac OS X Tiger (10.4.11) / i386  OK  OK  OK 
pelham Mac OS X Leopard (10.5.8) / i386  OK  OK  OK 
Package 52/353HostnameOS / ArchBUILDCHECKBUILD BIN
Biostrings 2.14.12
H. Pages
Last Changed Rev: 44488 / Revision: 45705
Last Changed Date: 2010-02-03 21:52:26 -0800
wilson2 Linux (openSUSE 11.1) / x86_64  OK  OK 
liverpool Windows Server 2003 R2 (32-bit) / x64  OK  WARNINGS  OK 
pitt Mac OS X Tiger (10.4.11) / i386  OK  ERROR  OK 
pelham Mac OS X Leopard (10.5.8) / i386  OK  ERROR  OK 
Package 53/353HostnameOS / ArchBUILDCHECKBUILD BIN
bridge 1.10.0
Raphael Gottardo
Last Changed Rev: 42684 / Revision: 45705
Last Changed Date: 2009-10-27 16:33:29 -0700
wilson2 Linux (openSUSE 11.1) / x86_64  OK  OK 
liverpool Windows Server 2003 R2 (32-bit) / x64  OK  OK  OK 
pitt Mac OS X Tiger (10.4.11) / i386  OK  OK  OK 
pelham Mac OS X Leopard (10.5.8) / i386  OK  OK  OK 
Package 54/353HostnameOS / ArchBUILDCHECKBUILD BIN
BSgenome 1.14.2
H. Pages
Last Changed Rev: 44322 / Revision: 45705
Last Changed Date: 2010-01-27 11:02:16 -0800
wilson2 Linux (openSUSE 11.1) / x86_64  OK  OK 
liverpool Windows Server 2003 R2 (32-bit) / x64  OK  OK  OK 
pitt Mac OS X Tiger (10.4.11) / i386  OK  OK  OK 
pelham Mac OS X Leopard (10.5.8) / i386  OK  OK  OK 
Package 55/353HostnameOS / ArchBUILDCHECKBUILD BIN
BufferedMatrix 1.10.0
Benjamin Milo Bolstad
Last Changed Rev: 42684 / Revision: 45705
Last Changed Date: 2009-10-27 16:33:29 -0700
wilson2 Linux (openSUSE 11.1) / x86_64  OK  OK 
liverpool Windows Server 2003 R2 (32-bit) / x64  OK  OK  OK 
pitt Mac OS X Tiger (10.4.11) / i386  OK  OK  OK 
pelham Mac OS X Leopard (10.5.8) / i386  OK  OK  OK 
Package 56/353HostnameOS / ArchBUILDCHECKBUILD BIN
BufferedMatrixMethods 1.10.1
B. M. Bolstad
Last Changed Rev: 44226 / Revision: 45705
Last Changed Date: 2010-01-25 06:52:15 -0800
wilson2 Linux (openSUSE 11.1) / x86_64  OK  OK 
liverpool Windows Server 2003 R2 (32-bit) / x64  OK  OK  OK 
pitt Mac OS X Tiger (10.4.11) / i386  OK  OK  OK 
pelham Mac OS X Leopard (10.5.8) / i386  OK  OK  OK 
Package 57/353HostnameOS / ArchBUILDCHECKBUILD BIN
BUS 1.2.0
Yin Jin
Last Changed Rev: 42684 / Revision: 45705
Last Changed Date: 2009-10-27 16:33:29 -0700
wilson2 Linux (openSUSE 11.1) / x86_64  OK  OK 
liverpool Windows Server 2003 R2 (32-bit) / x64  OK  OK  OK 
pitt Mac OS X Tiger (10.4.11) / i386  OK  OK  OK 
pelham Mac OS X Leopard (10.5.8) / i386  OK  OK  OK 
C  A  B [C] D  E  F  G  H  I  J  K  L  M  N  O  P  Q  R  S  T  U  V  W  X  Y  Z 
Package 58/353HostnameOS / ArchBUILDCHECKBUILD BIN
CALIB 1.12.0
Hui Zhao
Last Changed Rev: 42684 / Revision: 45705
Last Changed Date: 2009-10-27 16:33:29 -0700
wilson2 Linux (openSUSE 11.1) / x86_64  OK  OK 
liverpool Windows Server 2003 R2 (32-bit) / x64  OK  OK  OK 
pitt Mac OS X Tiger (10.4.11) / i386  OK  OK  OK 
pelham Mac OS X Leopard (10.5.8) / i386  OK  OK  OK 
Package 59/353HostnameOS / ArchBUILDCHECKBUILD BIN
CAMERA 1.2.0
Carsten Kuhl
Last Changed Rev: 42684 / Revision: 45705
Last Changed Date: 2009-10-27 16:33:29 -0700
wilson2 Linux (openSUSE 11.1) / x86_64  OK  OK 
liverpool Windows Server 2003 R2 (32-bit) / x64  OK  OK  OK 
pitt Mac OS X Tiger (10.4.11) / i386  OK  OK  OK 
pelham Mac OS X Leopard (10.5.8) / i386  OK  OK  OK 
Package 60/353HostnameOS / ArchBUILDCHECKBUILD BIN
Category 2.12.0
Robert Gentleman
Last Changed Rev: 42684 / Revision: 45705
Last Changed Date: 2009-10-27 16:33:29 -0700
wilson2 Linux (openSUSE 11.1) / x86_64  OK  OK 
liverpool Windows Server 2003 R2 (32-bit) / x64  OK  OK  OK 
pitt Mac OS X Tiger (10.4.11) / i386  OK  OK  OK 
pelham Mac OS X Leopard (10.5.8) / i386  OK  OK  OK 
Package 61/353HostnameOS / ArchBUILDCHECKBUILD BIN
cellHTS 1.16.0
Ligia Bras
Last Changed Rev: 42684 / Revision: 45705
Last Changed Date: 2009-10-27 16:33:29 -0700
wilson2 Linux (openSUSE 11.1) / x86_64  OK  OK 
liverpool Windows Server 2003 R2 (32-bit) / x64  OK  OK  OK 
pitt Mac OS X Tiger (10.4.11) / i386  OK  OK  OK 
pelham Mac OS X Leopard (10.5.8) / i386  OK  OK  OK 
Package 62/353HostnameOS / ArchBUILDCHECKBUILD BIN
cellHTS2 2.10.5
Florian Hahne
Last Changed Rev: 44454 / Revision: 45705
Last Changed Date: 2010-02-02 07:27:31 -0800
wilson2 Linux (openSUSE 11.1) / x86_64  OK  OK 
liverpool Windows Server 2003 R2 (32-bit) / x64  OK  OK  OK 
pitt Mac OS X Tiger (10.4.11) / i386  OK  OK  OK 
pelham Mac OS X Leopard (10.5.8) / i386  OK  OK  OK 
Package 63/353HostnameOS / ArchBUILDCHECKBUILD BIN
CGHbase 1.4.0
Sjoerd Vosse
Last Changed Rev: 42684 / Revision: 45705
Last Changed Date: 2009-10-27 16:33:29 -0700
wilson2 Linux (openSUSE 11.1) / x86_64  OK  OK 
liverpool Windows Server 2003 R2 (32-bit) / x64  OK  OK  OK 
pitt Mac OS X Tiger (10.4.11) / i386  OK  OK  OK 
pelham Mac OS X Leopard (10.5.8) / i386  OK  OK  OK 
Package 64/353HostnameOS / ArchBUILDCHECKBUILD BIN
CGHcall 2.6.0
Mark van de Wiel
Last Changed Rev: 42684 / Revision: 45705
Last Changed Date: 2009-10-27 16:33:29 -0700
wilson2 Linux (openSUSE 11.1) / x86_64  OK  OK 
liverpool Windows Server 2003 R2 (32-bit) / x64  OK  OK  OK 
pitt Mac OS X Tiger (10.4.11) / i386  OK  OK  OK 
pelham Mac OS X Leopard (10.5.8) / i386  OK  OK  OK 
Package 65/353HostnameOS / ArchBUILDCHECKBUILD BIN
cghMCR 1.4.0
J. Zhang
Last Changed Rev: 42684 / Revision: 45705
Last Changed Date: 2009-10-27 16:33:29 -0700
wilson2 Linux (openSUSE 11.1) / x86_64  OK  OK 
liverpool Windows Server 2003 R2 (32-bit) / x64  OK  OK  OK 
pitt Mac OS X Tiger (10.4.11) / i386  OK  OK  OK 
pelham Mac OS X Leopard (10.5.8) / i386  OK  OK  OK 
Package 66/353HostnameOS / ArchBUILDCHECKBUILD BIN
CGHnormaliter 1.0.1
Bart P.P. van Houte
Last Changed Rev: 44942 / Revision: 45705
Last Changed Date: 2010-03-01 02:48:05 -0800
wilson2 Linux (openSUSE 11.1) / x86_64  OK  OK 
liverpool Windows Server 2003 R2 (32-bit) / x64  OK  OK  OK 
pitt Mac OS X Tiger (10.4.11) / i386  OK  OK  OK 
pelham Mac OS X Leopard (10.5.8) / i386  OK  OK  OK 
Package 67/353HostnameOS / ArchBUILDCHECKBUILD BIN
CGHregions 1.4.0
Mark van de Wiel
Last Changed Rev: 42684 / Revision: 45705
Last Changed Date: 2009-10-27 16:33:29 -0700
wilson2 Linux (openSUSE 11.1) / x86_64  OK  OK 
liverpool Windows Server 2003 R2 (32-bit) / x64  OK  OK  OK 
pitt Mac OS X Tiger (10.4.11) / i386  OK  OK  OK 
pelham Mac OS X Leopard (10.5.8) / i386  OK  OK  OK 
Package 68/353HostnameOS / ArchBUILDCHECKBUILD BIN
ChemmineR 1.6.0
Y. Eddie Cao
Last Changed Rev: 42684 / Revision: 45705
Last Changed Date: 2009-10-27 16:33:29 -0700
wilson2 Linux (openSUSE 11.1) / x86_64  OK  OK 
liverpool Windows Server 2003 R2 (32-bit) / x64  OK  ERROR  OK 
pitt Mac OS X Tiger (10.4.11) / i386  OK  OK  OK 
pelham Mac OS X Leopard (10.5.8) / i386  ERROR  skipped  skipped 
Package 69/353HostnameOS / ArchBUILDCHECKBUILD BIN
ChIPpeakAnno 1.2.15
Lihua Julie Zhu
Last Changed Rev: 45620 / Revision: 45705
Last Changed Date: 2010-03-31 12:08:34 -0700
wilson2 Linux (openSUSE 11.1) / x86_64  OK  OK 
liverpool Windows Server 2003 R2 (32-bit) / x64  OK  OK  OK 
pitt Mac OS X Tiger (10.4.11) / i386  OK  OK  OK 
pelham Mac OS X Leopard (10.5.8) / i386  OK  OK  OK 
Package 70/353HostnameOS / ArchBUILDCHECKBUILD BIN
chipseq 0.2.1
Biocore Team c/o BioC user list
Last Changed Rev: 43194 / Revision: 45705
Last Changed Date: 2009-11-21 09:09:50 -0800
wilson2 Linux (openSUSE 11.1) / x86_64  OK  OK 
liverpool Windows Server 2003 R2 (32-bit) / x64  OK  OK  OK 
pitt Mac OS X Tiger (10.4.11) / i386  OK  OK  OK 
pelham Mac OS X Leopard (10.5.8) / i386  OK  OK  OK 
Package 71/353HostnameOS / ArchBUILDCHECKBUILD BIN
ChIPseqR 1.0.0
Peter Humburg
Last Changed Rev: 42684 / Revision: 45705
Last Changed Date: 2009-10-27 16:33:29 -0700
wilson2 Linux (openSUSE 11.1) / x86_64  OK  WARNINGS 
liverpool Windows Server 2003 R2 (32-bit) / x64  OK  WARNINGS  OK 
pitt Mac OS X Tiger (10.4.11) / i386  OK  WARNINGS  OK 
pelham Mac OS X Leopard (10.5.8) / i386  OK  WARNINGS  OK 
Package 72/353HostnameOS / ArchBUILDCHECKBUILD BIN
ChIPsim 1.0.0
Peter Humburg
Last Changed Rev: 42684 / Revision: 45705
Last Changed Date: 2009-10-27 16:33:29 -0700
wilson2 Linux (openSUSE 11.1) / x86_64  OK  OK 
liverpool Windows Server 2003 R2 (32-bit) / x64  OK  OK  OK 
pitt Mac OS X Tiger (10.4.11) / i386  OK  OK  OK 
pelham Mac OS X Leopard (10.5.8) / i386  OK  OK  OK 
Package 73/353HostnameOS / ArchBUILDCHECKBUILD BIN
ChromHeatMap 1.0.0
Tim F. Rayner
Last Changed Rev: 42684 / Revision: 45705
Last Changed Date: 2009-10-27 16:33:29 -0700
wilson2 Linux (openSUSE 11.1) / x86_64  OK  OK 
liverpool Windows Server 2003 R2 (32-bit) / x64  OK  OK  OK 
pitt Mac OS X Tiger (10.4.11) / i386  OK  OK  OK 
pelham Mac OS X Leopard (10.5.8) / i386  OK  OK  OK 
Package 74/353HostnameOS / ArchBUILDCHECKBUILD BIN
clippda 1.0.0
Stephen Nyangoma
Last Changed Rev: 42684 / Revision: 45705
Last Changed Date: 2009-10-27 16:33:29 -0700
wilson2 Linux (openSUSE 11.1) / x86_64  OK  OK 
liverpool Windows Server 2003 R2 (32-bit) / x64  OK  OK  OK 
pitt Mac OS X Tiger (10.4.11) / i386  OK  OK  OK 
pelham Mac OS X Leopard (10.5.8) / i386  OK  OK  OK 
Package 75/353HostnameOS / ArchBUILDCHECKBUILD BIN
clusterStab 1.18.0
James W. MacDonald
Last Changed Rev: 42684 / Revision: 45705
Last Changed Date: 2009-10-27 16:33:29 -0700
wilson2 Linux (openSUSE 11.1) / x86_64  OK  OK 
liverpool Windows Server 2003 R2 (32-bit) / x64  OK  OK  OK 
pitt Mac OS X Tiger (10.4.11) / i386  OK  OK  OK 
pelham Mac OS X Leopard (10.5.8) / i386  OK  OK  OK 
Package 76/353HostnameOS / ArchBUILDCHECKBUILD BIN
CMA 1.4.1
Christoph Bernau
Last Changed Rev: 43854 / Revision: 45705
Last Changed Date: 2010-01-05 01:47:21 -0800
wilson2 Linux (openSUSE 11.1) / x86_64  OK  OK 
liverpool Windows Server 2003 R2 (32-bit) / x64  OK  OK  OK 
pitt Mac OS X Tiger (10.4.11) / i386  OK  OK  OK 
pelham Mac OS X Leopard (10.5.8) / i386  OK  OK  OK 
Package 77/353HostnameOS / ArchBUILDCHECKBUILD BIN
CNTools 1.2.0
J. Zhang
Last Changed Rev: 42684 / Revision: 45705
Last Changed Date: 2009-10-27 16:33:29 -0700
wilson2 Linux (openSUSE 11.1) / x86_64  OK  OK 
liverpool Windows Server 2003 R2 (32-bit) / x64  OK  OK  OK 
pitt Mac OS X Tiger (10.4.11) / i386  OK  OK  OK 
pelham Mac OS X Leopard (10.5.8) / i386  OK  OK  OK 
Package 78/353HostnameOS / ArchBUILDCHECKBUILD BIN
CNVtools 1.40.2
Chris Barnes
Last Changed Rev: 43278 / Revision: 45705
Last Changed Date: 2009-11-27 01:29:39 -0800
wilson2 Linux (openSUSE 11.1) / x86_64  OK  OK 
liverpool Windows Server 2003 R2 (32-bit) / x64  OK  OK  OK 
pitt Mac OS X Tiger (10.4.11) / i386  OK  OK  OK 
pelham Mac OS X Leopard (10.5.8) / i386  OK  OK  OK 
Package 79/353HostnameOS / ArchBUILDCHECKBUILD BIN
CoCiteStats 1.18.0
R. Gentleman
Last Changed Rev: 42684 / Revision: 45705
Last Changed Date: 2009-10-27 16:33:29 -0700
wilson2 Linux (openSUSE 11.1) / x86_64  OK  OK 
liverpool Windows Server 2003 R2 (32-bit) / x64  OK  OK  OK 
pitt Mac OS X Tiger (10.4.11) / i386  OK  OK  OK 
pelham Mac OS X Leopard (10.5.8) / i386  OK  OK  OK 
Package 80/353HostnameOS / ArchBUILDCHECKBUILD BIN
codelink 1.14.1
Diego Diez
Last Changed Rev: 42948 / Revision: 45705
Last Changed Date: 2009-11-12 17:22:10 -0800
wilson2 Linux (openSUSE 11.1) / x86_64  OK  OK 
liverpool Windows Server 2003 R2 (32-bit) / x64  OK  OK  OK 
pitt Mac OS X Tiger (10.4.11) / i386  OK  OK  OK 
pelham Mac OS X Leopard (10.5.8) / i386  OK  OK  OK 
Package 81/353HostnameOS / ArchBUILDCHECKBUILD BIN
convert 1.22.0
Yee Hwa (Jean) Yang
Last Changed Rev: 42684 / Revision: 45705
Last Changed Date: 2009-10-27 16:33:29 -0700
wilson2 Linux (openSUSE 11.1) / x86_64  OK  OK 
liverpool Windows Server 2003 R2 (32-bit) / x64  OK  OK  OK 
pitt Mac OS X Tiger (10.4.11) / i386  OK  OK  OK 
pelham Mac OS X Leopard (10.5.8) / i386  OK  OK  OK 
Package 82/353HostnameOS / ArchBUILDCHECKBUILD BIN
copa 1.14.0
James W. MacDonald
Last Changed Rev: 42684 / Revision: 45705
Last Changed Date: 2009-10-27 16:33:29 -0700
wilson2 Linux (openSUSE 11.1) / x86_64  OK  OK 
liverpool Windows Server 2003 R2 (32-bit) / x64  OK  OK  OK 
pitt Mac OS X Tiger (10.4.11) / i386  OK  OK  OK 
pelham Mac OS X Leopard (10.5.8) / i386  OK  OK  OK 
Package 83/353HostnameOS / ArchBUILDCHECKBUILD BIN
CORREP 1.12.0
Dongxiao Zhu
Last Changed Rev: 42684 / Revision: 45705
Last Changed Date: 2009-10-27 16:33:29 -0700
wilson2 Linux (openSUSE 11.1) / x86_64  OK  OK 
liverpool Windows Server 2003 R2 (32-bit) / x64  OK  OK  OK 
pitt Mac OS X Tiger (10.4.11) / i386  OK  OK  OK 
pelham Mac OS X Leopard (10.5.8) / i386  OK  OK  OK 
Package 84/353HostnameOS / ArchBUILDCHECKBUILD BIN
cosmo 1.12.0
Oliver Bembom
Last Changed Rev: 42684 / Revision: 45705
Last Changed Date: 2009-10-27 16:33:29 -0700
wilson2 Linux (openSUSE 11.1) / x86_64  OK  OK 
liverpool Windows Server 2003 R2 (32-bit) / x64  OK  OK  OK 
pitt Mac OS X Tiger (10.4.11) / i386  OK  OK  OK 
pelham Mac OS X Leopard (10.5.8) / i386  OK  OK  OK 
Package 85/353HostnameOS / ArchBUILDCHECKBUILD BIN
cosmoGUI 1.12.0
Oliver Bembom
Last Changed Rev: 42684 / Revision: 45705
Last Changed Date: 2009-10-27 16:33:29 -0700
wilson2 Linux (openSUSE 11.1) / x86_64  OK  OK 
liverpool Windows Server 2003 R2 (32-bit) / x64  OK  OK  OK 
pitt Mac OS X Tiger (10.4.11) / i386  OK  OK  OK 
pelham Mac OS X Leopard (10.5.8) / i386  OK  OK  OK 
Package 86/353HostnameOS / ArchBUILDCHECKBUILD BIN
crlmm 1.4.5
Benilton S Carvalho , Robert Scharpf , Matt Ritchie
Last Changed Rev: 44802 / Revision: 45705
Last Changed Date: 2010-02-22 11:46:13 -0800
wilson2 Linux (openSUSE 11.1) / x86_64  OK  OK 
liverpool Windows Server 2003 R2 (32-bit) / x64  OK  OK  OK 
pitt Mac OS X Tiger (10.4.11) / i386  OK  OK  OK 
pelham Mac OS X Leopard (10.5.8) / i386  OK  OK  OK 
Package 87/353HostnameOS / ArchBUILDCHECKBUILD BIN
ctc 1.20.0
Antoine Lucas
Last Changed Rev: 42684 / Revision: 45705
Last Changed Date: 2009-10-27 16:33:29 -0700
wilson2 Linux (openSUSE 11.1) / x86_64  OK  OK 
liverpool Windows Server 2003 R2 (32-bit) / x64  OK  OK  OK 
pitt Mac OS X Tiger (10.4.11) / i386  OK  OK  OK 
pelham Mac OS X Leopard (10.5.8) / i386  OK  OK  OK 
Package 88/353HostnameOS / ArchBUILDCHECKBUILD BIN
cycle 1.0.0
Matthias Futschik
Last Changed Rev: 42684 / Revision: 45705
Last Changed Date: 2009-10-27 16:33:29 -0700
wilson2 Linux (openSUSE 11.1) / x86_64  OK  OK 
liverpool Windows Server 2003 R2 (32-bit) / x64  OK  OK  OK 
pitt Mac OS X Tiger (10.4.11) / i386  OK  OK  OK 
pelham Mac OS X Leopard (10.5.8) / i386  OK  OK  OK 
D  A  B  C [D] E  F  G  H  I  J  K  L  M  N  O  P  Q  R  S  T  U  V  W  X  Y  Z 
Package 89/353HostnameOS / ArchBUILDCHECKBUILD BIN
daMA 1.18.0
Jobst Landgrebe
Last Changed Rev: 42684 / Revision: 45705
Last Changed Date: 2009-10-27 16:33:29 -0700
wilson2 Linux (openSUSE 11.1) / x86_64  OK  OK 
liverpool Windows Server 2003 R2 (32-bit) / x64  OK  OK  OK 
pitt Mac OS X Tiger (10.4.11) / i386  OK  OK  OK 
pelham Mac OS X Leopard (10.5.8) / i386  OK  OK  OK 
Package 90/353HostnameOS / ArchBUILDCHECKBUILD BIN
DAVIDQuery 1.4.0
Roger Day
Last Changed Rev: 42684 / Revision: 45705
Last Changed Date: 2009-10-27 16:33:29 -0700
wilson2 Linux (openSUSE 11.1) / x86_64  OK  ERROR 
liverpool Windows Server 2003 R2 (32-bit) / x64  OK  ERROR  OK 
pitt Mac OS X Tiger (10.4.11) / i386  OK  ERROR  OK 
pelham Mac OS X Leopard (10.5.8) / i386  OK  ERROR  OK 
Package 91/353HostnameOS / ArchBUILDCHECKBUILD BIN
ddCt 1.0.0
Jitao David Zhang
Last Changed Rev: 42684 / Revision: 45705
Last Changed Date: 2009-10-27 16:33:29 -0700
wilson2 Linux (openSUSE 11.1) / x86_64  OK  OK 
liverpool Windows Server 2003 R2 (32-bit) / x64  OK  OK  OK 
pitt Mac OS X Tiger (10.4.11) / i386  OK  OK  OK 
pelham Mac OS X Leopard (10.5.8) / i386  OK  OK  OK 
Package 92/353HostnameOS / ArchBUILDCHECKBUILD BIN
DEDS 1.20.0
Yuanyuan Xiao
Last Changed Rev: 42684 / Revision: 45705
Last Changed Date: 2009-10-27 16:33:29 -0700
wilson2 Linux (openSUSE 11.1) / x86_64  OK  OK 
liverpool Windows Server 2003 R2 (32-bit) / x64  OK  OK  OK 
pitt Mac OS X Tiger (10.4.11) / i386  OK  OK  OK 
pelham Mac OS X Leopard (10.5.8) / i386  OK  OK  OK 
Package 93/353HostnameOS / ArchBUILDCHECKBUILD BIN
DEGseq 1.0.5
Likun Wang
Last Changed Rev: 43788 / Revision: 45705
Last Changed Date: 2009-12-30 05:30:21 -0800
wilson2 Linux (openSUSE 11.1) / x86_64  OK  OK 
liverpool Windows Server 2003 R2 (32-bit) / x64  OK  OK  OK 
pitt Mac OS X Tiger (10.4.11) / i386  OK  OK  OK 
pelham Mac OS X Leopard (10.5.8) / i386  OK  OK  OK 
Package 94/353HostnameOS / ArchBUILDCHECKBUILD BIN
DFP 1.4.0
Rodrigo Alvarez-Glez
Last Changed Rev: 42684 / Revision: 45705
Last Changed Date: 2009-10-27 16:33:29 -0700
wilson2 Linux (openSUSE 11.1) / x86_64  OK  OK 
liverpool Windows Server 2003 R2 (32-bit) / x64  OK  OK  OK 
pitt Mac OS X Tiger (10.4.11) / i386  OK  OK  OK 
pelham Mac OS X Leopard (10.5.8) / i386  OK  OK  OK 
Package 95/353HostnameOS / ArchBUILDCHECKBUILD BIN
diffGeneAnalysis 1.28.0
Choudary Jagarlamudi
Last Changed Rev: 42684 / Revision: 45705
Last Changed Date: 2009-10-27 16:33:29 -0700
wilson2 Linux (openSUSE 11.1) / x86_64  OK  OK 
liverpool Windows Server 2003 R2 (32-bit) / x64  OK  OK  OK 
pitt Mac OS X Tiger (10.4.11) / i386  OK  OK  OK 
pelham Mac OS X Leopard (10.5.8) / i386  OK  OK  OK 
Package 96/353HostnameOS / ArchBUILDCHECKBUILD BIN
DNAcopy 1.20.0
Venkatraman E. Seshan
Last Changed Rev: 42684 / Revision: 45705
Last Changed Date: 2009-10-27 16:33:29 -0700
wilson2 Linux (openSUSE 11.1) / x86_64  OK  OK 
liverpool Windows Server 2003 R2 (32-bit) / x64  OK  OK  OK 
pitt Mac OS X Tiger (10.4.11) / i386  OK  OK  OK 
pelham Mac OS X Leopard (10.5.8) / i386  OK  OK  OK 
Package 97/353HostnameOS / ArchBUILDCHECKBUILD BIN
domainsignatures 1.6.1
Florian Hahne
Last Changed Rev: 43684 / Revision: 45705
Last Changed Date: 2009-12-22 08:25:09 -0800
wilson2 Linux (openSUSE 11.1) / x86_64  OK  OK 
liverpool Windows Server 2003 R2 (32-bit) / x64  OK  OK  OK 
pitt Mac OS X Tiger (10.4.11) / i386  OK  OK  OK 
pelham Mac OS X Leopard (10.5.8) / i386  OK  OK  OK 
Package 98/353HostnameOS / ArchBUILDCHECKBUILD BIN
dualKS 1.6.0
Eric J. Kort
Last Changed Rev: 42684 / Revision: 45705
Last Changed Date: 2009-10-27 16:33:29 -0700
wilson2 Linux (openSUSE 11.1) / x86_64  OK  OK 
liverpool Windows Server 2003 R2 (32-bit) / x64  OK  OK  OK 
pitt Mac OS X Tiger (10.4.11) / i386  OK  OK  OK 
pelham Mac OS X Leopard (10.5.8) / i386  OK  OK  OK 
Package 99/353HostnameOS / ArchBUILDCHECKBUILD BIN
dyebias 1.4.3
Philip Lijnzaad
Last Changed Rev: 43318 / Revision: 45705
Last Changed Date: 2009-12-01 04:14:43 -0800
wilson2 Linux (openSUSE 11.1) / x86_64  OK  OK 
liverpool Windows Server 2003 R2 (32-bit) / x64  OK  OK  OK 
pitt Mac OS X Tiger (10.4.11) / i386  OK  OK  OK 
pelham Mac OS X Leopard (10.5.8) / i386  OK  OK  OK 
Package 100/353HostnameOS / ArchBUILDCHECKBUILD BIN
DynDoc 1.24.0
Biocore Team c/o BioC user list
Last Changed Rev: 42684 / Revision: 45705
Last Changed Date: 2009-10-27 16:33:29 -0700
wilson2 Linux (openSUSE 11.1) / x86_64  OK  OK 
liverpool Windows Server 2003 R2 (32-bit) / x64  OK  OK  OK 
pitt Mac OS X Tiger (10.4.11) / i386  OK  OK  OK 
pelham Mac OS X Leopard (10.5.8) / i386  OK  OK  OK 
E  A  B  C  D [E] F  G  H  I  J  K  L  M  N  O  P  Q  R  S  T  U  V  W  X  Y  Z 
Package 101/353HostnameOS / ArchBUILDCHECKBUILD BIN
EBarrays 2.10.0
Ming Yuan
Last Changed Rev: 42684 / Revision: 45705
Last Changed Date: 2009-10-27 16:33:29 -0700
wilson2 Linux (openSUSE 11.1) / x86_64  OK  OK 
liverpool Windows Server 2003 R2 (32-bit) / x64  OK  OK  OK 
pitt Mac OS X Tiger (10.4.11) / i386  OK  OK  OK 
pelham Mac OS X Leopard (10.5.8) / i386  OK  OK  OK 
Package 102/353HostnameOS / ArchBUILDCHECKBUILD BIN
EBImage 3.2.0
Gregoire Pau
Last Changed Rev: 42684 / Revision: 45705
Last Changed Date: 2009-10-27 16:33:29 -0700
wilson2 Linux (openSUSE 11.1) / x86_64  OK  OK 
liverpool Windows Server 2003 R2 (32-bit) / x64  OK  OK  OK 
pitt Mac OS X Tiger (10.4.11) / i386  OK  OK  OK 
pelham Mac OS X Leopard (10.5.8) / i386  OK  OK  OK 
Package 103/353HostnameOS / ArchBUILDCHECKBUILD BIN
ecolitk 1.18.0
Laurent
Last Changed Rev: 42684 / Revision: 45705
Last Changed Date: 2009-10-27 16:33:29 -0700
wilson2 Linux (openSUSE 11.1) / x86_64  OK  OK 
liverpool Windows Server 2003 R2 (32-bit) / x64  OK  OK  OK 
pitt Mac OS X Tiger (10.4.11) / i386  OK  OK  OK 
pelham Mac OS X Leopard (10.5.8) / i386  OK  OK  OK 
Package 104/353HostnameOS / ArchBUILDCHECKBUILD BIN
edd 1.24.0
Vince Carey
Last Changed Rev: 42684 / Revision: 45705
Last Changed Date: 2009-10-27 16:33:29 -0700
wilson2 Linux (openSUSE 11.1) / x86_64  OK  OK 
liverpool Windows Server 2003 R2 (32-bit) / x64  OK  OK  OK 
pitt Mac OS X Tiger (10.4.11) / i386  OK  OK  OK 
pelham Mac OS X Leopard (10.5.8) / i386  OK  OK  OK 
Package 105/353HostnameOS / ArchBUILDCHECKBUILD BIN
edgeR 1.4.7
Mark Robinson , Davis McCarthy , Gordon Smyth
Last Changed Rev: 44143 / Revision: 45705
Last Changed Date: 2010-01-21 20:19:45 -0800
wilson2 Linux (openSUSE 11.1) / x86_64  OK  OK 
liverpool Windows Server 2003 R2 (32-bit) / x64  OK  OK  OK 
pitt Mac OS X Tiger (10.4.11) / i386  OK  OK  OK 
pelham Mac OS X Leopard (10.5.8) / i386  OK  OK  OK 
Package 106/353HostnameOS / ArchBUILDCHECKBUILD BIN
exonmap 2.4.0
Crispin Miller
Last Changed Rev: 42684 / Revision: 45705
Last Changed Date: 2009-10-27 16:33:29 -0700
wilson2 Linux (openSUSE 11.1) / x86_64  OK  OK 
liverpool Windows Server 2003 R2 (32-bit) / x64  OK  OK  OK 
pitt Mac OS X Tiger (10.4.11) / i386  OK  OK  OK 
pelham Mac OS X Leopard (10.5.8) / i386  OK  OK  OK 
Package 107/353HostnameOS / ArchBUILDCHECKBUILD BIN
explorase 1.10.0
Michael Lawrence
Last Changed Rev: 42684 / Revision: 45705
Last Changed Date: 2009-10-27 16:33:29 -0700
wilson2 Linux (openSUSE 11.1) / x86_64  OK  OK 
liverpool Windows Server 2003 R2 (32-bit) / x64  OK  OK  OK 
pitt Mac OS X Tiger (10.4.11) / i386 N O T   S U P P O R T E D
pelham Mac OS X Leopard (10.5.8) / i386  OK  OK  OK 
Package 108/353HostnameOS / ArchBUILDCHECKBUILD BIN
externalVector 1.12.0
Biocore Team c/o BioC user list
Last Changed Rev: 42684 / Revision: 45705
Last Changed Date: 2009-10-27 16:33:29 -0700
wilson2 Linux (openSUSE 11.1) / x86_64  OK  OK 
liverpool Windows Server 2003 R2 (32-bit) / x64  OK  OK  OK 
pitt Mac OS X Tiger (10.4.11) / i386  OK  OK  OK 
pelham Mac OS X Leopard (10.5.8) / i386  OK  OK  OK 
F  A  B  C  D  E [F] G  H  I  J  K  L  M  N  O  P  Q  R  S  T  U  V  W  X  Y  Z 
Package 109/353HostnameOS / ArchBUILDCHECKBUILD BIN
factDesign 1.22.0
Denise Scholtens
Last Changed Rev: 42684 / Revision: 45705
Last Changed Date: 2009-10-27 16:33:29 -0700
wilson2 Linux (openSUSE 11.1) / x86_64  OK  OK 
liverpool Windows Server 2003 R2 (32-bit) / x64  OK  OK  OK 
pitt Mac OS X Tiger (10.4.11) / i386  OK  OK  OK 
pelham Mac OS X Leopard (10.5.8) / i386  OK  OK  OK 
Package 110/353HostnameOS / ArchBUILDCHECKBUILD BIN
fbat 1.10.0
The R Genetics Project
Last Changed Rev: 42684 / Revision: 45705
Last Changed Date: 2009-10-27 16:33:29 -0700
wilson2 Linux (openSUSE 11.1) / x86_64  OK  OK 
liverpool Windows Server 2003 R2 (32-bit) / x64  OK  OK  OK 
pitt Mac OS X Tiger (10.4.11) / i386  OK  OK  OK 
pelham Mac OS X Leopard (10.5.8) / i386  OK  OK  OK 
Package 111/353HostnameOS / ArchBUILDCHECKBUILD BIN
fdrame 1.18.0
Effi Kenigsberg
Last Changed Rev: 42684 / Revision: 45705
Last Changed Date: 2009-10-27 16:33:29 -0700
wilson2 Linux (openSUSE 11.1) / x86_64  OK  OK 
liverpool Windows Server 2003 R2 (32-bit) / x64  OK  OK  OK 
pitt Mac OS X Tiger (10.4.11) / i386  OK  OK  OK 
pelham Mac OS X Leopard (10.5.8) / i386  OK  OK  OK 
Package 112/353HostnameOS / ArchBUILDCHECKBUILD BIN
flagme 1.2.0
Mark Robinson
Last Changed Rev: 42684 / Revision: 45705
Last Changed Date: 2009-10-27 16:33:29 -0700
wilson2 Linux (openSUSE 11.1) / x86_64  OK  WARNINGS 
liverpool Windows Server 2003 R2 (32-bit) / x64  OK  WARNINGS  OK 
pitt Mac OS X Tiger (10.4.11) / i386  OK  WARNINGS  OK 
pelham Mac OS X Leopard (10.5.8) / i386  OK  WARNINGS  OK 
Package 113/353HostnameOS / ArchBUILDCHECKBUILD BIN
flowClust 2.4.0
Raphael Gottardo
Last Changed Rev: 42684 / Revision: 45705
Last Changed Date: 2009-10-27 16:33:29 -0700
wilson2 Linux (openSUSE 11.1) / x86_64  OK  OK 
liverpool Windows Server 2003 R2 (32-bit) / x64  OK  OK  OK 
pitt Mac OS X Tiger (10.4.11) / i386  OK  WARNINGS  OK 
pelham Mac OS X Leopard (10.5.8) / i386  OK  WARNINGS  OK 
Package 114/353HostnameOS / ArchBUILDCHECKBUILD BIN
flowCore 1.12.0
F. Hahne
Last Changed Rev: 42684 / Revision: 45705
Last Changed Date: 2009-10-27 16:33:29 -0700
wilson2 Linux (openSUSE 11.1) / x86_64  OK  OK 
liverpool Windows Server 2003 R2 (32-bit) / x64  OK  OK  OK 
pitt Mac OS X Tiger (10.4.11) / i386  OK  WARNINGS  OK 
pelham Mac OS X Leopard (10.5.8) / i386  OK  WARNINGS  OK 
Package 115/353HostnameOS / ArchBUILDCHECKBUILD BIN
flowFlowJo 1.4.0
John J. Gosink
Last Changed Rev: 42684 / Revision: 45705
Last Changed Date: 2009-10-27 16:33:29 -0700
wilson2 Linux (openSUSE 11.1) / x86_64  OK  OK 
liverpool Windows Server 2003 R2 (32-bit) / x64  OK  OK  OK 
pitt Mac OS X Tiger (10.4.11) / i386  OK  OK  OK 
pelham Mac OS X Leopard (10.5.8) / i386  OK  OK  OK 
Package 116/353HostnameOS / ArchBUILDCHECKBUILD BIN
flowFP 1.2.0
Herb Holyst
Last Changed Rev: 42684 / Revision: 45705
Last Changed Date: 2009-10-27 16:33:29 -0700
wilson2 Linux (openSUSE 11.1) / x86_64  OK  OK 
liverpool Windows Server 2003 R2 (32-bit) / x64  OK  OK  OK 
pitt Mac OS X Tiger (10.4.11) / i386  OK  OK  OK 
pelham Mac OS X Leopard (10.5.8) / i386  OK  OK  OK 
Package 117/353HostnameOS / ArchBUILDCHECKBUILD BIN
flowMerge 1.0.0
Greg Finak
Last Changed Rev: 42684 / Revision: 45705
Last Changed Date: 2009-10-27 16:33:29 -0700
wilson2 Linux (openSUSE 11.1) / x86_64  OK  OK 
liverpool Windows Server 2003 R2 (32-bit) / x64  OK  OK  OK 
pitt Mac OS X Tiger (10.4.11) / i386  OK  OK  OK 
pelham Mac OS X Leopard (10.5.8) / i386  OK  OK  OK 
Package 118/353HostnameOS / ArchBUILDCHECKBUILD BIN
flowQ 1.6.0
F. Hahne
Last Changed Rev: 42684 / Revision: 45705
Last Changed Date: 2009-10-27 16:33:29 -0700
wilson2 Linux (openSUSE 11.1) / x86_64  OK  OK 
liverpool Windows Server 2003 R2 (32-bit) / x64  OK  OK  OK 
pitt Mac OS X Tiger (10.4.11) / i386  OK  OK  OK 
pelham Mac OS X Leopard (10.5.8) / i386  OK  OK  OK 
Package 119/353HostnameOS / ArchBUILDCHECKBUILD BIN
flowStats 1.4.0
Florian Hahne and Chao-Jen Wong
Last Changed Rev: 42684 / Revision: 45705
Last Changed Date: 2009-10-27 16:33:29 -0700
wilson2 Linux (openSUSE 11.1) / x86_64  OK  OK 
liverpool Windows Server 2003 R2 (32-bit) / x64  OK  OK  OK 
pitt Mac OS X Tiger (10.4.11) / i386  OK  WARNINGS  OK 
pelham Mac OS X Leopard (10.5.8) / i386  OK  WARNINGS  OK 
Package 120/353HostnameOS / ArchBUILDCHECKBUILD BIN
flowUtils 1.6.0
Nishant Gopalakrishnan
Last Changed Rev: 42684 / Revision: 45705
Last Changed Date: 2009-10-27 16:33:29 -0700
wilson2 Linux (openSUSE 11.1) / x86_64  OK  WARNINGS 
liverpool Windows Server 2003 R2 (32-bit) / x64  OK  WARNINGS  OK 
pitt Mac OS X Tiger (10.4.11) / i386  OK  WARNINGS  OK 
pelham Mac OS X Leopard (10.5.8) / i386  OK  WARNINGS  OK 
Package 121/353HostnameOS / ArchBUILDCHECKBUILD BIN
flowViz 1.10.0
Florian Hahne
Last Changed Rev: 42684 / Revision: 45705
Last Changed Date: 2009-10-27 16:33:29 -0700
wilson2 Linux (openSUSE 11.1) / x86_64  OK  OK 
liverpool Windows Server 2003 R2 (32-bit) / x64  OK  OK  OK 
pitt Mac OS X Tiger (10.4.11) / i386  OK  OK  OK 
pelham Mac OS X Leopard (10.5.8) / i386  OK  OK  OK 
G  A  B  C  D  E  F [G] H  I  J  K  L  M  N  O  P  Q  R  S  T  U  V  W  X  Y  Z 
Package 122/353HostnameOS / ArchBUILDCHECKBUILD BIN
gaga 1.6.0
David Rossell
Last Changed Rev: 42684 / Revision: 45705
Last Changed Date: 2009-10-27 16:33:29 -0700
wilson2 Linux (openSUSE 11.1) / x86_64  OK  OK 
liverpool Windows Server 2003 R2 (32-bit) / x64  OK  OK  OK 
pitt Mac OS X Tiger (10.4.11) / i386  OK  OK  OK 
pelham Mac OS X Leopard (10.5.8) / i386  OK  OK  OK 
Package 123/353HostnameOS / ArchBUILDCHECKBUILD BIN
gaggle 1.14.0
Dan Tenenbaum
Last Changed Rev: 42684 / Revision: 45705
Last Changed Date: 2009-10-27 16:33:29 -0700
wilson2 Linux (openSUSE 11.1) / x86_64  OK  OK 
liverpool Windows Server 2003 R2 (32-bit) / x64  OK  OK  OK 
pitt Mac OS X Tiger (10.4.11) / i386  OK  OK  OK 
pelham Mac OS X Leopard (10.5.8) / i386  OK  OK  OK 
Package 124/353HostnameOS / ArchBUILDCHECKBUILD BIN
gcrma 2.18.1
Z. Wu
Last Changed Rev: 43599 / Revision: 45705
Last Changed Date: 2009-12-17 07:37:57 -0800
wilson2 Linux (openSUSE 11.1) / x86_64  OK  OK 
liverpool Windows Server 2003 R2 (32-bit) / x64  OK  OK  OK 
pitt Mac OS X Tiger (10.4.11) / i386  OK  OK  OK 
pelham Mac OS X Leopard (10.5.8) / i386  OK  OK  OK 
Package 125/353HostnameOS / ArchBUILDCHECKBUILD BIN
genArise 1.22.0
IFC Development Team
Last Changed Rev: 42684 / Revision: 45705
Last Changed Date: 2009-10-27 16:33:29 -0700
wilson2 Linux (openSUSE 11.1) / x86_64  OK  OK 
liverpool Windows Server 2003 R2 (32-bit) / x64  OK  OK  OK 
pitt Mac OS X Tiger (10.4.11) / i386  OK  OK  OK 
pelham Mac OS X Leopard (10.5.8) / i386  OK  OK  OK 
Package 126/353HostnameOS / ArchBUILDCHECKBUILD BIN
gene2pathway 1.4.0
Holger Froehlich
Last Changed Rev: 42684 / Revision: 45705
Last Changed Date: 2009-10-27 16:33:29 -0700
wilson2 Linux (openSUSE 11.1) / x86_64  OK  OK 
liverpool Windows Server 2003 R2 (32-bit) / x64  OK  OK  OK 
pitt Mac OS X Tiger (10.4.11) / i386  OK  OK  OK 
pelham Mac OS X Leopard (10.5.8) / i386  OK  OK  OK 
Package 127/353HostnameOS / ArchBUILDCHECKBUILD BIN
GeneAnswers 1.2.0
Gang Feng and Pan Du
Last Changed Rev: 44492 / Revision: 45705
Last Changed Date: 2010-02-04 10:54:01 -0800
wilson2 Linux (openSUSE 11.1) / x86_64  ERROR  skipped 
liverpool Windows Server 2003 R2 (32-bit) / x64  ERROR  skipped  skipped 
pitt Mac OS X Tiger (10.4.11) / i386  OK  OK  OK 
pelham Mac OS X Leopard (10.5.8) / i386  OK  OK  OK 
Package 128/353HostnameOS / ArchBUILDCHECKBUILD BIN
genefilter 1.28.2
Biocore Team c/o BioC user list
Last Changed Rev: 43284 / Revision: 45705
Last Changed Date: 2009-11-27 10:20:59 -0800
wilson2 Linux (openSUSE 11.1) / x86_64  OK  OK 
liverpool Windows Server 2003 R2 (32-bit) / x64  OK  OK  OK 
pitt Mac OS X Tiger (10.4.11) / i386  OK  OK  OK 
pelham Mac OS X Leopard (10.5.8) / i386  OK  OK  OK 
Package 129/353HostnameOS / ArchBUILDCHECKBUILD BIN
GeneMeta 1.18.0
Biocore Team c/o BioC user list
Last Changed Rev: 42684 / Revision: 45705
Last Changed Date: 2009-10-27 16:33:29 -0700
wilson2 Linux (openSUSE 11.1) / x86_64  OK  OK 
liverpool Windows Server 2003 R2 (32-bit) / x64  OK  OK  OK 
pitt Mac OS X Tiger (10.4.11) / i386  OK  OK  OK 
pelham Mac OS X Leopard (10.5.8) / i386  OK  OK  OK 
Package 130/353HostnameOS / ArchBUILDCHECKBUILD BIN
geneplotter 1.24.0
Biocore Team c/o BioC user list
Last Changed Rev: 42684 / Revision: 45705
Last Changed Date: 2009-10-27 16:33:29 -0700
wilson2 Linux (openSUSE 11.1) / x86_64  OK  OK 
liverpool Windows Server 2003 R2 (32-bit) / x64  OK  OK  OK 
pitt Mac OS X Tiger (10.4.11) / i386  OK  OK  OK 
pelham Mac OS X Leopard (10.5.8) / i386  OK  OK  OK 
Package 131/353HostnameOS / ArchBUILDCHECKBUILD BIN
GeneR 2.16.0
Y. d'Aubenton-Carafa
Last Changed Rev: 42684 / Revision: 45705
Last Changed Date: 2009-10-27 16:33:29 -0700
wilson2 Linux (openSUSE 11.1) / x86_64  OK  OK 
liverpool Windows Server 2003 R2 (32-bit) / x64  OK  OK  OK 
pitt Mac OS X Tiger (10.4.11) / i386  OK  OK  OK 
pelham Mac OS X Leopard (10.5.8) / i386  OK  OK  OK 
Package 132/353HostnameOS / ArchBUILDCHECKBUILD BIN
geneRecommender 1.18.0
Greg Hather
Last Changed Rev: 42684 / Revision: 45705
Last Changed Date: 2009-10-27 16:33:29 -0700
wilson2 Linux (openSUSE 11.1) / x86_64  OK  OK 
liverpool Windows Server 2003 R2 (32-bit) / x64  OK  OK  OK 
pitt Mac OS X Tiger (10.4.11) / i386  OK  OK  OK 
pelham Mac OS X Leopard (10.5.8) / i386  OK  OK  OK 
Package 133/353HostnameOS / ArchBUILDCHECKBUILD BIN
GeneRegionScan 1.2.0
Lasse Folkersen
Last Changed Rev: 42684 / Revision: 45705
Last Changed Date: 2009-10-27 16:33:29 -0700
wilson2 Linux (openSUSE 11.1) / x86_64  OK  OK 
liverpool Windows Server 2003 R2 (32-bit) / x64  OK  OK  OK 
pitt Mac OS X Tiger (10.4.11) / i386  OK  OK  OK 
pelham Mac OS X Leopard (10.5.8) / i386  OK  OK  OK 
Package 134/353HostnameOS / ArchBUILDCHECKBUILD BIN
GeneRfold 1.4.0
Antoine Lucas
Last Changed Rev: 42684 / Revision: 45705
Last Changed Date: 2009-10-27 16:33:29 -0700
wilson2 Linux (openSUSE 11.1) / x86_64  OK  OK 
liverpool Windows Server 2003 R2 (32-bit) / x64 N O T   S U P P O R T E D
pitt Mac OS X Tiger (10.4.11) / i386  OK  OK  OK 
pelham Mac OS X Leopard (10.5.8) / i386  OK  OK  OK 
Package 135/353HostnameOS / ArchBUILDCHECKBUILD BIN
GeneSelectMMD 1.2.0
Weiliang Qiu
Last Changed Rev: 42684 / Revision: 45705
Last Changed Date: 2009-10-27 16:33:29 -0700
wilson2 Linux (openSUSE 11.1) / x86_64  OK  OK 
liverpool Windows Server 2003 R2 (32-bit) / x64  OK  OK  OK 
pitt Mac OS X Tiger (10.4.11) / i386  OK  OK  OK 
pelham Mac OS X Leopard (10.5.8) / i386  OK  OK  OK 
Package 136/353HostnameOS / ArchBUILDCHECKBUILD BIN
GeneSelector 2.2.0
Martin Slawski
Last Changed Rev: 42684 / Revision: 45705
Last Changed Date: 2009-10-27 16:33:29 -0700
wilson2 Linux (openSUSE 11.1) / x86_64  OK  OK 
liverpool Windows Server 2003 R2 (32-bit) / x64  OK  OK  OK 
pitt Mac OS X Tiger (10.4.11) / i386  OK  OK  OK 
pelham Mac OS X Leopard (10.5.8) / i386  OK  OK  OK 
Package 137/353HostnameOS / ArchBUILDCHECKBUILD BIN
GeneSpring 2.20.0
Thon de Boer
Last Changed Rev: 42684 / Revision: 45705
Last Changed Date: 2009-10-27 16:33:29 -0700
wilson2 Linux (openSUSE 11.1) / x86_64  OK  OK 
liverpool Windows Server 2003 R2 (32-bit) / x64  OK  OK  OK 
pitt Mac OS X Tiger (10.4.11) / i386  OK  OK  OK 
pelham Mac OS X Leopard (10.5.8) / i386  OK  OK  OK 
Package 138/353HostnameOS / ArchBUILDCHECKBUILD BIN
GeneticsBase 1.12.0
The R Genetics Project
Last Changed Rev: 42684 / Revision: 45705
Last Changed Date: 2009-10-27 16:33:29 -0700
wilson2 Linux (openSUSE 11.1) / x86_64  OK  WARNINGS 
liverpool Windows Server 2003 R2 (32-bit) / x64  OK  WARNINGS  OK 
pitt Mac OS X Tiger (10.4.11) / i386  OK  WARNINGS  OK 
pelham Mac OS X Leopard (10.5.8) / i386  OK  WARNINGS  OK 
Package 139/353HostnameOS / ArchBUILDCHECKBUILD BIN
GeneticsDesign 1.14.0
The R Genetics Project
Last Changed Rev: 42684 / Revision: 45705
Last Changed Date: 2009-10-27 16:33:29 -0700
wilson2 Linux (openSUSE 11.1) / x86_64  OK  OK 
liverpool Windows Server 2003 R2 (32-bit) / x64  OK  OK  OK 
pitt Mac OS X Tiger (10.4.11) / i386  OK  OK  OK 
pelham Mac OS X Leopard (10.5.8) / i386  OK  OK  OK 
Package 140/353HostnameOS / ArchBUILDCHECKBUILD BIN
GeneticsPed 1.8.0
The R Genetics Project
Last Changed Rev: 42684 / Revision: 45705
Last Changed Date: 2009-10-27 16:33:29 -0700
wilson2 Linux (openSUSE 11.1) / x86_64  OK  OK 
liverpool Windows Server 2003 R2 (32-bit) / x64  OK  OK  OK 
pitt Mac OS X Tiger (10.4.11) / i386  OK  OK  OK 
pelham Mac OS X Leopard (10.5.8) / i386  OK  OK  OK 
Package 141/353HostnameOS / ArchBUILDCHECKBUILD BIN
GeneTraffic 1.18.0
Daniel Iordan
Last Changed Rev: 42684 / Revision: 45705
Last Changed Date: 2009-10-27 16:33:29 -0700
wilson2 Linux (openSUSE 11.1) / x86_64  OK  OK 
liverpool Windows Server 2003 R2 (32-bit) / x64  OK  OK  OK 
pitt Mac OS X Tiger (10.4.11) / i386  OK  OK  OK 
pelham Mac OS X Leopard (10.5.8) / i386  OK  OK  OK 
Package 142/353HostnameOS / ArchBUILDCHECKBUILD BIN
GenomeGraphs 1.6.0
Steffen Durinck
Last Changed Rev: 42684 / Revision: 45705
Last Changed Date: 2009-10-27 16:33:29 -0700
wilson2 Linux (openSUSE 11.1) / x86_64  OK  OK 
liverpool Windows Server 2003 R2 (32-bit) / x64  OK  OK  OK 
pitt Mac OS X Tiger (10.4.11) / i386  OK  OK  OK 
pelham Mac OS X Leopard (10.5.8) / i386  OK  OK  OK 
Package 143/353HostnameOS / ArchBUILDCHECKBUILD BIN
genomeIntervals 1.2.0
Julien Gagneur
Last Changed Rev: 42684 / Revision: 45705
Last Changed Date: 2009-10-27 16:33:29 -0700
wilson2 Linux (openSUSE 11.1) / x86_64  OK  OK 
liverpool Windows Server 2003 R2 (32-bit) / x64  OK  OK  OK 
pitt Mac OS X Tiger (10.4.11) / i386  OK  OK  OK 
pelham Mac OS X Leopard (10.5.8) / i386  OK  OK  OK 
Package 144/353HostnameOS / ArchBUILDCHECKBUILD BIN
GenomicFeatures 0.2.0
Biocore Team c/o BioC user list
Last Changed Rev: 42684 / Revision: 45705
Last Changed Date: 2009-10-27 16:33:29 -0700
wilson2 Linux (openSUSE 11.1) / x86_64  OK  WARNINGS 
liverpool Windows Server 2003 R2 (32-bit) / x64  OK  WARNINGS  OK 
pitt Mac OS X Tiger (10.4.11) / i386  OK  WARNINGS  OK 
pelham Mac OS X Leopard (10.5.8) / i386  OK  WARNINGS  OK 
Package 145/353HostnameOS / ArchBUILDCHECKBUILD BIN
Genominator 1.0.3
James Bullard
Last Changed Rev: 43801 / Revision: 45705
Last Changed Date: 2009-12-30 11:54:23 -0800
wilson2 Linux (openSUSE 11.1) / x86_64  OK  OK 
liverpool Windows Server 2003 R2 (32-bit) / x64  OK  OK  OK 
pitt Mac OS X Tiger (10.4.11) / i386  OK  OK  OK 
pelham Mac OS X Leopard (10.5.8) / i386  OK  OK  OK 
Package 146/353HostnameOS / ArchBUILDCHECKBUILD BIN
GEOmetadb 1.6.0
Jack Zhu
Last Changed Rev: 42684 / Revision: 45705
Last Changed Date: 2009-10-27 16:33:29 -0700
wilson2 Linux (openSUSE 11.1) / x86_64  OK  OK 
liverpool Windows Server 2003 R2 (32-bit) / x64  OK  OK  OK 
pitt Mac OS X Tiger (10.4.11) / i386  OK  OK  OK 
pelham Mac OS X Leopard (10.5.8) / i386  OK  OK  OK 
Package 147/353HostnameOS / ArchBUILDCHECKBUILD BIN
GEOquery 2.11.3
Sean Davis
Last Changed Rev: 44618 / Revision: 45705
Last Changed Date: 2010-02-10 06:51:56 -0800
wilson2 Linux (openSUSE 11.1) / x86_64  OK  ERROR 
liverpool Windows Server 2003 R2 (32-bit) / x64  OK  OK  OK 
pitt Mac OS X Tiger (10.4.11) / i386  OK  OK  OK 
pelham Mac OS X Leopard (10.5.8) / i386  OK  OK  OK 
Package 148/353HostnameOS / ArchBUILDCHECKBUILD BIN
GGBase 3.6.0
Vince Carey
Last Changed Rev: 42684 / Revision: 45705
Last Changed Date: 2009-10-27 16:33:29 -0700
wilson2 Linux (openSUSE 11.1) / x86_64  OK  OK 
liverpool Windows Server 2003 R2 (32-bit) / x64  OK  OK  OK 
pitt Mac OS X Tiger (10.4.11) / i386  OK  OK  OK 
pelham Mac OS X Leopard (10.5.8) / i386  OK  OK  OK 
Package 149/353HostnameOS / ArchBUILDCHECKBUILD BIN
GGtools 3.4.0
Vince Carey
Last Changed Rev: 42684 / Revision: 45705
Last Changed Date: 2009-10-27 16:33:29 -0700
wilson2 Linux (openSUSE 11.1) / x86_64  OK  OK 
liverpool Windows Server 2003 R2 (32-bit) / x64  OK  OK  OK 
pitt Mac OS X Tiger (10.4.11) / i386  OK  OK  OK 
pelham Mac OS X Leopard (10.5.8) / i386  OK  OK  OK 
Package 150/353HostnameOS / ArchBUILDCHECKBUILD BIN
GLAD 2.6.0
Philippe Hupe
Last Changed Rev: 42684 / Revision: 45705
Last Changed Date: 2009-10-27 16:33:29 -0700
wilson2 Linux (openSUSE 11.1) / x86_64  OK  OK 
liverpool Windows Server 2003 R2 (32-bit) / x64  OK  OK  OK 
pitt Mac OS X Tiger (10.4.11) / i386  OK  OK  OK 
pelham Mac OS X Leopard (10.5.8) / i386  OK  OK  OK 
Package 151/353HostnameOS / ArchBUILDCHECKBUILD BIN
GlobalAncova 3.12.0
R. Meister
Last Changed Rev: 42684 / Revision: 45705
Last Changed Date: 2009-10-27 16:33:29 -0700
wilson2 Linux (openSUSE 11.1) / x86_64  OK  OK 
liverpool Windows Server 2003 R2 (32-bit) / x64  OK  OK  OK 
pitt Mac OS X Tiger (10.4.11) / i386  OK  OK  OK 
pelham Mac OS X Leopard (10.5.8) / i386  OK  OK  OK 
Package 152/353HostnameOS / ArchBUILDCHECKBUILD BIN
globaltest 5.0.2
Jelle Goeman
Last Changed Rev: 43927 / Revision: 45705
Last Changed Date: 2010-01-11 02:38:29 -0800
wilson2 Linux (openSUSE 11.1) / x86_64  OK  OK 
liverpool Windows Server 2003 R2 (32-bit) / x64  OK  OK  OK 
pitt Mac OS X Tiger (10.4.11) / i386  OK  OK  OK 
pelham Mac OS X Leopard (10.5.8) / i386  OK  OK  OK 
Package 153/353HostnameOS / ArchBUILDCHECKBUILD BIN
goProfiles 1.8.0
Alex Sanchez
Last Changed Rev: 42684 / Revision: 45705
Last Changed Date: 2009-10-27 16:33:29 -0700
wilson2 Linux (openSUSE 11.1) / x86_64  OK  OK 
liverpool Windows Server 2003 R2 (32-bit) / x64  OK  OK  OK 
pitt Mac OS X Tiger (10.4.11) / i386  OK  OK  OK 
pelham Mac OS X Leopard (10.5.8) / i386  OK  OK  OK 
Package 154/353HostnameOS / ArchBUILDCHECKBUILD BIN
GOSemSim 1.4.0
Guangchuang Yu
Last Changed Rev: 42684 / Revision: 45705
Last Changed Date: 2009-10-27 16:33:29 -0700
wilson2 Linux (openSUSE 11.1) / x86_64  OK  OK 
liverpool Windows Server 2003 R2 (32-bit) / x64  OK  OK  OK 
pitt Mac OS X Tiger (10.4.11) / i386  OK  OK  OK 
pelham Mac OS X Leopard (10.5.8) / i386  OK  OK  OK 
Package 155/353HostnameOS / ArchBUILDCHECKBUILD BIN
GOstats 2.12.0
Robert Gentleman
Last Changed Rev: 42684 / Revision: 45705
Last Changed Date: 2009-10-27 16:33:29 -0700
wilson2 Linux (openSUSE 11.1) / x86_64  OK  OK 
liverpool Windows Server 2003 R2 (32-bit) / x64  OK  OK  OK 
pitt Mac OS X Tiger (10.4.11) / i386  OK  OK  OK 
pelham Mac OS X Leopard (10.5.8) / i386  OK  OK  OK 
Package 156/353HostnameOS / ArchBUILDCHECKBUILD BIN
goTools 1.20.0
Agnes Paquet
Last Changed Rev: 42684 / Revision: 45705
Last Changed Date: 2009-10-27 16:33:29 -0700
wilson2 Linux (openSUSE 11.1) / x86_64  OK  OK 
liverpool Windows Server 2003 R2 (32-bit) / x64  OK  OK  OK 
pitt Mac OS X Tiger (10.4.11) / i386  OK  OK  OK 
pelham Mac OS X Leopard (10.5.8) / i386  OK  OK  OK 
Package 157/353HostnameOS / ArchBUILDCHECKBUILD BIN
gpls 1.18.0
Biocore Team c/o BioC user list
Last Changed Rev: 42684 / Revision: 45705
Last Changed Date: 2009-10-27 16:33:29 -0700
wilson2 Linux (openSUSE 11.1) / x86_64  OK  OK 
liverpool Windows Server 2003 R2 (32-bit) / x64  OK  OK  OK 
pitt Mac OS X Tiger (10.4.11) / i386  OK  OK  OK 
pelham Mac OS X Leopard (10.5.8) / i386  OK  OK  OK 
Package 158/353HostnameOS / ArchBUILDCHECKBUILD BIN
graph 1.24.4
Seth Falcon
Last Changed Rev: 44948 / Revision: 45705
Last Changed Date: 2010-03-01 09:14:22 -0800
wilson2 Linux (openSUSE 11.1) / x86_64  OK  OK 
liverpool Windows Server 2003 R2 (32-bit) / x64  OK  WARNINGS  OK 
pitt Mac OS X Tiger (10.4.11) / i386  OK  OK  OK 
pelham Mac OS X Leopard (10.5.8) / i386  OK  OK  OK 
Package 159/353HostnameOS / ArchBUILDCHECKBUILD BIN
GraphAlignment 1.8.0
Joern P. Meier
Last Changed Rev: 42684 / Revision: 45705
Last Changed Date: 2009-10-27 16:33:29 -0700
wilson2 Linux (openSUSE 11.1) / x86_64  OK  OK 
liverpool Windows Server 2003 R2 (32-bit) / x64  OK  OK  OK 
pitt Mac OS X Tiger (10.4.11) / i386  OK  OK  OK 
pelham Mac OS X Leopard (10.5.8) / i386  OK  OK  OK 
Package 160/353HostnameOS / ArchBUILDCHECKBUILD BIN
GraphAT 1.18.0
Thomas LaFramboise
Last Changed Rev: 42684 / Revision: 45705
Last Changed Date: 2009-10-27 16:33:29 -0700
wilson2 Linux (openSUSE 11.1) / x86_64  OK  OK 
liverpool Windows Server 2003 R2 (32-bit) / x64  OK  OK  OK 
pitt Mac OS X Tiger (10.4.11) / i386  OK  OK  OK 
pelham Mac OS X Leopard (10.5.8) / i386  OK  OK  OK 
Package 161/353HostnameOS / ArchBUILDCHECKBUILD BIN
GSEABase 1.8.0
Biocore Team c/o BioC user list
Last Changed Rev: 42684 / Revision: 45705
Last Changed Date: 2009-10-27 16:33:29 -0700
wilson2 Linux (openSUSE 11.1) / x86_64  OK  OK 
liverpool Windows Server 2003 R2 (32-bit) / x64  OK  OK  OK 
pitt Mac OS X Tiger (10.4.11) / i386  OK  OK  OK 
pelham Mac OS X Leopard (10.5.8) / i386  OK  OK  OK 
Package 162/353HostnameOS / ArchBUILDCHECKBUILD BIN
GSEAlm 1.6.0
Assaf Oron
Last Changed Rev: 42684 / Revision: 45705
Last Changed Date: 2009-10-27 16:33:29 -0700
wilson2 Linux (openSUSE 11.1) / x86_64  OK  OK 
liverpool Windows Server 2003 R2 (32-bit) / x64  OK  OK  OK 
pitt Mac OS X Tiger (10.4.11) / i386  OK  OK  OK 
pelham Mac OS X Leopard (10.5.8) / i386  OK  OK  OK 
H  A  B  C  D  E  F  G [H] I  J  K  L  M  N  O  P  Q  R  S  T  U  V  W  X  Y  Z 
Package 163/353HostnameOS / ArchBUILDCHECKBUILD BIN
Harshlight 1.16.0
Maurizio Pellegrino
Last Changed Rev: 42684 / Revision: 45705
Last Changed Date: 2009-10-27 16:33:29 -0700
wilson2 Linux (openSUSE 11.1) / x86_64  OK  OK 
liverpool Windows Server 2003 R2 (32-bit) / x64  OK  OK  OK 
pitt Mac OS X Tiger (10.4.11) / i386  OK  OK  OK 
pelham Mac OS X Leopard (10.5.8) / i386  OK  OK  OK 
Package 164/353HostnameOS / ArchBUILDCHECKBUILD BIN
Heatplus 1.16.0
Alexander Ploner
Last Changed Rev: 42684 / Revision: 45705
Last Changed Date: 2009-10-27 16:33:29 -0700
wilson2 Linux (openSUSE 11.1) / x86_64  OK  OK 
liverpool Windows Server 2003 R2 (32-bit) / x64  OK  OK  OK 
pitt Mac OS X Tiger (10.4.11) / i386  OK  OK  OK 
pelham Mac OS X Leopard (10.5.8) / i386  OK  OK  OK 
Package 165/353HostnameOS / ArchBUILDCHECKBUILD BIN
HELP 1.4.0
Reid F. Thompson
Last Changed Rev: 42684 / Revision: 45705
Last Changed Date: 2009-10-27 16:33:29 -0700
wilson2 Linux (openSUSE 11.1) / x86_64  OK  OK 
liverpool Windows Server 2003 R2 (32-bit) / x64  OK  OK  OK 
pitt Mac OS X Tiger (10.4.11) / i386  OK  OK  OK 
pelham Mac OS X Leopard (10.5.8) / i386  OK  OK  OK 
Package 166/353HostnameOS / ArchBUILDCHECKBUILD BIN
HEM 1.18.0
HyungJun Cho
Last Changed Rev: 42684 / Revision: 45705
Last Changed Date: 2009-10-27 16:33:29 -0700
wilson2 Linux (openSUSE 11.1) / x86_64  OK  OK 
liverpool Windows Server 2003 R2 (32-bit) / x64  OK  OK  OK 
pitt Mac OS X Tiger (10.4.11) / i386  OK  OK  OK 
pelham Mac OS X Leopard (10.5.8) / i386  OK  OK  OK 
Package 167/353HostnameOS / ArchBUILDCHECKBUILD BIN
hexbin 1.20.0
Nicholas Lewin-Koh
Last Changed Rev: 42684 / Revision: 45705
Last Changed Date: 2009-10-27 16:33:29 -0700
wilson2 Linux (openSUSE 11.1) / x86_64  OK  OK 
liverpool Windows Server 2003 R2 (32-bit) / x64  OK  OK  OK 
pitt Mac OS X Tiger (10.4.11) / i386  OK  OK  OK 
pelham Mac OS X Leopard (10.5.8) / i386  OK  OK  OK 
Package 168/353HostnameOS / ArchBUILDCHECKBUILD BIN
HilbertVis 1.4.0
Simon Anders
Last Changed Rev: 42684 / Revision: 45705
Last Changed Date: 2009-10-27 16:33:29 -0700
wilson2 Linux (openSUSE 11.1) / x86_64  OK  OK 
liverpool Windows Server 2003 R2 (32-bit) / x64  OK  OK  OK 
pitt Mac OS X Tiger (10.4.11) / i386  OK  OK  OK 
pelham Mac OS X Leopard (10.5.8) / i386  OK  OK  OK 
Package 169/353HostnameOS / ArchBUILDCHECKBUILD BIN
HilbertVisGUI 1.4.0
Simon Anders
Last Changed Rev: 42684 / Revision: 45705
Last Changed Date: 2009-10-27 16:33:29 -0700
wilson2 Linux (openSUSE 11.1) / x86_64  OK  OK 
liverpool Windows Server 2003 R2 (32-bit) / x64  OK  WARNINGS  OK 
pitt Mac OS X Tiger (10.4.11) / i386  OK  OK  OK 
pelham Mac OS X Leopard (10.5.8) / i386  OK  OK  OK 
Package 170/353HostnameOS / ArchBUILDCHECKBUILD BIN
hopach 2.6.0
Katherine S. Pollard
Last Changed Rev: 42684 / Revision: 45705
Last Changed Date: 2009-10-27 16:33:29 -0700
wilson2 Linux (openSUSE 11.1) / x86_64  OK  OK 
liverpool Windows Server 2003 R2 (32-bit) / x64  OK  OK  OK 
pitt Mac OS X Tiger (10.4.11) / i386  OK  OK  OK 
pelham Mac OS X Leopard (10.5.8) / i386  OK  OK  OK 
Package 171/353HostnameOS / ArchBUILDCHECKBUILD BIN
HTqPCR 1.0.0
Heidi Dvinge , Paul Bertone
Last Changed Rev: 42684 / Revision: 45705
Last Changed Date: 2009-10-27 16:33:29 -0700
wilson2 Linux (openSUSE 11.1) / x86_64  OK  OK 
liverpool Windows Server 2003 R2 (32-bit) / x64  OK  OK  OK 
pitt Mac OS X Tiger (10.4.11) / i386  OK  OK  OK 
pelham Mac OS X Leopard (10.5.8) / i386  OK  OK  OK 
Package 172/353HostnameOS / ArchBUILDCHECKBUILD BIN
hypergraph 1.18.0
Robert Gentleman
Last Changed Rev: 42684 / Revision: 45705
Last Changed Date: 2009-10-27 16:33:29 -0700
wilson2 Linux (openSUSE 11.1) / x86_64  OK  OK 
liverpool Windows Server 2003 R2 (32-bit) / x64  OK  OK  OK 
pitt Mac OS X Tiger (10.4.11) / i386  OK  OK  OK 
pelham Mac OS X Leopard (10.5.8) / i386  OK  OK  OK 
I  A  B  C  D  E  F  G  H [I] J  K  L  M  N  O  P  Q  R  S  T  U  V  W  X  Y  Z 
Package 173/353HostnameOS / ArchBUILDCHECKBUILD BIN
Icens 1.18.0
Biocore Team c/o BioC user list
Last Changed Rev: 42684 / Revision: 45705
Last Changed Date: 2009-10-27 16:33:29 -0700
wilson2 Linux (openSUSE 11.1) / x86_64  OK  OK 
liverpool Windows Server 2003 R2 (32-bit) / x64  OK  OK  OK 
pitt Mac OS X Tiger (10.4.11) / i386  OK  OK  OK 
pelham Mac OS X Leopard (10.5.8) / i386  OK  OK  OK 
Package 174/353HostnameOS / ArchBUILDCHECKBUILD BIN
idiogram 1.22.0
Karl J. Dykema
Last Changed Rev: 42684 / Revision: 45705
Last Changed Date: 2009-10-27 16:33:29 -0700
wilson2 Linux (openSUSE 11.1) / x86_64  OK  OK 
liverpool Windows Server 2003 R2 (32-bit) / x64  OK  OK  OK 
pitt Mac OS X Tiger (10.4.11) / i386  OK  OK  OK 
pelham Mac OS X Leopard (10.5.8) / i386  OK  OK  OK 
Package 175/353HostnameOS / ArchBUILDCHECKBUILD BIN
impute 1.20.0
Balasubramanian Narasimhan
Last Changed Rev: 42684 / Revision: 45705
Last Changed Date: 2009-10-27 16:33:29 -0700
wilson2 Linux (openSUSE 11.1) / x86_64  OK  OK 
liverpool Windows Server 2003 R2 (32-bit) / x64  OK  OK  OK 
pitt Mac OS X Tiger (10.4.11) / i386  OK  OK  OK 
pelham Mac OS X Leopard (10.5.8) / i386  OK  OK  OK 
Package 176/353HostnameOS / ArchBUILDCHECKBUILD BIN
IRanges 1.4.16
Biocore Team c/o BioC user list
Last Changed Rev: 45355 / Revision: 45705
Last Changed Date: 2010-03-19 12:17:17 -0700
wilson2 Linux (openSUSE 11.1) / x86_64  OK  OK 
liverpool Windows Server 2003 R2 (32-bit) / x64  OK  OK  OK 
pitt Mac OS X Tiger (10.4.11) / i386  OK  WARNINGS  OK 
pelham Mac OS X Leopard (10.5.8) / i386  OK  WARNINGS  OK 
Package 177/353HostnameOS / ArchBUILDCHECKBUILD BIN
ITALICS 2.6.0
Guillem Rigaill
Last Changed Rev: 42684 / Revision: 45705
Last Changed Date: 2009-10-27 16:33:29 -0700
wilson2 Linux (openSUSE 11.1) / x86_64  OK  OK 
liverpool Windows Server 2003 R2 (32-bit) / x64  OK  OK  OK 
pitt Mac OS X Tiger (10.4.11) / i386  OK  OK  OK 
pelham Mac OS X Leopard (10.5.8) / i386  OK  OK  OK 
Package 178/353HostnameOS / ArchBUILDCHECKBUILD BIN
iterativeBMA 1.4.0
Ka Yee Yeung
Last Changed Rev: 42684 / Revision: 45705
Last Changed Date: 2009-10-27 16:33:29 -0700
wilson2 Linux (openSUSE 11.1) / x86_64  OK  OK 
liverpool Windows Server 2003 R2 (32-bit) / x64  OK  OK  OK 
pitt Mac OS X Tiger (10.4.11) / i386  OK  OK  OK 
pelham Mac OS X Leopard (10.5.8) / i386  OK  OK  OK 
Package 179/353HostnameOS / ArchBUILDCHECKBUILD BIN
iterativeBMAsurv 1.4.0
Ka Yee Yeung
Last Changed Rev: 42684 / Revision: 45705
Last Changed Date: 2009-10-27 16:33:29 -0700
wilson2 Linux (openSUSE 11.1) / x86_64  OK  OK 
liverpool Windows Server 2003 R2 (32-bit) / x64  OK  OK  OK 
pitt Mac OS X Tiger (10.4.11) / i386  OK  OK  OK 
pelham Mac OS X Leopard (10.5.8) / i386  OK  OK  OK 
K  A  B  C  D  E  F  G  H  I  J [K] L  M  N  O  P  Q  R  S  T  U  V  W  X  Y  Z 
Package 180/353HostnameOS / ArchBUILDCHECKBUILD BIN
KCsmart 2.4.0
Jorma de Ronde
Last Changed Rev: 42684 / Revision: 45705
Last Changed Date: 2009-10-27 16:33:29 -0700
wilson2 Linux (openSUSE 11.1) / x86_64  OK  OK 
liverpool Windows Server 2003 R2 (32-bit) / x64  OK  OK  OK 
pitt Mac OS X Tiger (10.4.11) / i386  OK  OK  OK 
pelham Mac OS X Leopard (10.5.8) / i386  OK  OK  OK 
Package 181/353HostnameOS / ArchBUILDCHECKBUILD BIN
KEGGgraph 1.2.2
Jitao David Zhang
Last Changed Rev: 43567 / Revision: 45705
Last Changed Date: 2009-12-15 08:00:12 -0800
wilson2 Linux (openSUSE 11.1) / x86_64  OK  OK 
liverpool Windows Server 2003 R2 (32-bit) / x64  OK  OK  OK 
pitt Mac OS X Tiger (10.4.11) / i386  OK  OK  OK 
pelham Mac OS X Leopard (10.5.8) / i386  OK  OK  OK 
Package 182/353HostnameOS / ArchBUILDCHECKBUILD BIN
keggorth 1.8.0
VJ Carey
Last Changed Rev: 42684 / Revision: 45705
Last Changed Date: 2009-10-27 16:33:29 -0700
wilson2 Linux (openSUSE 11.1) / x86_64  OK  OK 
liverpool Windows Server 2003 R2 (32-bit) / x64  OK  OK  OK 
pitt Mac OS X Tiger (10.4.11) / i386  OK  OK  OK 
pelham Mac OS X Leopard (10.5.8) / i386  OK  OK  OK 
Package 183/353HostnameOS / ArchBUILDCHECKBUILD BIN
KEGGSOAP 1.20.0
Robert Gentleman
Last Changed Rev: 42684 / Revision: 45705
Last Changed Date: 2009-10-27 16:33:29 -0700
wilson2 Linux (openSUSE 11.1) / x86_64  OK  OK 
liverpool Windows Server 2003 R2 (32-bit) / x64  OK  OK  OK 
pitt Mac OS X Tiger (10.4.11) / i386  OK  OK  OK 
pelham Mac OS X Leopard (10.5.8) / i386  OK  OK  OK 
L  A  B  C  D  E  F  G  H  I  J  K [L] M  N  O  P  Q  R  S  T  U  V  W  X  Y  Z 
Package 184/353HostnameOS / ArchBUILDCHECKBUILD BIN
lapmix 1.12.0
Yann Ruffieux
Last Changed Rev: 42684 / Revision: 45705
Last Changed Date: 2009-10-27 16:33:29 -0700
wilson2 Linux (openSUSE 11.1) / x86_64  OK  OK 
liverpool Windows Server 2003 R2 (32-bit) / x64  OK  OK  OK 
pitt Mac OS X Tiger (10.4.11) / i386  OK  OK  OK 
pelham Mac OS X Leopard (10.5.8) / i386  OK  OK  OK 
Package 185/353HostnameOS / ArchBUILDCHECKBUILD BIN
LBE 1.14.0
Cyril Dalmasso
Last Changed Rev: 42684 / Revision: 45705
Last Changed Date: 2009-10-27 16:33:29 -0700
wilson2 Linux (openSUSE 11.1) / x86_64  OK  OK 
liverpool Windows Server 2003 R2 (32-bit) / x64  OK  OK  OK 
pitt Mac OS X Tiger (10.4.11) / i386  OK  OK  OK 
pelham Mac OS X Leopard (10.5.8) / i386  OK  OK  OK 
Package 186/353HostnameOS / ArchBUILDCHECKBUILD BIN
limma 3.2.3
Gordon Smyth
Last Changed Rev: 45282 / Revision: 45705
Last Changed Date: 2010-03-17 00:30:08 -0700
wilson2 Linux (openSUSE 11.1) / x86_64  OK  OK 
liverpool Windows Server 2003 R2 (32-bit) / x64  OK  OK  OK 
pitt Mac OS X Tiger (10.4.11) / i386  OK  OK  OK 
pelham Mac OS X Leopard (10.5.8) / i386  OK  OK  OK 
Package 187/353HostnameOS / ArchBUILDCHECKBUILD BIN
limmaGUI 1.22.0
Keith Satterley
Last Changed Rev: 42684 / Revision: 45705
Last Changed Date: 2009-10-27 16:33:29 -0700
wilson2 Linux (openSUSE 11.1) / x86_64  OK  OK 
liverpool Windows Server 2003 R2 (32-bit) / x64  OK  OK  OK 
pitt Mac OS X Tiger (10.4.11) / i386  OK  OK  OK 
pelham Mac OS X Leopard (10.5.8) / i386  OK  OK  OK 
Package 188/353HostnameOS / ArchBUILDCHECKBUILD BIN
LiquidAssociation 1.0.0
Yen-Yi Ho
Last Changed Rev: 42684 / Revision: 45705
Last Changed Date: 2009-10-27 16:33:29 -0700
wilson2 Linux (openSUSE 11.1) / x86_64  OK  OK 
liverpool Windows Server 2003 R2 (32-bit) / x64  OK  OK  OK 
pitt Mac OS X Tiger (10.4.11) / i386  OK  OK  OK 
pelham Mac OS X Leopard (10.5.8) / i386  OK  OK  OK 
Package 189/353HostnameOS / ArchBUILDCHECKBUILD BIN
LMGene 1.16.0
John Tillinghast
Last Changed Rev: 42684 / Revision: 45705
Last Changed Date: 2009-10-27 16:33:29 -0700
wilson2 Linux (openSUSE 11.1) / x86_64  OK  OK 
liverpool Windows Server 2003 R2 (32-bit) / x64  OK  OK  OK 
pitt Mac OS X Tiger (10.4.11) / i386  OK  OK  OK 
pelham Mac OS X Leopard (10.5.8) / i386  OK  OK  OK 
Package 190/353HostnameOS / ArchBUILDCHECKBUILD BIN
logicFS 1.16.0
Holger Schwender
Last Changed Rev: 42684 / Revision: 45705
Last Changed Date: 2009-10-27 16:33:29 -0700
wilson2 Linux (openSUSE 11.1) / x86_64  OK  OK 
liverpool Windows Server 2003 R2 (32-bit) / x64  OK  OK  OK 
pitt Mac OS X Tiger (10.4.11) / i386  OK  OK  OK 
pelham Mac OS X Leopard (10.5.8) / i386  OK  OK  OK 
Package 191/353HostnameOS / ArchBUILDCHECKBUILD BIN
logitT 1.4.0
Tobias Guennel
Last Changed Rev: 42684 / Revision: 45705
Last Changed Date: 2009-10-27 16:33:29 -0700
wilson2 Linux (openSUSE 11.1) / x86_64  OK  OK 
liverpool Windows Server 2003 R2 (32-bit) / x64  OK  OK  OK 
pitt Mac OS X Tiger (10.4.11) / i386  OK  OK  OK 
pelham Mac OS X Leopard (10.5.8) / i386  OK  OK  OK 
Package 192/353HostnameOS / ArchBUILDCHECKBUILD BIN
LPE 1.20.0
Nitin Jain
Last Changed Rev: 42684 / Revision: 45705
Last Changed Date: 2009-10-27 16:33:29 -0700
wilson2 Linux (openSUSE 11.1) / x86_64  OK  OK 
liverpool Windows Server 2003 R2 (32-bit) / x64  OK  OK  OK 
pitt Mac OS X Tiger (10.4.11) / i386  OK  OK  OK 
pelham Mac OS X Leopard (10.5.8) / i386  OK  OK  OK 
Package 193/353HostnameOS / ArchBUILDCHECKBUILD BIN
LPEadj 1.6.0
Carl Murie
Last Changed Rev: 42684 / Revision: 45705
Last Changed Date: 2009-10-27 16:33:29 -0700
wilson2 Linux (openSUSE 11.1) / x86_64  OK  OK 
liverpool Windows Server 2003 R2 (32-bit) / x64  OK  OK  OK 
pitt Mac OS X Tiger (10.4.11) / i386  OK  OK  OK 
pelham Mac OS X Leopard (10.5.8) / i386  OK  OK  OK 
Package 194/353HostnameOS / ArchBUILDCHECKBUILD BIN
lumi 1.12.4
Pan Du
Last Changed Rev: 44998 / Revision: 45705
Last Changed Date: 2010-03-02 19:50:56 -0800
wilson2 Linux (openSUSE 11.1) / x86_64  OK  WARNINGS 
liverpool Windows Server 2003 R2 (32-bit) / x64  OK  WARNINGS  OK 
pitt Mac OS X Tiger (10.4.11) / i386  OK  WARNINGS  OK 
pelham Mac OS X Leopard (10.5.8) / i386  OK  WARNINGS  OK 
M  A  B  C  D  E  F  G  H  I  J  K  L [M] N  O  P  Q  R  S  T  U  V  W  X  Y  Z 
Package 195/353HostnameOS / ArchBUILDCHECKBUILD BIN
maanova 1.16.0
Keith Sheppard
Last Changed Rev: 42684 / Revision: 45705
Last Changed Date: 2009-10-27 16:33:29 -0700
wilson2 Linux (openSUSE 11.1) / x86_64  OK  OK 
liverpool Windows Server 2003 R2 (32-bit) / x64  OK  OK  OK 
pitt Mac OS X Tiger (10.4.11) / i386  OK  OK  OK 
pelham Mac OS X Leopard (10.5.8) / i386  OK  OK  OK 
Package 196/353HostnameOS / ArchBUILDCHECKBUILD BIN
macat 1.20.0
Joern Toedling
Last Changed Rev: 42684 / Revision: 45705
Last Changed Date: 2009-10-27 16:33:29 -0700
wilson2 Linux (openSUSE 11.1) / x86_64  OK  OK 
liverpool Windows Server 2003 R2 (32-bit) / x64  OK  OK  OK 
pitt Mac OS X Tiger (10.4.11) / i386  OK  OK  OK 
pelham Mac OS X Leopard (10.5.8) / i386  OK  OK  OK 
Package 197/353HostnameOS / ArchBUILDCHECKBUILD BIN
maCorrPlot 1.16.0
Alexander Ploner
Last Changed Rev: 42684 / Revision: 45705
Last Changed Date: 2009-10-27 16:33:29 -0700
wilson2 Linux (openSUSE 11.1) / x86_64  OK  OK 
liverpool Windows Server 2003 R2 (32-bit) / x64  OK  OK  OK 
pitt Mac OS X Tiger (10.4.11) / i386  OK  OK  OK 
pelham Mac OS X Leopard (10.5.8) / i386  OK  OK  OK 
Package 198/353HostnameOS / ArchBUILDCHECKBUILD BIN
maDB 1.18.0
Johannes Rainer
Last Changed Rev: 42684 / Revision: 45705
Last Changed Date: 2009-10-27 16:33:29 -0700
wilson2 Linux (openSUSE 11.1) / x86_64  OK  OK 
liverpool Windows Server 2003 R2 (32-bit) / x64 N O T   S U P P O R T E D
pitt Mac OS X Tiger (10.4.11) / i386  OK  OK  OK 
pelham Mac OS X Leopard (10.5.8) / i386  OK  OK  OK 
Package 199/353HostnameOS / ArchBUILDCHECKBUILD BIN
made4 1.20.0
Aedin Culhane
Last Changed Rev: 42684 / Revision: 45705
Last Changed Date: 2009-10-27 16:33:29 -0700
wilson2 Linux (openSUSE 11.1) / x86_64  OK  OK 
liverpool Windows Server 2003 R2 (32-bit) / x64  OK  OK  OK 
pitt Mac OS X Tiger (10.4.11) / i386  OK  OK  OK 
pelham Mac OS X Leopard (10.5.8) / i386  OK  OK  OK 
Package 200/353HostnameOS / ArchBUILDCHECKBUILD BIN
maigesPack 1.10.0
Gustavo H. Esteves
Last Changed Rev: 42684 / Revision: 45705
Last Changed Date: 2009-10-27 16:33:29 -0700
wilson2 Linux (openSUSE 11.1) / x86_64  OK  OK 
liverpool Windows Server 2003 R2 (32-bit) / x64  OK  OK  OK 
pitt Mac OS X Tiger (10.4.11) / i386  OK  OK  OK 
pelham Mac OS X Leopard (10.5.8) / i386  OK  OK  OK 
Package 201/353HostnameOS / ArchBUILDCHECKBUILD BIN
makecdfenv 1.24.0
James W. MacDonald
Last Changed Rev: 42684 / Revision: 45705
Last Changed Date: 2009-10-27 16:33:29 -0700
wilson2 Linux (openSUSE 11.1) / x86_64  OK  OK 
liverpool Windows Server 2003 R2 (32-bit) / x64  OK  OK  OK 
pitt Mac OS X Tiger (10.4.11) / i386  OK  OK  OK 
pelham Mac OS X Leopard (10.5.8) / i386  OK  OK  OK 
Package 202/353HostnameOS / ArchBUILDCHECKBUILD BIN
makePlatformDesign 1.10.0
Benilton Carvalho
Last Changed Rev: 42684 / Revision: 45705
Last Changed Date: 2009-10-27 16:33:29 -0700
wilson2 Linux (openSUSE 11.1) / x86_64  OK  OK 
liverpool Windows Server 2003 R2 (32-bit) / x64  OK  OK  OK 
pitt Mac OS X Tiger (10.4.11) / i386  OK  OK  OK 
pelham Mac OS X Leopard (10.5.8) / i386  OK  OK  OK 
Package 203/353HostnameOS / ArchBUILDCHECKBUILD BIN
MANOR 1.18.0
Pierre Neuvial
Last Changed Rev: 42684 / Revision: 45705
Last Changed Date: 2009-10-27 16:33:29 -0700
wilson2 Linux (openSUSE 11.1) / x86_64  OK  OK 
liverpool Windows Server 2003 R2 (32-bit) / x64  OK  OK  OK 
pitt Mac OS X Tiger (10.4.11) / i386  OK  OK  OK 
pelham Mac OS X Leopard (10.5.8) / i386  OK  OK  OK 
Package 204/353HostnameOS / ArchBUILDCHECKBUILD BIN
MantelCorr 1.16.0
Brian Steinmeyer
Last Changed Rev: 42684 / Revision: 45705
Last Changed Date: 2009-10-27 16:33:29 -0700
wilson2 Linux (openSUSE 11.1) / x86_64  OK  OK 
liverpool Windows Server 2003 R2 (32-bit) / x64  OK  OK  OK 
pitt Mac OS X Tiger (10.4.11) / i386  OK  OK  OK 
pelham Mac OS X Leopard (10.5.8) / i386  OK  OK  OK 
Package 205/353HostnameOS / ArchBUILDCHECKBUILD BIN
marray 1.24.0
Yee Hwa (Jean) Yang
Last Changed Rev: 42684 / Revision: 45705
Last Changed Date: 2009-10-27 16:33:29 -0700
wilson2 Linux (openSUSE 11.1) / x86_64  OK  OK 
liverpool Windows Server 2003 R2 (32-bit) / x64  OK  OK  OK 
pitt Mac OS X Tiger (10.4.11) / i386  OK  OK  OK 
pelham Mac OS X Leopard (10.5.8) / i386  OK  OK  OK 
Package 206/353HostnameOS / ArchBUILDCHECKBUILD BIN
maSigPro 1.18.0
Ana Conesa
Last Changed Rev: 42684 / Revision: 45705
Last Changed Date: 2009-10-27 16:33:29 -0700
wilson2 Linux (openSUSE 11.1) / x86_64  OK  OK 
liverpool Windows Server 2003 R2 (32-bit) / x64  OK  OK  OK 
pitt Mac OS X Tiger (10.4.11) / i386  OK  OK  OK 
pelham Mac OS X Leopard (10.5.8) / i386  OK  OK  OK 
Package 207/353HostnameOS / ArchBUILDCHECKBUILD BIN
MassSpecWavelet 1.12.0
Pan Du
Last Changed Rev: 42684 / Revision: 45705
Last Changed Date: 2009-10-27 16:33:29 -0700
wilson2 Linux (openSUSE 11.1) / x86_64  OK  OK 
liverpool Windows Server 2003 R2 (32-bit) / x64  OK  OK  OK 
pitt Mac OS X Tiger (10.4.11) / i386  OK  OK  OK 
pelham Mac OS X Leopard (10.5.8) / i386  OK  OK  OK 
Package 208/353HostnameOS / ArchBUILDCHECKBUILD BIN
matchprobes 1.18.0
Biocore Team c/o BioC user list
Last Changed Rev: 42684 / Revision: 45705
Last Changed Date: 2009-10-27 16:33:29 -0700
wilson2 Linux (openSUSE 11.1) / x86_64  OK  OK 
liverpool Windows Server 2003 R2 (32-bit) / x64  OK  OK  OK 
pitt Mac OS X Tiger (10.4.11) / i386  OK  OK  OK 
pelham Mac OS X Leopard (10.5.8) / i386  OK  OK  OK 
Package 209/353HostnameOS / ArchBUILDCHECKBUILD BIN
mBPCR 1.0.0
P.M.V. Rancoita
Last Changed Rev: 42684 / Revision: 45705
Last Changed Date: 2009-10-27 16:33:29 -0700
wilson2 Linux (openSUSE 11.1) / x86_64  OK  OK 
liverpool Windows Server 2003 R2 (32-bit) / x64  OK  OK  OK 
pitt Mac OS X Tiger (10.4.11) / i386  OK  OK  OK 
pelham Mac OS X Leopard (10.5.8) / i386  OK  OK  OK 
Package 210/353HostnameOS / ArchBUILDCHECKBUILD BIN
MCRestimate 2.2.0
Marc Johannes
Last Changed Rev: 42684 / Revision: 45705
Last Changed Date: 2009-10-27 16:33:29 -0700
wilson2 Linux (openSUSE 11.1) / x86_64  OK  OK 
liverpool Windows Server 2003 R2 (32-bit) / x64  OK  OK  OK 
pitt Mac OS X Tiger (10.4.11) / i386  OK  OK  OK 
pelham Mac OS X Leopard (10.5.8) / i386  OK  OK  OK 
Package 211/353HostnameOS / ArchBUILDCHECKBUILD BIN
mdqc 1.8.0
Gabriela Cohen-Freue
Last Changed Rev: 42684 / Revision: 45705
Last Changed Date: 2009-10-27 16:33:29 -0700
wilson2 Linux (openSUSE 11.1) / x86_64  OK  OK 
liverpool Windows Server 2003 R2 (32-bit) / x64  OK  OK  OK 
pitt Mac OS X Tiger (10.4.11) / i386  OK  OK  OK 
pelham Mac OS X Leopard (10.5.8) / i386  OK  OK  OK 
Package 212/353HostnameOS / ArchBUILDCHECKBUILD BIN
MeasurementError.cor 1.18.0
Beiying Ding
Last Changed Rev: 42684 / Revision: 45705
Last Changed Date: 2009-10-27 16:33:29 -0700
wilson2 Linux (openSUSE 11.1) / x86_64  OK  OK 
liverpool Windows Server 2003 R2 (32-bit) / x64  OK  OK  OK 
pitt Mac OS X Tiger (10.4.11) / i386  OK  OK  OK 
pelham Mac OS X Leopard (10.5.8) / i386  OK  OK  OK 
Package 213/353HostnameOS / ArchBUILDCHECKBUILD BIN
MEDME 1.6.0
Mattia Pelizzola
Last Changed Rev: 42684 / Revision: 45705
Last Changed Date: 2009-10-27 16:33:29 -0700
wilson2 Linux (openSUSE 11.1) / x86_64  OK  OK 
liverpool Windows Server 2003 R2 (32-bit) / x64  OK  OK  OK 
pitt Mac OS X Tiger (10.4.11) / i386  OK  OK  OK 
pelham Mac OS X Leopard (10.5.8) / i386  OK  OK  OK 
Package 214/353HostnameOS / ArchBUILDCHECKBUILD BIN
MergeMaid 2.18.0
Xiaogang Zhong
Last Changed Rev: 42684 / Revision: 45705
Last Changed Date: 2009-10-27 16:33:29 -0700
wilson2 Linux (openSUSE 11.1) / x86_64  OK  OK 
liverpool Windows Server 2003 R2 (32-bit) / x64  OK  OK  OK 
pitt Mac OS X Tiger (10.4.11) / i386  OK  OK  OK 
pelham Mac OS X Leopard (10.5.8) / i386  OK  OK  OK 
Package 215/353HostnameOS / ArchBUILDCHECKBUILD BIN
metaArray 1.22.0
Hyungwon Choi
Last Changed Rev: 42684 / Revision: 45705
Last Changed Date: 2009-10-27 16:33:29 -0700
wilson2 Linux (openSUSE 11.1) / x86_64  OK  OK 
liverpool Windows Server 2003 R2 (32-bit) / x64  OK  OK  OK 
pitt Mac OS X Tiger (10.4.11) / i386  OK  OK  OK 
pelham Mac OS X Leopard (10.5.8) / i386  OK  OK  OK 
Package 216/353HostnameOS / ArchBUILDCHECKBUILD BIN
metahdep 1.4.0
John R. Stevens
Last Changed Rev: 42684 / Revision: 45705
Last Changed Date: 2009-10-27 16:33:29 -0700
wilson2 Linux (openSUSE 11.1) / x86_64  OK  OK 
liverpool Windows Server 2003 R2 (32-bit) / x64  OK  OK  OK 
pitt Mac OS X Tiger (10.4.11) / i386  OK  OK  OK 
pelham Mac OS X Leopard (10.5.8) / i386  OK  OK  OK 
Package 217/353HostnameOS / ArchBUILDCHECKBUILD BIN
methylumi 1.0.0
Sean Davis
Last Changed Rev: 42684 / Revision: 45705
Last Changed Date: 2009-10-27 16:33:29 -0700
wilson2 Linux (openSUSE 11.1) / x86_64  OK  OK 
liverpool Windows Server 2003 R2 (32-bit) / x64  OK  OK  OK 
pitt Mac OS X Tiger (10.4.11) / i386  OK  OK  OK 
pelham Mac OS X Leopard (10.5.8) / i386  OK  OK  OK 
Package 218/353HostnameOS / ArchBUILDCHECKBUILD BIN
Mfuzz 2.4.0
Matthias Futschik
Last Changed Rev: 42684 / Revision: 45705
Last Changed Date: 2009-10-27 16:33:29 -0700
wilson2 Linux (openSUSE 11.1) / x86_64  OK  OK 
liverpool Windows Server 2003 R2 (32-bit) / x64  OK  OK  OK 
pitt Mac OS X Tiger (10.4.11) / i386  OK  OK  OK 
pelham Mac OS X Leopard (10.5.8) / i386  OK  OK  OK 
Package 219/353HostnameOS / ArchBUILDCHECKBUILD BIN
MiChip 1.0.0
Jonathon Blake
Last Changed Rev: 42684 / Revision: 45705
Last Changed Date: 2009-10-27 16:33:29 -0700
wilson2 Linux (openSUSE 11.1) / x86_64  OK  OK 
liverpool Windows Server 2003 R2 (32-bit) / x64  OK  OK  OK 
pitt Mac OS X Tiger (10.4.11) / i386  OK  OK  OK 
pelham Mac OS X Leopard (10.5.8) / i386  OK  OK  OK 
Package 220/353HostnameOS / ArchBUILDCHECKBUILD BIN
microRNA 1.4.0
Robert Gentleman
Last Changed Rev: 42684 / Revision: 45705
Last Changed Date: 2009-10-27 16:33:29 -0700
wilson2 Linux (openSUSE 11.1) / x86_64  OK  OK 
liverpool Windows Server 2003 R2 (32-bit) / x64  OK  WARNINGS  OK 
pitt Mac OS X Tiger (10.4.11) / i386  OK  OK  OK 
pelham Mac OS X Leopard (10.5.8) / i386  OK  OK  OK 
Package 221/353HostnameOS / ArchBUILDCHECKBUILD BIN
minet 1.8.0
Patrick E. Meyer
Last Changed Rev: 42684 / Revision: 45705
Last Changed Date: 2009-10-27 16:33:29 -0700
wilson2 Linux (openSUSE 11.1) / x86_64  OK  OK 
liverpool Windows Server 2003 R2 (32-bit) / x64  OK  OK  OK 
pitt Mac OS X Tiger (10.4.11) / i386  OK  OK  OK 
pelham Mac OS X Leopard (10.5.8) / i386  OK  OK  OK 
Package 222/353HostnameOS / ArchBUILDCHECKBUILD BIN
MiPP 1.18.0
Sukwoo Kim
Last Changed Rev: 42684 / Revision: 45705
Last Changed Date: 2009-10-27 16:33:29 -0700
wilson2 Linux (openSUSE 11.1) / x86_64  OK  OK 
liverpool Windows Server 2003 R2 (32-bit) / x64  OK  OK  OK 
pitt Mac OS X Tiger (10.4.11) / i386  OK  OK  OK 
pelham Mac OS X Leopard (10.5.8) / i386  OK  OK  OK 
Package 223/353HostnameOS / ArchBUILDCHECKBUILD BIN
miRNApath 1.6.0
James M. Ward
Last Changed Rev: 42684 / Revision: 45705
Last Changed Date: 2009-10-27 16:33:29 -0700
wilson2 Linux (openSUSE 11.1) / x86_64  OK  OK 
liverpool Windows Server 2003 R2 (32-bit) / x64  OK  OK  OK 
pitt Mac OS X Tiger (10.4.11) / i386  OK  OK  OK 
pelham Mac OS X Leopard (10.5.8) / i386  OK  OK  OK 
Package 224/353HostnameOS / ArchBUILDCHECKBUILD BIN
MLInterfaces 1.26.1
V. Carey
Last Changed Rev: 43571 / Revision: 45705
Last Changed Date: 2009-12-15 13:40:46 -0800
wilson2 Linux (openSUSE 11.1) / x86_64  OK  OK 
liverpool Windows Server 2003 R2 (32-bit) / x64  OK  OK  OK 
pitt Mac OS X Tiger (10.4.11) / i386  OK  OK  OK 
pelham Mac OS X Leopard (10.5.8) / i386  OK  OK  OK 
Package 225/353HostnameOS / ArchBUILDCHECKBUILD BIN
multiscan 1.6.0
Mizanur Khondoker
Last Changed Rev: 42684 / Revision: 45705
Last Changed Date: 2009-10-27 16:33:29 -0700
wilson2 Linux (openSUSE 11.1) / x86_64  OK  OK 
liverpool Windows Server 2003 R2 (32-bit) / x64  OK  OK  OK 
pitt Mac OS X Tiger (10.4.11) / i386  OK  OK  OK 
pelham Mac OS X Leopard (10.5.8) / i386  OK  OK  OK 
Package 226/353HostnameOS / ArchBUILDCHECKBUILD BIN
multtest 2.2.0
Katherine S. Pollard
Last Changed Rev: 42684 / Revision: 45705
Last Changed Date: 2009-10-27 16:33:29 -0700
wilson2 Linux (openSUSE 11.1) / x86_64  OK  OK 
liverpool Windows Server 2003 R2 (32-bit) / x64  OK  OK  OK 
pitt Mac OS X Tiger (10.4.11) / i386  OK  OK  OK 
pelham Mac OS X Leopard (10.5.8) / i386  OK  OK  OK 
Package 227/353HostnameOS / ArchBUILDCHECKBUILD BIN
MVCClass 1.20.0
Elizabeth Whalen
Last Changed Rev: 42684 / Revision: 45705
Last Changed Date: 2009-10-27 16:33:29 -0700
wilson2 Linux (openSUSE 11.1) / x86_64  OK  OK 
liverpool Windows Server 2003 R2 (32-bit) / x64  OK  OK  OK 
pitt Mac OS X Tiger (10.4.11) / i386  OK  OK  OK 
pelham Mac OS X Leopard (10.5.8) / i386  OK  OK  OK 
N  A  B  C  D  E  F  G  H  I  J  K  L  M [N] O  P  Q  R  S  T  U  V  W  X  Y  Z 
Package 228/353HostnameOS / ArchBUILDCHECKBUILD BIN
nem 2.10.0
Christian Bender
Last Changed Rev: 42684 / Revision: 45705
Last Changed Date: 2009-10-27 16:33:29 -0700
wilson2 Linux (openSUSE 11.1) / x86_64  ERROR  skipped 
liverpool Windows Server 2003 R2 (32-bit) / x64  ERROR  skipped  skipped 
pitt Mac OS X Tiger (10.4.11) / i386  ERROR  skipped  skipped 
pelham Mac OS X Leopard (10.5.8) / i386  ERROR  skipped  skipped 
Package 229/353HostnameOS / ArchBUILDCHECKBUILD BIN
nnNorm 2.10.0
Adi Laurentiu Tarca
Last Changed Rev: 42684 / Revision: 45705
Last Changed Date: 2009-10-27 16:33:29 -0700
wilson2 Linux (openSUSE 11.1) / x86_64  OK  WARNINGS 
liverpool Windows Server 2003 R2 (32-bit) / x64  OK  WARNINGS  OK 
pitt Mac OS X Tiger (10.4.11) / i386  OK  WARNINGS  OK 
pelham Mac OS X Leopard (10.5.8) / i386  OK  WARNINGS  OK 
Package 230/353HostnameOS / ArchBUILDCHECKBUILD BIN
nudge 1.12.0
N. Dean
Last Changed Rev: 42684 / Revision: 45705
Last Changed Date: 2009-10-27 16:33:29 -0700
wilson2 Linux (openSUSE 11.1) / x86_64  OK  OK 
liverpool Windows Server 2003 R2 (32-bit) / x64  OK  OK  OK 
pitt Mac OS X Tiger (10.4.11) / i386  OK  OK  OK 
pelham Mac OS X Leopard (10.5.8) / i386  OK  OK  OK 
O  A  B  C  D  E  F  G  H  I  J  K  L  M  N [O] P  Q  R  S  T  U  V  W  X  Y  Z 
Package 231/353HostnameOS / ArchBUILDCHECKBUILD BIN
occugene 1.6.0
Oliver Will
Last Changed Rev: 42684 / Revision: 45705
Last Changed Date: 2009-10-27 16:33:29 -0700
wilson2 Linux (openSUSE 11.1) / x86_64  OK  OK 
liverpool Windows Server 2003 R2 (32-bit) / x64  OK  OK  OK 
pitt Mac OS X Tiger (10.4.11) / i386  OK  OK  OK 
pelham Mac OS X Leopard (10.5.8) / i386  OK  OK  OK 
Package 232/353HostnameOS / ArchBUILDCHECKBUILD BIN
OCplus 1.20.0
Alexander Ploner
Last Changed Rev: 42684 / Revision: 45705
Last Changed Date: 2009-10-27 16:33:29 -0700
wilson2 Linux (openSUSE 11.1) / x86_64  OK  OK 
liverpool Windows Server 2003 R2 (32-bit) / x64  OK  OK  OK 
pitt Mac OS X Tiger (10.4.11) / i386  OK  OK  OK 
pelham Mac OS X Leopard (10.5.8) / i386  OK  OK  OK 
Package 233/353HostnameOS / ArchBUILDCHECKBUILD BIN
oligo 1.10.4
Benilton Carvalho
Last Changed Rev: 45393 / Revision: 45705
Last Changed Date: 2010-03-22 04:28:58 -0700
wilson2 Linux (openSUSE 11.1) / x86_64  OK  OK 
liverpool Windows Server 2003 R2 (32-bit) / x64  OK  OK  OK 
pitt Mac OS X Tiger (10.4.11) / i386  OK  OK  OK 
pelham Mac OS X Leopard (10.5.8) / i386  OK  OK  OK 
Package 234/353HostnameOS / ArchBUILDCHECKBUILD BIN
oligoClasses 1.8.0
Benilton Carvalho
Last Changed Rev: 42684 / Revision: 45705
Last Changed Date: 2009-10-27 16:33:29 -0700
wilson2 Linux (openSUSE 11.1) / x86_64  OK  OK 
liverpool Windows Server 2003 R2 (32-bit) / x64  OK  OK  OK 
pitt Mac OS X Tiger (10.4.11) / i386  OK  OK  OK 
pelham Mac OS X Leopard (10.5.8) / i386  OK  OK  OK 
Package 235/353HostnameOS / ArchBUILDCHECKBUILD BIN
OLIN 1.24.0
Matthias Futschik
Last Changed Rev: 42684 / Revision: 45705
Last Changed Date: 2009-10-27 16:33:29 -0700
wilson2 Linux (openSUSE 11.1) / x86_64  OK  OK 
liverpool Windows Server 2003 R2 (32-bit) / x64  OK  OK  OK 
pitt Mac OS X Tiger (10.4.11) / i386  OK  OK  OK 
pelham Mac OS X Leopard (10.5.8) / i386  OK  OK  OK 
Package 236/353HostnameOS / ArchBUILDCHECKBUILD BIN
OLINgui 1.20.0
Matthias Futschik
Last Changed Rev: 42684 / Revision: 45705
Last Changed Date: 2009-10-27 16:33:29 -0700
wilson2 Linux (openSUSE 11.1) / x86_64  OK  OK 
liverpool Windows Server 2003 R2 (32-bit) / x64  OK  OK  OK 
pitt Mac OS X Tiger (10.4.11) / i386  OK  OK  OK 
pelham Mac OS X Leopard (10.5.8) / i386  OK  OK  OK 
Package 237/353HostnameOS / ArchBUILDCHECKBUILD BIN
oneChannelGUI 1.12.5
Raffaele A Calogero
Last Changed Rev: 44648 / Revision: 45705
Last Changed Date: 2010-02-11 04:27:11 -0800
wilson2 Linux (openSUSE 11.1) / x86_64  OK  OK 
liverpool Windows Server 2003 R2 (32-bit) / x64  OK  OK  OK 
pitt Mac OS X Tiger (10.4.11) / i386  OK  OK  OK 
pelham Mac OS X Leopard (10.5.8) / i386  OK  OK  OK 
Package 238/353HostnameOS / ArchBUILDCHECKBUILD BIN
ontoTools 1.24.0
Vince Carey
Last Changed Rev: 42684 / Revision: 45705
Last Changed Date: 2009-10-27 16:33:29 -0700
wilson2 Linux (openSUSE 11.1) / x86_64  OK  OK 
liverpool Windows Server 2003 R2 (32-bit) / x64  OK  OK  OK 
pitt Mac OS X Tiger (10.4.11) / i386  OK  OK  OK 
pelham Mac OS X Leopard (10.5.8) / i386  OK  OK  OK 
Package 239/353HostnameOS / ArchBUILDCHECKBUILD BIN
OrderedList 1.18.0
Claudio Lottaz
Last Changed Rev: 42684 / Revision: 45705
Last Changed Date: 2009-10-27 16:33:29 -0700
wilson2 Linux (openSUSE 11.1) / x86_64  OK  OK 
liverpool Windows Server 2003 R2 (32-bit) / x64  OK  OK  OK 
pitt Mac OS X Tiger (10.4.11) / i386  OK  OK  OK 
pelham Mac OS X Leopard (10.5.8) / i386  OK  OK  OK 
Package 240/353HostnameOS / ArchBUILDCHECKBUILD BIN
OutlierD 1.10.0
Sukwoo Kim
Last Changed Rev: 42684 / Revision: 45705
Last Changed Date: 2009-10-27 16:33:29 -0700
wilson2 Linux (openSUSE 11.1) / x86_64  OK  OK 
liverpool Windows Server 2003 R2 (32-bit) / x64  OK  OK  OK 
pitt Mac OS X Tiger (10.4.11) / i386  OK  OK  OK 
pelham Mac OS X Leopard (10.5.8) / i386  OK  OK  OK 
P  A  B  C  D  E  F  G  H  I  J  K  L  M  N  O [P] Q  R  S  T  U  V  W  X  Y  Z 
Package 241/353HostnameOS / ArchBUILDCHECKBUILD BIN
pamr 1.44.0
Rob Tibshirani
Last Changed Rev: 42684 / Revision: 45705
Last Changed Date: 2009-10-27 16:33:29 -0700
wilson2 Linux (openSUSE 11.1) / x86_64  OK  OK 
liverpool Windows Server 2003 R2 (32-bit) / x64  OK  OK  OK 
pitt Mac OS X Tiger (10.4.11) / i386  OK  OK  OK 
pelham Mac OS X Leopard (10.5.8) / i386  OK  OK  OK 
Package 242/353HostnameOS / ArchBUILDCHECKBUILD BIN
PAnnBuilder 1.8.0
Li Hong
Last Changed Rev: 42684 / Revision: 45705
Last Changed Date: 2009-10-27 16:33:29 -0700
wilson2 Linux (openSUSE 11.1) / x86_64  OK  OK 
liverpool Windows Server 2003 R2 (32-bit) / x64  OK  OK  OK 
pitt Mac OS X Tiger (10.4.11) / i386  OK  OK  OK 
pelham Mac OS X Leopard (10.5.8) / i386  OK  OK  OK 
Package 243/353HostnameOS / ArchBUILDCHECKBUILD BIN
panp 1.16.0
Peter Warren
Last Changed Rev: 42684 / Revision: 45705
Last Changed Date: 2009-10-27 16:33:29 -0700
wilson2 Linux (openSUSE 11.1) / x86_64  OK  OK 
liverpool Windows Server 2003 R2 (32-bit) / x64  OK  OK  OK 
pitt Mac OS X Tiger (10.4.11) / i386  OK  OK  OK 
pelham Mac OS X Leopard (10.5.8) / i386  OK  OK  OK 
Package 244/353HostnameOS / ArchBUILDCHECKBUILD BIN
parody 1.4.0
VJ Carey
Last Changed Rev: 42684 / Revision: 45705
Last Changed Date: 2009-10-27 16:33:29 -0700
wilson2 Linux (openSUSE 11.1) / x86_64  OK  OK 
liverpool Windows Server 2003 R2 (32-bit) / x64  OK  OK  OK 
pitt Mac OS X Tiger (10.4.11) / i386  OK  OK  OK 
pelham Mac OS X Leopard (10.5.8) / i386  OK  OK  OK 
Package 245/353HostnameOS / ArchBUILDCHECKBUILD BIN
pathRender 1.14.0
Li Long
Last Changed Rev: 42684 / Revision: 45705
Last Changed Date: 2009-10-27 16:33:29 -0700
wilson2 Linux (openSUSE 11.1) / x86_64  OK  OK 
liverpool Windows Server 2003 R2 (32-bit) / x64  OK  OK  OK 
pitt Mac OS X Tiger (10.4.11) / i386  OK  OK  OK 
pelham Mac OS X Leopard (10.5.8) / i386  OK  OK  OK 
Package 246/353HostnameOS / ArchBUILDCHECKBUILD BIN
pcaMethods 1.24.0
Wolfram Stacklies
Last Changed Rev: 42684 / Revision: 45705
Last Changed Date: 2009-10-27 16:33:29 -0700
wilson2 Linux (openSUSE 11.1) / x86_64  OK  OK 
liverpool Windows Server 2003 R2 (32-bit) / x64  OK  OK  OK 
pitt Mac OS X Tiger (10.4.11) / i386  OK  OK  OK 
pelham Mac OS X Leopard (10.5.8) / i386  OK  OK  OK 
Package 247/353HostnameOS / ArchBUILDCHECKBUILD BIN
pcot2 1.14.0
Sarah Song
Last Changed Rev: 42684 / Revision: 45705
Last Changed Date: 2009-10-27 16:33:29 -0700
wilson2 Linux (openSUSE 11.1) / x86_64  OK  OK 
liverpool Windows Server 2003 R2 (32-bit) / x64  OK  OK  OK 
pitt Mac OS X Tiger (10.4.11) / i386  OK  OK  OK 
pelham Mac OS X Leopard (10.5.8) / i386  OK  OK  OK 
Package 248/353HostnameOS / ArchBUILDCHECKBUILD BIN
PCpheno 1.8.0
Nolwenn Le Meur
Last Changed Rev: 42684 / Revision: 45705
Last Changed Date: 2009-10-27 16:33:29 -0700
wilson2 Linux (openSUSE 11.1) / x86_64  OK  WARNINGS 
liverpool Windows Server 2003 R2 (32-bit) / x64  OK  WARNINGS  OK 
pitt Mac OS X Tiger (10.4.11) / i386  OK  WARNINGS  OK 
pelham Mac OS X Leopard (10.5.8) / i386  OK  WARNINGS  OK 
Package 249/353HostnameOS / ArchBUILDCHECKBUILD BIN
pdInfoBuilder 1.10.1
Benilton Carvalho
Last Changed Rev: 44550 / Revision: 45705
Last Changed Date: 2010-02-08 06:39:01 -0800
wilson2 Linux (openSUSE 11.1) / x86_64  OK  OK 
liverpool Windows Server 2003 R2 (32-bit) / x64  OK  OK  OK 
pitt Mac OS X Tiger (10.4.11) / i386  OK  OK  OK 
pelham Mac OS X Leopard (10.5.8) / i386  OK  OK  OK 
Package 250/353HostnameOS / ArchBUILDCHECKBUILD BIN
pdmclass 1.18.0
James W. MacDonald
Last Changed Rev: 42684 / Revision: 45705
Last Changed Date: 2009-10-27 16:33:29 -0700
wilson2 Linux (openSUSE 11.1) / x86_64  OK  OK 
liverpool Windows Server 2003 R2 (32-bit) / x64  OK  OK  OK 
pitt Mac OS X Tiger (10.4.11) / i386  OK  OK  OK 
pelham Mac OS X Leopard (10.5.8) / i386  OK  OK  OK 
Package 251/353HostnameOS / ArchBUILDCHECKBUILD BIN
PGSEA 1.14.0
Karl Dykema
Last Changed Rev: 42684 / Revision: 45705
Last Changed Date: 2009-10-27 16:33:29 -0700
wilson2 Linux (openSUSE 11.1) / x86_64  ERROR  skipped 
liverpool Windows Server 2003 R2 (32-bit) / x64  OK  OK  OK 
pitt Mac OS X Tiger (10.4.11) / i386  OK  OK  OK 
pelham Mac OS X Leopard (10.5.8) / i386  OK  OK  OK 
Package 252/353HostnameOS / ArchBUILDCHECKBUILD BIN
pgUtils 1.18.0
Johannes Rainer
Last Changed Rev: 42684 / Revision: 45705
Last Changed Date: 2009-10-27 16:33:29 -0700
wilson2 Linux (openSUSE 11.1) / x86_64  OK  OK 
liverpool Windows Server 2003 R2 (32-bit) / x64 N O T   S U P P O R T E D
pitt Mac OS X Tiger (10.4.11) / i386  OK  OK  OK 
pelham Mac OS X Leopard (10.5.8) / i386  OK  OK  OK 
Package 253/353HostnameOS / ArchBUILDCHECKBUILD BIN
pickgene 1.18.0
Brian S. Yandell
Last Changed Rev: 42684 / Revision: 45705
Last Changed Date: 2009-10-27 16:33:29 -0700
wilson2 Linux (openSUSE 11.1) / x86_64  OK  OK 
liverpool Windows Server 2003 R2 (32-bit) / x64  OK  OK  OK 
pitt Mac OS X Tiger (10.4.11) / i386  OK  OK  OK 
pelham Mac OS X Leopard (10.5.8) / i386  OK  OK  OK 
Package 254/353HostnameOS / ArchBUILDCHECKBUILD BIN
pkgDepTools 1.12.0
Seth Falcon
Last Changed Rev: 42684 / Revision: 45705
Last Changed Date: 2009-10-27 16:33:29 -0700
wilson2 Linux (openSUSE 11.1) / x86_64  OK  OK 
liverpool Windows Server 2003 R2 (32-bit) / x64  OK  OK  OK 
pitt Mac OS X Tiger (10.4.11) / i386  OK  OK  OK 
pelham Mac OS X Leopard (10.5.8) / i386  OK  OK  OK 
Package 255/353HostnameOS / ArchBUILDCHECKBUILD BIN
plateCore 1.4.0
Errol Strain
Last Changed Rev: 42684 / Revision: 45705
Last Changed Date: 2009-10-27 16:33:29 -0700
wilson2 Linux (openSUSE 11.1) / x86_64  OK  OK 
liverpool Windows Server 2003 R2 (32-bit) / x64  OK  OK  OK 
pitt Mac OS X Tiger (10.4.11) / i386  OK  OK  OK 
pelham Mac OS X Leopard (10.5.8) / i386  OK  OK  OK 
Package 256/353HostnameOS / ArchBUILDCHECKBUILD BIN
plgem 1.18.2
Norman Pavelka
Last Changed Rev: 42917 / Revision: 45705
Last Changed Date: 2009-11-11 13:15:21 -0800
wilson2 Linux (openSUSE 11.1) / x86_64  OK  OK 
liverpool Windows Server 2003 R2 (32-bit) / x64  OK  OK  OK 
pitt Mac OS X Tiger (10.4.11) / i386  OK  OK  OK 
pelham Mac OS X Leopard (10.5.8) / i386  OK  OK  OK 
Package 257/353HostnameOS / ArchBUILDCHECKBUILD BIN
plier 1.16.0
Crispin Miller
Last Changed Rev: 42684 / Revision: 45705
Last Changed Date: 2009-10-27 16:33:29 -0700
wilson2 Linux (openSUSE 11.1) / x86_64  OK  OK 
liverpool Windows Server 2003 R2 (32-bit) / x64  OK  OK  OK 
pitt Mac OS X Tiger (10.4.11) / i386  OK  OK  OK 
pelham Mac OS X Leopard (10.5.8) / i386  OK  OK  OK 
Package 258/353HostnameOS / ArchBUILDCHECKBUILD BIN
PLPE 1.6.0
Soo-heang Eo
Last Changed Rev: 42684 / Revision: 45705
Last Changed Date: 2009-10-27 16:33:29 -0700
wilson2 Linux (openSUSE 11.1) / x86_64  OK  OK 
liverpool Windows Server 2003 R2 (32-bit) / x64  OK  OK  OK 
pitt Mac OS X Tiger (10.4.11) / i386  OK  OK  OK 
pelham Mac OS X Leopard (10.5.8) / i386  OK  OK  OK 
Package 259/353HostnameOS / ArchBUILDCHECKBUILD BIN
plw 1.6.0
Magnus Astrand
Last Changed Rev: 42684 / Revision: 45705
Last Changed Date: 2009-10-27 16:33:29 -0700
wilson2 Linux (openSUSE 11.1) / x86_64  OK  OK 
liverpool Windows Server 2003 R2 (32-bit) / x64  OK  OK  OK 
pitt Mac OS X Tiger (10.4.11) / i386  OK  OK  OK 
pelham Mac OS X Leopard (10.5.8) / i386  OK  OK  OK 
Package 260/353HostnameOS / ArchBUILDCHECKBUILD BIN
ppiStats 1.12.0
Tony Chiang
Last Changed Rev: 42684 / Revision: 45705
Last Changed Date: 2009-10-27 16:33:29 -0700
wilson2 Linux (openSUSE 11.1) / x86_64  OK  OK 
liverpool Windows Server 2003 R2 (32-bit) / x64  OK  OK  OK 
pitt Mac OS X Tiger (10.4.11) / i386  OK  OK  OK 
pelham Mac OS X Leopard (10.5.8) / i386  OK  OK  OK 
Package 261/353HostnameOS / ArchBUILDCHECKBUILD BIN
prada 1.22.0
Florian Hahne
Last Changed Rev: 42684 / Revision: 45705
Last Changed Date: 2009-10-27 16:33:29 -0700
wilson2 Linux (openSUSE 11.1) / x86_64  OK  OK 
liverpool Windows Server 2003 R2 (32-bit) / x64  OK  OK  OK 
pitt Mac OS X Tiger (10.4.11) / i386  OK  OK  OK 
pelham Mac OS X Leopard (10.5.8) / i386  OK  OK  OK 
Package 262/353HostnameOS / ArchBUILDCHECKBUILD BIN
preprocessCore 1.8.0
Benjamin Milo Bolstad
Last Changed Rev: 42684 / Revision: 45705
Last Changed Date: 2009-10-27 16:33:29 -0700
wilson2 Linux (openSUSE 11.1) / x86_64  OK  OK 
liverpool Windows Server 2003 R2 (32-bit) / x64  OK  OK  OK 
pitt Mac OS X Tiger (10.4.11) / i386  OK  OK  OK 
pelham Mac OS X Leopard (10.5.8) / i386  OK  OK  OK 
Package 263/353HostnameOS / ArchBUILDCHECKBUILD BIN
PROcess 1.22.0
Xiaochun Li
Last Changed Rev: 42684 / Revision: 45705
Last Changed Date: 2009-10-27 16:33:29 -0700
wilson2 Linux (openSUSE 11.1) / x86_64  OK  OK 
liverpool Windows Server 2003 R2 (32-bit) / x64  OK  OK  OK 
pitt Mac OS X Tiger (10.4.11) / i386  OK  OK  OK 
pelham Mac OS X Leopard (10.5.8) / i386  OK  OK  OK 
Package 264/353HostnameOS / ArchBUILDCHECKBUILD BIN
puma 1.12.0
Richard Pearson
Last Changed Rev: 42684 / Revision: 45705
Last Changed Date: 2009-10-27 16:33:29 -0700
wilson2 Linux (openSUSE 11.1) / x86_64  OK  OK 
liverpool Windows Server 2003 R2 (32-bit) / x64  OK  OK  OK 
pitt Mac OS X Tiger (10.4.11) / i386  OK  OK  OK 
pelham Mac OS X Leopard (10.5.8) / i386  OK  OK  OK 
Q  A  B  C  D  E  F  G  H  I  J  K  L  M  N  O  P [Q] R  S  T  U  V  W  X  Y  Z 
Package 265/353HostnameOS / ArchBUILDCHECKBUILD BIN
qpcrNorm 1.4.0
Jessica Mar
Last Changed Rev: 42684 / Revision: 45705
Last Changed Date: 2009-10-27 16:33:29 -0700
wilson2 Linux (openSUSE 11.1) / x86_64  OK  OK 
liverpool Windows Server 2003 R2 (32-bit) / x64  OK  OK  OK 
pitt Mac OS X Tiger (10.4.11) / i386  OK  OK  OK 
pelham Mac OS X Leopard (10.5.8) / i386  OK  OK  OK 
Package 266/353HostnameOS / ArchBUILDCHECKBUILD BIN
qpgraph 1.2.0
Robert Castelo
Last Changed Rev: 42684 / Revision: 45705
Last Changed Date: 2009-10-27 16:33:29 -0700
wilson2 Linux (openSUSE 11.1) / x86_64  OK  OK 
liverpool Windows Server 2003 R2 (32-bit) / x64  OK  OK  OK 
pitt Mac OS X Tiger (10.4.11) / i386  OK  OK  OK 
pelham Mac OS X Leopard (10.5.8) / i386  OK  OK  OK 
Package 267/353HostnameOS / ArchBUILDCHECKBUILD BIN
quantsmooth 1.12.0
Jan Oosting
Last Changed Rev: 42684 / Revision: 45705
Last Changed Date: 2009-10-27 16:33:29 -0700
wilson2 Linux (openSUSE 11.1) / x86_64  OK  OK 
liverpool Windows Server 2003 R2 (32-bit) / x64  OK  OK  OK 
pitt Mac OS X Tiger (10.4.11) / i386  OK  OK  OK 
pelham Mac OS X Leopard (10.5.8) / i386  OK  OK  OK 
Package 268/353HostnameOS / ArchBUILDCHECKBUILD BIN
qvalue 1.20.0
John D. Storey
Last Changed Rev: 42684 / Revision: 45705
Last Changed Date: 2009-10-27 16:33:29 -0700
wilson2 Linux (openSUSE 11.1) / x86_64  OK  OK 
liverpool Windows Server 2003 R2 (32-bit) / x64  OK  OK  OK 
pitt Mac OS X Tiger (10.4.11) / i386  OK  OK  OK 
pelham Mac OS X Leopard (10.5.8) / i386  OK  OK  OK 
R  A  B  C  D  E  F  G  H  I  J  K  L  M  N  O  P  Q [R] S  T  U  V  W  X  Y  Z 
Package 269/353HostnameOS / ArchBUILDCHECKBUILD BIN
rama 1.20.0
Raphael Gottardo
Last Changed Rev: 42684 / Revision: 45705
Last Changed Date: 2009-10-27 16:33:29 -0700
wilson2 Linux (openSUSE 11.1) / x86_64  OK  OK 
liverpool Windows Server 2003 R2 (32-bit) / x64  OK  OK  OK 
pitt Mac OS X Tiger (10.4.11) / i386  OK  OK  OK 
pelham Mac OS X Leopard (10.5.8) / i386  OK  OK  OK 
Package 270/353HostnameOS / ArchBUILDCHECKBUILD BIN
RankProd 2.18.0
Fangxin Hong
Last Changed Rev: 42684 / Revision: 45705
Last Changed Date: 2009-10-27 16:33:29 -0700
wilson2 Linux (openSUSE 11.1) / x86_64  OK  OK 
liverpool Windows Server 2003 R2 (32-bit) / x64  OK  OK  OK 
pitt Mac OS X Tiger (10.4.11) / i386  OK  OK  OK 
pelham Mac OS X Leopard (10.5.8) / i386  OK  OK  OK 
Package 271/353HostnameOS / ArchBUILDCHECKBUILD BIN
RbcBook1 1.14.0
Vince Carey
Last Changed Rev: 42684 / Revision: 45705
Last Changed Date: 2009-10-27 16:33:29 -0700
wilson2 Linux (openSUSE 11.1) / x86_64  OK  OK 
liverpool Windows Server 2003 R2 (32-bit) / x64  OK  OK  OK 
pitt Mac OS X Tiger (10.4.11) / i386  OK  OK  OK 
pelham Mac OS X Leopard (10.5.8) / i386  OK  OK  OK 
Package 272/353HostnameOS / ArchBUILDCHECKBUILD BIN
RBGL 1.22.0
Li Long
Last Changed Rev: 42684 / Revision: 45705
Last Changed Date: 2009-10-27 16:33:29 -0700
wilson2 Linux (openSUSE 11.1) / x86_64  ERROR  skipped 
liverpool Windows Server 2003 R2 (32-bit) / x64  OK  WARNINGS  OK 
pitt Mac OS X Tiger (10.4.11) / i386  OK  WARNINGS  OK 
pelham Mac OS X Leopard (10.5.8) / i386  OK  WARNINGS  OK 
Package 273/353HostnameOS / ArchBUILDCHECKBUILD BIN
RBioinf 1.6.0
Robert Gentleman
Last Changed Rev: 42684 / Revision: 45705
Last Changed Date: 2009-10-27 16:33:29 -0700
wilson2 Linux (openSUSE 11.1) / x86_64  OK  OK 
liverpool Windows Server 2003 R2 (32-bit) / x64  OK  OK  OK 
pitt Mac OS X Tiger (10.4.11) / i386  OK  OK  OK 
pelham Mac OS X Leopard (10.5.8) / i386  OK  OK  OK 
Package 274/353HostnameOS / ArchBUILDCHECKBUILD BIN
rbsurv 2.4.0
Soo-heang Eo
Last Changed Rev: 42684 / Revision: 45705
Last Changed Date: 2009-10-27 16:33:29 -0700
wilson2 Linux (openSUSE 11.1) / x86_64  OK  OK 
liverpool Windows Server 2003 R2 (32-bit) / x64  OK  OK  OK 
pitt Mac OS X Tiger (10.4.11) / i386  OK  OK  OK 
pelham Mac OS X Leopard (10.5.8) / i386  OK  OK  OK 
Package 275/353HostnameOS / ArchBUILDCHECKBUILD BIN
Rdbi 1.20.0
Jianhua Zhang
Last Changed Rev: 42684 / Revision: 45705
Last Changed Date: 2009-10-27 16:33:29 -0700
wilson2 Linux (openSUSE 11.1) / x86_64  OK  OK 
liverpool Windows Server 2003 R2 (32-bit) / x64  OK  OK  OK 
pitt Mac OS X Tiger (10.4.11) / i386  OK  OK  OK 
pelham Mac OS X Leopard (10.5.8) / i386  OK  OK  OK 
Package 276/353HostnameOS / ArchBUILDCHECKBUILD BIN
RdbiPgSQL 1.20.0
Jianhua Zhang
Last Changed Rev: 42684 / Revision: 45705
Last Changed Date: 2009-10-27 16:33:29 -0700
wilson2 Linux (openSUSE 11.1) / x86_64  OK  OK 
liverpool Windows Server 2003 R2 (32-bit) / x64 N O T   S U P P O R T E D
pitt Mac OS X Tiger (10.4.11) / i386  OK  OK  OK 
pelham Mac OS X Leopard (10.5.8) / i386  OK  OK  OK 
Package 277/353HostnameOS / ArchBUILDCHECKBUILD BIN
Rdisop 1.6.0
Steffen Neumann
Last Changed Rev: 42684 / Revision: 45705
Last Changed Date: 2009-10-27 16:33:29 -0700
wilson2 Linux (openSUSE 11.1) / x86_64  OK  OK 
liverpool Windows Server 2003 R2 (32-bit) / x64  OK  OK  OK 
pitt Mac OS X Tiger (10.4.11) / i386 N O T   S U P P O R T E D
pelham Mac OS X Leopard (10.5.8) / i386 N O T   S U P P O R T E D
Package 278/353HostnameOS / ArchBUILDCHECKBUILD BIN
reb 1.20.0
Karl J. Dykema
Last Changed Rev: 42684 / Revision: 45705
Last Changed Date: 2009-10-27 16:33:29 -0700
wilson2 Linux (openSUSE 11.1) / x86_64  OK  WARNINGS 
liverpool Windows Server 2003 R2 (32-bit) / x64  OK  WARNINGS  OK 
pitt Mac OS X Tiger (10.4.11) / i386  OK  WARNINGS  OK 
pelham Mac OS X Leopard (10.5.8) / i386  OK  WARNINGS  OK 
Package 279/353HostnameOS / ArchBUILDCHECKBUILD BIN
RefPlus 1.16.0
Kai-Ming Chang
Last Changed Rev: 42684 / Revision: 45705
Last Changed Date: 2009-10-27 16:33:29 -0700
wilson2 Linux (openSUSE 11.1) / x86_64  OK  OK 
liverpool Windows Server 2003 R2 (32-bit) / x64  OK  OK  OK 
pitt Mac OS X Tiger (10.4.11) / i386  OK  OK  OK 
pelham Mac OS X Leopard (10.5.8) / i386  OK  OK  OK 
Package 280/353HostnameOS / ArchBUILDCHECKBUILD BIN
Resourcerer 1.20.0
Jianhua Zhang
Last Changed Rev: 42684 / Revision: 45705
Last Changed Date: 2009-10-27 16:33:29 -0700
wilson2 Linux (openSUSE 11.1) / x86_64  OK  OK 
liverpool Windows Server 2003 R2 (32-bit) / x64  OK  OK  OK 
pitt Mac OS X Tiger (10.4.11) / i386  OK  OK  OK 
pelham Mac OS X Leopard (10.5.8) / i386  OK  OK  OK 
Package 281/353HostnameOS / ArchBUILDCHECKBUILD BIN
rflowcyt 1.18.0
N. LeMeur
Last Changed Rev: 42684 / Revision: 45705
Last Changed Date: 2009-10-27 16:33:29 -0700
wilson2 Linux (openSUSE 11.1) / x86_64  OK  OK 
liverpool Windows Server 2003 R2 (32-bit) / x64  OK  OK  OK 
pitt Mac OS X Tiger (10.4.11) / i386  OK  OK  OK 
pelham Mac OS X Leopard (10.5.8) / i386  OK  OK  OK 
Package 282/353HostnameOS / ArchBUILDCHECKBUILD BIN
Rgraphviz 1.24.0
Kasper Hansen
Last Changed Rev: 42684 / Revision: 45705
Last Changed Date: 2009-10-27 16:33:29 -0700
wilson2 Linux (openSUSE 11.1) / x86_64  OK  OK 
liverpool Windows Server 2003 R2 (32-bit) / x64  OK  OK  OK 
pitt Mac OS X Tiger (10.4.11) / i386  OK  OK  OK 
pelham Mac OS X Leopard (10.5.8) / i386  OK  OK  OK 
Package 283/353HostnameOS / ArchBUILDCHECKBUILD BIN
rHVDM 1.12.0
Martino Barenco
Last Changed Rev: 42684 / Revision: 45705
Last Changed Date: 2009-10-27 16:33:29 -0700
wilson2 Linux (openSUSE 11.1) / x86_64  OK  OK 
liverpool Windows Server 2003 R2 (32-bit) / x64  OK  OK  OK 
pitt Mac OS X Tiger (10.4.11) / i386  OK  OK  OK 
pelham Mac OS X Leopard (10.5.8) / i386  OK  OK  OK 
Package 284/353HostnameOS / ArchBUILDCHECKBUILD BIN
Ringo 1.10.0
J. Toedling
Last Changed Rev: 42684 / Revision: 45705
Last Changed Date: 2009-10-27 16:33:29 -0700
wilson2 Linux (openSUSE 11.1) / x86_64  OK  OK 
liverpool Windows Server 2003 R2 (32-bit) / x64  OK  OK  OK 
pitt Mac OS X Tiger (10.4.11) / i386  OK  OK  OK 
pelham Mac OS X Leopard (10.5.8) / i386  OK  OK  OK 
Package 285/353HostnameOS / ArchBUILDCHECKBUILD BIN
RLMM 1.8.0
Nusrat Rabbee
Last Changed Rev: 42684 / Revision: 45705
Last Changed Date: 2009-10-27 16:33:29 -0700
wilson2 Linux (openSUSE 11.1) / x86_64  OK  OK 
liverpool Windows Server 2003 R2 (32-bit) / x64  OK  OK  OK 
pitt Mac OS X Tiger (10.4.11) / i386  OK  OK  OK 
pelham Mac OS X Leopard (10.5.8) / i386  OK  OK  OK 
Package 286/353HostnameOS / ArchBUILDCHECKBUILD BIN
RMAGEML 2.20.0
Steffen Durinck
Last Changed Rev: 42684 / Revision: 45705
Last Changed Date: 2009-10-27 16:33:29 -0700
wilson2 Linux (openSUSE 11.1) / x86_64  OK  OK 
liverpool Windows Server 2003 R2 (32-bit) / x64 N O T   S U P P O R T E D
pitt Mac OS X Tiger (10.4.11) / i386 N O T   S U P P O R T E D
pelham Mac OS X Leopard (10.5.8) / i386 N O T   S U P P O R T E D
Package 287/353HostnameOS / ArchBUILDCHECKBUILD BIN
Rmagpie 1.2.0
Camille Maumet
Last Changed Rev: 42684 / Revision: 45705
Last Changed Date: 2009-10-27 16:33:29 -0700
wilson2 Linux (openSUSE 11.1) / x86_64  OK  OK 
liverpool Windows Server 2003 R2 (32-bit) / x64  OK  OK  OK 
pitt Mac OS X Tiger (10.4.11) / i386  OK  OK  OK 
pelham Mac OS X Leopard (10.5.8) / i386  OK  OK  OK 
Package 288/353HostnameOS / ArchBUILDCHECKBUILD BIN
rMAT 2.2.1
Arnaud Droit and Raphael Gottardo
Last Changed Rev: 45534 / Revision: 45705
Last Changed Date: 2010-03-26 11:23:39 -0700
wilson2 Linux (openSUSE 11.1) / x86_64  OK  OK 
liverpool Windows Server 2003 R2 (32-bit) / x64  OK  OK  OK 
pitt Mac OS X Tiger (10.4.11) / i386  OK  OK  OK 
pelham Mac OS X Leopard (10.5.8) / i386  OK  OK  OK 
Package 289/353HostnameOS / ArchBUILDCHECKBUILD BIN
RmiR 1.2.0
Francesco Favero
Last Changed Rev: 42684 / Revision: 45705
Last Changed Date: 2009-10-27 16:33:29 -0700
wilson2 Linux (openSUSE 11.1) / x86_64  OK  OK 
liverpool Windows Server 2003 R2 (32-bit) / x64  OK  TIMEOUT  OK 
pitt Mac OS X Tiger (10.4.11) / i386  OK  OK  OK 
pelham Mac OS X Leopard (10.5.8) / i386  OK  OK  OK 
Package 290/353HostnameOS / ArchBUILDCHECKBUILD BIN
RNAither 1.6.1
Nora Rieber
Last Changed Rev: 43414 / Revision: 45705
Last Changed Date: 2009-12-05 07:20:18 -0800
wilson2 Linux (openSUSE 11.1) / x86_64  OK  OK 
liverpool Windows Server 2003 R2 (32-bit) / x64  OK  OK  OK 
pitt Mac OS X Tiger (10.4.11) / i386  OK  OK  OK 
pelham Mac OS X Leopard (10.5.8) / i386  OK  OK  OK 
Package 291/353HostnameOS / ArchBUILDCHECKBUILD BIN
ROC 1.22.0
Vince Carey
Last Changed Rev: 42684 / Revision: 45705
Last Changed Date: 2009-10-27 16:33:29 -0700
wilson2 Linux (openSUSE 11.1) / x86_64  OK  OK 
liverpool Windows Server 2003 R2 (32-bit) / x64  OK  OK  OK 
pitt Mac OS X Tiger (10.4.11) / i386  OK  OK  OK 
pelham Mac OS X Leopard (10.5.8) / i386  OK  OK  OK 
Package 292/353HostnameOS / ArchBUILDCHECKBUILD BIN
Rolexa 1.2.0
Jacques Rougemont
Last Changed Rev: 42684 / Revision: 45705
Last Changed Date: 2009-10-27 16:33:29 -0700
wilson2 Linux (openSUSE 11.1) / x86_64  OK  OK 
liverpool Windows Server 2003 R2 (32-bit) / x64  OK  OK  OK 
pitt Mac OS X Tiger (10.4.11) / i386  OK  OK  OK 
pelham Mac OS X Leopard (10.5.8) / i386  OK  OK  OK 
Package 293/353HostnameOS / ArchBUILDCHECKBUILD BIN
RPA 1.2.0
Leo Lahti
Last Changed Rev: 42684 / Revision: 45705
Last Changed Date: 2009-10-27 16:33:29 -0700
wilson2 Linux (openSUSE 11.1) / x86_64  OK  OK 
liverpool Windows Server 2003 R2 (32-bit) / x64  OK  OK  OK 
pitt Mac OS X Tiger (10.4.11) / i386  OK  OK  OK 
pelham Mac OS X Leopard (10.5.8) / i386  OK  OK  OK 
Package 294/353HostnameOS / ArchBUILDCHECKBUILD BIN
RpsiXML 1.6.0
Jitao David Zhang
Last Changed Rev: 42684 / Revision: 45705
Last Changed Date: 2009-10-27 16:33:29 -0700
wilson2 Linux (openSUSE 11.1) / x86_64  OK  OK 
liverpool Windows Server 2003 R2 (32-bit) / x64  OK  OK  OK 
pitt Mac OS X Tiger (10.4.11) / i386  OK  OK  OK 
pelham Mac OS X Leopard (10.5.8) / i386  OK  OK  OK 
Package 295/353HostnameOS / ArchBUILDCHECKBUILD BIN
Rredland 1.12.0
VJ Carey
Last Changed Rev: 42684 / Revision: 45705
Last Changed Date: 2009-10-27 16:33:29 -0700
wilson2 Linux (openSUSE 11.1) / x86_64  OK  OK 
liverpool Windows Server 2003 R2 (32-bit) / x64 N O T   S U P P O R T E D
pitt Mac OS X Tiger (10.4.11) / i386  OK  OK  OK 
pelham Mac OS X Leopard (10.5.8) / i386 N O T   S U P P O R T E D
Package 296/353HostnameOS / ArchBUILDCHECKBUILD BIN
rsbml 2.4.0
Michael Lawrence
Last Changed Rev: 42684 / Revision: 45705
Last Changed Date: 2009-10-27 16:33:29 -0700
wilson2 Linux (openSUSE 11.1) / x86_64  OK  OK 
liverpool Windows Server 2003 R2 (32-bit) / x64  OK  WARNINGS  OK 
pitt Mac OS X Tiger (10.4.11) / i386  OK  OK  OK 
pelham Mac OS X Leopard (10.5.8) / i386  OK  OK  OK 
Package 297/353HostnameOS / ArchBUILDCHECKBUILD BIN
RTCA 1.0.0
Jitao David Zhang
Last Changed Rev: 42684 / Revision: 45705
Last Changed Date: 2009-10-27 16:33:29 -0700
wilson2 Linux (openSUSE 11.1) / x86_64  OK  OK 
liverpool Windows Server 2003 R2 (32-bit) / x64  OK  OK  OK 
pitt Mac OS X Tiger (10.4.11) / i386  OK  OK  OK 
pelham Mac OS X Leopard (10.5.8) / i386  OK  OK  OK 
Package 298/353HostnameOS / ArchBUILDCHECKBUILD BIN
RTools4TB 1.2.0
Aurelie Bergon
Last Changed Rev: 42684 / Revision: 45705
Last Changed Date: 2009-10-27 16:33:29 -0700
wilson2 Linux (openSUSE 11.1) / x86_64  OK  OK 
liverpool Windows Server 2003 R2 (32-bit) / x64  OK  OK  OK 
pitt Mac OS X Tiger (10.4.11) / i386  OK  OK  OK 
pelham Mac OS X Leopard (10.5.8) / i386  OK  OK  OK 
Package 299/353HostnameOS / ArchBUILDCHECKBUILD BIN
rtracklayer 1.6.0
Michael Lawrence
Last Changed Rev: 42684 / Revision: 45705
Last Changed Date: 2009-10-27 16:33:29 -0700
wilson2 Linux (openSUSE 11.1) / x86_64  OK  WARNINGS 
liverpool Windows Server 2003 R2 (32-bit) / x64  OK  WARNINGS  OK 
pitt Mac OS X Tiger (10.4.11) / i386  OK  WARNINGS  OK 
pelham Mac OS X Leopard (10.5.8) / i386  OK  WARNINGS  OK 
Package 300/353HostnameOS / ArchBUILDCHECKBUILD BIN
Rtreemix 1.8.0
Jasmina Bogojeska
Last Changed Rev: 42684 / Revision: 45705
Last Changed Date: 2009-10-27 16:33:29 -0700
wilson2 Linux (openSUSE 11.1) / x86_64  OK  OK 
liverpool Windows Server 2003 R2 (32-bit) / x64  OK  OK  OK 
pitt Mac OS X Tiger (10.4.11) / i386  OK  OK  OK 
pelham Mac OS X Leopard (10.5.8) / i386  OK  OK  OK 
Package 301/353HostnameOS / ArchBUILDCHECKBUILD BIN
Ruuid 1.24.0
Biocore Team c/o BioC user list
Last Changed Rev: 42684 / Revision: 45705
Last Changed Date: 2009-10-27 16:33:29 -0700
wilson2 Linux (openSUSE 11.1) / x86_64  OK  OK 
liverpool Windows Server 2003 R2 (32-bit) / x64  OK  OK  OK 
pitt Mac OS X Tiger (10.4.11) / i386  OK  OK  OK 
pelham Mac OS X Leopard (10.5.8) / i386  OK  OK  OK 
Package 302/353HostnameOS / ArchBUILDCHECKBUILD BIN
RWebServices 1.10.1
Martin Morgan
Last Changed Rev: 44978 / Revision: 45705
Last Changed Date: 2010-03-02 07:55:13 -0800
wilson2 Linux (openSUSE 11.1) / x86_64  OK  OK 
liverpool Windows Server 2003 R2 (32-bit) / x64 N O T   S U P P O R T E D
pitt Mac OS X Tiger (10.4.11) / i386 N O T   S U P P O R T E D
pelham Mac OS X Leopard (10.5.8) / i386 N O T   S U P P O R T E D
S  A  B  C  D  E  F  G  H  I  J  K  L  M  N  O  P  Q  R [S] T  U  V  W  X  Y  Z 
Package 303/353HostnameOS / ArchBUILDCHECKBUILD BIN
safe 2.6.0
William T. Barry
Last Changed Rev: 42684 / Revision: 45705
Last Changed Date: 2009-10-27 16:33:29 -0700
wilson2 Linux (openSUSE 11.1) / x86_64  OK  OK 
liverpool Windows Server 2003 R2 (32-bit) / x64  OK  OK  OK 
pitt Mac OS X Tiger (10.4.11) / i386  OK  OK  OK 
pelham Mac OS X Leopard (10.5.8) / i386  OK  OK  OK 
Package 304/353HostnameOS / ArchBUILDCHECKBUILD BIN
sagenhaft 1.16.0
Tim Beissbarth
Last Changed Rev: 42684 / Revision: 45705
Last Changed Date: 2009-10-27 16:33:29 -0700
wilson2 Linux (openSUSE 11.1) / x86_64  OK  OK 
liverpool Windows Server 2003 R2 (32-bit) / x64  OK  OK  OK 
pitt Mac OS X Tiger (10.4.11) / i386  OK  OK  OK 
pelham Mac OS X Leopard (10.5.8) / i386  OK  OK  OK 
Package 305/353HostnameOS / ArchBUILDCHECKBUILD BIN
SAGx 1.20.0
Per Broberg,
Last Changed Rev: 42684 / Revision: 45705
Last Changed Date: 2009-10-27 16:33:29 -0700
wilson2 Linux (openSUSE 11.1) / x86_64  OK  OK 
liverpool Windows Server 2003 R2 (32-bit) / x64  OK  OK  OK 
pitt Mac OS X Tiger (10.4.11) / i386  OK  OK  OK 
pelham Mac OS X Leopard (10.5.8) / i386  OK  OK  OK 
Package 306/353HostnameOS / ArchBUILDCHECKBUILD BIN
SBMLR 1.40.0
Tomas Radivoyevitch
Last Changed Rev: 42684 / Revision: 45705
Last Changed Date: 2009-10-27 16:33:29 -0700
wilson2 Linux (openSUSE 11.1) / x86_64  OK  OK 
liverpool Windows Server 2003 R2 (32-bit) / x64  OK  OK  OK 
pitt Mac OS X Tiger (10.4.11) / i386  OK  OK  OK 
pelham Mac OS X Leopard (10.5.8) / i386  OK  OK  OK 
Package 307/353HostnameOS / ArchBUILDCHECKBUILD BIN
ScISI 1.18.0
Tony Chiang
Last Changed Rev: 42684 / Revision: 45705
Last Changed Date: 2009-10-27 16:33:29 -0700
wilson2 Linux (openSUSE 11.1) / x86_64  OK  OK 
liverpool Windows Server 2003 R2 (32-bit) / x64  OK  OK  OK 
pitt Mac OS X Tiger (10.4.11) / i386  OK  OK  OK 
pelham Mac OS X Leopard (10.5.8) / i386  OK  OK  OK 
Package 308/353HostnameOS / ArchBUILDCHECKBUILD BIN
seqLogo 1.12.0
Oliver Bembom
Last Changed Rev: 42684 / Revision: 45705
Last Changed Date: 2009-10-27 16:33:29 -0700
wilson2 Linux (openSUSE 11.1) / x86_64  OK  OK 
liverpool Windows Server 2003 R2 (32-bit) / x64  OK  OK  OK 
pitt Mac OS X Tiger (10.4.11) / i386  OK  OK  OK 
pelham Mac OS X Leopard (10.5.8) / i386  OK  OK  OK 
Package 309/353HostnameOS / ArchBUILDCHECKBUILD BIN
ShortRead 1.4.0
Biocore Team c/o BioC user list
Last Changed Rev: 42684 / Revision: 45705
Last Changed Date: 2009-10-27 16:33:29 -0700
wilson2 Linux (openSUSE 11.1) / x86_64  OK  OK 
liverpool Windows Server 2003 R2 (32-bit) / x64  OK  OK  OK 
pitt Mac OS X Tiger (10.4.11) / i386  OK  OK  OK 
pelham Mac OS X Leopard (10.5.8) / i386  OK  OK  OK 
Package 310/353HostnameOS / ArchBUILDCHECKBUILD BIN
siggenes 1.20.0
Holger Schwender
Last Changed Rev: 42684 / Revision: 45705
Last Changed Date: 2009-10-27 16:33:29 -0700
wilson2 Linux (openSUSE 11.1) / x86_64  OK  OK 
liverpool Windows Server 2003 R2 (32-bit) / x64  OK  OK  OK 
pitt Mac OS X Tiger (10.4.11) / i386  OK  OK  OK 
pelham Mac OS X Leopard (10.5.8) / i386  OK  OK  OK 
Package 311/353HostnameOS / ArchBUILDCHECKBUILD BIN
sigPathway 1.14.0
Weil Lai
Last Changed Rev: 42684 / Revision: 45705
Last Changed Date: 2009-10-27 16:33:29 -0700
wilson2 Linux (openSUSE 11.1) / x86_64  OK  OK 
liverpool Windows Server 2003 R2 (32-bit) / x64  OK  OK  OK 
pitt Mac OS X Tiger (10.4.11) / i386  OK  OK  OK 
pelham Mac OS X Leopard (10.5.8) / i386  OK  OK  OK 
Package 312/353Hostname