Workflows build report for BioC 3.13

This page was generated on 2020-11-20 15:45:15 -0500 (Fri, 20 Nov 2020).

Approx. Package Snapshot Date (git pull): 2020-11-20 09:00:02 -0500 (Fri, 20 Nov 2020)

HostnameOSArch (*)Platform label (**)R versionInstalled pkgs
malbec2Linux (Ubuntu 20.04.1 LTS)x86_64x86_64-linux-gnuR Under development (unstable) (2020-11-14 r79432) -- "Unsuffered Consequences" 3874
Click on any hostname to see more info about the system (e.g. compilers)      (*) as reported by 'uname -p', except on Windows and Mac OS X      (**) as reported by 'gcc -v'

Package status is indicated by one of the following glyphs
 TIMEOUT  INSTALL or BUILD of package took more than 40 or 120 minutes, respectively Use the check boxes to show only packages with the selected status types.
 ERROR  Bad DESCRIPTION file or INSTALL or BUILD of package failed
 OK  INSTALL or BUILD of package was OK
 skipped  CHECK or BUILD BIN of package was skipped because the BUILD step failed
 NA  BUILD result is not available because of an anomaly in the Build System
Click on any glyph in the report below to access the detailed results.
Package propagation status is indicated by one of the following LEDs
YES YES: Package was propagated because it didn't previously exist or version was bumped
NO NO: Package was not propagated because of a problem (impossible dependencies, or version lower than what is already propagated)
UNNEEDED UNNEEDED: Package was not propagated because it is already in the repository with this version. A version bump is required in order to propagate it

A crossed-out package name indicates the package is deprecated


SUMMARYOS / ArchINSTALLBUILD
malbec2 Linux (Ubuntu 20.04.1 LTS) / x86_64 
0325
0820
PackageMaintainerINSTALLBUILD
1/28annotation 1.15.0Bioconductor Package Maintainer OK  OK UNNEEDED, same version exists in internal repository
2/28arrays 1.17.0Bioconductor Package Maintainer OK  OK UNNEEDED, same version exists in internal repository
3/28BiocMetaWorkflow 1.13.0Mike Smith OK  OK UNNEEDED, same version exists in internal repository
4/28BP4RNAseq 1.1.0Shanwen Sun OK  OK UNNEEDED, same version exists in internal repository
5/28CAGEWorkflow 1.7.0Malte Thodberg OK  OK UNNEEDED, same version exists in internal repository
6/28chipseqDB 1.15.0Aaron Lun OK  OK UNNEEDED, same version exists in internal repository
7/28csawUsersGuide 1.7.0Aaron Lun OK  OK UNNEEDED, same version exists in internal repository
8/28cytofWorkflow 1.15.0Mark D. Robinson OK  ERROR 
9/28EGSEA123 1.15.0Matthew Ritchie OK  ERROR 
10/28eQTL 1.15.0Vincent Carey ERROR  ERROR 
11/28ExpressionNormalizationWorkflow 1.17.0Karthikeyan Murugesan OK  OK UNNEEDED, same version exists in internal repository
12/28fluentGenomics 1.3.0Stuart Lee OK  OK UNNEEDED, same version exists in internal repository
13/28generegulation 1.15.0Bioconductor Package Maintainer OK  OK UNNEEDED, same version exists in internal repository
14/28highthroughputassays 1.15.0Bioconductor Package Maintainer OK  OK UNNEEDED, same version exists in internal repository
15/28liftOver 1.15.0Bioconductor Package Maintainer OK  OK UNNEEDED, same version exists in internal repository
16/28maEndToEnd 2.11.0Stefanie Reisenauer OK  ERROR 
17/28methylationArrayAnalysis 1.15.0Jovana Maksimovic OK  OK UNNEEDED, same version exists in internal repository
18/28proteomics 1.15.0Laurent Gatto OK  ERROR 
19/28recountWorkflow 1.15.0Leonardo Collado-Torres ERROR  ERROR 
20/28RNAseq123 1.15.1Matthew Ritchie OK  OK YES, new version is higher than in internal repository
21/28rnaseqDTU 1.11.0Michael Love OK  OK UNNEEDED, same version exists in internal repository
22/28rnaseqGene 1.15.0Michael Love OK  OK UNNEEDED, same version exists in internal repository
23/28RnaSeqGeneEdgeRQL 1.15.0Yunshun Chen OK  OK UNNEEDED, same version exists in internal repository
24/28sequencing 1.15.0Bioconductor Package Maintainer OK  OK UNNEEDED, same version exists in internal repository
25/28simpleSingleCell 1.15.0Aaron Lun OK  OK UNNEEDED, same version exists in internal repository
26/28SingscoreAMLMutations 1.7.0Dharmesh D. Bhuva OK  OK YES, package does not exist in internal repository.
27/28TCGAWorkflow 1.15.0Tiago Chedraoui Silva ERROR  ERROR 
28/28variants 1.15.0Bioconductor Package Maintainer OK  ERROR