Index of /checkResults/devel/bioc-LATEST/topGO/raw-results

[ICO]NameLast modifiedSizeDescription

[DIR]Parent Directory  -  
[   ]info.dcf18-Feb-2024 16:30 1.0K 
[DIR]kunpeng2/18-Feb-2024 16:30 -  
[DIR]merida1/18-Feb-2024 16:29 -  
[DIR]nebbiolo1/18-Feb-2024 16:26 -  
[DIR]palomino3/18-Feb-2024 16:28 -