Back to Multiple platform build/check report for BioC 3.19:   simplified   long
AB[C]DEFGHIJKLMNOPQRSTUVWXYZ

This page was generated on 2024-03-28 11:36:19 -0400 (Thu, 28 Mar 2024).

HostnameOSArch (*)R versionInstalled pkgs
nebbiolo1Linux (Ubuntu 22.04.3 LTS)x86_64R Under development (unstable) (2024-03-18 r86148) -- "Unsuffered Consequences" 4708
palomino3Windows Server 2022 Datacenterx64R Under development (unstable) (2024-03-16 r86144 ucrt) -- "Unsuffered Consequences" 4446
lconwaymacOS 12.7.1 Montereyx86_64R Under development (unstable) (2024-03-18 r86148) -- "Unsuffered Consequences" 4471
kunpeng2Linux (openEuler 22.03 LTS-SP1)aarch64R Under development (unstable) (2024-03-19 r86153) -- "Unsuffered Consequences" 4426
Click on any hostname to see more info about the system (e.g. compilers)      (*) as reported by 'uname -p', except on Windows and Mac OS X

Package 412/2270HostnameOS / ArchINSTALLBUILDCHECKBUILD BIN
coMethDMR 1.7.0  (landing page)
Fernanda Veitzman
Snapshot Date: 2024-03-27 14:00:18 -0400 (Wed, 27 Mar 2024)
git_url: https://git.bioconductor.org/packages/coMethDMR
git_branch: devel
git_last_commit: b5ea1bb
git_last_commit_date: 2023-10-24 11:38:47 -0400 (Tue, 24 Oct 2023)
nebbiolo1Linux (Ubuntu 22.04.3 LTS) / x86_64  OK    ERROR  skipped
palomino3Windows Server 2022 Datacenter / x64  ERROR    OK    ERROR    OK  
lconwaymacOS 12.7.1 Monterey / x86_64  OK    ERROR  skippedskipped
kunpeng2Linux (openEuler 22.03 LTS-SP1) / aarch64  OK    ERROR  skipped

BUILD results for coMethDMR on nebbiolo1


To the developers/maintainers of the coMethDMR package:
- Allow up to 24 hours (and sometimes 48 hours) for your latest push to git@git.bioconductor.org:packages/coMethDMR.git to reflect on this report. See Troubleshooting Build Report for more information.
- Use the following Renviron settings to reproduce errors and warnings.
- If 'R CMD check' started to fail recently on the Linux builder(s) over a missing dependency, add the missing dependency to 'Suggests:' in your DESCRIPTION file. See Renviron.bioc for more information.

raw results


Summary

Package: coMethDMR
Version: 1.7.0
Command: /home/biocbuild/bbs-3.19-bioc/R/bin/R CMD build --keep-empty-dirs --no-resave-data coMethDMR
StartedAt: 2024-03-27 16:43:05 -0400 (Wed, 27 Mar 2024)
EndedAt: 2024-03-27 16:43:34 -0400 (Wed, 27 Mar 2024)
EllapsedTime: 28.6 seconds
RetCode: 1
Status:   ERROR  
PackageFile: None
PackageFileSize: NA

Command output

##############################################################################
##############################################################################
###
### Running command:
###
###   /home/biocbuild/bbs-3.19-bioc/R/bin/R CMD build --keep-empty-dirs --no-resave-data coMethDMR
###
##############################################################################
##############################################################################


* checking for file ‘coMethDMR/DESCRIPTION’ ... OK
* preparing ‘coMethDMR’:
* checking DESCRIPTION meta-information ... OK
* installing the package to build vignettes
      -----------------------------------
* installing *source* package ‘coMethDMR’ ...
** using staged installation
** R
** data
** inst
** byte-compile and prepare package for lazy loading
** help
*** installing help indices
** building package indices
** installing vignettes
** testing if installed package can be loaded from temporary location
Error: package or namespace load failed for ‘coMethDMR’:
 .onLoad failed in loadNamespace() for 'coMethDMR', details:
  call: value[[3L]](cond)
  error: failed to connect
  reason: Scanner error: mapping values are not allowed in this context at line 3, column 13
  Consider rerunning with 'localHub=TRUE'
Error: loading failed
Execution halted
ERROR: loading failed
* removing ‘/tmp/Rtmp8JsAxG/Rinst1ec35527384b39/coMethDMR’
      -----------------------------------
ERROR: package installation failed