Back to Multiple platform build/check report for BioC 3.19:   simplified   long
ABCDEFGHIJKL[M]NOPQRSTUVWXYZ

This page was generated on 2024-02-22 12:48:42 -0500 (Thu, 22 Feb 2024).

HostnameOSArch (*)R versionInstalled pkgs
nebbiolo1Linux (Ubuntu 22.04.3 LTS)x86_64R Under development (unstable) (2024-01-16 r85808) -- "Unsuffered Consequences" 4657
palomino3Windows Server 2022 Datacenterx64R Under development (unstable) (2024-01-14 r85805 ucrt) -- "Unsuffered Consequences" 4397
Click on any hostname to see more info about the system (e.g. compilers)      (*) as reported by 'uname -p', except on Windows and Mac OS X

Package 1204/2244HostnameOS / ArchINSTALLBUILDCHECKBUILD BIN
MethReg 1.13.5  (landing page)
Tiago Silva
Snapshot Date: 2024-02-21 14:10:10 -0500 (Wed, 21 Feb 2024)
git_url: https://git.bioconductor.org/packages/MethReg
git_branch: devel
git_last_commit: 5e79625
git_last_commit_date: 2024-01-25 10:57:38 -0500 (Thu, 25 Jan 2024)
nebbiolo1Linux (Ubuntu 22.04.3 LTS) / x86_64  OK    OK    OK  UNNEEDED, same version is already published
palomino3Windows Server 2022 Datacenter / x64  OK    OK    OK    OK  UNNEEDED, same version is already published

BUILD results for MethReg on palomino3


To the developers/maintainers of the MethReg package:
- Allow up to 24 hours (and sometimes 48 hours) for your latest push to git@git.bioconductor.org:packages/MethReg.git to reflect on this report. See Troubleshooting Build Report for more information.
- Use the following Renviron settings to reproduce errors and warnings.
- If 'R CMD check' started to fail recently on the Linux builder(s) over a missing dependency, add the missing dependency to 'Suggests:' in your DESCRIPTION file. See Renviron.bioc for more information.

raw results


Summary

Package: MethReg
Version: 1.13.5
Command: chmod a+r MethReg -R && F:\biocbuild\bbs-3.19-bioc\R\bin\R.exe CMD build --keep-empty-dirs --no-resave-data MethReg
StartedAt: 2024-02-21 20:40:07 -0500 (Wed, 21 Feb 2024)
EndedAt: 2024-02-21 20:51:30 -0500 (Wed, 21 Feb 2024)
EllapsedTime: 682.3 seconds
RetCode: 0
Status:   OK  
PackageFile: MethReg_1.13.5.tar.gz
PackageFileSize: 5.032 MiB

Command output

##############################################################################
##############################################################################
###
### Running command:
###
###   chmod a+r MethReg -R && F:\biocbuild\bbs-3.19-bioc\R\bin\R.exe CMD build --keep-empty-dirs --no-resave-data MethReg
###
##############################################################################
##############################################################################


* checking for file 'MethReg/DESCRIPTION' ... OK
* preparing 'MethReg':
* checking DESCRIPTION meta-information ... OK
* installing the package to build vignettes
* creating vignettes ... OK
* checking for LF line-endings in source and make files and shell scripts
* checking for empty or unneeded directories
* building 'MethReg_1.13.5.tar.gz'