Back to Multiple platform build/check report for BioC 3.19:   simplified   long
ABCDEFGHIJKLMNO[P]QRSTUVWXYZ

This page was generated on 2023-12-07 11:39:44 -0500 (Thu, 07 Dec 2023).

HostnameOSArch (*)R versionInstalled pkgs
nebbiolo1Linux (Ubuntu 22.04.2 LTS)x86_64R Under development (unstable) (2023-11-11 r85510) -- "Unsuffered Consequences" 4609
palomino3Windows Server 2022 Datacenterx64R Under development (unstable) (2023-11-14 r85524 ucrt) -- "Unsuffered Consequences" 4369
merida1macOS 12.7.1 Montereyx86_64R Under development (unstable) (2023-11-11 r85510) -- "Unsuffered Consequences" 4375
kunpeng2Linux (openEuler 22.03 LTS-SP1)aarch64R Under development (unstable) (2023-11-01 r85459) -- "Unsuffered Consequences" 4262
Click on any hostname to see more info about the system (e.g. compilers)      (*) as reported by 'uname -p', except on Windows and Mac OS X

Package 1519/2229HostnameOS / ArchINSTALLBUILDCHECKBUILD BIN
PhyloProfile 1.17.0  (landing page)
Vinh Tran
Snapshot Date: 2023-12-06 14:00:17 -0500 (Wed, 06 Dec 2023)
git_url: https://git.bioconductor.org/packages/PhyloProfile
git_branch: devel
git_last_commit: 1447caa
git_last_commit_date: 2023-10-24 11:15:33 -0500 (Tue, 24 Oct 2023)
nebbiolo1Linux (Ubuntu 22.04.2 LTS) / x86_64  OK    OK    OK  UNNEEDED, same version is already published
palomino3Windows Server 2022 Datacenter / x64  OK    OK    OK    OK  UNNEEDED, same version is already published
merida1macOS 12.7.1 Monterey / x86_64  OK    OK    OK    NA  
kunpeng2Linux (openEuler 22.03 LTS-SP1) / aarch64  OK    OK    OK  

CHECK results for PhyloProfile on kunpeng2


To the developers/maintainers of the PhyloProfile package:
- Allow up to 24 hours (and sometimes 48 hours) for your latest push to git@git.bioconductor.org:packages/PhyloProfile.git to reflect on this report. See Troubleshooting Build Report for more information.
- Use the following Renviron settings to reproduce errors and warnings.
- If 'R CMD check' started to fail recently on the Linux builder(s) over a missing dependency, add the missing dependency to 'Suggests:' in your DESCRIPTION file. See Renviron.bioc for more information.
- See Martin Grigorov's blog post for how to debug Linux ARM64 related issues on a x86_64 host.

raw results


Summary

Package: PhyloProfile
Version: 1.17.0
Command: /home/biocbuild/R/R-4.4-devel-2023.11.02/bin/R CMD check --install=check:PhyloProfile.install-out.txt --library=/home/biocbuild/R/R-4.4-devel-2023.11.02/site-library --no-vignettes --timings PhyloProfile_1.17.0.tar.gz
StartedAt: 2023-12-07 10:14:54 -0000 (Thu, 07 Dec 2023)
EndedAt: 2023-12-07 10:17:56 -0000 (Thu, 07 Dec 2023)
EllapsedTime: 181.3 seconds
RetCode: 0
Status:   OK  
CheckDir: PhyloProfile.Rcheck
Warnings: 0

Command output

##############################################################################
##############################################################################
###
### Running command:
###
###   /home/biocbuild/R/R-4.4-devel-2023.11.02/bin/R CMD check --install=check:PhyloProfile.install-out.txt --library=/home/biocbuild/R/R-4.4-devel-2023.11.02/site-library --no-vignettes --timings PhyloProfile_1.17.0.tar.gz
###
##############################################################################
##############################################################################


* using log directory ‘/home/biocbuild/bbs-3.19-bioc/meat/PhyloProfile.Rcheck’
* using R Under development (unstable) (2023-11-01 r85459)
* using platform: aarch64-unknown-linux-gnu
* R was compiled by
    gcc (GCC) 10.3.1
    GNU Fortran (GCC) 10.3.1
* running under: openEuler 22.03 (LTS-SP1)
* using session charset: UTF-8
* using option ‘--no-vignettes’
* checking for file ‘PhyloProfile/DESCRIPTION’ ... OK
* this is package ‘PhyloProfile’ version ‘1.17.0’
* package encoding: UTF-8
* checking package namespace information ... OK
* checking package dependencies ... OK
* checking if this is a source package ... OK
* checking if there is a namespace ... OK
* checking for hidden files and directories ... OK
* checking for portable file names ... OK
* checking for sufficient/correct file permissions ... OK
* checking whether package ‘PhyloProfile’ can be installed ... OK
* checking installed package size ... OK
* checking package directory ... OK
* checking ‘build’ directory ... OK
* checking DESCRIPTION meta-information ... OK
* checking top-level files ... OK
* checking for left-over files ... OK
* checking index information ... OK
* checking package subdirectories ... OK
* checking R files for non-ASCII characters ... OK
* checking R files for syntax errors ... OK
* checking whether the package can be loaded ... OK
* checking whether the package can be loaded with stated dependencies ... OK
* checking whether the package can be unloaded cleanly ... OK
* checking whether the namespace can be loaded with stated dependencies ... OK
* checking whether the namespace can be unloaded cleanly ... OK
* checking loading without being on the library search path ... OK
* checking dependencies in R code ... OK
* checking S3 generic/method consistency ... OK
* checking replacement functions ... OK
* checking foreign function calls ... OK
* checking R code for possible problems ... OK
* checking Rd files ... OK
* checking Rd metadata ... OK
* checking Rd cross-references ... OK
* checking for missing documentation entries ... OK
* checking for code/documentation mismatches ... OK
* checking Rd \usage sections ... OK
* checking Rd contents ... OK
* checking for unstated dependencies in examples ... OK
* checking contents of ‘data’ directory ... OK
* checking data for non-ASCII characters ... OK
* checking data for ASCII and uncompressed saves ... OK
* checking files in ‘vignettes’ ... OK
* checking examples ... OK
* checking for unstated dependencies in ‘tests’ ... OK
* checking tests ...
  Running ‘testthat.R’
 OK
* checking for unstated dependencies in vignettes ... OK
* checking package vignettes in ‘inst/doc’ ... OK
* checking running R code from vignettes ... SKIPPED
* checking re-building of vignette outputs ... SKIPPED
* checking PDF version of manual ... OK
* DONE

Status: OK


Installation output

PhyloProfile.Rcheck/00install.out

##############################################################################
##############################################################################
###
### Running command:
###
###   /home/biocbuild/R/R-4.4-devel-2023.11.02/bin/R CMD INSTALL PhyloProfile
###
##############################################################################
##############################################################################


* installing to library ‘/home/biocbuild/R/R-4.4-devel-2023.11.02/site-library’
* installing *source* package ‘PhyloProfile’ ...
** using staged installation
** R
** data
** inst
** byte-compile and prepare package for lazy loading
** help
*** installing help indices
** building package indices
** installing vignettes
** testing if installed package can be loaded from temporary location
** testing if installed package can be loaded from final location
** testing if installed package keeps a record of temporary installation path
* DONE (PhyloProfile)

Tests output

PhyloProfile.Rcheck/tests/testthat.Rout


R Under development (unstable) (2023-11-01 r85459) -- "Unsuffered Consequences"
Copyright (C) 2023 The R Foundation for Statistical Computing
Platform: aarch64-unknown-linux-gnu

R is free software and comes with ABSOLUTELY NO WARRANTY.
You are welcome to redistribute it under certain conditions.
Type 'license()' or 'licence()' for distribution details.

R is a collaborative project with many contributors.
Type 'contributors()' for more information and
'citation()' on how to cite R or R packages in publications.

Type 'demo()' for some demos, 'help()' for on-line help, or
'help.start()' for an HTML browser interface to help.
Type 'q()' to quit R.

> library(testthat)
> library(PhyloProfile)
> 
> test_check("PhyloProfile")
[ FAIL 0 | WARN 0 | SKIP 0 | PASS 20 ]
> 
> proc.time()
   user  system elapsed 
  8.399   0.303   8.705 

Example timings

PhyloProfile.Rcheck/PhyloProfile-Ex.timings

nameusersystemelapsed
addRankDivisionPlot1.2720.1551.431
calcPresSpec0.0170.0120.029
checkInputValidity0.0100.0000.011
checkNewick0.0030.0000.003
checkOmaID000
clusterDataDend0.0150.0070.023
compareMedianTaxonGroups0.0260.0080.034
compareTaxonGroups0.0380.0080.046
createArchiPlot0.6350.0520.689
createGeneAgePlot0.3010.0120.313
createLongMatrix0.0220.0040.025
createPercentageDistributionData0.0710.0080.080
createProfileFromOma000
createUnrootedTree0.0150.0040.018
createVarDistPlot0.1910.0000.191
createVariableDistributionData0.0040.0040.007
createVariableDistributionDataSubset0.0080.0000.009
dataCustomizedPlot0.0230.0000.023
dataFeatureTaxGroup0.0170.0000.017
dataMainPlot0.0230.0040.027
dataVarDistTaxGroup0.0060.0000.006
estimateGeneAge0.1030.0160.120
fastaParser0.0640.0120.078
featureDistTaxPlot0.2670.0120.280
filterProfileData0.0730.0160.089
fromInputToProfile0.0880.0080.097
geneAgePlotDf0.0040.0000.004
generateSinglePlot0.6500.0160.667
getAllDomainsOma000
getAllFastaOma0.0010.0000.000
getCommonAncestor0.0440.0000.044
getCoreGene0.0580.0040.063
getDataClustering0.0160.0000.016
getDataForOneOma000
getDendrogram0.0530.0040.057
getDistanceMatrix0.0130.0040.017
getDomainFolder000
getFastaFromFasInput0.0210.0000.021
getFastaFromFile0.0130.0000.015
getFastaFromFolder0.0100.0000.011
getIDsRank0.0260.0070.034
getInputTaxaID0.0000.0020.003
getInputTaxaName0.0130.0010.013
getNameList0.0100.0070.018
getOmaDataForOneOrtholog000
getOmaDomainFromURL000
getOmaMembers000
getQualColForVector000
getSelectedFastaOma000
getSelectedTaxonNames0.0190.0000.019
getTaxHierarchy0.0170.0000.017
getTaxonomyInfo0.0150.0000.015
getTaxonomyMatrix0.0850.0120.097
getTaxonomyRanks000
gridArrangeSharedLegend1.3550.0511.409
heatmapPlotting0.4330.0000.434
highlightProfilePlot0.4760.0120.489
id2name0.0050.0000.005
mainTaxonomyRank000
modifyFeatureName000
pairDomainPlotting0.0000.0000.001
parseDomainInput0.0110.0030.015
parseInfoProfile0.0750.0120.087
processNcbiTaxonomy0.0960.0260.155
processOrthoID0.1010.0080.110
qualitativeColours000
rankIndexing000
reduceProfile0.0140.0000.014
runPhyloProfile0.0970.0120.109
singleDomainPlotting000
sortDomains000
sortInputTaxa0.0390.0000.039
sortTaxaFromTree0.0140.0030.017
taxonomyTableCreator0.1290.0200.151
varDistTaxPlot1.0570.0081.067
wideToLong0.0100.0030.014
xmlParser0.0200.0000.021