Back to Multiple platform build/check report for BioC 3.17:   simplified   long
AB[C]DEFGHIJKLMNOPQRSTUVWXYZ

This page was generated on 2023-03-22 11:05:02 -0400 (Wed, 22 Mar 2023).

HostnameOSArch (*)R versionInstalled pkgs
nebbiolo1Linux (Ubuntu 22.04.1 LTS)x86_64R Under development (unstable) (2023-03-16 r83996) -- "Unsuffered Consequences" 4508
palomino3Windows Server 2022 Datacenterx64R Under development (unstable) (2023-03-15 r83984 ucrt) -- "Unsuffered Consequences" 4293
merida1macOS 10.14.6 Mojavex86_64R Under development (unstable) (2023-03-16 r83985) -- "Unsuffered Consequences" 4290
Click on any hostname to see more info about the system (e.g. compilers)      (*) as reported by 'uname -p', except on Windows and Mac OS X

CHECK results for cardelino on nebbiolo1


To the developers/maintainers of the cardelino package:
- Please allow up to 24 hours (and sometimes 48 hours) for your latest push to git@git.bioconductor.org:packages/cardelino.git to
reflect on this report. See How and When does the builder pull? When will my changes propagate? for more information.
- Make sure to use the following settings in order to reproduce any error or warning you see on this page.

raw results

Package 263/2189HostnameOS / ArchINSTALLBUILDCHECKBUILD BIN
cardelino 1.1.1  (landing page)
Davis McCarthy
Snapshot Date: 2023-03-21 14:00:22 -0400 (Tue, 21 Mar 2023)
git_url: https://git.bioconductor.org/packages/cardelino
git_branch: master
git_last_commit: 3d2d977
git_last_commit_date: 2022-11-09 23:02:09 -0400 (Wed, 09 Nov 2022)
nebbiolo1Linux (Ubuntu 22.04.1 LTS) / x86_64  OK    OK    OK  UNNEEDED, same version is already published
palomino3Windows Server 2022 Datacenter / x64  OK    OK    OK    OK  UNNEEDED, same version is already published
merida1macOS 10.14.6 Mojave / x86_64  OK    OK    OK    OK  UNNEEDED, same version is already published

Summary

Package: cardelino
Version: 1.1.1
Command: /home/biocbuild/bbs-3.17-bioc/R/bin/R CMD check --install=check:cardelino.install-out.txt --library=/home/biocbuild/bbs-3.17-bioc/R/site-library --timings cardelino_1.1.1.tar.gz
StartedAt: 2023-03-21 19:14:45 -0400 (Tue, 21 Mar 2023)
EndedAt: 2023-03-21 19:22:22 -0400 (Tue, 21 Mar 2023)
EllapsedTime: 457.3 seconds
RetCode: 0
Status:   OK  
CheckDir: cardelino.Rcheck
Warnings: 0

Command output

##############################################################################
##############################################################################
###
### Running command:
###
###   /home/biocbuild/bbs-3.17-bioc/R/bin/R CMD check --install=check:cardelino.install-out.txt --library=/home/biocbuild/bbs-3.17-bioc/R/site-library --timings cardelino_1.1.1.tar.gz
###
##############################################################################
##############################################################################


* using log directory ‘/home/biocbuild/bbs-3.17-bioc/meat/cardelino.Rcheck’
* using R Under development (unstable) (2023-03-16 r83996)
* using platform: x86_64-pc-linux-gnu (64-bit)
* R was compiled by
    gcc (Ubuntu 11.3.0-1ubuntu1~22.04) 11.3.0
    GNU Fortran (Ubuntu 11.3.0-1ubuntu1~22.04) 11.3.0
* running under: Ubuntu 22.04.2 LTS
* using session charset: UTF-8
* checking for file ‘cardelino/DESCRIPTION’ ... OK
* checking extension type ... Package
* this is package ‘cardelino’ version ‘1.1.1’
* package encoding: UTF-8
* checking package namespace information ... OK
* checking package dependencies ... OK
* checking if this is a source package ... OK
* checking if there is a namespace ... OK
* checking for hidden files and directories ... OK
* checking for portable file names ... OK
* checking for sufficient/correct file permissions ... OK
* checking whether package ‘cardelino’ can be installed ... OK
* checking installed package size ... OK
* checking package directory ... OK
* checking ‘build’ directory ... OK
* checking DESCRIPTION meta-information ... OK
* checking top-level files ... OK
* checking for left-over files ... OK
* checking index information ... OK
* checking package subdirectories ... OK
* checking R files for non-ASCII characters ... OK
* checking R files for syntax errors ... OK
* checking whether the package can be loaded ... OK
* checking whether the package can be loaded with stated dependencies ... OK
* checking whether the package can be unloaded cleanly ... OK
* checking whether the namespace can be loaded with stated dependencies ... OK
* checking whether the namespace can be unloaded cleanly ... OK
* checking loading without being on the library search path ... OK
* checking dependencies in R code ... OK
* checking S3 generic/method consistency ... OK
* checking replacement functions ... OK
* checking foreign function calls ... OK
* checking R code for possible problems ... OK
* checking Rd files ... OK
* checking Rd metadata ... OK
* checking Rd cross-references ... OK
* checking for missing documentation entries ... OK
* checking for code/documentation mismatches ... OK
* checking Rd \usage sections ... OK
* checking Rd contents ... OK
* checking for unstated dependencies in examples ... OK
* checking contents of ‘data’ directory ... OK
* checking data for non-ASCII characters ... OK
* checking data for ASCII and uncompressed saves ... OK
* checking files in ‘vignettes’ ... OK
* checking examples ... OK
Examples with CPU (user + system) or elapsed time > 5s
                   user system elapsed
vc_heatmap       60.312  0.896  61.208
get_snp_matrices 14.620  1.272  15.894
clone_id         11.941  0.380  12.321
* checking for unstated dependencies in ‘tests’ ... OK
* checking tests ...
  Running ‘testthat.R’
 OK
* checking for unstated dependencies in vignettes ... OK
* checking package vignettes in ‘inst/doc’ ... OK
* checking running R code from vignettes ...
  ‘vignette-cloneid.Rmd’ using ‘UTF-8’... OK
 NONE
* checking re-building of vignette outputs ... OK
* checking PDF version of manual ... OK
* DONE

Status: OK


Installation output

cardelino.Rcheck/00install.out

##############################################################################
##############################################################################
###
### Running command:
###
###   /home/biocbuild/bbs-3.17-bioc/R/bin/R CMD INSTALL cardelino
###
##############################################################################
##############################################################################


* installing to library ‘/home/biocbuild/bbs-3.17-bioc/R/site-library’
* installing *source* package ‘cardelino’ ...
** using staged installation
** R
** data
** inst
** byte-compile and prepare package for lazy loading
** help
*** installing help indices
** building package indices
** installing vignettes
** testing if installed package can be loaded from temporary location
** testing if installed package can be loaded from final location
** testing if installed package keeps a record of temporary installation path
* DONE (cardelino)

Tests output

cardelino.Rcheck/tests/testthat.Rout


R Under development (unstable) (2023-03-16 r83996) -- "Unsuffered Consequences"
Copyright (C) 2023 The R Foundation for Statistical Computing
Platform: x86_64-pc-linux-gnu (64-bit)

R is free software and comes with ABSOLUTELY NO WARRANTY.
You are welcome to redistribute it under certain conditions.
Type 'license()' or 'licence()' for distribution details.

R is a collaborative project with many contributors.
Type 'contributors()' for more information and
'citation()' on how to cite R or R packages in publications.

Type 'demo()' for some demos, 'help()' for on-line help, or
'help.start()' for an HTML browser interface to help.
Type 'q()' to quit R.

> Sys.setenv("R_TESTS" = "")
> library(testthat)
> library(cardelino)
> 
> test_check("cardelino")
[1] "Total iterations: 11"
99.1% converged.
98.5% converged.
98.3% converged.
98.2% converged.
[1] "Converged in 500 iterations."
DIC: 2942.13 D_mean: 2455.09 D_post: 2374.57 logLik_var: 141.89 
     [,1] [,2] [,3] [,4]
[1,]    1    2    3    4
[1] "61 samples have multiple labels."
Scanning file to determine attributes.
File attributes:
  meta lines: 37
  header_line: 38
  variant count: 112
  column count: 86

Meta line 37 read in.
All meta lines processed.
gt matrix initialized.
Character matrix gt created.
  Character matrix gt rows: 112
  Character matrix gt cols: 86
  skip: 0
  nrows: 112
  row_num: 0

Processed variant: 112
All variants processed
[1] "112 out of 112 SNPs passed."
Scanning file to determine attributes.
File attributes:
  meta lines: 37
  header_line: 38
  variant count: 112
  column count: 86

Meta line 37 read in.
All meta lines processed.
gt matrix initialized.
Character matrix gt created.
  Character matrix gt rows: 112
  Character matrix gt cols: 86
  skip: 0
  nrows: 112
  row_num: 0

Processed variant: 112
All variants processed
[ FAIL 0 | WARN 2 | SKIP 0 | PASS 20 ]

[ FAIL 0 | WARN 2 | SKIP 0 | PASS 20 ]
> 
> # check test coverage with covr in Rstudio
> # covr::package_coverage()
> 
> proc.time()
   user  system elapsed 
 25.096   1.000  26.086 

Example timings

cardelino.Rcheck/cardelino-Ex.timings

nameusersystemelapsed
assign_cells_to_clones0.0850.0040.088
binaryPRC0.0090.0000.009
binaryROC0.0080.0000.009
clone_id11.941 0.38012.321
colMatch0.0010.0000.001
get_snp_matrices14.620 1.27215.894
get_tree0.3030.0040.307
heat_matrix0.5420.0000.543
load_GT_vcf0.2000.0200.223
load_cellSNP_vcf0.0180.0000.018
mixBinom0.010.000.01
mtx_to_df0.0020.0000.001
plot_config_diffs0.1240.0000.124
plot_tree0.2030.0000.203
predMixBinom0.0090.0000.009
prob_heatmap0.0770.0000.077
pub.theme0.0290.0000.029
read_vcf3.2230.7003.923
rowArgmax0.0000.0010.000
rowMax0.0000.0010.000
sample_seq_depth1.3300.0381.368
sample_tree_SNV0.0050.0000.004
sim_read_count1.3790.0121.392
vc_heatmap60.312 0.89661.208