Back to Multiple platform build/check report for BioC 3.14
ABCDEFGHIJKLMN[O]PQRSTUVWXYZ

This page was generated on 2021-11-26 15:04:33 -0500 (Fri, 26 Nov 2021).

All results for package oligoClasses

To the developers/maintainers of the oligoClasses package:
- Please allow up to 24 hours (and sometimes 48 hours) for your latest push to git@git.bioconductor.org:packages/oligoClasses.git to
reflect on this report. See How and When does the builder pull? When will my changes propagate? here for more information.
- Make sure to use the following settings in order to reproduce any error or warning you see on this page.

raw results

Package 1318/2083HostnameOS / ArchINSTALLBUILDCHECKBUILD BIN
oligoClasses 1.56.0  (landing page)
Benilton Carvalho and Robert Scharpf
Snapshot Date: 2021-11-25 04:15:05 -0500 (Thu, 25 Nov 2021)
git_url: https://git.bioconductor.org/packages/oligoClasses
git_branch: RELEASE_3_14
git_last_commit: 6e6c7b4
git_last_commit_date: 2021-10-26 11:51:32 -0500 (Tue, 26 Oct 2021)
nebbiolo2Linux (Ubuntu 20.04.3 LTS) / x86_64  OK    OK    WARNINGS  UNNEEDED, same version is already published
tokay2Windows Server 2012 R2 Standard / x64  OK    OK    WARNINGS    OK  UNNEEDED, same version is already published
machv2macOS 10.14.6 Mojave / x86_64  OK    OK    WARNINGS    OK  UNNEEDED, same version is already published

Results for Bioconductor software packages that depend directly on package oligoClasses

QUICK STATSOS / ArchINSTALLBUILDCHECKBUILD BIN
nebbiolo2Linux (Ubuntu 20.04.3 LTS) / x86_64
0012
0012
0138
tokay2Windows Server 2012 R2 Standard / x64
0012
0012
0138
0012
machv2macOS 10.14.6 Mojave / x86_64
0012
0012
0147
0012
Package 1/12HostnameOS / ArchINSTALLBUILDCHECKBUILD BIN
affycoretools 1.66.0  (landing page)
James W. MacDonald
git_last_commit: 6bf769d
git_last_commit_date: 2021-10-26 11:48:47 -0500
nebbiolo2Linux (Ubuntu 20.04.3 LTS) / x86_64  OK    OK    WARNINGS  UNNEEDED, same version is already published
tokay2Windows Server 2012 R2 Standard / x64  OK    OK    WARNINGS    OK  UNNEEDED, same version is already published
machv2macOS 10.14.6 Mojave / x86_64  OK    OK    WARNINGS    OK  UNNEEDED, same version is already published
Package 2/12HostnameOS / ArchINSTALLBUILDCHECKBUILD BIN
cn.farms 1.42.0  (landing page)
Andreas Mitterecker
git_last_commit: e1a3008
git_last_commit_date: 2021-10-26 11:58:35 -0500
nebbiolo2Linux (Ubuntu 20.04.3 LTS) / x86_64  OK    OK    OK  UNNEEDED, same version is already published
tokay2Windows Server 2012 R2 Standard / x64  OK    OK    OK    OK  UNNEEDED, same version is already published
machv2macOS 10.14.6 Mojave / x86_64  OK    OK    OK    OK  UNNEEDED, same version is already published
Package 3/12HostnameOS / ArchINSTALLBUILDCHECKBUILD BIN
crlmm 1.52.0  (landing page)
Benilton S Carvalho
git_last_commit: 9ecc85f
git_last_commit_date: 2021-10-26 11:53:43 -0500
nebbiolo2Linux (Ubuntu 20.04.3 LTS) / x86_64  OK    OK    OK  UNNEEDED, same version is already published
tokay2Windows Server 2012 R2 Standard / x64  OK    OK    OK    OK  UNNEEDED, same version is already published
machv2macOS 10.14.6 Mojave / x86_64  OK    OK    OK    OK  UNNEEDED, same version is already published
Package 4/12HostnameOS / ArchINSTALLBUILDCHECKBUILD BIN
frma 1.46.0  (landing page)
Matthew N. McCall
git_last_commit: c00c4df
git_last_commit_date: 2021-10-26 11:55:11 -0500
nebbiolo2Linux (Ubuntu 20.04.3 LTS) / x86_64  OK    OK    OK  UNNEEDED, same version is already published
tokay2Windows Server 2012 R2 Standard / x64  OK    OK    OK    OK  UNNEEDED, same version is already published
machv2macOS 10.14.6 Mojave / x86_64  OK    OK    OK    OK  UNNEEDED, same version is already published
Package 5/12HostnameOS / ArchINSTALLBUILDCHECKBUILD BIN
ITALICS 2.54.0  (landing page)
Guillem Rigaill
git_last_commit: 108e69a
git_last_commit_date: 2021-10-26 11:52:42 -0500
nebbiolo2Linux (Ubuntu 20.04.3 LTS) / x86_64  OK    OK    OK  UNNEEDED, same version is already published
tokay2Windows Server 2012 R2 Standard / x64  OK    OK    OK    OK  UNNEEDED, same version is already published
machv2macOS 10.14.6 Mojave / x86_64  OK    OK    OK    OK  UNNEEDED, same version is already published
Package 6/12HostnameOS / ArchINSTALLBUILDCHECKBUILD BIN
mBPCR 1.48.0  (landing page)
P.M.V. Rancoita
git_last_commit: 910c922
git_last_commit_date: 2021-10-26 11:54:21 -0500
nebbiolo2Linux (Ubuntu 20.04.3 LTS) / x86_64  OK    OK    OK  UNNEEDED, same version is already published
tokay2Windows Server 2012 R2 Standard / x64  OK    OK    OK    OK  UNNEEDED, same version is already published
machv2macOS 10.14.6 Mojave / x86_64  OK    OK    OK    OK  UNNEEDED, same version is already published
Package 7/12HostnameOS / ArchINSTALLBUILDCHECKBUILD BIN
mimager 1.18.0  (landing page)
Aaron Wolen
git_last_commit: ec54b8c
git_last_commit_date: 2021-10-26 12:32:28 -0500
nebbiolo2Linux (Ubuntu 20.04.3 LTS) / x86_64  OK    OK    OK  UNNEEDED, same version is already published
tokay2Windows Server 2012 R2 Standard / x64  OK    OK    OK    OK  UNNEEDED, same version is already published
machv2macOS 10.14.6 Mojave / x86_64  OK    OK    OK    OK  UNNEEDED, same version is already published
Package 8/12HostnameOS / ArchINSTALLBUILDCHECKBUILD BIN
MinimumDistance 1.38.0  (landing page)
Robert Scharpf
git_last_commit: 48aab1f
git_last_commit_date: 2021-10-26 12:03:02 -0500
nebbiolo2Linux (Ubuntu 20.04.3 LTS) / x86_64  OK    OK    WARNINGS  UNNEEDED, same version is already published
tokay2Windows Server 2012 R2 Standard / x64  OK    OK    WARNINGS    OK  UNNEEDED, same version is already published
machv2macOS 10.14.6 Mojave / x86_64  OK    OK    WARNINGS    OK  UNNEEDED, same version is already published
Package 9/12HostnameOS / ArchINSTALLBUILDCHECKBUILD BIN
oligo 1.58.0  (landing page)
Benilton Carvalho
git_last_commit: 24a02c2
git_last_commit_date: 2021-10-26 11:48:16 -0500
nebbiolo2Linux (Ubuntu 20.04.3 LTS) / x86_64  OK    OK    WARNINGS  UNNEEDED, same version is already published
tokay2Windows Server 2012 R2 Standard / x64  OK    OK    WARNINGS    OK  UNNEEDED, same version is already published
machv2macOS 10.14.6 Mojave / x86_64  OK    OK    WARNINGS    OK  UNNEEDED, same version is already published
Package 10/12HostnameOS / ArchINSTALLBUILDCHECKBUILD BIN
pdInfoBuilder 1.58.0  (landing page)
Benilton Carvalho
git_last_commit: 0988869
git_last_commit_date: 2021-10-26 11:50:45 -0500
nebbiolo2Linux (Ubuntu 20.04.3 LTS) / x86_64  OK    OK    OK  UNNEEDED, same version is already published
tokay2Windows Server 2012 R2 Standard / x64  OK    OK    OK    OK  UNNEEDED, same version is already published
machv2macOS 10.14.6 Mojave / x86_64  OK    OK    OK    OK  UNNEEDED, same version is already published
Package 11/12HostnameOS / ArchINSTALLBUILDCHECKBUILD BIN
puma 3.36.0  (landing page)
Xuejun Liu
git_last_commit: 661a7da
git_last_commit_date: 2021-10-26 11:51:13 -0500
nebbiolo2Linux (Ubuntu 20.04.3 LTS) / x86_64  OK    OK    OK  UNNEEDED, same version is already published
tokay2Windows Server 2012 R2 Standard / x64  OK    OK    OK    OK  UNNEEDED, same version is already published
machv2macOS 10.14.6 Mojave / x86_64  OK    OK    WARNINGS    OK  UNNEEDED, same version is already published
Package 12/12HostnameOS / ArchINSTALLBUILDCHECKBUILD BIN
VanillaICE 1.56.1  (landing page)
R.B. Scharpf
git_last_commit: 51ce4fa
git_last_commit_date: 2021-11-22 18:26:25 -0500
nebbiolo2Linux (Ubuntu 20.04.3 LTS) / x86_64  OK    OK    ERROR  
tokay2Windows Server 2012 R2 Standard / x64  OK    OK    ERROR    OK  
machv2macOS 10.14.6 Mojave / x86_64  OK    OK    ERROR    OK