Back to Multiple platform build/check report for BioC 3.14
ABCDEFGH[I]JKLMNOPQRSTUVWXYZ

This page was generated on 2022-01-17 13:07:51 -0500 (Mon, 17 Jan 2022).

HostnameOSArch (*)R versionInstalled pkgs
nebbiolo2Linux (Ubuntu 20.04.4 LTS)x86_644.1.2 (2021-11-01) -- "Bird Hippie" 4328
tokay2Windows Server 2012 R2 Standardx644.1.2 (2021-11-01) -- "Bird Hippie" 4077
machv2macOS 10.14.6 Mojavex86_644.1.2 (2021-11-01) -- "Bird Hippie" 4138
Click on any hostname to see more info about the system (e.g. compilers)      (*) as reported by 'uname -p', except on Windows and Mac OS X

CHECK results for ITALICS on machv2


To the developers/maintainers of the ITALICS package:
- Please allow up to 24 hours (and sometimes 48 hours) for your latest push to git@git.bioconductor.org:packages/ITALICS.git to
reflect on this report. See How and When does the builder pull? When will my changes propagate? here for more information.
- Make sure to use the following settings in order to reproduce any error or warning you see on this page.

raw results

Package 967/2083HostnameOS / ArchINSTALLBUILDCHECKBUILD BIN
ITALICS 2.54.0  (landing page)
Guillem Rigaill
Snapshot Date: 2022-01-16 01:55:05 -0500 (Sun, 16 Jan 2022)
git_url: https://git.bioconductor.org/packages/ITALICS
git_branch: RELEASE_3_14
git_last_commit: 108e69a
git_last_commit_date: 2021-10-26 11:52:42 -0500 (Tue, 26 Oct 2021)
nebbiolo2Linux (Ubuntu 20.04.4 LTS) / x86_64  OK    OK    OK  UNNEEDED, same version is already published
tokay2Windows Server 2012 R2 Standard / x64  OK    OK    OK    OK  UNNEEDED, same version is already published
machv2macOS 10.14.6 Mojave / x86_64  OK    OK    OK    OK  UNNEEDED, same version is already published

Summary

Package: ITALICS
Version: 2.54.0
Command: /Library/Frameworks/R.framework/Resources/bin/R CMD check --install=check:ITALICS.install-out.txt --library=/Library/Frameworks/R.framework/Resources/library --no-vignettes --timings ITALICS_2.54.0.tar.gz
StartedAt: 2022-01-16 14:23:09 -0500 (Sun, 16 Jan 2022)
EndedAt: 2022-01-16 14:26:55 -0500 (Sun, 16 Jan 2022)
EllapsedTime: 226.8 seconds
RetCode: 0
Status:   OK  
CheckDir: ITALICS.Rcheck
Warnings: 0

Command output

##############################################################################
##############################################################################
###
### Running command:
###
###   /Library/Frameworks/R.framework/Resources/bin/R CMD check --install=check:ITALICS.install-out.txt --library=/Library/Frameworks/R.framework/Resources/library --no-vignettes --timings ITALICS_2.54.0.tar.gz
###
##############################################################################
##############################################################################


* using log directory ‘/Users/biocbuild/bbs-3.14-bioc/meat/ITALICS.Rcheck’
* using R version 4.1.2 (2021-11-01)
* using platform: x86_64-apple-darwin17.0 (64-bit)
* using session charset: UTF-8
* using option ‘--no-vignettes’
* checking for file ‘ITALICS/DESCRIPTION’ ... OK
* this is package ‘ITALICS’ version ‘2.54.0’
* checking package namespace information ... OK
* checking package dependencies ... OK
* checking if this is a source package ... OK
* checking if there is a namespace ... OK
* checking for hidden files and directories ... OK
* checking for portable file names ... OK
* checking for sufficient/correct file permissions ... OK
* checking whether package ‘ITALICS’ can be installed ... OK
* checking installed package size ... OK
* checking package directory ... OK
* checking ‘build’ directory ... OK
* checking DESCRIPTION meta-information ... NOTE
Malformed Description field: should contain one or more complete sentences.
Packages listed in more than one of Depends, Imports, Suggests, Enhances:
  ‘affxparser’ ‘GLAD’ ‘oligo’
A package should be listed in only one of these fields.
* checking top-level files ... OK
* checking for left-over files ... OK
* checking index information ... OK
* checking package subdirectories ... OK
* checking R files for non-ASCII characters ... OK
* checking R files for syntax errors ... OK
* checking whether the package can be loaded ... OK
* checking whether the package can be loaded with stated dependencies ... OK
* checking whether the package can be unloaded cleanly ... OK
* checking whether the namespace can be loaded with stated dependencies ... OK
* checking whether the namespace can be unloaded cleanly ... OK
* checking dependencies in R code ... NOTE
Packages in Depends field not imported from:
  ‘ITALICSData’ ‘pd.mapping50k.xba240’
  These packages need to be imported from (in the NAMESPACE file)
  for when this namespace is loaded but not attached.
* checking S3 generic/method consistency ... OK
* checking replacement functions ... OK
* checking foreign function calls ... OK
* checking R code for possible problems ... NOTE
trainITALICS: warning in list.files(dir, full.name = TRUE): partial
  argument match of 'full.name' to 'full.names'
* checking Rd files ... NOTE
prepare_Rd: GLAD.GLAD.Rd:33: Dropping empty section \keyword
prepare_Rd: ITALICSNew.Rd:82: Dropping empty section \keyword
prepare_Rd: ITALICSTrain.Rd:43: Dropping empty section \keyword
prepare_Rd: Model.GetConfDat.Rd:23: Dropping empty section \keyword
prepare_Rd: Model.GetCorrection.Rd:20: Dropping empty section \keyword
prepare_Rd: Model.GetEffet.Rd:20: Dropping empty section \keyword
prepare_Rd: Model.GetModel.Rd:21: Dropping empty section \keyword
prepare_Rd: Model.GetResidu.Rd:18: Dropping empty section \keyword
prepare_Rd: New.AddInfo.Rd:24: Dropping empty section \keyword
prepare_Rd: New.fromQuartetToSnp.Rd:31: Dropping empty section \keyword
prepare_Rd: New.fromQuartetToSnp.Rd:25: Dropping empty section \examples
prepare_Rd: New.fromSnpToQuartet.Rd:25: Dropping empty section \keyword
prepare_Rd: New.getQuartet.Rd:27: Dropping empty section \keyword
prepare_Rd: New.getSnpInfo.Rd:25: Dropping empty section \keyword
prepare_Rd: New.readQuartetCopyNb.Rd:23: Dropping empty section \keyword
* checking Rd metadata ... OK
* checking Rd cross-references ... OK
* checking for missing documentation entries ... OK
* checking for code/documentation mismatches ... OK
* checking Rd \usage sections ... OK
* checking Rd contents ... OK
* checking for unstated dependencies in examples ... OK
* checking sizes of PDF files under ‘inst/doc’ ... OK
* checking files in ‘vignettes’ ... OK
* checking examples ... OK
* checking for unstated dependencies in vignettes ... OK
* checking package vignettes in ‘inst/doc’ ... OK
* checking running R code from vignettes ... SKIPPED
* checking re-building of vignette outputs ... SKIPPED
* checking PDF version of manual ... OK
* DONE

Status: 4 NOTEs
See
  ‘/Users/biocbuild/bbs-3.14-bioc/meat/ITALICS.Rcheck/00check.log’
for details.



Installation output

ITALICS.Rcheck/00install.out

##############################################################################
##############################################################################
###
### Running command:
###
###   /Library/Frameworks/R.framework/Resources/bin/R CMD INSTALL ITALICS
###
##############################################################################
##############################################################################


* installing to library ‘/Library/Frameworks/R.framework/Versions/4.1/Resources/library’
* installing *source* package ‘ITALICS’ ...
** using staged installation
** R
** inst
** byte-compile and prepare package for lazy loading
** help
*** installing help indices
** building package indices
** installing vignettes
** testing if installed package can be loaded from temporary location
** testing if installed package can be loaded from final location
** testing if installed package keeps a record of temporary installation path
* DONE (ITALICS)

Tests output


Example timings

ITALICS.Rcheck/ITALICS-Ex.timings

nameusersystemelapsed
ITALICSNew0.0000.0010.001