Back to Multiple platform build/check report for BioC 3.14
ABCDEFGHIJKL[M]NOPQRSTUVWXYZ

This page was generated on 2022-01-17 13:06:35 -0500 (Mon, 17 Jan 2022).

HostnameOSArch (*)R versionInstalled pkgs
nebbiolo2Linux (Ubuntu 20.04.4 LTS)x86_644.1.2 (2021-11-01) -- "Bird Hippie" 4328
tokay2Windows Server 2012 R2 Standardx644.1.2 (2021-11-01) -- "Bird Hippie" 4077
machv2macOS 10.14.6 Mojavex86_644.1.2 (2021-11-01) -- "Bird Hippie" 4138
Click on any hostname to see more info about the system (e.g. compilers)      (*) as reported by 'uname -p', except on Windows and Mac OS X

BUILD BIN results for MinimumDistance on tokay2


To the developers/maintainers of the MinimumDistance package:
- Please allow up to 24 hours (and sometimes 48 hours) for your latest push to git@git.bioconductor.org:packages/MinimumDistance.git to
reflect on this report. See How and When does the builder pull? When will my changes propagate? here for more information.
- Make sure to use the following settings in order to reproduce any error or warning you see on this page.

raw results

Package 1157/2083HostnameOS / ArchINSTALLBUILDCHECKBUILD BIN
MinimumDistance 1.38.0  (landing page)
Robert Scharpf
Snapshot Date: 2022-01-16 01:55:05 -0500 (Sun, 16 Jan 2022)
git_url: https://git.bioconductor.org/packages/MinimumDistance
git_branch: RELEASE_3_14
git_last_commit: 48aab1f
git_last_commit_date: 2021-10-26 12:03:02 -0500 (Tue, 26 Oct 2021)
nebbiolo2Linux (Ubuntu 20.04.4 LTS) / x86_64  OK    OK    WARNINGS  UNNEEDED, same version is already published
tokay2Windows Server 2012 R2 Standard / x64  OK    OK    WARNINGS    OK  UNNEEDED, same version is already published
machv2macOS 10.14.6 Mojave / x86_64  OK    OK    WARNINGS    OK  UNNEEDED, same version is already published

Summary

Package: MinimumDistance
Version: 1.38.0
Command: rm -rf MinimumDistance.buildbin-libdir && mkdir MinimumDistance.buildbin-libdir && C:\Users\biocbuild\bbs-3.14-bioc\R\bin\R.exe CMD INSTALL --merge-multiarch --build --library=MinimumDistance.buildbin-libdir MinimumDistance_1.38.0.tar.gz
StartedAt: 2022-01-17 07:37:23 -0500 (Mon, 17 Jan 2022)
EndedAt: 2022-01-17 07:39:30 -0500 (Mon, 17 Jan 2022)
EllapsedTime: 127.3 seconds
RetCode: 0
Status:   OK  
PackageFile: MinimumDistance_1.38.0.zip
PackageFileSize: 3.663 MiB

Command output

##############################################################################
##############################################################################
###
### Running command:
###
###   rm -rf MinimumDistance.buildbin-libdir && mkdir MinimumDistance.buildbin-libdir && C:\Users\biocbuild\bbs-3.14-bioc\R\bin\R.exe CMD INSTALL --merge-multiarch --build --library=MinimumDistance.buildbin-libdir MinimumDistance_1.38.0.tar.gz
###
##############################################################################
##############################################################################



install for i386

* installing *source* package 'MinimumDistance' ...
** using staged installation
** R
** data
** inst
** byte-compile and prepare package for lazy loading
No methods found in package 'oligoClasses' for request: 'mean' when loading 'crlmm'
Warning: replacing previous import 'ff::pattern' by 'grid::pattern' when loading 'MinimumDistance'
Creating a new generic function for 'allNames' in package 'MinimumDistance'
in method for 'coerce' with signature '"RangedDataCNV","GRanges"': no definition for class "RangedDataCNV"
in method for 'todf' with signature 'object="TrioSet",rangeData="RangedData"': no definition for class "RangedData"
in method for 'prune' with signature 'object="TrioSet",ranges="RangedDataCNV"': no definition for class "RangedDataCNV"
in method for 'prune' with signature 'object="TrioSetList",ranges="RangedDataCNV"': no definition for class "RangedDataCNV"
** help
*** installing help indices
  converting help for package 'MinimumDistance'
    finding HTML links ... done
    DNAcopyParam                            html  
    Defunct                                 html  
    Deprecated                              html  
    FilterParamMD-class                     html  
    FilterParamMD                           html  
    MAP                                     html  
    MAP2                                    html  
    MDRanges-class                          html  
    MinDistExperiment-class                 html  
    MinDistExperiment                       html  
    MinDistGRanges-class                    html  
    MinDistGRanges                          html  
    MinDistParam-class                      html  
    MinDistParam                            html  
    MinDistPosterior-class                  html  
    MinimumDistance                         html  
    ParentOffspring-class                   html  
    ParentOffspringList-class               html  
    Pedigree-class                          html  
    Pedigree                                html  
REDIRECT:topic	 Previous alias or file overwritten by alias: C:/Users/biocbuild/bbs-3.14-bioc/meat/MinimumDistance.buildbin-libdir/00LOCK-MinimumDistance/00new/MinimumDistance/help/Pedigree.html
    PennParam                               html  
    TrioSet-class                           html  
    TrioSet                                 html  
    TrioSetList-class                       html  
    TrioSetList                             html  
    TrioSetListLD                           html  
    acf2                                    html  
    calculateMindist                        html  
    coercion-methods                        html  
    denovo                                  html  
    exampleTrioSetList                      html  
REDIRECT:topic	 Previous alias or file overwritten by alias: C:/Users/biocbuild/bbs-3.14-bioc/meat/MinimumDistance.buildbin-libdir/00LOCK-MinimumDistance/00new/MinimumDistance/help/trioSetList.html
    filterExperiment                        html  
    mad2                                    html  
    mdLegend                                html  
    md_exp                                  html  
    md_gr                                   html  
    mindist                                 html  
    nMAD                                    html  
    pedigreeGrid                            html  
    pedigreeName                            html  
    pedigreeViewports                       html  
    plotDenovo                              html  
    range-ILimit-method                     html  
    segment2                                html  
    finding level-2 HTML links ... done

** building package indices
** installing vignettes
** testing if installed package can be loaded from temporary location
No methods found in package 'oligoClasses' for request: 'mean' when loading 'crlmm'
Warning: replacing previous import 'ff::pattern' by 'grid::pattern' when loading 'MinimumDistance'
** testing if installed package can be loaded from final location
No methods found in package 'oligoClasses' for request: 'mean' when loading 'crlmm'
Warning: replacing previous import 'ff::pattern' by 'grid::pattern' when loading 'MinimumDistance'
** testing if installed package keeps a record of temporary installation path

install for x64

* installing *source* package 'MinimumDistance' ...
** testing if installed package can be loaded
No methods found in package 'oligoClasses' for request: 'mean' when loading 'crlmm'
Warning: replacing previous import 'ff::pattern' by 'grid::pattern' when loading 'MinimumDistance'
* MD5 sums
packaged installation of 'MinimumDistance' as MinimumDistance_1.38.0.zip
* DONE (MinimumDistance)