Back to Multiple platform build/check report for BioC 3.14
AB[C]DEFGHIJKLMNOPQRSTUVWXYZ

This page was generated on 2022-01-17 13:07:30 -0500 (Mon, 17 Jan 2022).

HostnameOSArch (*)R versionInstalled pkgs
nebbiolo2Linux (Ubuntu 20.04.4 LTS)x86_644.1.2 (2021-11-01) -- "Bird Hippie" 4328
tokay2Windows Server 2012 R2 Standardx644.1.2 (2021-11-01) -- "Bird Hippie" 4077
machv2macOS 10.14.6 Mojavex86_644.1.2 (2021-11-01) -- "Bird Hippie" 4138
Click on any hostname to see more info about the system (e.g. compilers)      (*) as reported by 'uname -p', except on Windows and Mac OS X

BUILD BIN results for crlmm on machv2


To the developers/maintainers of the crlmm package:
- Please allow up to 24 hours (and sometimes 48 hours) for your latest push to git@git.bioconductor.org:packages/crlmm.git to
reflect on this report. See How and When does the builder pull? When will my changes propagate? here for more information.
- Make sure to use the following settings in order to reproduce any error or warning you see on this page.

raw results

Package 419/2083HostnameOS / ArchINSTALLBUILDCHECKBUILD BIN
crlmm 1.52.0  (landing page)
Benilton S Carvalho
Snapshot Date: 2022-01-16 01:55:05 -0500 (Sun, 16 Jan 2022)
git_url: https://git.bioconductor.org/packages/crlmm
git_branch: RELEASE_3_14
git_last_commit: 9ecc85f
git_last_commit_date: 2021-10-26 11:53:43 -0500 (Tue, 26 Oct 2021)
nebbiolo2Linux (Ubuntu 20.04.4 LTS) / x86_64  OK    OK    OK  UNNEEDED, same version is already published
tokay2Windows Server 2012 R2 Standard / x64  OK    OK    OK    OK  UNNEEDED, same version is already published
machv2macOS 10.14.6 Mojave / x86_64  OK    OK    OK    OK  UNNEEDED, same version is already published

Summary

Package: crlmm
Version: 1.52.0
Command: rm -rf crlmm.buildbin-libdir && mkdir crlmm.buildbin-libdir && /Users/biocbuild/BBS/utils/build-universal.sh crlmm_1.52.0.tar.gz /Library/Frameworks/R.framework/Resources/bin/R crlmm.buildbin-libdir
StartedAt: 2022-01-16 20:08:31 -0500 (Sun, 16 Jan 2022)
EndedAt: 2022-01-16 20:09:37 -0500 (Sun, 16 Jan 2022)
EllapsedTime: 65.5 seconds
RetCode: 0
Status:   OK  
PackageFile: crlmm_1.52.0.tgz
PackageFileSize: 5.176 MiB

Command output

##############################################################################
##############################################################################
###
### Running command:
###
###   rm -rf crlmm.buildbin-libdir && mkdir crlmm.buildbin-libdir && /Users/biocbuild/BBS/utils/build-universal.sh crlmm_1.52.0.tar.gz /Library/Frameworks/R.framework/Resources/bin/R crlmm.buildbin-libdir
###
##############################################################################
##############################################################################


>>>>>>> 
>>>>>>> INSTALLATION WITH 'R CMD INSTALL --preclean --no-multiarch --library=crlmm.buildbin-libdir crlmm_1.52.0.tar.gz'
>>>>>>> 

* installing *source* package ‘crlmm’ ...
** using staged installation
** libs
clang -mmacosx-version-min=10.13 -I"/Library/Frameworks/R.framework/Resources/include" -DNDEBUG  -I'/Library/Frameworks/R.framework/Versions/4.1/Resources/library/preprocessCore/include' -I/usr/local/include   -fPIC  -Wall -g -O2  -c gtypeCaller.c -o gtypeCaller.o
clang -mmacosx-version-min=10.13 -I"/Library/Frameworks/R.framework/Resources/include" -DNDEBUG  -I'/Library/Frameworks/R.framework/Versions/4.1/Resources/library/preprocessCore/include' -I/usr/local/include   -fPIC  -Wall -g -O2  -c init.c -o init.o
clang -mmacosx-version-min=10.13 -I"/Library/Frameworks/R.framework/Resources/include" -DNDEBUG  -I'/Library/Frameworks/R.framework/Versions/4.1/Resources/library/preprocessCore/include' -I/usr/local/include   -fPIC  -Wall -g -O2  -c trimmed.c -o trimmed.o
clang -mmacosx-version-min=10.13 -I"/Library/Frameworks/R.framework/Resources/include" -DNDEBUG  -I'/Library/Frameworks/R.framework/Versions/4.1/Resources/library/preprocessCore/include' -I/usr/local/include   -fPIC  -Wall -g -O2  -c utils.c -o utils.o
clang -mmacosx-version-min=10.13 -dynamiclib -Wl,-headerpad_max_install_names -undefined dynamic_lookup -single_module -multiply_defined suppress -L/Library/Frameworks/R.framework/Resources/lib -L/usr/local/lib -o crlmm.so gtypeCaller.o init.o trimmed.o utils.o -F/Library/Frameworks/R.framework/.. -framework R -Wl,-framework -Wl,CoreFoundation
installing to /Users/biocbuild/bbs-3.14-bioc/meat/crlmm.buildbin-libdir/00LOCK-crlmm/00new/crlmm/libs
** R
** data
** inst
** byte-compile and prepare package for lazy loading
No methods found in package ‘oligoClasses’ for request: ‘mean’ when loading ‘crlmm’
** help
*** installing help indices
** building package indices
** installing vignettes
** testing if installed package can be loaded from temporary location
No methods found in package ‘oligoClasses’ for request: ‘mean’ when loading ‘crlmm’
** checking absolute paths in shared objects and dynamic libraries
** testing if installed package can be loaded from final location
No methods found in package ‘oligoClasses’ for request: ‘mean’ when loading ‘crlmm’
** testing if installed package keeps a record of temporary installation path
* DONE (crlmm)


>>>>>>> 
>>>>>>> FIXING LINKS FOR crlmm.buildbin-libdir/crlmm/libs/crlmm.so
>>>>>>> 

install_name_tool -change "/usr/local/lib/libgcc_s.1.dylib" "/Library/Frameworks/R.framework/Versions/4.1/Resources/lib/libgcc_s.1.dylib" "crlmm.buildbin-libdir/crlmm/libs/crlmm.so"
install_name_tool -change "/usr/local/lib/libgfortran.5.dylib" "/Library/Frameworks/R.framework/Versions/4.1/Resources/lib/libgfortran.5.dylib" "crlmm.buildbin-libdir/crlmm/libs/crlmm.so"
install_name_tool -change "/usr/local/lib/libquadmath.0.dylib" "/Library/Frameworks/R.framework/Versions/4.1/Resources/lib/libquadmath.0.dylib" "crlmm.buildbin-libdir/crlmm/libs/crlmm.so"