Back to Multiple platform build/check report for BioC 3.14
ABCDEFGHIJKLMNO[P]QRSTUVWXYZ

This page was generated on 2022-01-24 13:08:07 -0500 (Mon, 24 Jan 2022).

HostnameOSArch (*)R versionInstalled pkgs
nebbiolo2Linux (Ubuntu 20.04.4 LTS)x86_644.1.2 (2021-11-01) -- "Bird Hippie" 4329
tokay2Windows Server 2012 R2 Standardx644.1.2 (2021-11-01) -- "Bird Hippie" 4080
machv2macOS 10.14.6 Mojavex86_644.1.2 (2021-11-01) -- "Bird Hippie" 4141
Click on any hostname to see more info about the system (e.g. compilers)      (*) as reported by 'uname -p', except on Windows and Mac OS X

INSTALL results for pdInfoBuilder on machv2


To the developers/maintainers of the pdInfoBuilder package:
- Please allow up to 24 hours (and sometimes 48 hours) for your latest push to git@git.bioconductor.org:packages/pdInfoBuilder.git to
reflect on this report. See How and When does the builder pull? When will my changes propagate? here for more information.
- Make sure to use the following settings in order to reproduce any error or warning you see on this page.

raw results

Package 1389/2083HostnameOS / ArchINSTALLBUILDCHECKBUILD BIN
pdInfoBuilder 1.58.0  (landing page)
Benilton Carvalho
Snapshot Date: 2022-01-23 01:55:04 -0500 (Sun, 23 Jan 2022)
git_url: https://git.bioconductor.org/packages/pdInfoBuilder
git_branch: RELEASE_3_14
git_last_commit: 0988869
git_last_commit_date: 2021-10-26 11:50:45 -0500 (Tue, 26 Oct 2021)
nebbiolo2Linux (Ubuntu 20.04.4 LTS) / x86_64  OK    OK    OK  UNNEEDED, same version is already published
tokay2Windows Server 2012 R2 Standard / x64  OK    OK    OK    OK  UNNEEDED, same version is already published
machv2macOS 10.14.6 Mojave / x86_64  OK    OK    OK    OK  UNNEEDED, same version is already published

Summary

Package: pdInfoBuilder
Version: 1.58.0
Command: /Library/Frameworks/R.framework/Resources/bin/R CMD INSTALL pdInfoBuilder
StartedAt: 2022-01-23 03:32:36 -0500 (Sun, 23 Jan 2022)
EndedAt: 2022-01-23 03:33:29 -0500 (Sun, 23 Jan 2022)
EllapsedTime: 52.4 seconds
RetCode: 0
Status:   OK  

Command output

##############################################################################
##############################################################################
###
### Running command:
###
###   /Library/Frameworks/R.framework/Resources/bin/R CMD INSTALL pdInfoBuilder
###
##############################################################################
##############################################################################


* installing to library ‘/Library/Frameworks/R.framework/Versions/4.1/Resources/library’
* installing *source* package ‘pdInfoBuilder’ ...
** using staged installation
** libs
clang -mmacosx-version-min=10.13 -I"/Library/Frameworks/R.framework/Resources/include" -DNDEBUG   -I/usr/local/include   -fPIC  -Wall -g -O2  -c pdInfoBuilder.c -o pdInfoBuilder.o
clang -mmacosx-version-min=10.13 -dynamiclib -Wl,-headerpad_max_install_names -undefined dynamic_lookup -single_module -multiply_defined suppress -L/Library/Frameworks/R.framework/Resources/lib -L/usr/local/lib -o pdInfoBuilder.so pdInfoBuilder.o -F/Library/Frameworks/R.framework/.. -framework R -Wl,-framework -Wl,CoreFoundation
installing to /Library/Frameworks/R.framework/Versions/4.1/Resources/library/00LOCK-pdInfoBuilder/00new/pdInfoBuilder/libs
** R
** inst
** byte-compile and prepare package for lazy loading
No methods found in package ‘RSQLite’ for request: ‘dbGetQuery’ when loading ‘pdInfoBuilder’
** help
*** installing help indices
** building package indices
** installing vignettes
   ‘BuildingPDInfoPkgs.Rnw’ 
   ‘howto-AffymetrixMapping.Rnw’ 
** testing if installed package can be loaded from temporary location
No methods found in package ‘RSQLite’ for request: ‘dbGetQuery’ when loading ‘pdInfoBuilder’
** checking absolute paths in shared objects and dynamic libraries
** testing if installed package can be loaded from final location
No methods found in package ‘RSQLite’ for request: ‘dbGetQuery’ when loading ‘pdInfoBuilder’
** testing if installed package keeps a record of temporary installation path
* DONE (pdInfoBuilder)