Back to Multiple platform build/check report for BioC 3.14
ABCDEFGHIJKLMNO[P]QRSTUVWXYZ

This page was generated on 2022-01-17 13:05:28 -0500 (Mon, 17 Jan 2022).

HostnameOSArch (*)R versionInstalled pkgs
nebbiolo2Linux (Ubuntu 20.04.4 LTS)x86_644.1.2 (2021-11-01) -- "Bird Hippie" 4328
tokay2Windows Server 2012 R2 Standardx644.1.2 (2021-11-01) -- "Bird Hippie" 4077
machv2macOS 10.14.6 Mojavex86_644.1.2 (2021-11-01) -- "Bird Hippie" 4138
Click on any hostname to see more info about the system (e.g. compilers)      (*) as reported by 'uname -p', except on Windows and Mac OS X

CHECK results for pdInfoBuilder on nebbiolo2


To the developers/maintainers of the pdInfoBuilder package:
- Please allow up to 24 hours (and sometimes 48 hours) for your latest push to git@git.bioconductor.org:packages/pdInfoBuilder.git to
reflect on this report. See How and When does the builder pull? When will my changes propagate? here for more information.
- Make sure to use the following settings in order to reproduce any error or warning you see on this page.

raw results

Package 1389/2083HostnameOS / ArchINSTALLBUILDCHECKBUILD BIN
pdInfoBuilder 1.58.0  (landing page)
Benilton Carvalho
Snapshot Date: 2022-01-16 01:55:05 -0500 (Sun, 16 Jan 2022)
git_url: https://git.bioconductor.org/packages/pdInfoBuilder
git_branch: RELEASE_3_14
git_last_commit: 0988869
git_last_commit_date: 2021-10-26 11:50:45 -0500 (Tue, 26 Oct 2021)
nebbiolo2Linux (Ubuntu 20.04.4 LTS) / x86_64  OK    OK    OK  UNNEEDED, same version is already published
tokay2Windows Server 2012 R2 Standard / x64  OK    OK    OK    OK  UNNEEDED, same version is already published
machv2macOS 10.14.6 Mojave / x86_64  OK    OK    OK    OK  UNNEEDED, same version is already published

Summary

Package: pdInfoBuilder
Version: 1.58.0
Command: /home/biocbuild/bbs-3.14-bioc/R/bin/R CMD check --install=check:pdInfoBuilder.install-out.txt --library=/home/biocbuild/bbs-3.14-bioc/R/library --no-vignettes --timings pdInfoBuilder_1.58.0.tar.gz
StartedAt: 2022-01-16 09:06:23 -0500 (Sun, 16 Jan 2022)
EndedAt: 2022-01-16 09:08:45 -0500 (Sun, 16 Jan 2022)
EllapsedTime: 142.6 seconds
RetCode: 0
Status:   OK  
CheckDir: pdInfoBuilder.Rcheck
Warnings: 0

Command output

##############################################################################
##############################################################################
###
### Running command:
###
###   /home/biocbuild/bbs-3.14-bioc/R/bin/R CMD check --install=check:pdInfoBuilder.install-out.txt --library=/home/biocbuild/bbs-3.14-bioc/R/library --no-vignettes --timings pdInfoBuilder_1.58.0.tar.gz
###
##############################################################################
##############################################################################


* using log directory ‘/home/biocbuild/bbs-3.14-bioc/meat/pdInfoBuilder.Rcheck’
* using R version 4.1.2 (2021-11-01)
* using platform: x86_64-pc-linux-gnu (64-bit)
* using session charset: UTF-8
* using option ‘--no-vignettes’
* checking for file ‘pdInfoBuilder/DESCRIPTION’ ... OK
* this is package ‘pdInfoBuilder’ version ‘1.58.0’
* checking package namespace information ... OK
* checking package dependencies ... OK
* checking if this is a source package ... OK
* checking if there is a namespace ... OK
* checking for hidden files and directories ... OK
* checking for portable file names ... OK
* checking for sufficient/correct file permissions ... OK
* checking whether package ‘pdInfoBuilder’ can be installed ... OK
* checking installed package size ... OK
* checking package directory ... OK
* checking ‘build’ directory ... OK
* checking DESCRIPTION meta-information ... OK
* checking top-level files ... OK
* checking for left-over files ... OK
* checking index information ... OK
* checking package subdirectories ... OK
* checking R files for non-ASCII characters ... OK
* checking R files for syntax errors ... OK
* checking whether the package can be loaded ... OK
* checking whether the package can be loaded with stated dependencies ... OK
* checking whether the package can be unloaded cleanly ... OK
* checking whether the namespace can be loaded with stated dependencies ... OK
* checking whether the namespace can be unloaded cleanly ... OK
* checking dependencies in R code ... NOTE
Namespaces in Imports field not imported from:
  ‘BiocGenerics’ ‘IRanges’ ‘oligoClasses’
  All declared Imports should be used.
* checking S3 generic/method consistency ... OK
* checking replacement functions ... OK
* checking foreign function calls ... OK
* checking R code for possible problems ... NOTE
cdf2table: no visible global function definition for ‘getDoParWorkers’
cdf2table: no visible global function definition for ‘%dopar%’
cdf2table: no visible global function definition for ‘foreach’
cdf2table: no visible binding for global variable ‘unitLst’
cdfUnits2table: no visible global function definition for ‘%do%’
cdfUnits2table: no visible global function definition for ‘foreach’
cdfUnits2table: no visible binding for global variable ‘i’
connectDb: no visible global function definition for ‘dbGetQuery’
createChrDict: no visible global function definition for ‘na.omit’
createIndicesDb : makeIndex: no visible global function definition for
  ‘dbGetQuery’
createIndicesDb: no visible global function definition for ‘dbGetQuery’
createSeqMat: no visible global function definition for ‘dbGetQuery’
createSeqMat.cnv: no visible global function definition for
  ‘dbGetQuery’
createTableInfoTable: no visible global function definition for
  ‘dbGetQuery’
dbCreateIndex: no visible global function definition for ‘dbGetQuery’
dbCreateTable: no visible global function definition for ‘dbGetQuery’
dbCreateTableInfo: no visible global function definition for
  ‘dbGetQuery’
getAllFSetMpsTables: no visible global function definition for
  ‘%dopar%’
getAllFSetMpsTables: no visible global function definition for
  ‘foreach’
getAllFSetMpsTables: no visible binding for global variable ‘i’
increaseDbPerformance: no visible global function definition for
  ‘dbGetQuery’
initDb: no visible global function definition for ‘dbGetQuery’
insertInFragmentLengthTable: no visible global function definition for
  ‘dbGetQuery’
loadAffySeqCsv: no visible global function definition for ‘dbGetQuery’
loadUnits: no visible global function definition for ‘dbGetQuery’
parseBpmapCel: no visible global function definition for ‘aggregate’
parseCdfSeqAnnotSnp: no visible global function definition for
  ‘aggregate’
parseNgsTrio: no visible global function definition for ‘aggregate’
snp6.createIndicesDb : makeIndex: no visible global function definition
  for ‘dbGetQuery’
snp6.createIndicesDb: no visible global function definition for
  ‘dbGetQuery’
snp6.createTableInfoTable: no visible global function definition for
  ‘dbGetQuery’
snp6.initDb: no visible global function definition for ‘dbGetQuery’
snp6.loadUnits.cnv: no visible global function definition for
  ‘dbGetQuery’
snp6.loadUnits.snp: no visible global function definition for
  ‘dbGetQuery’
snp6.sortFeatureTables: no visible global function definition for
  ‘dbGetQuery’
sortFeatureTables: no visible global function definition for
  ‘dbGetQuery’
makePdInfoPackage,AffyClariomSPDInfoPkgSeed: no visible global function
  definition for ‘dbGetQuery’
makePdInfoPackage,AffyExpressionPDInfoPkgSeed: no visible global
  function definition for ‘dbGetQuery’
makePdInfoPackage,AffyHTAPDInfoPkgSeed: no visible global function
  definition for ‘dbGetQuery’
makePdInfoPackage,AffyMiRNAPDInfoPkgSeed: no visible global function
  definition for ‘dbGetQuery’
makePdInfoPackage,AffySNPCNVPDInfoPkgSeed2: no visible global function
  definition for ‘dbGetQuery’
makePdInfoPackage,AffySNPPDInfoPkgSeed2: no visible global function
  definition for ‘dbGetQuery’
makePdInfoPackage,AffySTPDInfoPkgSeed: no visible global function
  definition for ‘dbGetQuery’
makePdInfoPackage,AffyTilingPDInfoPkgSeed: no visible global function
  definition for ‘dbGetQuery’
makePdInfoPackage,GenericPDInfoPkgSeed: no visible global function
  definition for ‘dbGetQuery’
makePdInfoPackage,NgsExpressionPDInfoPkgSeed: no visible global
  function definition for ‘dbGetQuery’
makePdInfoPackage,NgsTilingPDInfoPkgSeed: no visible global function
  definition for ‘dbGetQuery’
Undefined global functions or variables:
  %do% %dopar% aggregate dbGetQuery foreach getDoParWorkers i na.omit
  unitLst
Consider adding
  importFrom("stats", "aggregate", "na.omit")
to your NAMESPACE file.
* checking Rd files ... OK
* checking Rd metadata ... OK
* checking Rd cross-references ... OK
* checking for missing documentation entries ... OK
* checking for code/documentation mismatches ... OK
* checking Rd \usage sections ... OK
* checking Rd contents ... OK
* checking for unstated dependencies in examples ... OK
* checking line endings in C/C++/Fortran sources/headers ... OK
* checking line endings in Makefiles ... OK
* checking for GNU extensions in Makefiles ... OK
* checking include directives in Makefiles ... OK
* checking compiled code ... NOTE
Note: information on .o files is not available
* checking installed files from ‘inst/doc’ ... OK
* checking files in ‘vignettes’ ... OK
* checking examples ... OK
* checking for unstated dependencies in vignettes ... OK
* checking package vignettes in ‘inst/doc’ ... OK
* checking running R code from vignettes ... SKIPPED
* checking re-building of vignette outputs ... SKIPPED
* checking PDF version of manual ... OK
* DONE

Status: 3 NOTEs
See
  ‘/home/biocbuild/bbs-3.14-bioc/meat/pdInfoBuilder.Rcheck/00check.log’
for details.



Installation output

pdInfoBuilder.Rcheck/00install.out

##############################################################################
##############################################################################
###
### Running command:
###
###   /home/biocbuild/bbs-3.14-bioc/R/bin/R CMD INSTALL pdInfoBuilder
###
##############################################################################
##############################################################################


* installing to library ‘/home/biocbuild/bbs-3.14-bioc/R/library’
* installing *source* package ‘pdInfoBuilder’ ...
** using staged installation
** libs
gcc -I"/home/biocbuild/bbs-3.14-bioc/R/include" -DNDEBUG   -I/usr/local/include   -fpic  -g -O2  -Wall -c pdInfoBuilder.c -o pdInfoBuilder.o
gcc -shared -L/home/biocbuild/bbs-3.14-bioc/R/lib -L/usr/local/lib -o pdInfoBuilder.so pdInfoBuilder.o -L/home/biocbuild/bbs-3.14-bioc/R/lib -lR
installing to /home/biocbuild/bbs-3.14-bioc/R/library/00LOCK-pdInfoBuilder/00new/pdInfoBuilder/libs
** R
** inst
** byte-compile and prepare package for lazy loading
No methods found in package ‘RSQLite’ for request: ‘dbGetQuery’ when loading ‘pdInfoBuilder’
** help
*** installing help indices
** building package indices
** installing vignettes
   ‘BuildingPDInfoPkgs.Rnw’ 
   ‘howto-AffymetrixMapping.Rnw’ 
** testing if installed package can be loaded from temporary location
No methods found in package ‘RSQLite’ for request: ‘dbGetQuery’ when loading ‘pdInfoBuilder’
** checking absolute paths in shared objects and dynamic libraries
** testing if installed package can be loaded from final location
No methods found in package ‘RSQLite’ for request: ‘dbGetQuery’ when loading ‘pdInfoBuilder’
** testing if installed package keeps a record of temporary installation path
* DONE (pdInfoBuilder)

Tests output


Example timings

pdInfoBuilder.Rcheck/pdInfoBuilder-Ex.timings

nameusersystemelapsed
AffyClariomSPDInfoPkgSeed-class0.0000.0010.001
AffyExpressionPDInfoPkgSeed-class0.0000.0000.001
AffySNPCNVPDInfoPkgSeed-class000
AffySNPCNVPDInfoPkgSeed2-class000
AffySNPPDInfoPkgSeed-class0.2370.0480.285
AffySNPPDInfoPkgSeed2-class000
AffySTPDInfoPkgSeed-class000
AffyTilingPDInfoPkgSeed-class000
NgsExpressionPDInfoPkgSeed-class000
NgsTilingPDInfoPkgSeed-class0.0010.0000.000
NimbleGenPDInfoPkgSeed-class0.0010.0000.000
makePdInfoPackage0.0000.0000.001