Back to Multiple platform build/check report for BioC 3.19:   simplified   long
AB[C]DEFGHIJKLMNOPQRSTUVWXYZ

This page was generated on 2024-02-26 13:59:26 -0500 (Mon, 26 Feb 2024).

HostnameOSArch (*)R versionInstalled pkgs
nebbiolo1Linux (Ubuntu 22.04.3 LTS)x86_64R Under development (unstable) (2024-01-16 r85808) -- "Unsuffered Consequences" 4671
palomino3Windows Server 2022 Datacenterx64R Under development (unstable) (2024-01-14 r85805 ucrt) -- "Unsuffered Consequences" 4411
merida1macOS 12.7.1 Montereyx86_64R Under development (unstable) (2024-01-16 r85808) -- "Unsuffered Consequences" 4438
kunpeng2Linux (openEuler 22.03 LTS-SP1)aarch64R Under development (unstable) (2024-01-16 r85812) -- "Unsuffered Consequences" 4414
Click on any hostname to see more info about the system (e.g. compilers)      (*) as reported by 'uname -p', except on Windows and Mac OS X

Package 374/2251HostnameOS / ArchINSTALLBUILDCHECKBUILD BIN
clusterStab 1.75.0  (landing page)
James W. MacDonald
Snapshot Date: 2024-02-23 14:00:08 -0500 (Fri, 23 Feb 2024)
git_url: https://git.bioconductor.org/packages/clusterStab
git_branch: devel
git_last_commit: a8d0ea2
git_last_commit_date: 2023-10-24 09:35:23 -0500 (Tue, 24 Oct 2023)
nebbiolo1Linux (Ubuntu 22.04.3 LTS) / x86_64  OK    OK    OK  UNNEEDED, same version is already published
palomino3Windows Server 2022 Datacenter / x64  OK    OK    OK    OK  UNNEEDED, same version is already published
merida1macOS 12.7.1 Monterey / x86_64  OK    OK    OK    OK  UNNEEDED, same version is already published
kunpeng2Linux (openEuler 22.03 LTS-SP1) / aarch64  OK    OK    OK  

BUILD BIN results for clusterStab on palomino3


To the developers/maintainers of the clusterStab package:
- Allow up to 24 hours (and sometimes 48 hours) for your latest push to git@git.bioconductor.org:packages/clusterStab.git to reflect on this report. See Troubleshooting Build Report for more information.
- Use the following Renviron settings to reproduce errors and warnings.
- If 'R CMD check' started to fail recently on the Linux builder(s) over a missing dependency, add the missing dependency to 'Suggests:' in your DESCRIPTION file. See Renviron.bioc for more information.

raw results


Summary

Package: clusterStab
Version: 1.75.0
Command: rm -rf clusterStab.buildbin-libdir && mkdir clusterStab.buildbin-libdir && F:\biocbuild\bbs-3.19-bioc\R\bin\R.exe CMD INSTALL --build --library=clusterStab.buildbin-libdir clusterStab_1.75.0.tar.gz
StartedAt: 2024-02-24 10:47:27 -0500 (Sat, 24 Feb 2024)
EndedAt: 2024-02-24 10:47:36 -0500 (Sat, 24 Feb 2024)
EllapsedTime: 8.9 seconds
RetCode: 0
Status:   OK  
PackageFile: clusterStab_1.75.0.zip
PackageFileSize: 249.3 KiB

Command output

##############################################################################
##############################################################################
###
### Running command:
###
###   rm -rf clusterStab.buildbin-libdir && mkdir clusterStab.buildbin-libdir && F:\biocbuild\bbs-3.19-bioc\R\bin\R.exe CMD INSTALL --build --library=clusterStab.buildbin-libdir clusterStab_1.75.0.tar.gz
###
##############################################################################
##############################################################################


* installing *source* package 'clusterStab' ...
** using staged installation
** R
** inst
** byte-compile and prepare package for lazy loading
** help
*** installing help indices
** building package indices
** installing vignettes
** testing if installed package can be loaded from temporary location
** testing if installed package can be loaded from final location
** testing if installed package keeps a record of temporary installation path
* MD5 sums
packaged installation of 'clusterStab' as clusterStab_1.75.0.zip
* DONE (clusterStab)