Index of /checkResults/devel/bioc-LATEST/clusterStab/raw-results

[ICO]NameLast modifiedSizeDescription

[DIR]Parent Directory  -  
[   ]info.dcf30-Sep-2023 01:05 282  
[DIR]kunpeng2/30-Sep-2023 01:05 -  
[DIR]lconway/30-Sep-2023 01:04 -  
[DIR]nebbiolo2/30-Sep-2023 01:02 -  
[DIR]palomino4/30-Sep-2023 01:03 -