Back to Multiple platform build/check report for BioC 3.19:   simplified   long
AB[C]DEFGHIJKLMNOPQRSTUVWXYZ

This page was generated on 2024-02-28 11:36:21 -0500 (Wed, 28 Feb 2024).

HostnameOSArch (*)R versionInstalled pkgs
nebbiolo1Linux (Ubuntu 22.04.3 LTS)x86_64R Under development (unstable) (2024-01-16 r85808) -- "Unsuffered Consequences" 4671
palomino3Windows Server 2022 Datacenterx64R Under development (unstable) (2024-01-14 r85805 ucrt) -- "Unsuffered Consequences" 4411
merida1macOS 12.7.1 Montereyx86_64R Under development (unstable) (2024-01-16 r85808) -- "Unsuffered Consequences" 4438
kunpeng2Linux (openEuler 22.03 LTS-SP1)aarch64R Under development (unstable) (2024-01-16 r85812) -- "Unsuffered Consequences" 4414
Click on any hostname to see more info about the system (e.g. compilers)      (*) as reported by 'uname -p', except on Windows and Mac OS X

Package 374/2251HostnameOS / ArchINSTALLBUILDCHECKBUILD BIN
clusterStab 1.75.0  (landing page)
James W. MacDonald
Snapshot Date: 2024-02-26 14:39:26 -0500 (Mon, 26 Feb 2024)
git_url: https://git.bioconductor.org/packages/clusterStab
git_branch: devel
git_last_commit: a8d0ea2
git_last_commit_date: 2023-10-24 09:35:23 -0500 (Tue, 24 Oct 2023)
nebbiolo1Linux (Ubuntu 22.04.3 LTS) / x86_64  OK    OK    OK  UNNEEDED, same version is already published
palomino3Windows Server 2022 Datacenter / x64  OK    ERROR  skippedskipped
merida1macOS 12.7.1 Monterey / x86_64  OK    OK    OK    OK  UNNEEDED, same version is already published
kunpeng2Linux (openEuler 22.03 LTS-SP1) / aarch64  OK    OK    OK  

CHECK results for clusterStab on nebbiolo1


To the developers/maintainers of the clusterStab package:
- Allow up to 24 hours (and sometimes 48 hours) for your latest push to git@git.bioconductor.org:packages/clusterStab.git to reflect on this report. See Troubleshooting Build Report for more information.
- Use the following Renviron settings to reproduce errors and warnings.
- If 'R CMD check' started to fail recently on the Linux builder(s) over a missing dependency, add the missing dependency to 'Suggests:' in your DESCRIPTION file. See Renviron.bioc for more information.

raw results


Summary

Package: clusterStab
Version: 1.75.0
Command: /home/biocbuild/bbs-3.19-bioc/R/bin/R CMD check --install=check:clusterStab.install-out.txt --library=/home/biocbuild/bbs-3.19-bioc/R/site-library --timings clusterStab_1.75.0.tar.gz
StartedAt: 2024-02-26 21:28:52 -0500 (Mon, 26 Feb 2024)
EndedAt: 2024-02-26 21:29:24 -0500 (Mon, 26 Feb 2024)
EllapsedTime: 32.3 seconds
RetCode: 0
Status:   OK  
CheckDir: clusterStab.Rcheck
Warnings: 0

Command output

##############################################################################
##############################################################################
###
### Running command:
###
###   /home/biocbuild/bbs-3.19-bioc/R/bin/R CMD check --install=check:clusterStab.install-out.txt --library=/home/biocbuild/bbs-3.19-bioc/R/site-library --timings clusterStab_1.75.0.tar.gz
###
##############################################################################
##############################################################################


* using log directory ‘/home/biocbuild/bbs-3.19-bioc/meat/clusterStab.Rcheck’
* using R Under development (unstable) (2024-01-16 r85808)
* using platform: x86_64-pc-linux-gnu
* R was compiled by
    gcc (Ubuntu 11.4.0-1ubuntu1~22.04) 11.4.0
    GNU Fortran (Ubuntu 11.4.0-1ubuntu1~22.04) 11.4.0
* running under: Ubuntu 22.04.3 LTS
* using session charset: UTF-8
* checking for file ‘clusterStab/DESCRIPTION’ ... OK
* this is package ‘clusterStab’ version ‘1.75.0’
* checking package namespace information ... OK
* checking package dependencies ... OK
* checking if this is a source package ... OK
* checking if there is a namespace ... OK
* checking for hidden files and directories ... OK
* checking for portable file names ... OK
* checking for sufficient/correct file permissions ... OK
* checking whether package ‘clusterStab’ can be installed ... OK
* checking installed package size ... OK
* checking package directory ... OK
* checking ‘build’ directory ... OK
* checking DESCRIPTION meta-information ... OK
* checking top-level files ... OK
* checking for left-over files ... OK
* checking index information ... OK
* checking package subdirectories ... OK
* checking R files for non-ASCII characters ... OK
* checking R files for syntax errors ... OK
* checking whether the package can be loaded ... OK
* checking whether the package can be loaded with stated dependencies ... OK
* checking whether the package can be unloaded cleanly ... OK
* checking whether the namespace can be loaded with stated dependencies ... OK
* checking whether the namespace can be unloaded cleanly ... OK
* checking loading without being on the library search path ... OK
* checking dependencies in R code ... NOTE
'library' or 'require' call to ‘Biobase’ which was already attached by Depends.
  Please remove these calls from your code.
'library' or 'require' call to ‘stats’ in package code.
  Please use :: or requireNamespace() instead.
  See section 'Suggested packages' in the 'Writing R Extensions' manual.
Packages in Depends field not imported from:
  ‘Biobase’ ‘methods’
  These packages need to be imported from (in the NAMESPACE file)
  for when this namespace is loaded but not attached.
* checking S3 generic/method consistency ... OK
* checking replacement functions ... OK
* checking foreign function calls ... OK
* checking R code for possible problems ... NOTE
NB: .First.lib is obsolete and will not be used in R >= 3.0.0
File ‘clusterStab/R/zzz.R’:
  .First.lib calls:
    require(Biobase)

Package startup functions should not change the search path.
See section ‘Good practice’ in '?.onAttach'.

do.benhur: warning in matrix(placeone, nr = m.dim, nc = m.dim): partial
  argument match of 'nr' to 'nrow'
do.benhur: warning in matrix(placeone, nr = m.dim, nc = m.dim): partial
  argument match of 'nc' to 'ncol'
do.benhur: warning in matrix(placeone, nr = m.dim, nc = m.dim, byrow =
  TRUE): partial argument match of 'nr' to 'nrow'
do.benhur: warning in matrix(placeone, nr = m.dim, nc = m.dim, byrow =
  TRUE): partial argument match of 'nc' to 'ncol'
do.benhur: warning in matrix(placetwo, nr = m.dim, nc = m.dim): partial
  argument match of 'nr' to 'nrow'
do.benhur: warning in matrix(placetwo, nr = m.dim, nc = m.dim): partial
  argument match of 'nc' to 'ncol'
do.benhur: warning in matrix(placetwo, nr = m.dim, nc = m.dim, byrow =
  TRUE): partial argument match of 'nr' to 'nrow'
do.benhur: warning in matrix(placetwo, nr = m.dim, nc = m.dim, byrow =
  TRUE): partial argument match of 'nc' to 'ncol'
show,ClusterComp: warning in matrix(paste(round(object@percent, 0),
  "%", sep = ""), nr = 1): partial argument match of 'nr' to 'nrow'
.First.lib: no visible global function definition for ‘addVigs2WinMenu’
do.benhur: no visible global function definition for ‘hclust’
do.benhur: no visible global function definition for ‘cutree’
do.benhur: no visible global function definition for ‘new’
do.clusterComp: no visible global function definition for ‘hclust’
do.clusterComp: no visible global function definition for ‘cutree’
do.clusterComp: no visible global function definition for ‘new’
makeDist: no visible global function definition for ‘as.dist’
makeDist: no visible global function definition for ‘cor’
makeDist: no visible global function definition for ‘dist’
benhur,ExpressionSet: no visible global function definition for ‘exprs’
clusterComp,ExpressionSet: no visible global function definition for
  ‘exprs’
ecdf,BenHur: no visible global function definition for ‘par’
ecdf,BenHur: no visible global function definition for ‘legend’
hist,BenHur: no visible global function definition for ‘par’
Undefined global functions or variables:
  addVigs2WinMenu as.dist cor cutree dist exprs hclust legend new par
Consider adding
  importFrom("graphics", "legend", "par")
  importFrom("methods", "new")
  importFrom("stats", "as.dist", "cor", "cutree", "dist", "hclust")
to your NAMESPACE file (and ensure that your DESCRIPTION Imports field
contains 'methods').
* checking Rd files ... OK
* checking Rd metadata ... OK
* checking Rd cross-references ... OK
* checking for missing documentation entries ... OK
* checking for code/documentation mismatches ... OK
* checking Rd \usage sections ... OK
* checking Rd contents ... OK
* checking for unstated dependencies in examples ... OK
* checking files in ‘vignettes’ ... OK
* checking examples ... OK
* checking for unstated dependencies in vignettes ... OK
* checking package vignettes ... OK
* checking re-building of vignette outputs ... OK
* checking PDF version of manual ... OK
* DONE

Status: 2 NOTEs
See
  ‘/home/biocbuild/bbs-3.19-bioc/meat/clusterStab.Rcheck/00check.log’
for details.



Installation output

clusterStab.Rcheck/00install.out

##############################################################################
##############################################################################
###
### Running command:
###
###   /home/biocbuild/bbs-3.19-bioc/R/bin/R CMD INSTALL clusterStab
###
##############################################################################
##############################################################################


* installing to library ‘/home/biocbuild/bbs-3.19-bioc/R/site-library’
* installing *source* package ‘clusterStab’ ...
** using staged installation
** R
** byte-compile and prepare package for lazy loading
** help
*** installing help indices
** building package indices
** installing vignettes
** testing if installed package can be loaded from temporary location
** testing if installed package can be loaded from final location
** testing if installed package keeps a record of temporary installation path
* DONE (clusterStab)

Tests output


Example timings

clusterStab.Rcheck/clusterStab-Ex.timings

nameusersystemelapsed
benhur0.2440.0040.249
clusterComp0.0630.0160.079