Back to Multiple platform build/check report for BioC 3.15
ABC[D]EFGHIJKLMNOPQRSTUVWXYZ

This page was generated on 2022-01-19 11:11:19 -0500 (Wed, 19 Jan 2022).

HostnameOSArch (*)R versionInstalled pkgs
nebbiolo1Linux (Ubuntu 20.04.4 LTS)x86_64R Under development (unstable) (2022-01-05 r81451) -- "Unsuffered Consequences" 4161
riesling1Windows Server 2019 Standardx64R Under development (unstable) (2021-11-21 r81221) -- "Unsuffered Consequences" 4056
palomino3Windows Server 2022 Datacenterx64R Under development (unstable) (2021-12-21 r81400 ucrt) -- "Unsuffered Consequences" 3998
merida1macOS 10.14.6 Mojavex86_64R Under development (unstable) (2022-01-05 r81451) -- "Unsuffered Consequences" 4115
Click on any hostname to see more info about the system (e.g. compilers)      (*) as reported by 'uname -p', except on Windows and Mac OS X

INSTALL results for DAPAR on merida1


To the developers/maintainers of the DAPAR package:
- Please allow up to 24 hours (and sometimes 48 hours) for your latest push to git@git.bioconductor.org:packages/DAPAR.git to
reflect on this report. See How and When does the builder pull? When will my changes propagate? here for more information.
- Make sure to use the following settings in order to reproduce any error or warning you see on this page.

raw results

Package 452/2074HostnameOS / ArchINSTALLBUILDCHECKBUILD BIN
DAPAR 1.27.0  (landing page)
Samuel Wieczorek
Snapshot Date: 2022-01-18 13:55:18 -0500 (Tue, 18 Jan 2022)
git_url: https://git.bioconductor.org/packages/DAPAR
git_branch: master
git_last_commit: bb43d36
git_last_commit_date: 2021-10-26 12:22:53 -0500 (Tue, 26 Oct 2021)
nebbiolo1Linux (Ubuntu 20.04.4 LTS) / x86_64  ERROR    ERROR  skipped
riesling1Windows Server 2019 Standard / x64  ERROR    ERROR  skippedskipped
palomino3Windows Server 2022 Datacenter / x64  ERROR    ERROR  skippedskipped
merida1macOS 10.14.6 Mojave / x86_64  ERROR    ERROR  skippedskipped

Summary

Package: DAPAR
Version: 1.27.0
Command: /Library/Frameworks/R.framework/Resources/bin/R CMD INSTALL DAPAR
StartedAt: 2022-01-18 16:28:11 -0500 (Tue, 18 Jan 2022)
EndedAt: 2022-01-18 16:28:11 -0500 (Tue, 18 Jan 2022)
EllapsedTime: 0.4 seconds
RetCode: 1
Status:   ERROR  

Command output

##############################################################################
##############################################################################
###
### Running command:
###
###   /Library/Frameworks/R.framework/Resources/bin/R CMD INSTALL DAPAR
###
##############################################################################
##############################################################################


* installing to library ‘/Library/Frameworks/R.framework/Versions/4.2/Resources/library’
ERROR: dependency ‘DAPARdata’ is not available for package ‘DAPAR’
* removing ‘/Library/Frameworks/R.framework/Versions/4.2/Resources/library/DAPAR’