Back to Multiple platform build/check report for BioC 3.15
ABC[D]EFGHIJKLMNOPQRSTUVWXYZ

This page was generated on 2022-01-28 11:11:35 -0500 (Fri, 28 Jan 2022).

HostnameOSArch (*)R versionInstalled pkgs
nebbiolo1Linux (Ubuntu 20.04.4 LTS)x86_64R Under development (unstable) (2022-01-05 r81451) -- "Unsuffered Consequences" 4167
riesling1Windows Server 2019 Standardx64R Under development (unstable) (2021-11-21 r81221) -- "Unsuffered Consequences" 4062
palomino3Windows Server 2022 Datacenterx64R Under development (unstable) (2021-12-21 r81400 ucrt) -- "Unsuffered Consequences" 4004
merida1macOS 10.14.6 Mojavex86_64R Under development (unstable) (2022-01-05 r81451) -- "Unsuffered Consequences" 4121
Click on any hostname to see more info about the system (e.g. compilers)      (*) as reported by 'uname -p', except on Windows and Mac OS X

BUILD results for DAPAR on merida1


To the developers/maintainers of the DAPAR package:
- Please allow up to 24 hours (and sometimes 48 hours) for your latest push to git@git.bioconductor.org:packages/DAPAR.git to
reflect on this report. See How and When does the builder pull? When will my changes propagate? here for more information.
- Make sure to use the following settings in order to reproduce any error or warning you see on this page.

raw results

Package 453/2077HostnameOS / ArchINSTALLBUILDCHECKBUILD BIN
DAPAR 1.27.0  (landing page)
Samuel Wieczorek
Snapshot Date: 2022-01-27 13:55:17 -0500 (Thu, 27 Jan 2022)
git_url: https://git.bioconductor.org/packages/DAPAR
git_branch: master
git_last_commit: bb43d36
git_last_commit_date: 2021-10-26 12:22:53 -0500 (Tue, 26 Oct 2021)
nebbiolo1Linux (Ubuntu 20.04.4 LTS) / x86_64  ERROR    ERROR  skipped
riesling1Windows Server 2019 Standard / x64  ERROR    ERROR  skippedskipped
palomino3Windows Server 2022 Datacenter / x64  ERROR    ERROR  skippedskipped
merida1macOS 10.14.6 Mojave / x86_64  ERROR    ERROR  skippedskipped

Summary

Package: DAPAR
Version: 1.27.0
Command: /Library/Frameworks/R.framework/Resources/bin/R CMD build --keep-empty-dirs --no-resave-data DAPAR
StartedAt: 2022-01-27 17:31:44 -0500 (Thu, 27 Jan 2022)
EndedAt: 2022-01-27 17:31:46 -0500 (Thu, 27 Jan 2022)
EllapsedTime: 2.2 seconds
RetCode: 1
Status:   ERROR  
PackageFile: None
PackageFileSize: NA

Command output

##############################################################################
##############################################################################
###
### Running command:
###
###   /Library/Frameworks/R.framework/Resources/bin/R CMD build --keep-empty-dirs --no-resave-data DAPAR
###
##############################################################################
##############################################################################


* checking for file ‘DAPAR/DESCRIPTION’ ... OK
* preparing ‘DAPAR’:
* checking DESCRIPTION meta-information ... OK
* installing the package to build vignettes
      -----------------------------------
ERROR: dependency ‘DAPARdata’ is not available for package ‘DAPAR’
* removing ‘/private/tmp/RtmpFMMC3H/Rinst8185ddfe348/DAPAR’
      -----------------------------------
ERROR: package installation failed