Back to Multiple platform build/check report for BioC 3.19:   simplified   long
ABC[D]EFGHIJKLMNOPQRSTUVWXYZ

This page was generated on 2024-02-28 11:38:47 -0500 (Wed, 28 Feb 2024).

HostnameOSArch (*)R versionInstalled pkgs
nebbiolo1Linux (Ubuntu 22.04.3 LTS)x86_64R Under development (unstable) (2024-01-16 r85808) -- "Unsuffered Consequences" 4671
palomino3Windows Server 2022 Datacenterx64R Under development (unstable) (2024-01-14 r85805 ucrt) -- "Unsuffered Consequences" 4411
merida1macOS 12.7.1 Montereyx86_64R Under development (unstable) (2024-01-16 r85808) -- "Unsuffered Consequences" 4438
kunpeng2Linux (openEuler 22.03 LTS-SP1)aarch64R Under development (unstable) (2024-01-16 r85812) -- "Unsuffered Consequences" 4414
Click on any hostname to see more info about the system (e.g. compilers)      (*) as reported by 'uname -p', except on Windows and Mac OS X

Package 502/2251HostnameOS / ArchINSTALLBUILDCHECKBUILD BIN
DAPAR 1.35.1  (landing page)
Samuel Wieczorek
Snapshot Date: 2024-02-26 14:39:26 -0500 (Mon, 26 Feb 2024)
git_url: https://git.bioconductor.org/packages/DAPAR
git_branch: devel
git_last_commit: c972945
git_last_commit_date: 2024-02-08 08:45:30 -0500 (Thu, 08 Feb 2024)
nebbiolo1Linux (Ubuntu 22.04.3 LTS) / x86_64  ERROR    OK    ERROR  
palomino3Windows Server 2022 Datacenter / x64  ERROR    OK    ERROR    ERROR  
merida1macOS 12.7.1 Monterey / x86_64  ERROR    OK    ERROR    ERROR  
kunpeng2Linux (openEuler 22.03 LTS-SP1) / aarch64  ERROR    OK    ERROR  

BUILD BIN results for DAPAR on merida1


To the developers/maintainers of the DAPAR package:
- Allow up to 24 hours (and sometimes 48 hours) for your latest push to git@git.bioconductor.org:packages/DAPAR.git to reflect on this report. See Troubleshooting Build Report for more information.
- Use the following Renviron settings to reproduce errors and warnings.
- If 'R CMD check' started to fail recently on the Linux builder(s) over a missing dependency, add the missing dependency to 'Suggests:' in your DESCRIPTION file. See Renviron.bioc for more information.

raw results


Summary

Package: DAPAR
Version: 1.35.1
Command: rm -rf DAPAR.buildbin-libdir && mkdir DAPAR.buildbin-libdir && /Users/biocbuild/BBS/utils/build-universal.sh DAPAR_1.35.1.tar.gz /Library/Frameworks/R.framework/Resources/bin/R DAPAR.buildbin-libdir
StartedAt: 2024-02-27 15:51:06 -0500 (Tue, 27 Feb 2024)
EndedAt: 2024-02-27 15:51:09 -0500 (Tue, 27 Feb 2024)
EllapsedTime: 3.2 seconds
RetCode: 1
Status:   ERROR  
PackageFile: None
PackageFileSize: NA

Command output

##############################################################################
##############################################################################
###
### Running command:
###
###   rm -rf DAPAR.buildbin-libdir && mkdir DAPAR.buildbin-libdir && /Users/biocbuild/BBS/utils/build-universal.sh DAPAR_1.35.1.tar.gz /Library/Frameworks/R.framework/Resources/bin/R DAPAR.buildbin-libdir
###
##############################################################################
##############################################################################


>>>>>>> 
>>>>>>> INSTALLATION WITH 'R CMD INSTALL --preclean --no-multiarch --library=DAPAR.buildbin-libdir DAPAR_1.35.1.tar.gz'
>>>>>>> 

* installing *source* package ‘DAPAR’ ...
** using staged installation
** R
Error in .install_package_code_files(".", instdir) : 
files in '/private/tmp/Rtmpis3Zjw/R.INSTALL333d5de8e7c/DAPAR/R' missing from 'Collate' field:
  limmaAnalysis2.R
ERROR: unable to collate and parse R files for package ‘DAPAR’
* removing ‘/Users/biocbuild/bbs-3.19-bioc/meat/DAPAR.buildbin-libdir/DAPAR’