Back to Multiple platform build/check report for BioC 3.18:   simplified   long
ABC[D]EFGHIJKLMNOPQRSTUVWXYZ

This page was generated on 2023-06-01 11:31:09 -0400 (Thu, 01 Jun 2023).

HostnameOSArch (*)R versionInstalled pkgs
nebbiolo2Linux (Ubuntu 22.04.2 LTS)x86_644.3.0 RC (2023-04-18 r84287) -- "Already Tomorrow" 4588
palomino4Windows Server 2022 Datacenterx644.3.0 RC (2023-04-18 r84287 ucrt) -- "Already Tomorrow" 4337
lconwaymacOS 12.6.5 Montereyx86_644.3.0 RC (2023-04-13 r84266) -- "Already Tomorrow" 4338
Click on any hostname to see more info about the system (e.g. compilers)      (*) as reported by 'uname -p', except on Windows and Mac OS X

BUILD results for DAPAR on palomino4


To the developers/maintainers of the DAPAR package:
- Allow up to 24 hours (and sometimes 48 hours) for your latest push to git@git.bioconductor.org:packages/DAPAR.git to reflect on this report. See Troubleshooting Build Report for more information.

- Use the following Renviron settings to reproduce errors and warnings.

Note: If "R CMD check" recently failed on the Linux builder over a missing dependency, add the missing dependency to "Suggests" in your DESCRIPTION file. See the Renviron.bioc for details.

raw results

Package 485/2197HostnameOS / ArchINSTALLBUILDCHECKBUILD BIN
DAPAR 1.33.0  (landing page)
Samuel Wieczorek
Snapshot Date: 2023-05-31 14:00:03 -0400 (Wed, 31 May 2023)
git_url: https://git.bioconductor.org/packages/DAPAR
git_branch: devel
git_last_commit: b88ad62
git_last_commit_date: 2023-04-25 10:41:46 -0400 (Tue, 25 Apr 2023)
nebbiolo2Linux (Ubuntu 22.04.2 LTS) / x86_64  OK    OK    OK  NO, package depends on 'MSnbase' which is not available
palomino4Windows Server 2022 Datacenter / x64  OK    OK    OK    OK  
lconwaymacOS 12.6.5 Monterey / x86_64  OK    OK    OK    OK  

Summary

Package: DAPAR
Version: 1.33.0
Command: chmod a+r DAPAR -R && F:\biocbuild\bbs-3.18-bioc\R\bin\R.exe CMD build --keep-empty-dirs --no-resave-data DAPAR
StartedAt: 2023-05-31 18:06:35 -0400 (Wed, 31 May 2023)
EndedAt: 2023-05-31 18:06:39 -0400 (Wed, 31 May 2023)
EllapsedTime: 4.0 seconds
RetCode: 0
Status:   OK  
PackageFile: DAPAR_1.33.0.tar.gz
PackageFileSize: 148.9 KiB

Command output

##############################################################################
##############################################################################
###
### Running command:
###
###   chmod a+r DAPAR -R && F:\biocbuild\bbs-3.18-bioc\R\bin\R.exe CMD build --keep-empty-dirs --no-resave-data DAPAR
###
##############################################################################
##############################################################################


* checking for file 'DAPAR/DESCRIPTION' ... OK
* preparing 'DAPAR':
* checking DESCRIPTION meta-information ... OK
* checking for LF line-endings in source and make files and shell scripts
* checking for empty or unneeded directories
* building 'DAPAR_1.33.0.tar.gz'