Back to Multiple platform build/check report for BioC 3.15
ABCDEFGHIJKLMNOPQR[S]TUVWXYZ

This page was generated on 2022-05-18 12:07:27 -0400 (Wed, 18 May 2022).

HostnameOSArch (*)R versionInstalled pkgs
nebbiolo1Linux (Ubuntu 20.04.4 LTS)x86_644.2.0 (2022-04-22) -- "Vigorous Calisthenics" 4379
palomino3Windows Server 2022 Datacenterx644.2.0 (2022-04-22 ucrt) -- "Vigorous Calisthenics" 4154
merida1macOS 10.14.6 Mojavex86_644.2.0 (2022-04-22) -- "Vigorous Calisthenics" 4220
Click on any hostname to see more info about the system (e.g. compilers)      (*) as reported by 'uname -p', except on Windows and Mac OS X

BUILD results for scBFA on palomino3


To the developers/maintainers of the scBFA package:
- Please allow up to 24 hours (and sometimes 48 hours) for your latest push to git@git.bioconductor.org:packages/scBFA.git to
reflect on this report. See How and When does the builder pull? When will my changes propagate? for more information.
- Make sure to use the following settings in order to reproduce any error or warning you see on this page.

raw results

Package 1759/2140HostnameOS / ArchINSTALLBUILDCHECKBUILD BIN
scBFA 1.10.0  (landing page)
Ruoxin Li
Snapshot Date: 2022-05-17 13:55:01 -0400 (Tue, 17 May 2022)
git_url: https://git.bioconductor.org/packages/scBFA
git_branch: RELEASE_3_15
git_last_commit: 702e3b9
git_last_commit_date: 2022-04-26 11:57:54 -0400 (Tue, 26 Apr 2022)
nebbiolo1Linux (Ubuntu 20.04.4 LTS) / x86_64  OK    OK    OK  UNNEEDED, same version is already published
palomino3Windows Server 2022 Datacenter / x64  OK    OK    OK    OK  UNNEEDED, same version is already published
merida1macOS 10.14.6 Mojave / x86_64  OK    OK    OK    OK  UNNEEDED, same version is already published

Summary

Package: scBFA
Version: 1.10.0
Command: chmod a+r scBFA -R && F:\biocbuild\bbs-3.15-bioc\R\bin\R.exe CMD build --keep-empty-dirs --no-resave-data scBFA
StartedAt: 2022-05-17 20:38:14 -0400 (Tue, 17 May 2022)
EndedAt: 2022-05-17 20:39:46 -0400 (Tue, 17 May 2022)
EllapsedTime: 91.9 seconds
RetCode: 0
Status:   OK  
PackageFile: scBFA_1.10.0.tar.gz
PackageFileSize: 935 KiB

Command output

##############################################################################
##############################################################################
###
### Running command:
###
###   chmod a+r scBFA -R && F:\biocbuild\bbs-3.15-bioc\R\bin\R.exe CMD build --keep-empty-dirs --no-resave-data scBFA
###
##############################################################################
##############################################################################


* checking for file 'scBFA/DESCRIPTION' ... OK
* preparing 'scBFA':
* checking DESCRIPTION meta-information ... OK
* installing the package to build vignettes
* creating vignettes ... OK
* checking for LF line-endings in source and make files and shell scripts
* checking for empty or unneeded directories
* building 'scBFA_1.10.0.tar.gz'