Index of /checkResults/3.15/bioc-LATEST/DESeq2/raw-results

[ICO]NameLast modifiedSizeDescription

[DIR]Parent Directory  -  
[   ]info.dcf28-Jun-2022 00:09 276  
[DIR]merida1/25-Jun-2022 01:07 -  
[DIR]nebbiolo1/28-Jun-2022 00:09 -  
[DIR]palomino3/25-Jun-2022 01:05 -  
[DIR]riesling1/19-Mar-2022 00:07 -