Back to Multiple platform build/check report for BioC 3.14
ABC[D]EFGHIJKLMNOPQRSTUVWXYZ

This page was generated on 2021-11-29 15:04:25 -0500 (Mon, 29 Nov 2021).

All results for package DESeq2

To the developers/maintainers of the DESeq2 package:
- Please allow up to 24 hours (and sometimes 48 hours) for your latest push to git@git.bioconductor.org:packages/DESeq2.git to
reflect on this report. See How and When does the builder pull? When will my changes propagate? here for more information.
- Make sure to use the following settings in order to reproduce any error or warning you see on this page.

raw results

Package 494/2083HostnameOS / ArchINSTALLBUILDCHECKBUILD BIN
DESeq2 1.34.0  (landing page)
Michael Love
Snapshot Date: 2021-11-28 04:15:06 -0500 (Sun, 28 Nov 2021)
git_url: https://git.bioconductor.org/packages/DESeq2
git_branch: RELEASE_3_14
git_last_commit: 25d4f74
git_last_commit_date: 2021-10-26 12:06:54 -0500 (Tue, 26 Oct 2021)
nebbiolo2Linux (Ubuntu 20.04.3 LTS) / x86_64  OK    OK    OK  UNNEEDED, same version is already published
tokay2Windows Server 2012 R2 Standard / x64  OK    OK    OK    OK  UNNEEDED, same version is already published
machv2macOS 10.14.6 Mojave / x86_64  OK    OK    OK    OK  UNNEEDED, same version is already published

Results for Bioconductor software packages that depend directly on package DESeq2

QUICK STATSOS / ArchINSTALLBUILDCHECKBUILD BIN
nebbiolo2Linux (Ubuntu 20.04.3 LTS) / x86_64
0075
0174
00866
tokay2Windows Server 2012 R2 Standard / x64
0074
0371
03860
0071
machv2macOS 10.14.6 Mojave / x86_64
0075
0174
01865
0074
Package 1/75HostnameOS / ArchINSTALLBUILDCHECKBUILD BIN
Anaquin 2.18.0  (landing page)
Ted Wong
git_last_commit: c8e3df3
git_last_commit_date: 2021-10-26 12:29:42 -0500
nebbiolo2Linux (Ubuntu 20.04.3 LTS) / x86_64  OK    OK    OK  UNNEEDED, same version is already published
tokay2Windows Server 2012 R2 Standard / x64  OK    OK    OK    OK  UNNEEDED, same version is already published
machv2macOS 10.14.6 Mojave / x86_64  OK    OK    OK    OK  UNNEEDED, same version is already published
Package 2/75HostnameOS / ArchINSTALLBUILDCHECKBUILD BIN
animalcules 1.10.0  (landing page)
Yue Zhao
git_last_commit: 4c16173
git_last_commit_date: 2021-10-26 12:51:53 -0500
nebbiolo2Linux (Ubuntu 20.04.3 LTS) / x86_64  OK    OK    OK  UNNEEDED, same version is already published
tokay2Windows Server 2012 R2 Standard / x64  OK    OK    OK    OK  UNNEEDED, same version is already published
machv2macOS 10.14.6 Mojave / x86_64  OK    OK    OK    OK  UNNEEDED, same version is already published
Package 3/75HostnameOS / ArchINSTALLBUILDCHECKBUILD BIN
anota2seq 1.16.0  (landing page)
Christian Oertlin , Julie Lorent
git_last_commit: 9340b34
git_last_commit_date: 2021-10-26 12:38:52 -0500
nebbiolo2Linux (Ubuntu 20.04.3 LTS) / x86_64  OK    OK    OK  UNNEEDED, same version is already published
tokay2Windows Server 2012 R2 Standard / x64  OK    OK    OK    OK  UNNEEDED, same version is already published
machv2macOS 10.14.6 Mojave / x86_64  OK    OK    OK    OK  UNNEEDED, same version is already published
Package 4/75HostnameOS / ArchINSTALLBUILDCHECKBUILD BIN
APAlyzer 1.8.0  (landing page)
Ruijia Wang
git_last_commit: 4df8ba6
git_last_commit_date: 2021-10-26 12:53:30 -0500
nebbiolo2Linux (Ubuntu 20.04.3 LTS) / x86_64  OK    OK    WARNINGS  UNNEEDED, same version is already published
tokay2Windows Server 2012 R2 Standard / x64  OK    OK    WARNINGS    OK  UNNEEDED, same version is already published
machv2macOS 10.14.6 Mojave / x86_64  OK    OK    WARNINGS    OK  UNNEEDED, same version is already published
Package 5/75HostnameOS / ArchINSTALLBUILDCHECKBUILD BIN
benchdamic 1.0.0  (landing page)
Matteo Calgaro
git_last_commit: 5175773
git_last_commit_date: 2021-10-26 13:13:35 -0500
nebbiolo2Linux (Ubuntu 20.04.3 LTS) / x86_64  OK    OK    OK  UNNEEDED, same version is already published
tokay2Windows Server 2012 R2 Standard / x64  OK    OK    OK    OK  UNNEEDED, same version is already published
machv2macOS 10.14.6 Mojave / x86_64  OK    OK    OK    OK  UNNEEDED, same version is already published
Package 6/75HostnameOS / ArchINSTALLBUILDCHECKBUILD BIN
BioNERO 1.2.0  (landing page)
Fabricio Almeida-Silva
git_last_commit: c11998f
git_last_commit_date: 2021-10-26 13:08:05 -0500
nebbiolo2Linux (Ubuntu 20.04.3 LTS) / x86_64  OK    OK    OK  UNNEEDED, same version is already published
tokay2Windows Server 2012 R2 Standard / x64  OK    OK    OK    OK  UNNEEDED, same version is already published
machv2macOS 10.14.6 Mojave / x86_64  OK    OK    OK    OK  UNNEEDED, same version is already published
Package 7/75HostnameOS / ArchINSTALLBUILDCHECKBUILD BIN
BRGenomics 1.6.0  (landing page)
Mike DeBerardine
git_last_commit: ff5ff54
git_last_commit_date: 2021-10-26 12:58:20 -0500
nebbiolo2Linux (Ubuntu 20.04.3 LTS) / x86_64  OK    OK    WARNINGS  UNNEEDED, same version is already published
tokay2Windows Server 2012 R2 Standard / x64  OK    OK    WARNINGS    OK  UNNEEDED, same version is already published
machv2macOS 10.14.6 Mojave / x86_64  OK    OK    WARNINGS    OK  UNNEEDED, same version is already published
Package 8/75HostnameOS / ArchINSTALLBUILDCHECKBUILD BIN
CeTF 1.6.0  (landing page)
Carlos Alberto Oliveira de Biagi Junior
git_last_commit: 65513aa
git_last_commit_date: 2021-10-26 12:56:35 -0500
nebbiolo2Linux (Ubuntu 20.04.3 LTS) / x86_64  OK    OK    OK  UNNEEDED, same version is already published
tokay2Windows Server 2012 R2 Standard / x64  OK    OK    OK    OK  UNNEEDED, same version is already published
machv2macOS 10.14.6 Mojave / x86_64  OK    OK    OK    OK  UNNEEDED, same version is already published
Package 9/75HostnameOS / ArchINSTALLBUILDCHECKBUILD BIN
circRNAprofiler 1.8.0  (landing page)
Simona Aufiero
git_last_commit: 92fcc06
git_last_commit_date: 2021-10-26 12:53:01 -0500
nebbiolo2Linux (Ubuntu 20.04.3 LTS) / x86_64  OK    OK    OK  UNNEEDED, same version is already published
tokay2Windows Server 2012 R2 Standard / x64  OK    OK    OK    OK  UNNEEDED, same version is already published
machv2macOS 10.14.6 Mojave / x86_64  OK    OK    OK    OK  UNNEEDED, same version is already published
Package 10/75HostnameOS / ArchINSTALLBUILDCHECKBUILD BIN
consensusDE 1.12.0  (landing page)
Ashley J. Waardenberg
git_last_commit: 935d9e9
git_last_commit_date: 2021-10-26 12:47:51 -0500
nebbiolo2Linux (Ubuntu 20.04.3 LTS) / x86_64  OK    OK    OK  UNNEEDED, same version is already published
tokay2Windows Server 2012 R2 Standard / x64  OK    OK    OK    OK  UNNEEDED, same version is already published
machv2macOS 10.14.6 Mojave / x86_64  OK    OK    OK    OK  UNNEEDED, same version is already published
Package 11/75HostnameOS / ArchINSTALLBUILDCHECKBUILD BIN
coseq 1.18.0  (landing page)
Andrea Rau
git_last_commit: 6db558b
git_last_commit_date: 2021-10-26 12:32:24 -0500
nebbiolo2Linux (Ubuntu 20.04.3 LTS) / x86_64  OK    OK    OK  UNNEEDED, same version is already published
tokay2Windows Server 2012 R2 Standard / x64  OK    OK    OK    OK  UNNEEDED, same version is already published
machv2macOS 10.14.6 Mojave / x86_64  OK    OK    OK    OK  UNNEEDED, same version is already published
Package 12/75HostnameOS / ArchINSTALLBUILDCHECKBUILD BIN
countsimQC 1.12.0  (landing page)
Charlotte Soneson
git_last_commit: e6277cc
git_last_commit_date: 2021-10-26 12:47:07 -0500
nebbiolo2Linux (Ubuntu 20.04.3 LTS) / x86_64  OK    OK    OK  UNNEEDED, same version is already published
tokay2Windows Server 2012 R2 Standard / x64  OK    OK    OK    OK  UNNEEDED, same version is already published
machv2macOS 10.14.6 Mojave / x86_64  OK    OK    OK    OK  UNNEEDED, same version is already published
Package 13/75HostnameOS / ArchINSTALLBUILDCHECKBUILD BIN
crossmeta 1.20.0  (landing page)
Alex Pickering
git_last_commit: 4ebad78
git_last_commit_date: 2021-10-26 12:28:29 -0500
nebbiolo2Linux (Ubuntu 20.04.3 LTS) / x86_64  OK    OK    WARNINGS  UNNEEDED, same version is already published
tokay2Windows Server 2012 R2 Standard / x64  OK    OK    WARNINGS    OK  UNNEEDED, same version is already published
machv2macOS 10.14.6 Mojave / x86_64  OK    OK    WARNINGS    OK  UNNEEDED, same version is already published
Package 14/75HostnameOS / ArchINSTALLBUILDCHECKBUILD BIN
DaMiRseq 2.6.0  (landing page)
Mattia Chiesa
git_last_commit: 64d7151
git_last_commit_date: 2021-10-26 12:33:52 -0500
nebbiolo2Linux (Ubuntu 20.04.3 LTS) / x86_64  OK    OK    WARNINGS  UNNEEDED, same version is already published
tokay2Windows Server 2012 R2 Standard / x64  OK    OK    WARNINGS    OK  UNNEEDED, same version is already published
machv2macOS 10.14.6 Mojave / x86_64  OK    OK    WARNINGS    OK  UNNEEDED, same version is already published
Package 15/75HostnameOS / ArchINSTALLBUILDCHECKBUILD BIN
debrowser 1.22.2  (landing page)
Alper Kucukural
git_last_commit: 227faa0
git_last_commit_date: 2021-11-08 12:41:29 -0500
nebbiolo2Linux (Ubuntu 20.04.3 LTS) / x86_64  OK    OK    OK  UNNEEDED, same version is already published
tokay2Windows Server 2012 R2 Standard / x64  OK    OK    OK    OK  UNNEEDED, same version is already published
machv2macOS 10.14.6 Mojave / x86_64  OK    OK    OK    OK  UNNEEDED, same version is already published
Package 16/75HostnameOS / ArchINSTALLBUILDCHECKBUILD BIN
DEComplexDisease 1.14.0  (landing page)
Guofeng Meng
git_last_commit: 67836f3
git_last_commit_date: 2021-10-26 12:41:33 -0500
nebbiolo2Linux (Ubuntu 20.04.3 LTS) / x86_64  OK    OK    OK  UNNEEDED, same version is already published
tokay2Windows Server 2012 R2 Standard / x64  OK    OK    OK    OK  UNNEEDED, same version is already published
machv2macOS 10.14.6 Mojave / x86_64  OK    OK    OK    OK  UNNEEDED, same version is already published
Package 17/75HostnameOS / ArchINSTALLBUILDCHECKBUILD BIN
DEFormats 1.22.0  (landing page)
Andrzej Oleś
git_last_commit: ff4d252
git_last_commit_date: 2021-10-26 12:26:36 -0500
nebbiolo2Linux (Ubuntu 20.04.3 LTS) / x86_64  OK    OK    OK  UNNEEDED, same version is already published
tokay2Windows Server 2012 R2 Standard / x64  OK    OK    OK    OK  UNNEEDED, same version is already published
machv2macOS 10.14.6 Mojave / x86_64  OK    OK    OK    OK  UNNEEDED, same version is already published
Package 18/75HostnameOS / ArchINSTALLBUILDCHECKBUILD BIN
DEGreport 1.30.0  (landing page)
Lorena Pantano
git_last_commit: a318960
git_last_commit_date: 2021-10-26 12:14:10 -0500
nebbiolo2Linux (Ubuntu 20.04.3 LTS) / x86_64  OK    OK    OK  UNNEEDED, same version is already published
tokay2Windows Server 2012 R2 Standard / x64  OK    OK    OK    OK  UNNEEDED, same version is already published
machv2macOS 10.14.6 Mojave / x86_64  OK    OK    OK    OK  UNNEEDED, same version is already published
Package 19/75HostnameOS / ArchINSTALLBUILDCHECKBUILD BIN
deltaCaptureC 1.8.0  (landing page)
Michael Shapiro
git_last_commit: b2be724
git_last_commit_date: 2021-10-26 12:53:56 -0500
nebbiolo2Linux (Ubuntu 20.04.3 LTS) / x86_64  OK    OK    OK  UNNEEDED, same version is already published
tokay2Windows Server 2012 R2 Standard / x64  OK    OK    OK    OK  UNNEEDED, same version is already published
machv2macOS 10.14.6 Mojave / x86_64  OK    OK    OK    OK  UNNEEDED, same version is already published
Package 20/75HostnameOS / ArchINSTALLBUILDCHECKBUILD BIN
DEsubs 1.20.0  (landing page)
Aristidis G. Vrahatis , Panos Balomenos
git_last_commit: cc9d333
git_last_commit_date: 2021-10-26 12:30:22 -0500
nebbiolo2Linux (Ubuntu 20.04.3 LTS) / x86_64  OK    OK    OK  UNNEEDED, same version is already published
tokay2Windows Server 2012 R2 Standard / x64  OK    OK    OK    OK  UNNEEDED, same version is already published
machv2macOS 10.14.6 Mojave / x86_64  OK    OK    OK    OK  UNNEEDED, same version is already published
Package 21/75HostnameOS / ArchINSTALLBUILDCHECKBUILD BIN
DEWSeq 1.8.0  (landing page)
bioinformatics team Hentze
git_last_commit: 7686f86
git_last_commit_date: 2021-10-26 12:55:35 -0500
nebbiolo2Linux (Ubuntu 20.04.3 LTS) / x86_64  OK    OK    OK  UNNEEDED, same version is already published
tokay2Windows Server 2012 R2 Standard / x64  OK    OK    OK    OK  UNNEEDED, same version is already published
machv2macOS 10.14.6 Mojave / x86_64  OK    OK    OK    OK  UNNEEDED, same version is already published
Package 22/75HostnameOS / ArchINSTALLBUILDCHECKBUILD BIN
DEXSeq 1.40.0  (landing page)
Alejandro Reyes
git_last_commit: 7d2d639
git_last_commit_date: 2021-10-26 11:59:26 -0500
nebbiolo2Linux (Ubuntu 20.04.3 LTS) / x86_64  OK    OK    OK  UNNEEDED, same version is already published
tokay2Windows Server 2012 R2 Standard / x64  OK    OK    OK    OK  UNNEEDED, same version is already published
machv2macOS 10.14.6 Mojave / x86_64  OK    OK    OK    OK  UNNEEDED, same version is already published
Package 23/75HostnameOS / ArchINSTALLBUILDCHECKBUILD BIN
DiffBind 3.4.0  (landing page)
Rory Stark
git_last_commit: c2039d2
git_last_commit_date: 2021-10-26 12:00:30 -0500
nebbiolo2Linux (Ubuntu 20.04.3 LTS) / x86_64  OK    OK    OK  UNNEEDED, same version is already published
tokay2Windows Server 2012 R2 Standard / x64  OK    OK    OK    OK  UNNEEDED, same version is already published
machv2macOS 10.14.6 Mojave / x86_64  OK    OK    OK    OK  UNNEEDED, same version is already published
Package 24/75HostnameOS / ArchINSTALLBUILDCHECKBUILD BIN
easier 1.0.0  (landing page)
Oscar Lapuente-Santana
git_last_commit: efb058c
git_last_commit_date: 2021-10-26 13:14:15 -0500
nebbiolo2Linux (Ubuntu 20.04.3 LTS) / x86_64  OK    OK    OK  UNNEEDED, same version is already published
tokay2Windows Server 2012 R2 Standard / x64  OK    OK    OK    OK  UNNEEDED, same version is already published
machv2macOS 10.14.6 Mojave / x86_64  OK    OK    OK    OK  UNNEEDED, same version is already published
Package 25/75HostnameOS / ArchINSTALLBUILDCHECKBUILD BIN
EBSEA 1.22.0  (landing page)
Arfa Mehmood
git_last_commit: 2d148e5
git_last_commit_date: 2021-10-26 12:26:49 -0500
nebbiolo2Linux (Ubuntu 20.04.3 LTS) / x86_64  OK    OK    OK  UNNEEDED, same version is already published
tokay2Windows Server 2012 R2 Standard / x64  OK    OK    OK    OK  UNNEEDED, same version is already published
machv2macOS 10.14.6 Mojave / x86_64  OK    OK    OK    OK  UNNEEDED, same version is already published
Package 26/75HostnameOS / ArchINSTALLBUILDCHECKBUILD BIN
eegc 1.20.0  (landing page)
Xiaoyuan Zhou
git_last_commit: fdab2cb
git_last_commit_date: 2021-10-26 12:29:44 -0500
nebbiolo2Linux (Ubuntu 20.04.3 LTS) / x86_64  OK    OK    WARNINGS  UNNEEDED, same version is already published
tokay2Windows Server 2012 R2 Standard / x64  OK    OK    WARNINGS    OK  UNNEEDED, same version is already published
machv2macOS 10.14.6 Mojave / x86_64  OK    OK    WARNINGS    OK  UNNEEDED, same version is already published
Package 27/75HostnameOS / ArchINSTALLBUILDCHECKBUILD BIN
ERSSA 1.12.0  (landing page)
Zixuan Shao
git_last_commit: d644e22
git_last_commit_date: 2021-10-26 12:46:52 -0500
nebbiolo2Linux (Ubuntu 20.04.3 LTS) / x86_64  OK    OK    OK  UNNEEDED, same version is already published
tokay2Windows Server 2012 R2 Standard / x64  OK    OK    OK    OK  UNNEEDED, same version is already published
machv2macOS 10.14.6 Mojave / x86_64  OK    OK    OK    OK  UNNEEDED, same version is already published
Package 28/75HostnameOS / ArchINSTALLBUILDCHECKBUILD BIN
exomePeak2 1.6.0  (landing page)
Zhen Wei
git_last_commit: 50ec4d5
git_last_commit_date: 2021-10-26 12:57:41 -0500
nebbiolo2Linux (Ubuntu 20.04.3 LTS) / x86_64  OK    OK    WARNINGS  UNNEEDED, same version is already published
tokay2Windows Server 2012 R2 Standard / x64  OK    OK    WARNINGS    OK  UNNEEDED, same version is already published
machv2macOS 10.14.6 Mojave / x86_64  OK    OK    WARNINGS    OK  UNNEEDED, same version is already published
Package 29/75HostnameOS / ArchINSTALLBUILDCHECKBUILD BIN
GDCRNATools 1.14.0  (landing page)
Ruidong Li
git_last_commit: 9b69c00
git_last_commit_date: 2021-10-26 12:41:09 -0500
nebbiolo2Linux (Ubuntu 20.04.3 LTS) / x86_64  OK    OK    OK  UNNEEDED, same version is already published
tokay2Windows Server 2012 R2 Standard / x64  OK    OK    OK    OK  UNNEEDED, same version is already published
machv2macOS 10.14.6 Mojave / x86_64  OK    OK    OK    OK  UNNEEDED, same version is already published
Package 30/75HostnameOS / ArchINSTALLBUILDCHECKBUILD BIN
GeneTonic 1.6.0  (landing page)
Federico Marini
git_last_commit: 621c04d
git_last_commit_date: 2021-10-26 12:57:10 -0500
nebbiolo2Linux (Ubuntu 20.04.3 LTS) / x86_64  OK    OK    OK  UNNEEDED, same version is already published
tokay2Windows Server 2012 R2 Standard / x64  OK    OK    OK    OK  UNNEEDED, same version is already published
machv2macOS 10.14.6 Mojave / x86_64  OK    OK    OK    OK  UNNEEDED, same version is already published
Package 31/75HostnameOS / ArchINSTALLBUILDCHECKBUILD BIN
GenoGAM 2.12.0  (landing page)
Georg Stricker
git_last_commit: a819d51
git_last_commit_date: 2021-10-26 12:26:42 -0500
nebbiolo2Linux (Ubuntu 20.04.3 LTS) / x86_64  OK    ERROR  skipped
tokay2Windows Server 2012 R2 Standard / x64  OK    ERROR  skippedskipped
machv2macOS 10.14.6 Mojave / x86_64  OK    ERROR  skippedskipped
Package 32/75HostnameOS / ArchINSTALLBUILDCHECKBUILD BIN
Glimma 2.4.0  (landing page)
Shian Su
git_last_commit: caa270e
git_last_commit_date: 2021-10-26 12:27:00 -0500
nebbiolo2Linux (Ubuntu 20.04.3 LTS) / x86_64  OK    OK    OK  UNNEEDED, same version is already published
tokay2Windows Server 2012 R2 Standard / x64  OK    OK    OK    OK  UNNEEDED, same version is already published
machv2macOS 10.14.6 Mojave / x86_64  OK    OK    OK    OK  UNNEEDED, same version is already published
Package 33/75HostnameOS / ArchINSTALLBUILDCHECKBUILD BIN
HTSFilter 1.34.0  (landing page)
Andrea Rau
git_last_commit: 5abf134
git_last_commit_date: 2021-10-26 12:06:36 -0500
nebbiolo2Linux (Ubuntu 20.04.3 LTS) / x86_64  OK    OK    OK  UNNEEDED, same version is already published
tokay2Windows Server 2012 R2 Standard / x64  OK    OK    OK    OK  UNNEEDED, same version is already published
machv2macOS 10.14.6 Mojave / x86_64  OK    OK    OK    OK  UNNEEDED, same version is already published
Package 34/75HostnameOS / ArchINSTALLBUILDCHECKBUILD BIN
icetea 1.12.0  (landing page)
Vivek Bhardwaj
git_last_commit: 133907b
git_last_commit_date: 2021-10-26 12:45:19 -0500
nebbiolo2Linux (Ubuntu 20.04.3 LTS) / x86_64  OK    OK    OK  UNNEEDED, same version is already published
tokay2Windows Server 2012 R2 Standard / x64  OK    OK    OK    OK  UNNEEDED, same version is already published
machv2macOS 10.14.6 Mojave / x86_64  OK    OK    OK    OK  UNNEEDED, same version is already published
Package 35/75HostnameOS / ArchINSTALLBUILDCHECKBUILD BIN
ideal 1.18.0  (landing page)
Federico Marini
git_last_commit: d364df4
git_last_commit_date: 2021-10-26 12:35:05 -0500
nebbiolo2Linux (Ubuntu 20.04.3 LTS) / x86_64  OK    OK    OK  UNNEEDED, same version is already published
tokay2Windows Server 2012 R2 Standard / x64  OK    OK    OK    OK  UNNEEDED, same version is already published
machv2macOS 10.14.6 Mojave / x86_64  OK    OK    OK    OK  UNNEEDED, same version is already published
Package 36/75HostnameOS / ArchINSTALLBUILDCHECKBUILD BIN
INSPEcT 1.24.0  (landing page)
Stefano de Pretis
git_last_commit: ed551fb
git_last_commit_date: 2021-10-26 12:21:19 -0500
nebbiolo2Linux (Ubuntu 20.04.3 LTS) / x86_64  OK    OK    OK  UNNEEDED, same version is already published
tokay2Windows Server 2012 R2 Standard / x64  OK    OK    OK    OK  UNNEEDED, same version is already published
machv2macOS 10.14.6 Mojave / x86_64  OK    OK    OK    OK  UNNEEDED, same version is already published
Package 37/75HostnameOS / ArchINSTALLBUILDCHECKBUILD BIN
IntEREst 1.18.0  (landing page)
Ali Oghabian , Mikko Frilander
git_last_commit: 0a4f63a
git_last_commit_date: 2021-10-26 12:33:43 -0500
nebbiolo2Linux (Ubuntu 20.04.3 LTS) / x86_64  OK    OK    OK  UNNEEDED, same version is already published
tokay2Windows Server 2012 R2 Standard / x64  OK    OK    OK    OK  UNNEEDED, same version is already published
machv2macOS 10.14.6 Mojave / x86_64  OK    OK    OK    OK  UNNEEDED, same version is already published
Package 38/75HostnameOS / ArchINSTALLBUILDCHECKBUILD BIN
isomiRs 1.22.0  (landing page)
Lorena Pantano
git_last_commit: d81726b
git_last_commit_date: 2021-10-26 12:26:44 -0500
nebbiolo2Linux (Ubuntu 20.04.3 LTS) / x86_64  OK    OK    OK  UNNEEDED, same version is already published
tokay2Windows Server 2012 R2 Standard / x64  OK    OK    OK    OK  UNNEEDED, same version is already published
machv2macOS 10.14.6 Mojave / x86_64  OK    OK    OK    OK  UNNEEDED, same version is already published
Package 39/75HostnameOS / ArchINSTALLBUILDCHECKBUILD BIN
kissDE 1.14.0  (landing page)
Aurélie Siberchicot
git_last_commit: ed7e372
git_last_commit_date: 2021-10-26 12:41:44 -0500
nebbiolo2Linux (Ubuntu 20.04.3 LTS) / x86_64  OK    OK    OK  UNNEEDED, same version is already published
tokay2Windows Server 2012 R2 Standard / x64  OK    OK    OK    OK  UNNEEDED, same version is already published
machv2macOS 10.14.6 Mojave / x86_64  OK    OK    OK    OK  UNNEEDED, same version is already published
Package 40/75HostnameOS / ArchINSTALLBUILDCHECKBUILD BIN
metaseqR2 1.6.1  (landing page)
Panagiotis Moulos
git_last_commit: a87443a
git_last_commit_date: 2021-11-26 09:16:15 -0500
nebbiolo2Linux (Ubuntu 20.04.3 LTS) / x86_64  OK    OK    OK  YES
tokay2Windows Server 2012 R2 Standard / x64  OK    OK    OK    OK  YES
machv2macOS 10.14.6 Mojave / x86_64  OK    OK    OK    OK  YES
Package 41/75HostnameOS / ArchINSTALLBUILDCHECKBUILD BIN
microbiomeExplorer 1.4.0  (landing page)
Janina Reeder
git_last_commit: 556ec83
git_last_commit_date: 2021-10-26 13:03:40 -0500
nebbiolo2Linux (Ubuntu 20.04.3 LTS) / x86_64  OK    OK    OK  UNNEEDED, same version is already published
tokay2Windows Server 2012 R2 Standard / x64  OK    OK    OK    OK  UNNEEDED, same version is already published
machv2macOS 10.14.6 Mojave / x86_64  OK    OK    OK    OK  UNNEEDED, same version is already published
Package 42/75HostnameOS / ArchINSTALLBUILDCHECKBUILD BIN
microbiomeMarker 1.0.1  (landing page)
Yang Cao
git_last_commit: d4852b9
git_last_commit_date: 2021-11-08 03:46:16 -0500
nebbiolo2Linux (Ubuntu 20.04.3 LTS) / x86_64  OK    OK    OK  UNNEEDED, same version is already published
tokay2Windows Server 2012 R2 Standard / x64  OK    OK    OK    OK  UNNEEDED, same version is already published
machv2macOS 10.14.6 Mojave / x86_64  OK    OK    OK    OK  UNNEEDED, same version is already published
Package 43/75HostnameOS / ArchINSTALLBUILDCHECKBUILD BIN
MLSeq 2.12.0  (landing page)
Gokmen Zararsiz
git_last_commit: be20d3a
git_last_commit_date: 2021-10-26 12:12:21 -0500
nebbiolo2Linux (Ubuntu 20.04.3 LTS) / x86_64  OK    OK    OK  UNNEEDED, same version is already published
tokay2Windows Server 2012 R2 Standard / x64  OK    OK    OK    OK  UNNEEDED, same version is already published
machv2macOS 10.14.6 Mojave / x86_64  OK    OK    OK    OK  UNNEEDED, same version is already published
Package 44/75HostnameOS / ArchINSTALLBUILDCHECKBUILD BIN
multiSight 1.2.0  (landing page)
Florian Jeanneret
git_last_commit: 371993c
git_last_commit_date: 2021-10-26 13:09:27 -0500
nebbiolo2Linux (Ubuntu 20.04.3 LTS) / x86_64  OK    OK    OK  UNNEEDED, same version is already published
tokay2Windows Server 2012 R2 Standard / x64  OK    OK    OK    OK  UNNEEDED, same version is already published
machv2macOS 10.14.6 Mojave / x86_64  OK    OK    OK    OK  UNNEEDED, same version is already published
Package 45/75HostnameOS / ArchINSTALLBUILDCHECKBUILD BIN
muscat 1.8.0  (landing page)
Helena L. Crowell
git_last_commit: 952747b
git_last_commit_date: 2021-10-26 12:53:47 -0500
nebbiolo2Linux (Ubuntu 20.04.3 LTS) / x86_64  OK    OK    OK  UNNEEDED, same version is already published
tokay2Windows Server 2012 R2 Standard / x64  OK    OK    ERROR    OK  
machv2macOS 10.14.6 Mojave / x86_64  OK    OK    ERROR    OK  
Package 46/75HostnameOS / ArchINSTALLBUILDCHECKBUILD BIN
NBAMSeq 1.10.0  (landing page)
Xu Ren
git_last_commit: 68cc51c
git_last_commit_date: 2021-10-26 12:50:51 -0500
nebbiolo2Linux (Ubuntu 20.04.3 LTS) / x86_64  OK    OK    OK  UNNEEDED, same version is already published
tokay2Windows Server 2012 R2 Standard / x64  OK    OK    OK    OK  UNNEEDED, same version is already published
machv2macOS 10.14.6 Mojave / x86_64  OK    OK    OK    OK  UNNEEDED, same version is already published
Package 47/75HostnameOS / ArchINSTALLBUILDCHECKBUILD BIN
ORFik 1.14.5  (landing page)
Haakon Tjeldnes
git_last_commit: cdc337c
git_last_commit_date: 2021-11-04 04:48:24 -0500
nebbiolo2Linux (Ubuntu 20.04.3 LTS) / x86_64  OK    OK    OK  UNNEEDED, same version is already published
tokay2Windows Server 2012 R2 Standard / x64  OK    ERROR  skippedskipped
machv2macOS 10.14.6 Mojave / x86_64  OK    OK    OK    OK  UNNEEDED, same version is already published
Package 48/75HostnameOS / ArchINSTALLBUILDCHECKBUILD BIN
OUTRIDER 1.12.0  (landing page)
Christian Mertes
git_last_commit: 2aa8599
git_last_commit_date: 2021-10-26 12:45:42 -0500
nebbiolo2Linux (Ubuntu 20.04.3 LTS) / x86_64  OK    OK    OK  UNNEEDED, same version is already published
tokay2Windows Server 2012 R2 Standard / x64  OK    OK    OK    OK  UNNEEDED, same version is already published
machv2macOS 10.14.6 Mojave / x86_64  OK    OK    OK    OK  UNNEEDED, same version is already published
Package 49/75HostnameOS / ArchINSTALLBUILDCHECKBUILD BIN
PathoStat 1.20.0  (landing page)
Solaiappan Manimaran
git_last_commit: 468d049
git_last_commit_date: 2021-10-26 12:30:40 -0500
nebbiolo2Linux (Ubuntu 20.04.3 LTS) / x86_64  OK    OK    OK  UNNEEDED, same version is already published
tokay2Windows Server 2012 R2 Standard / x64  OK    OK    OK    OK  UNNEEDED, same version is already published
machv2macOS 10.14.6 Mojave / x86_64  OK    OK    OK    OK  UNNEEDED, same version is already published
Package 50/75HostnameOS / ArchINSTALLBUILDCHECKBUILD BIN
pcaExplorer 2.20.0  (landing page)
Federico Marini
git_last_commit: 10500f4
git_last_commit_date: 2021-10-26 12:27:09 -0500
nebbiolo2Linux (Ubuntu 20.04.3 LTS) / x86_64  OK    OK    OK  UNNEEDED, same version is already published
tokay2Windows Server 2012 R2 Standard / x64  OK    OK    OK    OK  UNNEEDED, same version is already published
machv2macOS 10.14.6 Mojave / x86_64  OK    OK    OK    OK  UNNEEDED, same version is already published
Package 51/75HostnameOS / ArchINSTALLBUILDCHECKBUILD BIN
phantasus 1.14.0  (landing page)
Alexey Sergushichev
git_last_commit: 26a4f40
git_last_commit_date: 2021-10-26 12:42:56 -0500
nebbiolo2Linux (Ubuntu 20.04.3 LTS) / x86_64  OK    OK    OK  UNNEEDED, same version is already published
tokay2Windows Server 2012 R2 Standard / x64  OK    OK    OK    OK  UNNEEDED, same version is already published
machv2macOS 10.14.6 Mojave / x86_64  OK    OK    OK    OK  UNNEEDED, same version is already published
Package 52/75HostnameOS / ArchINSTALLBUILDCHECKBUILD BIN
proActiv 1.4.0  (landing page)
Joseph Lee
git_last_commit: 6198397
git_last_commit_date: 2021-10-26 13:02:38 -0500
nebbiolo2Linux (Ubuntu 20.04.3 LTS) / x86_64  OK    OK    OK  UNNEEDED, same version is already published
tokay2Windows Server 2012 R2 Standard / x64  OK    OK    OK    OK  UNNEEDED, same version is already published
machv2macOS 10.14.6 Mojave / x86_64  OK    OK    OK    OK  UNNEEDED, same version is already published
Package 53/75HostnameOS / ArchINSTALLBUILDCHECKBUILD BIN
RegEnrich 1.4.0  (landing page)
Weiyang Tao
git_last_commit: 1dcf069
git_last_commit_date: 2021-10-26 13:00:23 -0500
nebbiolo2Linux (Ubuntu 20.04.3 LTS) / x86_64  OK    OK    OK  UNNEEDED, same version is already published
tokay2Windows Server 2012 R2 Standard / x64  OK    OK    OK    OK  UNNEEDED, same version is already published
machv2macOS 10.14.6 Mojave / x86_64  OK    OK    OK    OK  UNNEEDED, same version is already published
Package 54/75HostnameOS / ArchINSTALLBUILDCHECKBUILD BIN
regionReport 1.28.1  (landing page)
Leonardo Collado-Torres
git_last_commit: df8f531
git_last_commit_date: 2021-11-22 19:46:05 -0500
nebbiolo2Linux (Ubuntu 20.04.3 LTS) / x86_64  OK    OK    OK  UNNEEDED, same version is already published
tokay2Windows Server 2012 R2 Standard / x64  OK    OK    OK    OK  UNNEEDED, same version is already published
machv2macOS 10.14.6 Mojave / x86_64  OK    OK    OK    OK  UNNEEDED, same version is already published
Package 55/75HostnameOS / ArchINSTALLBUILDCHECKBUILD BIN
ReportingTools 2.34.0  (landing page)
Jason A. Hackney , Gabriel Becker
git_last_commit: fb5aef0
git_last_commit_date: 2021-10-26 12:04:45 -0500
nebbiolo2Linux (Ubuntu 20.04.3 LTS) / x86_64  OK    OK    OK  UNNEEDED, same version is already published
tokay2Windows Server 2012 R2 Standard / x64  OK    OK    OK    OK  UNNEEDED, same version is already published
machv2macOS 10.14.6 Mojave / x86_64  OK    OK    OK    OK  UNNEEDED, same version is already published
Package 56/75HostnameOS / ArchINSTALLBUILDCHECKBUILD BIN
rgsepd 1.26.0  (landing page)
Karl Stamm
git_last_commit: 02c7033
git_last_commit_date: 2021-10-26 12:18:10 -0500
nebbiolo2Linux (Ubuntu 20.04.3 LTS) / x86_64  OK    OK    OK  UNNEEDED, same version is already published
tokay2Windows Server 2012 R2 Standard / x64  OK    OK    OK    OK  UNNEEDED, same version is already published
machv2macOS 10.14.6 Mojave / x86_64  OK    OK    OK    OK  UNNEEDED, same version is already published
Package 57/75HostnameOS / ArchINSTALLBUILDCHECKBUILD BIN
RiboDiPA 1.2.0  (landing page)
Ji-Ping Wang
git_last_commit: 0b22a63
git_last_commit_date: 2021-10-26 13:06:31 -0500
nebbiolo2Linux (Ubuntu 20.04.3 LTS) / x86_64  OK    OK    OK  UNNEEDED, same version is already published
tokay2Windows Server 2012 R2 Standard / x64  OK    OK    OK    OK  UNNEEDED, same version is already published
machv2macOS 10.14.6 Mojave / x86_64  OK    OK    OK    OK  UNNEEDED, same version is already published
Package 58/75HostnameOS / ArchINSTALLBUILDCHECKBUILD BIN
Rmmquant 1.12.0  (landing page)
Zytnicki Matthias
git_last_commit: 9d2dc01
git_last_commit_date: 2021-10-26 12:45:13 -0500
nebbiolo2Linux (Ubuntu 20.04.3 LTS) / x86_64  OK    OK    OK  UNNEEDED, same version is already published
tokay2Windows Server 2012 R2 Standard / x64  OK    OK    OK    OK  UNNEEDED, same version is already published
machv2macOS 10.14.6 Mojave / x86_64  OK    OK    OK    OK  UNNEEDED, same version is already published
Package 59/75HostnameOS / ArchINSTALLBUILDCHECKBUILD BIN
RNASeqR 1.12.0  (landing page)
Kuan-Hao Chao
git_last_commit: 91e973c
git_last_commit_date: 2021-10-26 12:47:22 -0500
nebbiolo2Linux (Ubuntu 20.04.3 LTS) / x86_64  OK    OK    OK  UNNEEDED, same version is already published
tokay2Windows Server 2012 R2 Standard / x64... NOT SUPPORTED ...
machv2macOS 10.14.6 Mojave / x86_64  OK    OK    OK    OK  UNNEEDED, same version is already published
Package 60/75HostnameOS / ArchINSTALLBUILDCHECKBUILD BIN
scBFA 1.8.0  (landing page)
Ruoxin Li
git_last_commit: 90a43b4
git_last_commit_date: 2021-10-26 12:53:20 -0500
nebbiolo2Linux (Ubuntu 20.04.3 LTS) / x86_64  OK    OK    OK  UNNEEDED, same version is already published
tokay2Windows Server 2012 R2 Standard / x64  OK    OK    OK    OK  UNNEEDED, same version is already published
machv2macOS 10.14.6 Mojave / x86_64  OK    OK    OK    OK  UNNEEDED, same version is already published
Package 61/75HostnameOS / ArchINSTALLBUILDCHECKBUILD BIN
scGPS 1.8.0  (landing page)
Quan Nguyen
git_last_commit: 505c489
git_last_commit_date: 2021-10-26 12:53:06 -0500
nebbiolo2Linux (Ubuntu 20.04.3 LTS) / x86_64  OK    OK    OK  UNNEEDED, same version is already published
tokay2Windows Server 2012 R2 Standard / x64  OK    OK    OK    OK  UNNEEDED, same version is already published
machv2macOS 10.14.6 Mojave / x86_64  OK    OK    OK    OK  UNNEEDED, same version is already published
Package 62/75HostnameOS / ArchINSTALLBUILDCHECKBUILD BIN
SeqGSEA 1.34.0  (landing page)
Xi Wang
git_last_commit: 055cbb6
git_last_commit_date: 2021-10-26 12:07:38 -0500
nebbiolo2Linux (Ubuntu 20.04.3 LTS) / x86_64  OK    OK    OK  UNNEEDED, same version is already published
tokay2Windows Server 2012 R2 Standard / x64  OK    ERROR  skippedskipped
machv2macOS 10.14.6 Mojave / x86_64  OK    OK    OK    OK  UNNEEDED, same version is already published
Package 63/75HostnameOS / ArchINSTALLBUILDCHECKBUILD BIN
SEtools 1.8.0  (landing page)
Pierre-Luc Germain
git_last_commit: 30a597c
git_last_commit_date: 2021-10-26 12:54:06 -0500
nebbiolo2Linux (Ubuntu 20.04.3 LTS) / x86_64  OK    OK    WARNINGS  UNNEEDED, same version is already published
tokay2Windows Server 2012 R2 Standard / x64  OK    OK    WARNINGS    OK  UNNEEDED, same version is already published
machv2macOS 10.14.6 Mojave / x86_64  OK    OK    WARNINGS    OK  UNNEEDED, same version is already published
Package 64/75HostnameOS / ArchINSTALLBUILDCHECKBUILD BIN
singleCellTK 2.4.0  (landing page)
Yichen Wang
git_last_commit: 91f98fc
git_last_commit_date: 2021-10-27 11:24:49 -0500
nebbiolo2Linux (Ubuntu 20.04.3 LTS) / x86_64  OK    OK    OK  UNNEEDED, same version is already published
tokay2Windows Server 2012 R2 Standard / x64  OK    OK    ERROR    OK  
machv2macOS 10.14.6 Mojave / x86_64  OK    OK    OK    OK  UNNEEDED, same version is already published
Package 65/75HostnameOS / ArchINSTALLBUILDCHECKBUILD BIN
SNPhood 1.24.0  (landing page)
Christian Arnold
git_last_commit: a479ac9
git_last_commit_date: 2021-10-26 12:23:28 -0500
nebbiolo2Linux (Ubuntu 20.04.3 LTS) / x86_64  OK    OK    OK  UNNEEDED, same version is already published
tokay2Windows Server 2012 R2 Standard / x64  OK    OK    OK    OK  UNNEEDED, same version is already published
machv2macOS 10.14.6 Mojave / x86_64  OK    OK    OK    OK  UNNEEDED, same version is already published
Package 66/75HostnameOS / ArchINSTALLBUILDCHECKBUILD BIN
spatialHeatmap 2.0.0  (landing page)
Jianhai Zhang
git_last_commit: 4bdc542
git_last_commit_date: 2021-10-26 13:03:26 -0500
nebbiolo2Linux (Ubuntu 20.04.3 LTS) / x86_64  OK    OK    OK  UNNEEDED, same version is already published
tokay2Windows Server 2012 R2 Standard / x64  OK    OK    OK    OK  UNNEEDED, same version is already published
machv2macOS 10.14.6 Mojave / x86_64  OK    OK    OK    OK  UNNEEDED, same version is already published
Package 67/75HostnameOS / ArchINSTALLBUILDCHECKBUILD BIN
srnadiff 1.14.0  (landing page)
Zytnicki Matthias
git_last_commit: bcc5a9d
git_last_commit_date: 2021-10-26 12:41:18 -0500
nebbiolo2Linux (Ubuntu 20.04.3 LTS) / x86_64  OK    OK    OK  UNNEEDED, same version is already published
tokay2Windows Server 2012 R2 Standard / x64  OK    OK    ERROR    OK  
machv2macOS 10.14.6 Mojave / x86_64  OK    OK    OK    OK  UNNEEDED, same version is already published
Package 68/75HostnameOS / ArchINSTALLBUILDCHECKBUILD BIN
systemPipeTools 1.2.0  (landing page)
Daniela Cassol
git_last_commit: 1997851
git_last_commit_date: 2021-10-26 13:10:35 -0500
nebbiolo2Linux (Ubuntu 20.04.3 LTS) / x86_64  OK    OK    OK  UNNEEDED, same version is already published
tokay2Windows Server 2012 R2 Standard / x64  OK    OK    OK    OK  UNNEEDED, same version is already published
machv2macOS 10.14.6 Mojave / x86_64  OK    OK    OK    OK  UNNEEDED, same version is already published
Package 69/75HostnameOS / ArchINSTALLBUILDCHECKBUILD BIN
TBSignatureProfiler 1.6.0  (landing page)
Aubrey Odom
git_last_commit: fe6bf5e
git_last_commit_date: 2021-10-26 12:59:18 -0500
nebbiolo2Linux (Ubuntu 20.04.3 LTS) / x86_64  OK    OK    OK  UNNEEDED, same version is already published
tokay2Windows Server 2012 R2 Standard / x64  OK    OK    OK    OK  UNNEEDED, same version is already published
machv2macOS 10.14.6 Mojave / x86_64  OK    OK    OK    OK  UNNEEDED, same version is already published
Package 70/75HostnameOS / ArchINSTALLBUILDCHECKBUILD BIN
TCC 1.34.0  (landing page)
Jianqiang Sun
git_last_commit: f3e5d27
git_last_commit_date: 2021-10-26 12:09:39 -0500
nebbiolo2Linux (Ubuntu 20.04.3 LTS) / x86_64  OK    OK    OK  UNNEEDED, same version is already published
tokay2Windows Server 2012 R2 Standard / x64  OK    OK    OK    OK  UNNEEDED, same version is already published
machv2macOS 10.14.6 Mojave / x86_64  OK    OK    OK    OK  UNNEEDED, same version is already published
Package 71/75HostnameOS / ArchINSTALLBUILDCHECKBUILD BIN
TimeSeriesExperiment 1.12.0  (landing page)
Lan Huong Nguyen
git_last_commit: 858bcd5
git_last_commit_date: 2021-10-26 12:48:05 -0500
nebbiolo2Linux (Ubuntu 20.04.3 LTS) / x86_64  OK    OK    OK  UNNEEDED, same version is already published
tokay2Windows Server 2012 R2 Standard / x64  OK    OK    OK    OK  UNNEEDED, same version is already published
machv2macOS 10.14.6 Mojave / x86_64  OK    OK    OK    OK  UNNEEDED, same version is already published
Package 72/75HostnameOS / ArchINSTALLBUILDCHECKBUILD BIN
tRanslatome 1.32.0  (landing page)
Toma Tebaldi , Erik Dassi
git_last_commit: ad95360
git_last_commit_date: 2021-10-26 12:08:16 -0500
nebbiolo2Linux (Ubuntu 20.04.3 LTS) / x86_64  OK    OK    WARNINGS  UNNEEDED, same version is already published
tokay2Windows Server 2012 R2 Standard / x64  OK    OK    WARNINGS    OK  UNNEEDED, same version is already published
machv2macOS 10.14.6 Mojave / x86_64  OK    OK    WARNINGS    OK  UNNEEDED, same version is already published
Package 73/75HostnameOS / ArchINSTALLBUILDCHECKBUILD BIN
UMI4Cats 1.4.0  (landing page)
Mireia Ramos-Rodriguez
git_last_commit: b355dcd
git_last_commit_date: 2021-10-26 13:01:42 -0500
nebbiolo2Linux (Ubuntu 20.04.3 LTS) / x86_64  OK    OK    OK  UNNEEDED, same version is already published
tokay2Windows Server 2012 R2 Standard / x64  OK    OK    OK    OK  UNNEEDED, same version is already published
machv2macOS 10.14.6 Mojave / x86_64  OK    OK    OK    OK  UNNEEDED, same version is already published
Package 74/75HostnameOS / ArchINSTALLBUILDCHECKBUILD BIN
vidger 1.14.0  (landing page)
Brandon Monier
git_last_commit: be96db4
git_last_commit_date: 2021-10-26 12:42:16 -0500
nebbiolo2Linux (Ubuntu 20.04.3 LTS) / x86_64  OK    OK    OK  UNNEEDED, same version is already published
tokay2Windows Server 2012 R2 Standard / x64  OK    OK    OK    OK  UNNEEDED, same version is already published
machv2macOS 10.14.6 Mojave / x86_64  OK    OK    OK    OK  UNNEEDED, same version is already published
Package 75/75HostnameOS / ArchINSTALLBUILDCHECKBUILD BIN
vulcan 1.16.0  (landing page)
Federico M. Giorgi
git_last_commit: b25ca79
git_last_commit_date: 2021-10-26 12:38:33 -0500
nebbiolo2Linux (Ubuntu 20.04.3 LTS) / x86_64  OK    OK    OK  UNNEEDED, same version is already published
tokay2Windows Server 2012 R2 Standard / x64  OK    OK    OK    OK  UNNEEDED, same version is already published
machv2macOS 10.14.6 Mojave / x86_64  OK    OK    OK    OK  UNNEEDED, same version is already published