Back to Multiple platform build/check report for BioC 3.14
ABCDEFGHIJKL[M]NOPQRSTUVWXYZ

This page was generated on 2022-01-24 13:06:38 -0500 (Mon, 24 Jan 2022).

HostnameOSArch (*)R versionInstalled pkgs
nebbiolo2Linux (Ubuntu 20.04.4 LTS)x86_644.1.2 (2021-11-01) -- "Bird Hippie" 4329
tokay2Windows Server 2012 R2 Standardx644.1.2 (2021-11-01) -- "Bird Hippie" 4080
machv2macOS 10.14.6 Mojavex86_644.1.2 (2021-11-01) -- "Bird Hippie" 4141
Click on any hostname to see more info about the system (e.g. compilers)      (*) as reported by 'uname -p', except on Windows and Mac OS X

INSTALL results for multiSight on tokay2


To the developers/maintainers of the multiSight package:
- Please allow up to 24 hours (and sometimes 48 hours) for your latest push to git@git.bioconductor.org:packages/multiSight.git to
reflect on this report. See How and When does the builder pull? When will my changes propagate? here for more information.
- Make sure to use the following settings in order to reproduce any error or warning you see on this page.

raw results

Package 1249/2083HostnameOS / ArchINSTALLBUILDCHECKBUILD BIN
multiSight 1.2.0  (landing page)
Florian Jeanneret
Snapshot Date: 2022-01-23 01:55:04 -0500 (Sun, 23 Jan 2022)
git_url: https://git.bioconductor.org/packages/multiSight
git_branch: RELEASE_3_14
git_last_commit: 371993c
git_last_commit_date: 2021-10-26 13:09:27 -0500 (Tue, 26 Oct 2021)
nebbiolo2Linux (Ubuntu 20.04.4 LTS) / x86_64  OK    OK    OK  UNNEEDED, same version is already published
tokay2Windows Server 2012 R2 Standard / x64  OK    OK    OK    OK  UNNEEDED, same version is already published
machv2macOS 10.14.6 Mojave / x86_64  OK    OK    OK    OK  UNNEEDED, same version is already published

Summary

Package: multiSight
Version: 1.2.0
Command: C:\cygwin\bin\curl.exe -O http://155.52.207.166/BBS/3.14/bioc/src/contrib/multiSight_1.2.0.tar.gz && rm -rf multiSight.buildbin-libdir && mkdir multiSight.buildbin-libdir && C:\Users\biocbuild\bbs-3.14-bioc\R\bin\R.exe CMD INSTALL --merge-multiarch --build --library=multiSight.buildbin-libdir multiSight_1.2.0.tar.gz && C:\Users\biocbuild\bbs-3.14-bioc\R\bin\R.exe CMD INSTALL multiSight_1.2.0.zip && rm multiSight_1.2.0.tar.gz multiSight_1.2.0.zip
StartedAt: 2022-01-23 07:01:41 -0500 (Sun, 23 Jan 2022)
EndedAt: 2022-01-23 07:05:34 -0500 (Sun, 23 Jan 2022)
EllapsedTime: 232.9 seconds
RetCode: 0
Status:   OK  

Command output

##############################################################################
##############################################################################
###
### Running command:
###
###   C:\cygwin\bin\curl.exe -O http://155.52.207.166/BBS/3.14/bioc/src/contrib/multiSight_1.2.0.tar.gz && rm -rf multiSight.buildbin-libdir && mkdir multiSight.buildbin-libdir && C:\Users\biocbuild\bbs-3.14-bioc\R\bin\R.exe CMD INSTALL --merge-multiarch --build --library=multiSight.buildbin-libdir multiSight_1.2.0.tar.gz && C:\Users\biocbuild\bbs-3.14-bioc\R\bin\R.exe CMD INSTALL multiSight_1.2.0.zip && rm multiSight_1.2.0.tar.gz multiSight_1.2.0.zip
###
##############################################################################
##############################################################################


  % Total    % Received % Xferd  Average Speed   Time    Time     Time  Current
                                 Dload  Upload   Total   Spent    Left  Speed

  0     0    0     0    0     0      0      0 --:--:-- --:--:-- --:--:--     0
100 2027k  100 2027k    0     0  4232k      0 --:--:-- --:--:-- --:--:-- 4241k

install for i386

* installing *source* package 'multiSight' ...
** using staged installation
** R
** data
** inst
** byte-compile and prepare package for lazy loading
** help
*** installing help indices
  converting help for package 'multiSight'
    finding HTML links ... done
    assessPerformance_Biosigner             html  
    assessPerformance_Diablo                html  
    biosignerRes                            html  
    buildFeatTable                          html  
    convertToEntrezid                       html  
    correlationNetworkInference             html  
    deseqRes                                html  
    diabloRes                               html  
    enrichResList                           html  
    enrichWP                                html  
    getDataSelectedFeatures                 html  
    mod_hypothesisGenerator_server          html  
    mod_understand_server                   html  
    mod_understand_ui                       html  
    mod_user_input_server                   html  
    mutualInformationNI                     html  
    omic2                                   html  
    partialCorrelationNI                    html  
    pubmedInsight                           html  
    runFeatureNumberTuning                  html  
    runMultiDeseqAnalysis                   html  
    runMultiEnrichment                      html  
    runMultiEnrichment_result               html  
    runSPLSDA                               html  
    runSVMRFmodels_Biosigner                html  
    run_app                                 html  
    splitDatatoTrainTest                    html  
    stoufferTable                           html  
** building package indices
** installing vignettes
** testing if installed package can be loaded from temporary location
** testing if installed package can be loaded from final location
** testing if installed package keeps a record of temporary installation path

install for x64

* installing *source* package 'multiSight' ...
** testing if installed package can be loaded
* MD5 sums
packaged installation of 'multiSight' as multiSight_1.2.0.zip
* DONE (multiSight)
* installing to library 'C:/Users/biocbuild/bbs-3.14-bioc/R/library'
package 'multiSight' successfully unpacked and MD5 sums checked