Back to Multiple platform build/check report for BioC 3.14
ABCDEFGHIJKLMNOPQ[R]STUVWXYZ

This page was generated on 2022-01-19 13:07:13 -0500 (Wed, 19 Jan 2022).

HostnameOSArch (*)R versionInstalled pkgs
nebbiolo2Linux (Ubuntu 20.04.4 LTS)x86_644.1.2 (2021-11-01) -- "Bird Hippie" 4328
tokay2Windows Server 2012 R2 Standardx644.1.2 (2021-11-01) -- "Bird Hippie" 4077
machv2macOS 10.14.6 Mojavex86_644.1.2 (2021-11-01) -- "Bird Hippie" 4138
Click on any hostname to see more info about the system (e.g. compilers)      (*) as reported by 'uname -p', except on Windows and Mac OS X

BUILD BIN results for RegEnrich on tokay2


To the developers/maintainers of the RegEnrich package:
- Please allow up to 24 hours (and sometimes 48 hours) for your latest push to git@git.bioconductor.org:packages/RegEnrich.git to
reflect on this report. See How and When does the builder pull? When will my changes propagate? here for more information.
- Make sure to use the following settings in order to reproduce any error or warning you see on this page.

raw results

Package 1572/2083HostnameOS / ArchINSTALLBUILDCHECKBUILD BIN
RegEnrich 1.4.0  (landing page)
Weiyang Tao
Snapshot Date: 2022-01-18 01:55:07 -0500 (Tue, 18 Jan 2022)
git_url: https://git.bioconductor.org/packages/RegEnrich
git_branch: RELEASE_3_14
git_last_commit: 1dcf069
git_last_commit_date: 2021-10-26 13:00:23 -0500 (Tue, 26 Oct 2021)
nebbiolo2Linux (Ubuntu 20.04.4 LTS) / x86_64  OK    OK    OK  UNNEEDED, same version is already published
tokay2Windows Server 2012 R2 Standard / x64  OK    OK    OK    OK  UNNEEDED, same version is already published
machv2macOS 10.14.6 Mojave / x86_64  OK    OK    OK    OK  UNNEEDED, same version is already published

Summary

Package: RegEnrich
Version: 1.4.0
Command: rm -rf RegEnrich.buildbin-libdir && mkdir RegEnrich.buildbin-libdir && C:\Users\biocbuild\bbs-3.14-bioc\R\bin\R.exe CMD INSTALL --merge-multiarch --build --library=RegEnrich.buildbin-libdir RegEnrich_1.4.0.tar.gz
StartedAt: 2022-01-19 06:36:16 -0500 (Wed, 19 Jan 2022)
EndedAt: 2022-01-19 06:37:16 -0500 (Wed, 19 Jan 2022)
EllapsedTime: 60.6 seconds
RetCode: 0
Status:   OK  
PackageFile: RegEnrich_1.4.0.zip
PackageFileSize: 1.627 MiB

Command output

##############################################################################
##############################################################################
###
### Running command:
###
###   rm -rf RegEnrich.buildbin-libdir && mkdir RegEnrich.buildbin-libdir && C:\Users\biocbuild\bbs-3.14-bioc\R\bin\R.exe CMD INSTALL --merge-multiarch --build --library=RegEnrich.buildbin-libdir RegEnrich_1.4.0.tar.gz
###
##############################################################################
##############################################################################



install for i386

* installing *source* package 'RegEnrich' ...
** using staged installation
** R
** data
** inst
** byte-compile and prepare package for lazy loading
** help
*** installing help indices
  converting help for package 'RegEnrich'
    finding HTML links ... done
    DeaSet-class                            html  
    Enrich-class                            html  
    Lyme_GSE63085                           html  
    RegenrichSet-class                      html  
    RegenrichSet                            html  
    finding level-2 HTML links ... done

    Score                                   html  
    TFs                                     html  
    TopNetwork-class                        html  
    dim-TopNetwork-method                   html  
    getResultsNames                         html  
    headTailScore                           html  
    methodsOfShow                           html  
    newDeaSet                               html  
    newTopNetwork                           html  
    plotOrders                              html  
    plotRegTarExpr                          html  
    plotSoftPower                           html  
    plot_Enrich                             html  
    print.Score                             html  
    reexports                               html  
    regenrich_diffExpr                      html  
    regenrich_enrich                        html  
    regenrich_network                       html  
    regenrich_rankScore                     html  
    results_expr                            html  
** building package indices
** installing vignettes
** testing if installed package can be loaded from temporary location
** testing if installed package can be loaded from final location
** testing if installed package keeps a record of temporary installation path

install for x64

* installing *source* package 'RegEnrich' ...
** testing if installed package can be loaded
* MD5 sums
packaged installation of 'RegEnrich' as RegEnrich_1.4.0.zip
* DONE (RegEnrich)