Back to Multiple platform build/check report for BioC 3.14
AB[C]DEFGHIJKLMNOPQRSTUVWXYZ

This page was generated on 2022-01-17 13:04:10 -0500 (Mon, 17 Jan 2022).

HostnameOSArch (*)R versionInstalled pkgs
nebbiolo2Linux (Ubuntu 20.04.4 LTS)x86_644.1.2 (2021-11-01) -- "Bird Hippie" 4328
tokay2Windows Server 2012 R2 Standardx644.1.2 (2021-11-01) -- "Bird Hippie" 4077
machv2macOS 10.14.6 Mojavex86_644.1.2 (2021-11-01) -- "Bird Hippie" 4138
Click on any hostname to see more info about the system (e.g. compilers)      (*) as reported by 'uname -p', except on Windows and Mac OS X

All results for package ComplexHeatmap


To the developers/maintainers of the ComplexHeatmap package:
- Please allow up to 24 hours (and sometimes 48 hours) for your latest push to git@git.bioconductor.org:packages/ComplexHeatmap.git to
reflect on this report. See How and When does the builder pull? When will my changes propagate? here for more information.
- Make sure to use the following settings in order to reproduce any error or warning you see on this page.

raw results

Package 380/2083HostnameOS / ArchINSTALLBUILDCHECKBUILD BIN
ComplexHeatmap 2.10.0  (landing page)
Zuguang Gu
Snapshot Date: 2022-01-16 01:55:05 -0500 (Sun, 16 Jan 2022)
git_url: https://git.bioconductor.org/packages/ComplexHeatmap
git_branch: RELEASE_3_14
git_last_commit: 170df82
git_last_commit_date: 2021-10-26 12:19:39 -0500 (Tue, 26 Oct 2021)
nebbiolo2Linux (Ubuntu 20.04.4 LTS) / x86_64  OK    OK    OK  UNNEEDED, same version is already published
tokay2Windows Server 2012 R2 Standard / x64  OK    OK    OK    OK  UNNEEDED, same version is already published
machv2macOS 10.14.6 Mojave / x86_64  OK    OK    OK    OK  UNNEEDED, same version is already published

Results for Bioconductor software packages that depend directly on package ComplexHeatmap

QUICK STATSOS / ArchINSTALLBUILDCHECKBUILD BIN
nebbiolo2Linux (Ubuntu 20.04.4 LTS) / x86_64
0052
0151
02544
tokay2Windows Server 2012 R2 Standard / x64
0052
0349
04540
0049
machv2macOS 10.14.6 Mojave / x86_64
0052
0151
03543
0051
Package 1/52HostnameOS / ArchINSTALLBUILDCHECKBUILD BIN
airpart 1.2.0  (landing page)
Wancen Mu
git_last_commit: 62f2b32
git_last_commit_date: 2021-10-26 13:08:14 -0500
nebbiolo2Linux (Ubuntu 20.04.4 LTS) / x86_64  OK    OK    OK  UNNEEDED, same version is already published
tokay2Windows Server 2012 R2 Standard / x64  OK    OK    OK    OK  UNNEEDED, same version is already published
machv2macOS 10.14.6 Mojave / x86_64  OK    OK    OK    OK  UNNEEDED, same version is already published
Package 2/52HostnameOS / ArchINSTALLBUILDCHECKBUILD BIN
AMARETTO 1.10.0  (landing page)
Olivier Gevaert
git_last_commit: f2da2d8
git_last_commit_date: 2021-10-26 12:50:18 -0500
nebbiolo2Linux (Ubuntu 20.04.4 LTS) / x86_64  OK    OK    OK  UNNEEDED, same version is already published
tokay2Windows Server 2012 R2 Standard / x64  OK    OK    OK    OK  UNNEEDED, same version is already published
machv2macOS 10.14.6 Mojave / x86_64  OK    OK    OK    OK  UNNEEDED, same version is already published
Package 3/52HostnameOS / ArchINSTALLBUILDCHECKBUILD BIN
BiocOncoTK 1.14.0  (landing page)
VJ Carey
git_last_commit: e958795
git_last_commit_date: 2021-10-26 12:44:33 -0500
nebbiolo2Linux (Ubuntu 20.04.4 LTS) / x86_64  OK    OK    OK  UNNEEDED, same version is already published
tokay2Windows Server 2012 R2 Standard / x64  OK    OK    OK    OK  UNNEEDED, same version is already published
machv2macOS 10.14.6 Mojave / x86_64  OK    OK    OK    OK  UNNEEDED, same version is already published
Package 4/52HostnameOS / ArchINSTALLBUILDCHECKBUILD BIN
BioNERO 1.2.0  (landing page)
Fabricio Almeida-Silva
git_last_commit: c11998f
git_last_commit_date: 2021-10-26 13:08:05 -0500
nebbiolo2Linux (Ubuntu 20.04.4 LTS) / x86_64  OK    OK    OK  UNNEEDED, same version is already published
tokay2Windows Server 2012 R2 Standard / x64  OK    OK    OK    OK  UNNEEDED, same version is already published
machv2macOS 10.14.6 Mojave / x86_64  OK    OK    OK    OK  UNNEEDED, same version is already published
Package 5/52HostnameOS / ArchINSTALLBUILDCHECKBUILD BIN
blacksheepr 1.8.0  (landing page)
RugglesLab
git_last_commit: a785f7f
git_last_commit_date: 2021-10-26 12:55:06 -0500
nebbiolo2Linux (Ubuntu 20.04.4 LTS) / x86_64  OK    OK    OK  UNNEEDED, same version is already published
tokay2Windows Server 2012 R2 Standard / x64  OK    OK    OK    OK  UNNEEDED, same version is already published
machv2macOS 10.14.6 Mojave / x86_64  OK    OK    OK    OK  UNNEEDED, same version is already published
Package 6/52HostnameOS / ArchINSTALLBUILDCHECKBUILD BIN
BloodGen3Module 1.2.0  (landing page)
Darawan Rinchai
git_last_commit: 0a233b6
git_last_commit_date: 2021-10-26 13:10:03 -0500
nebbiolo2Linux (Ubuntu 20.04.4 LTS) / x86_64  OK    OK    WARNINGS  UNNEEDED, same version is already published
tokay2Windows Server 2012 R2 Standard / x64  OK    OK    WARNINGS    OK  UNNEEDED, same version is already published
machv2macOS 10.14.6 Mojave / x86_64  OK    OK    WARNINGS    OK  UNNEEDED, same version is already published
Package 7/52HostnameOS / ArchINSTALLBUILDCHECKBUILD BIN
CATALYST 1.18.1  (landing page)
Helena L. Crowell
git_last_commit: efeedac
git_last_commit_date: 2022-01-14 07:43:56 -0500
nebbiolo2Linux (Ubuntu 20.04.4 LTS) / x86_64  OK    OK    OK  YES
tokay2Windows Server 2012 R2 Standard / x64  OK    OK    OK    OK  YES
machv2macOS 10.14.6 Mojave / x86_64  OK    OK    OK    OK  YES
Package 8/52HostnameOS / ArchINSTALLBUILDCHECKBUILD BIN
celda 1.10.0  (landing page)
Joshua Campbell
git_last_commit: fb720ad
git_last_commit_date: 2021-10-26 12:52:02 -0500
nebbiolo2Linux (Ubuntu 20.04.4 LTS) / x86_64  OK    OK    OK  UNNEEDED, same version is already published
tokay2Windows Server 2012 R2 Standard / x64  OK    OK    OK    OK  UNNEEDED, same version is already published
machv2macOS 10.14.6 Mojave / x86_64  OK    OK    OK    OK  UNNEEDED, same version is already published
Package 9/52HostnameOS / ArchINSTALLBUILDCHECKBUILD BIN
CeTF 1.6.0  (landing page)
Carlos Alberto Oliveira de Biagi Junior
git_last_commit: 65513aa
git_last_commit_date: 2021-10-26 12:56:35 -0500
nebbiolo2Linux (Ubuntu 20.04.4 LTS) / x86_64  OK    OK    OK  UNNEEDED, same version is already published
tokay2Windows Server 2012 R2 Standard / x64  OK    OK    OK    OK  UNNEEDED, same version is already published
machv2macOS 10.14.6 Mojave / x86_64  OK    OK    OK    OK  UNNEEDED, same version is already published
Package 10/52HostnameOS / ArchINSTALLBUILDCHECKBUILD BIN
COCOA 2.8.0  (landing page)
John Lawson
git_last_commit: 30a31c3
git_last_commit_date: 2021-10-26 12:47:47 -0500
nebbiolo2Linux (Ubuntu 20.04.4 LTS) / x86_64  OK    OK    OK  UNNEEDED, same version is already published
tokay2Windows Server 2012 R2 Standard / x64  OK    OK    OK    OK  UNNEEDED, same version is already published
machv2macOS 10.14.6 Mojave / x86_64  OK    OK    OK    OK  UNNEEDED, same version is already published
Package 11/52HostnameOS / ArchINSTALLBUILDCHECKBUILD BIN
cola 2.0.0  (landing page)
Zuguang Gu
git_last_commit: 236148e
git_last_commit_date: 2021-10-26 12:49:03 -0500
nebbiolo2Linux (Ubuntu 20.04.4 LTS) / x86_64  OK    OK    OK  UNNEEDED, same version is already published
tokay2Windows Server 2012 R2 Standard / x64  OK    OK    OK    OK  UNNEEDED, same version is already published
machv2macOS 10.14.6 Mojave / x86_64  OK    OK    OK    OK  UNNEEDED, same version is already published
Package 12/52HostnameOS / ArchINSTALLBUILDCHECKBUILD BIN
cytoKernel 1.0.0  (landing page)
Tusharkanti Ghosh
git_last_commit: 44dfcc3
git_last_commit_date: 2021-10-26 13:12:39 -0500
nebbiolo2Linux (Ubuntu 20.04.4 LTS) / x86_64  OK    OK    OK  UNNEEDED, same version is already published
tokay2Windows Server 2012 R2 Standard / x64  OK    OK    OK    OK  UNNEEDED, same version is already published
machv2macOS 10.14.6 Mojave / x86_64  OK    OK    OK    OK  UNNEEDED, same version is already published
Package 13/52HostnameOS / ArchINSTALLBUILDCHECKBUILD BIN
DEComplexDisease 1.14.0  (landing page)
Guofeng Meng
git_last_commit: 67836f3
git_last_commit_date: 2021-10-26 12:41:33 -0500
nebbiolo2Linux (Ubuntu 20.04.4 LTS) / x86_64  OK    OK    OK  UNNEEDED, same version is already published
tokay2Windows Server 2012 R2 Standard / x64  OK    OK    OK    OK  UNNEEDED, same version is already published
machv2macOS 10.14.6 Mojave / x86_64  OK    OK    OK    OK  UNNEEDED, same version is already published
Package 14/52HostnameOS / ArchINSTALLBUILDCHECKBUILD BIN
DEGreport 1.30.0  (landing page)
Lorena Pantano
git_last_commit: a318960
git_last_commit_date: 2021-10-26 12:14:10 -0500
nebbiolo2Linux (Ubuntu 20.04.4 LTS) / x86_64  OK    OK    OK  UNNEEDED, same version is already published
tokay2Windows Server 2012 R2 Standard / x64  OK    OK    OK    OK  UNNEEDED, same version is already published
machv2macOS 10.14.6 Mojave / x86_64  OK    OK    ERROR    OK  
Package 15/52HostnameOS / ArchINSTALLBUILDCHECKBUILD BIN
DEP 1.16.0  (landing page)
Arne Smits
git_last_commit: ce28ade
git_last_commit_date: 2021-10-26 12:37:08 -0500
nebbiolo2Linux (Ubuntu 20.04.4 LTS) / x86_64  OK    OK    WARNINGS  UNNEEDED, same version is already published
tokay2Windows Server 2012 R2 Standard / x64  OK    OK    WARNINGS    OK  UNNEEDED, same version is already published
machv2macOS 10.14.6 Mojave / x86_64  OK    OK    WARNINGS    OK  UNNEEDED, same version is already published
Package 16/52HostnameOS / ArchINSTALLBUILDCHECKBUILD BIN
diffcyt 1.14.0  (landing page)
Lukas M. Weber
git_last_commit: 18cad99
git_last_commit_date: 2021-10-26 12:43:31 -0500
nebbiolo2Linux (Ubuntu 20.04.4 LTS) / x86_64  OK    OK    OK  UNNEEDED, same version is already published
tokay2Windows Server 2012 R2 Standard / x64  OK    ERROR  skippedskipped
machv2macOS 10.14.6 Mojave / x86_64  OK    OK    OK    OK  UNNEEDED, same version is already published
Package 17/52HostnameOS / ArchINSTALLBUILDCHECKBUILD BIN
diffUTR 1.2.0  (landing page)
Pierre-Luc Germain
git_last_commit: feef7a8
git_last_commit_date: 2021-10-26 13:09:41 -0500
nebbiolo2Linux (Ubuntu 20.04.4 LTS) / x86_64  OK    OK    OK  UNNEEDED, same version is already published
tokay2Windows Server 2012 R2 Standard / x64  OK    OK    OK    OK  UNNEEDED, same version is already published
machv2macOS 10.14.6 Mojave / x86_64  OK    OK    OK    OK  UNNEEDED, same version is already published
Package 18/52HostnameOS / ArchINSTALLBUILDCHECKBUILD BIN
ELMER 2.18.0  (landing page)
Tiago Chedraoui Silva
git_last_commit: b116994
git_last_commit_date: 2021-10-26 12:20:53 -0500
nebbiolo2Linux (Ubuntu 20.04.4 LTS) / x86_64  OK    OK    OK  UNNEEDED, same version is already published
tokay2Windows Server 2012 R2 Standard / x64  OK    OK    OK    OK  UNNEEDED, same version is already published
machv2macOS 10.14.6 Mojave / x86_64  OK    OK    OK    OK  UNNEEDED, same version is already published
Package 19/52HostnameOS / ArchINSTALLBUILDCHECKBUILD BIN
EnrichedHeatmap 1.24.0  (landing page)
Zuguang Gu
git_last_commit: 40ef524
git_last_commit_date: 2021-10-26 12:22:43 -0500
nebbiolo2Linux (Ubuntu 20.04.4 LTS) / x86_64  OK    OK    OK  UNNEEDED, same version is already published
tokay2Windows Server 2012 R2 Standard / x64  OK    OK    OK    OK  UNNEEDED, same version is already published
machv2macOS 10.14.6 Mojave / x86_64  OK    OK    OK    OK  UNNEEDED, same version is already published
Package 20/52HostnameOS / ArchINSTALLBUILDCHECKBUILD BIN
fCCAC 1.20.0  (landing page)
Pedro Madrigal
git_last_commit: bb89ba7
git_last_commit_date: 2021-10-26 12:31:23 -0500
nebbiolo2Linux (Ubuntu 20.04.4 LTS) / x86_64  OK    OK    OK  UNNEEDED, same version is already published
tokay2Windows Server 2012 R2 Standard / x64  OK    OK    OK    OK  UNNEEDED, same version is already published
machv2macOS 10.14.6 Mojave / x86_64  OK    OK    OK    OK  UNNEEDED, same version is already published
Package 21/52HostnameOS / ArchINSTALLBUILDCHECKBUILD BIN
gCrisprTools 2.0.0  (landing page)
Russell Bainer
git_last_commit: 4783d8f
git_last_commit_date: 2021-10-26 12:29:53 -0500
nebbiolo2Linux (Ubuntu 20.04.4 LTS) / x86_64  OK    ERROR  skipped
tokay2Windows Server 2012 R2 Standard / x64  OK    ERROR  skippedskipped
machv2macOS 10.14.6 Mojave / x86_64  OK    ERROR  skippedskipped
Package 22/52HostnameOS / ArchINSTALLBUILDCHECKBUILD BIN
GeneTonic 1.6.1  (landing page)
Federico Marini
git_last_commit: c8bf092
git_last_commit_date: 2021-12-01 18:02:34 -0500
nebbiolo2Linux (Ubuntu 20.04.4 LTS) / x86_64  OK    OK    OK  UNNEEDED, same version is already published
tokay2Windows Server 2012 R2 Standard / x64  OK    OK    OK    OK  UNNEEDED, same version is already published
machv2macOS 10.14.6 Mojave / x86_64  OK    OK    OK    OK  UNNEEDED, same version is already published
Package 23/52HostnameOS / ArchINSTALLBUILDCHECKBUILD BIN
GenomicSuperSignature 1.2.1  (landing page)
Sehyun Oh
git_last_commit: e88625b
git_last_commit_date: 2021-12-15 23:43:22 -0500
nebbiolo2Linux (Ubuntu 20.04.4 LTS) / x86_64  OK    OK    OK  UNNEEDED, same version is already published
tokay2Windows Server 2012 R2 Standard / x64  OK    OK    OK    OK  UNNEEDED, same version is already published
machv2macOS 10.14.6 Mojave / x86_64  OK    OK    OK    OK  UNNEEDED, same version is already published
Package 24/52HostnameOS / ArchINSTALLBUILDCHECKBUILD BIN
gmoviz 1.6.0  (landing page)
Kathleen Zeglinski
git_last_commit: 22e8f55
git_last_commit_date: 2021-10-26 12:58:11 -0500
nebbiolo2Linux (Ubuntu 20.04.4 LTS) / x86_64  OK    OK    OK  UNNEEDED, same version is already published
tokay2Windows Server 2012 R2 Standard / x64  OK    OK    OK    OK  UNNEEDED, same version is already published
machv2macOS 10.14.6 Mojave / x86_64  OK    OK    OK    OK  UNNEEDED, same version is already published
Package 25/52HostnameOS / ArchINSTALLBUILDCHECKBUILD BIN
InteractiveComplexHeatmap 1.2.0  (landing page)
Zuguang Gu
git_last_commit: ce5e576
git_last_commit_date: 2021-10-26 13:06:23 -0500
nebbiolo2Linux (Ubuntu 20.04.4 LTS) / x86_64  OK    OK    OK  UNNEEDED, same version is already published
tokay2Windows Server 2012 R2 Standard / x64  OK    OK    OK    OK  UNNEEDED, same version is already published
machv2macOS 10.14.6 Mojave / x86_64  OK    OK    OK    OK  UNNEEDED, same version is already published
Package 26/52HostnameOS / ArchINSTALLBUILDCHECKBUILD BIN
InterCellar 2.0.0  (landing page)
Marta Interlandi
git_last_commit: abf5698
git_last_commit_date: 2021-10-26 13:07:46 -0500
nebbiolo2Linux (Ubuntu 20.04.4 LTS) / x86_64  OK    OK    OK  UNNEEDED, same version is already published
tokay2Windows Server 2012 R2 Standard / x64  OK    OK    OK    OK  UNNEEDED, same version is already published
machv2macOS 10.14.6 Mojave / x86_64  OK    OK    OK    OK  UNNEEDED, same version is already published
Package 27/52HostnameOS / ArchINSTALLBUILDCHECKBUILD BIN
iSEE 2.6.0  (landing page)
Kevin Rue-Albrecht
git_last_commit: 9c0e8e0
git_last_commit_date: 2021-10-26 12:42:43 -0500
nebbiolo2Linux (Ubuntu 20.04.4 LTS) / x86_64  OK    OK    OK  UNNEEDED, same version is already published
tokay2Windows Server 2012 R2 Standard / x64  OK    ERROR  skippedskipped
machv2macOS 10.14.6 Mojave / x86_64  OK    OK    OK    OK  UNNEEDED, same version is already published
Package 28/52HostnameOS / ArchINSTALLBUILDCHECKBUILD BIN
LineagePulse 1.14.0  (landing page)
David S Fischer
git_last_commit: 23b2bf4
git_last_commit_date: 2021-10-26 12:40:27 -0500
nebbiolo2Linux (Ubuntu 20.04.4 LTS) / x86_64  OK    OK    WARNINGS  UNNEEDED, same version is already published
tokay2Windows Server 2012 R2 Standard / x64  OK    OK    WARNINGS    OK  UNNEEDED, same version is already published
machv2macOS 10.14.6 Mojave / x86_64  OK    OK    WARNINGS    OK  UNNEEDED, same version is already published
Package 29/52HostnameOS / ArchINSTALLBUILDCHECKBUILD BIN
MatrixQCvis 1.2.0  (landing page)
Thomas Naake
git_last_commit: fba275b
git_last_commit_date: 2021-10-26 13:09:52 -0500
nebbiolo2Linux (Ubuntu 20.04.4 LTS) / x86_64  OK    OK    OK  UNNEEDED, same version is already published
tokay2Windows Server 2012 R2 Standard / x64  OK    OK    OK    OK  UNNEEDED, same version is already published
machv2macOS 10.14.6 Mojave / x86_64  OK    OK    OK    OK  UNNEEDED, same version is already published
Package 30/52HostnameOS / ArchINSTALLBUILDCHECKBUILD BIN
MesKit 1.4.0  (landing page)
Mengni Liu
git_last_commit: 0782512
git_last_commit_date: 2021-10-26 13:01:22 -0500
nebbiolo2Linux (Ubuntu 20.04.4 LTS) / x86_64  OK    OK    WARNINGS  UNNEEDED, same version is already published
tokay2Windows Server 2012 R2 Standard / x64  OK    OK    WARNINGS    OK  UNNEEDED, same version is already published
machv2macOS 10.14.6 Mojave / x86_64  OK    OK    WARNINGS    OK  UNNEEDED, same version is already published
Package 31/52HostnameOS / ArchINSTALLBUILDCHECKBUILD BIN
microbiomeMarker 1.0.1  (landing page)
Yang Cao
git_last_commit: d4852b9
git_last_commit_date: 2021-11-08 03:46:16 -0500
nebbiolo2Linux (Ubuntu 20.04.4 LTS) / x86_64  OK    OK    OK  UNNEEDED, same version is already published
tokay2Windows Server 2012 R2 Standard / x64  OK    OK    OK    OK  UNNEEDED, same version is already published
machv2macOS 10.14.6 Mojave / x86_64  OK    OK    OK    OK  UNNEEDED, same version is already published
Package 32/52HostnameOS / ArchINSTALLBUILDCHECKBUILD BIN
MOMA 1.6.0  (landing page)
Sunny Jones
git_last_commit: 2d64f18
git_last_commit_date: 2021-10-26 12:59:21 -0500
nebbiolo2Linux (Ubuntu 20.04.4 LTS) / x86_64  OK    OK    OK  UNNEEDED, same version is already published
tokay2Windows Server 2012 R2 Standard / x64  OK    OK    OK    OK  UNNEEDED, same version is already published
machv2macOS 10.14.6 Mojave / x86_64  OK    OK    OK    OK  UNNEEDED, same version is already published
Package 33/52HostnameOS / ArchINSTALLBUILDCHECKBUILD BIN
monaLisa 1.0.0  (landing page)
Michael Stadler
git_last_commit: bec40ca
git_last_commit_date: 2021-10-26 13:12:48 -0500
nebbiolo2Linux (Ubuntu 20.04.4 LTS) / x86_64  OK    OK    OK  UNNEEDED, same version is already published
tokay2Windows Server 2012 R2 Standard / x64  OK    OK    OK    OK  UNNEEDED, same version is already published
machv2macOS 10.14.6 Mojave / x86_64  OK    OK    OK    OK  UNNEEDED, same version is already published
Package 34/52HostnameOS / ArchINSTALLBUILDCHECKBUILD BIN
muscat 1.8.1  (landing page)
Helena L. Crowell
git_last_commit: 06006c2
git_last_commit_date: 2022-01-14 03:51:16 -0500
nebbiolo2Linux (Ubuntu 20.04.4 LTS) / x86_64  OK    OK    ERROR  
tokay2Windows Server 2012 R2 Standard / x64  OK    OK    ERROR    OK  
machv2macOS 10.14.6 Mojave / x86_64  OK    OK    ERROR    OK  
Package 35/52HostnameOS / ArchINSTALLBUILDCHECKBUILD BIN
musicatk 1.4.0  (landing page)
Aaron Chevalier
git_last_commit: eee66e7
git_last_commit_date: 2021-10-26 13:04:15 -0500
nebbiolo2Linux (Ubuntu 20.04.4 LTS) / x86_64  OK    OK    OK  UNNEEDED, same version is already published
tokay2Windows Server 2012 R2 Standard / x64  OK    OK    OK    OK  UNNEEDED, same version is already published
machv2macOS 10.14.6 Mojave / x86_64  OK    OK    OK    OK  UNNEEDED, same version is already published
Package 36/52HostnameOS / ArchINSTALLBUILDCHECKBUILD BIN
MWASTools 1.18.0  (landing page)
Andrea Rodriguez-Martinez , Rafael Ayala
git_last_commit: 17465ce
git_last_commit_date: 2021-10-26 12:31:39 -0500
nebbiolo2Linux (Ubuntu 20.04.4 LTS) / x86_64  OK    OK    OK  UNNEEDED, same version is already published
tokay2Windows Server 2012 R2 Standard / x64  OK    OK    OK    OK  UNNEEDED, same version is already published
machv2macOS 10.14.6 Mojave / x86_64  OK    OK    OK    OK  UNNEEDED, same version is already published
Package 37/52HostnameOS / ArchINSTALLBUILDCHECKBUILD BIN
PathoStat 1.20.0  (landing page)
Solaiappan Manimaran
git_last_commit: 468d049
git_last_commit_date: 2021-10-26 12:30:40 -0500
nebbiolo2Linux (Ubuntu 20.04.4 LTS) / x86_64  OK    OK    OK  UNNEEDED, same version is already published
tokay2Windows Server 2012 R2 Standard / x64  OK    OK    OK    OK  UNNEEDED, same version is already published
machv2macOS 10.14.6 Mojave / x86_64  OK    OK    OK    OK  UNNEEDED, same version is already published
Package 38/52HostnameOS / ArchINSTALLBUILDCHECKBUILD BIN
PeacoQC 1.4.0  (landing page)
Annelies Emmaneel
git_last_commit: c117e80
git_last_commit_date: 2021-10-26 13:00:26 -0500
nebbiolo2Linux (Ubuntu 20.04.4 LTS) / x86_64  OK    OK    OK  UNNEEDED, same version is already published
tokay2Windows Server 2012 R2 Standard / x64  OK    OK    OK    OK  UNNEEDED, same version is already published
machv2macOS 10.14.6 Mojave / x86_64  OK    OK    OK    OK  UNNEEDED, same version is already published
Package 39/52HostnameOS / ArchINSTALLBUILDCHECKBUILD BIN
pipeComp 1.4.0  (landing page)
Pierre-Luc Germain
git_last_commit: 79b7c02
git_last_commit_date: 2021-10-26 13:00:42 -0500
nebbiolo2Linux (Ubuntu 20.04.4 LTS) / x86_64  OK    OK    OK  UNNEEDED, same version is already published
tokay2Windows Server 2012 R2 Standard / x64  OK    OK    OK    OK  UNNEEDED, same version is already published
machv2macOS 10.14.6 Mojave / x86_64  OK    OK    OK    OK  UNNEEDED, same version is already published
Package 40/52HostnameOS / ArchINSTALLBUILDCHECKBUILD BIN
POMA 1.4.0  (landing page)
Pol Castellano-Escuder
git_last_commit: c549d40
git_last_commit_date: 2021-10-26 13:01:27 -0500
nebbiolo2Linux (Ubuntu 20.04.4 LTS) / x86_64  OK    OK    OK  UNNEEDED, same version is already published
tokay2Windows Server 2012 R2 Standard / x64  OK    OK    OK    OK  UNNEEDED, same version is already published
machv2macOS 10.14.6 Mojave / x86_64  OK    OK    OK    OK  UNNEEDED, same version is already published
Package 41/52HostnameOS / ArchINSTALLBUILDCHECKBUILD BIN
profileplyr 1.10.2  (landing page)
Tom Carroll , Doug Barrows
git_last_commit: b86cda4
git_last_commit_date: 2021-12-27 10:20:32 -0500
nebbiolo2Linux (Ubuntu 20.04.4 LTS) / x86_64  OK    OK    OK  UNNEEDED, same version is already published
tokay2Windows Server 2012 R2 Standard / x64  OK    OK    OK    OK  UNNEEDED, same version is already published
machv2macOS 10.14.6 Mojave / x86_64  OK    OK    OK    OK  UNNEEDED, same version is already published
Package 42/52HostnameOS / ArchINSTALLBUILDCHECKBUILD BIN
recoup 1.22.0  (landing page)
Panagiotis Moulos
git_last_commit: 3eb0470
git_last_commit_date: 2021-10-26 12:26:32 -0500
nebbiolo2Linux (Ubuntu 20.04.4 LTS) / x86_64  OK    OK    OK  UNNEEDED, same version is already published
tokay2Windows Server 2012 R2 Standard / x64  OK    OK    OK    OK  UNNEEDED, same version is already published
machv2macOS 10.14.6 Mojave / x86_64  OK    OK    OK    OK  UNNEEDED, same version is already published
Package 43/52HostnameOS / ArchINSTALLBUILDCHECKBUILD BIN
RLSeq 1.0.0  (landing page)
Henry Miller
git_last_commit: 191326e
git_last_commit_date: 2021-10-26 13:14:18 -0500
nebbiolo2Linux (Ubuntu 20.04.4 LTS) / x86_64  OK    OK    OK  UNNEEDED, same version is already published
tokay2Windows Server 2012 R2 Standard / x64  OK    OK    OK    OK  UNNEEDED, same version is already published
machv2macOS 10.14.6 Mojave / x86_64  OK    OK    OK    OK  UNNEEDED, same version is already published
Package 44/52HostnameOS / ArchINSTALLBUILDCHECKBUILD BIN
sechm 1.2.0  (landing page)
Pierre-Luc Germain
git_last_commit: dbe2ebf
git_last_commit_date: 2021-10-26 13:08:46 -0500
nebbiolo2Linux (Ubuntu 20.04.4 LTS) / x86_64  OK    OK    OK  UNNEEDED, same version is already published
tokay2Windows Server 2012 R2 Standard / x64  OK    OK    OK    OK  UNNEEDED, same version is already published
machv2macOS 10.14.6 Mojave / x86_64  OK    OK    OK    OK  UNNEEDED, same version is already published
Package 45/52HostnameOS / ArchINSTALLBUILDCHECKBUILD BIN
segmenter 1.0.0  (landing page)
Mahmoud Ahmed
git_last_commit: 45aa76e
git_last_commit_date: 2021-10-26 13:10:57 -0500
nebbiolo2Linux (Ubuntu 20.04.4 LTS) / x86_64  OK    OK    OK  UNNEEDED, same version is already published
tokay2Windows Server 2012 R2 Standard / x64  OK    OK    OK    OK  UNNEEDED, same version is already published
machv2macOS 10.14.6 Mojave / x86_64  OK    OK    OK    OK  UNNEEDED, same version is already published
Package 46/52HostnameOS / ArchINSTALLBUILDCHECKBUILD BIN
SEtools 1.8.0  (landing page)
Pierre-Luc Germain
git_last_commit: 30a597c
git_last_commit_date: 2021-10-26 12:54:06 -0500
nebbiolo2Linux (Ubuntu 20.04.4 LTS) / x86_64  OK    OK    WARNINGS  UNNEEDED, same version is already published
tokay2Windows Server 2012 R2 Standard / x64  OK    OK    WARNINGS    OK  UNNEEDED, same version is already published
machv2macOS 10.14.6 Mojave / x86_64  OK    OK    WARNINGS    OK  UNNEEDED, same version is already published
Package 47/52HostnameOS / ArchINSTALLBUILDCHECKBUILD BIN
simplifyEnrichment 1.4.0  (landing page)
Zuguang Gu
git_last_commit: 549d5f1
git_last_commit_date: 2021-10-26 13:00:10 -0500
nebbiolo2Linux (Ubuntu 20.04.4 LTS) / x86_64  OK    OK    OK  UNNEEDED, same version is already published
tokay2Windows Server 2012 R2 Standard / x64  OK    OK    OK    OK  UNNEEDED, same version is already published
machv2macOS 10.14.6 Mojave / x86_64  OK    OK    OK    OK  UNNEEDED, same version is already published
Package 48/52HostnameOS / ArchINSTALLBUILDCHECKBUILD BIN
singleCellTK 2.4.0  (landing page)
Yichen Wang
git_last_commit: 91f98fc
git_last_commit_date: 2021-10-27 11:24:49 -0500
nebbiolo2Linux (Ubuntu 20.04.4 LTS) / x86_64  OK    OK    OK  UNNEEDED, same version is already published
tokay2Windows Server 2012 R2 Standard / x64  OK    OK    ERROR    OK  
machv2macOS 10.14.6 Mojave / x86_64  OK    OK    OK    OK  UNNEEDED, same version is already published
Package 49/52HostnameOS / ArchINSTALLBUILDCHECKBUILD BIN
sparrow 1.0.2  (landing page)
Steve Lianoglou
git_last_commit: 3329966
git_last_commit_date: 2022-01-05 17:20:42 -0500
nebbiolo2Linux (Ubuntu 20.04.4 LTS) / x86_64  OK    OK    ERROR  
tokay2Windows Server 2012 R2 Standard / x64  OK    OK    ERROR    OK  
machv2macOS 10.14.6 Mojave / x86_64  OK    OK    ERROR    OK  
Package 50/52HostnameOS / ArchINSTALLBUILDCHECKBUILD BIN
TBSignatureProfiler 1.6.0  (landing page)
Aubrey Odom
git_last_commit: fe6bf5e
git_last_commit_date: 2021-10-26 12:59:18 -0500
nebbiolo2Linux (Ubuntu 20.04.4 LTS) / x86_64  OK    OK    OK  UNNEEDED, same version is already published
tokay2Windows Server 2012 R2 Standard / x64  OK    OK    OK    OK  UNNEEDED, same version is already published
machv2macOS 10.14.6 Mojave / x86_64  OK    OK    OK    OK  UNNEEDED, same version is already published
Package 51/52HostnameOS / ArchINSTALLBUILDCHECKBUILD BIN
Xeva 1.10.0  (landing page)
Benjamin Haibe-Kains
git_last_commit: 6cfb49e
git_last_commit_date: 2021-10-26 12:49:48 -0500
nebbiolo2Linux (Ubuntu 20.04.4 LTS) / x86_64  OK    OK    OK  UNNEEDED, same version is already published
tokay2Windows Server 2012 R2 Standard / x64  OK    OK    ERROR    OK  
machv2macOS 10.14.6 Mojave / x86_64  OK    OK    OK    OK  UNNEEDED, same version is already published
Package 52/52HostnameOS / ArchINSTALLBUILDCHECKBUILD BIN
YAPSA 1.20.1  (landing page)
Daniel Huebschmann
git_last_commit: 6c3f437
git_last_commit_date: 2021-11-29 09:31:15 -0500
nebbiolo2Linux (Ubuntu 20.04.4 LTS) / x86_64  OK    OK    OK  UNNEEDED, same version is already published
tokay2Windows Server 2012 R2 Standard / x64  OK    OK    OK    OK  UNNEEDED, same version is already published
machv2macOS 10.14.6 Mojave / x86_64  OK    OK    OK    OK  UNNEEDED, same version is already published