Back to Multiple platform build/check report for BioC 3.14
ABCDEFGHIJKLMNOPQRSTUVWX[Y]Z

This page was generated on 2022-01-17 13:05:51 -0500 (Mon, 17 Jan 2022).

HostnameOSArch (*)R versionInstalled pkgs
nebbiolo2Linux (Ubuntu 20.04.4 LTS)x86_644.1.2 (2021-11-01) -- "Bird Hippie" 4328
tokay2Windows Server 2012 R2 Standardx644.1.2 (2021-11-01) -- "Bird Hippie" 4077
machv2macOS 10.14.6 Mojavex86_644.1.2 (2021-11-01) -- "Bird Hippie" 4138
Click on any hostname to see more info about the system (e.g. compilers)      (*) as reported by 'uname -p', except on Windows and Mac OS X

CHECK results for YAPSA on nebbiolo2


To the developers/maintainers of the YAPSA package:
- Please allow up to 24 hours (and sometimes 48 hours) for your latest push to git@git.bioconductor.org:packages/YAPSA.git to
reflect on this report. See How and When does the builder pull? When will my changes propagate? here for more information.
- Make sure to use the following settings in order to reproduce any error or warning you see on this page.

raw results

Package 2078/2083HostnameOS / ArchINSTALLBUILDCHECKBUILD BIN
YAPSA 1.20.1  (landing page)
Daniel Huebschmann
Snapshot Date: 2022-01-16 01:55:05 -0500 (Sun, 16 Jan 2022)
git_url: https://git.bioconductor.org/packages/YAPSA
git_branch: RELEASE_3_14
git_last_commit: 6c3f437
git_last_commit_date: 2021-11-29 09:31:15 -0500 (Mon, 29 Nov 2021)
nebbiolo2Linux (Ubuntu 20.04.4 LTS) / x86_64  OK    OK    OK  UNNEEDED, same version is already published
tokay2Windows Server 2012 R2 Standard / x64  OK    OK    OK    OK  UNNEEDED, same version is already published
machv2macOS 10.14.6 Mojave / x86_64  OK    OK    OK    OK  UNNEEDED, same version is already published

Summary

Package: YAPSA
Version: 1.20.1
Command: /home/biocbuild/bbs-3.14-bioc/R/bin/R CMD check --install=check:YAPSA.install-out.txt --library=/home/biocbuild/bbs-3.14-bioc/R/library --no-vignettes --timings YAPSA_1.20.1.tar.gz
StartedAt: 2022-01-16 10:18:57 -0500 (Sun, 16 Jan 2022)
EndedAt: 2022-01-16 10:24:55 -0500 (Sun, 16 Jan 2022)
EllapsedTime: 358.0 seconds
RetCode: 0
Status:   OK  
CheckDir: YAPSA.Rcheck
Warnings: 0

Command output

##############################################################################
##############################################################################
###
### Running command:
###
###   /home/biocbuild/bbs-3.14-bioc/R/bin/R CMD check --install=check:YAPSA.install-out.txt --library=/home/biocbuild/bbs-3.14-bioc/R/library --no-vignettes --timings YAPSA_1.20.1.tar.gz
###
##############################################################################
##############################################################################


* using log directory ‘/home/biocbuild/bbs-3.14-bioc/meat/YAPSA.Rcheck’
* using R version 4.1.2 (2021-11-01)
* using platform: x86_64-pc-linux-gnu (64-bit)
* using session charset: UTF-8
* using option ‘--no-vignettes’
* checking for file ‘YAPSA/DESCRIPTION’ ... OK
* checking extension type ... Package
* this is package ‘YAPSA’ version ‘1.20.1’
* package encoding: UTF-8
* checking package namespace information ... OK
* checking package dependencies ... OK
* checking if this is a source package ... OK
* checking if there is a namespace ... OK
* checking for hidden files and directories ... OK
* checking for portable file names ... OK
* checking for sufficient/correct file permissions ... OK
* checking whether package ‘YAPSA’ can be installed ... OK
* checking installed package size ... OK
* checking package directory ... OK
* checking ‘build’ directory ... OK
* checking DESCRIPTION meta-information ... OK
* checking top-level files ... OK
* checking for left-over files ... OK
* checking index information ... OK
* checking package subdirectories ... OK
* checking R files for non-ASCII characters ... OK
* checking R files for syntax errors ... OK
* checking whether the package can be loaded ... OK
* checking whether the package can be loaded with stated dependencies ... OK
* checking whether the package can be unloaded cleanly ... OK
* checking whether the namespace can be loaded with stated dependencies ... OK
* checking whether the namespace can be unloaded cleanly ... OK
* checking dependencies in R code ... OK
* checking S3 generic/method consistency ... OK
* checking replacement functions ... OK
* checking foreign function calls ... OK
* checking R code for possible problems ... NOTE
read_list: no visible global function definition for 'detectCores'
read_list: no visible global function definition for 'makeCluster'
read_list: no visible global function definition for 'mclapply'
read_list: no visible global function definition for 'stopCluster'
Undefined global functions or variables:
  detectCores makeCluster mclapply stopCluster
* checking Rd files ... OK
* checking Rd metadata ... OK
* checking Rd cross-references ... OK
* checking for missing documentation entries ... OK
* checking for code/documentation mismatches ... OK
* checking Rd \usage sections ... OK
* checking Rd contents ... OK
* checking for unstated dependencies in examples ... OK
* checking contents of ‘data’ directory ... OK
* checking data for non-ASCII characters ... OK
* checking data for ASCII and uncompressed saves ... OK
* checking installed files from ‘inst/doc’ ... OK
* checking files in ‘vignettes’ ... OK
* checking examples ... OK
Examples with CPU (user + system) or elapsed time > 5s
                                          user system elapsed
confidence_indel_only_calulation        14.093  0.056  14.150
create_indel_mutation_catalogue_from_df 10.694  0.088  10.782
build_gene_list_for_pathway              4.369  0.668  22.938
* checking for unstated dependencies in ‘tests’ ... OK
* checking tests ...
  Running ‘testthat.R’
 OK
* checking for unstated dependencies in vignettes ... OK
* checking package vignettes in ‘inst/doc’ ... OK
* checking running R code from vignettes ... SKIPPED
* checking re-building of vignette outputs ... SKIPPED
* checking PDF version of manual ... OK
* DONE

Status: 1 NOTE
See
  ‘/home/biocbuild/bbs-3.14-bioc/meat/YAPSA.Rcheck/00check.log’
for details.



Installation output

YAPSA.Rcheck/00install.out

##############################################################################
##############################################################################
###
### Running command:
###
###   /home/biocbuild/bbs-3.14-bioc/R/bin/R CMD INSTALL YAPSA
###
##############################################################################
##############################################################################


* installing to library ‘/home/biocbuild/bbs-3.14-bioc/R/library’
* installing *source* package ‘YAPSA’ ...
** using staged installation
** R
** data
** inst
** byte-compile and prepare package for lazy loading
Found more than one class "atomicVector" in cache; using the first, from namespace 'Matrix'
Also defined by ‘Rmpfr’
Found more than one class "atomicVector" in cache; using the first, from namespace 'Matrix'
Also defined by ‘Rmpfr’
Found more than one class "atomicVector" in cache; using the first, from namespace 'Matrix'
Also defined by ‘Rmpfr’
Found more than one class "atomicVector" in cache; using the first, from namespace 'Matrix'
Also defined by ‘Rmpfr’
Found more than one class "atomicVector" in cache; using the first, from namespace 'Matrix'
Also defined by ‘Rmpfr’
Found more than one class "atomicVector" in cache; using the first, from namespace 'Matrix'
Also defined by ‘Rmpfr’
Found more than one class "atomicVector" in cache; using the first, from namespace 'Matrix'
Also defined by ‘Rmpfr’
Found more than one class "atomicVector" in cache; using the first, from namespace 'Matrix'
Also defined by ‘Rmpfr’
Found more than one class "atomicVector" in cache; using the first, from namespace 'Matrix'
Also defined by ‘Rmpfr’
Found more than one class "atomicVector" in cache; using the first, from namespace 'Matrix'
Also defined by ‘Rmpfr’
Found more than one class "atomicVector" in cache; using the first, from namespace 'Matrix'
Also defined by ‘Rmpfr’
Found more than one class "atomicVector" in cache; using the first, from namespace 'Matrix'
Also defined by ‘Rmpfr’
** help
*** installing help indices
** building package indices
** installing vignettes
** testing if installed package can be loaded from temporary location
Found more than one class "atomicVector" in cache; using the first, from namespace 'Matrix'
Also defined by ‘Rmpfr’
Found more than one class "atomicVector" in cache; using the first, from namespace 'Matrix'
Also defined by ‘Rmpfr’
Found more than one class "atomicVector" in cache; using the first, from namespace 'Matrix'
Also defined by ‘Rmpfr’
Found more than one class "atomicVector" in cache; using the first, from namespace 'Matrix'
Also defined by ‘Rmpfr’
Found more than one class "atomicVector" in cache; using the first, from namespace 'Matrix'
Also defined by ‘Rmpfr’
Found more than one class "atomicVector" in cache; using the first, from namespace 'Matrix'
Also defined by ‘Rmpfr’
Found more than one class "atomicVector" in cache; using the first, from namespace 'Matrix'
Also defined by ‘Rmpfr’
Found more than one class "atomicVector" in cache; using the first, from namespace 'Matrix'
Also defined by ‘Rmpfr’
Found more than one class "atomicVector" in cache; using the first, from namespace 'Matrix'
Also defined by ‘Rmpfr’
Found more than one class "atomicVector" in cache; using the first, from namespace 'Matrix'
Also defined by ‘Rmpfr’
Found more than one class "atomicVector" in cache; using the first, from namespace 'Matrix'
Also defined by ‘Rmpfr’
Found more than one class "atomicVector" in cache; using the first, from namespace 'Matrix'
Also defined by ‘Rmpfr’
** testing if installed package can be loaded from final location
Found more than one class "atomicVector" in cache; using the first, from namespace 'Matrix'
Also defined by ‘Rmpfr’
Found more than one class "atomicVector" in cache; using the first, from namespace 'Matrix'
Also defined by ‘Rmpfr’
Found more than one class "atomicVector" in cache; using the first, from namespace 'Matrix'
Also defined by ‘Rmpfr’
Found more than one class "atomicVector" in cache; using the first, from namespace 'Matrix'
Also defined by ‘Rmpfr’
Found more than one class "atomicVector" in cache; using the first, from namespace 'Matrix'
Also defined by ‘Rmpfr’
Found more than one class "atomicVector" in cache; using the first, from namespace 'Matrix'
Also defined by ‘Rmpfr’
Found more than one class "atomicVector" in cache; using the first, from namespace 'Matrix'
Also defined by ‘Rmpfr’
Found more than one class "atomicVector" in cache; using the first, from namespace 'Matrix'
Also defined by ‘Rmpfr’
Found more than one class "atomicVector" in cache; using the first, from namespace 'Matrix'
Also defined by ‘Rmpfr’
Found more than one class "atomicVector" in cache; using the first, from namespace 'Matrix'
Also defined by ‘Rmpfr’
Found more than one class "atomicVector" in cache; using the first, from namespace 'Matrix'
Also defined by ‘Rmpfr’
Found more than one class "atomicVector" in cache; using the first, from namespace 'Matrix'
Also defined by ‘Rmpfr’
** testing if installed package keeps a record of temporary installation path
* DONE (YAPSA)

Tests output

YAPSA.Rcheck/tests/testthat.Rout


R version 4.1.2 (2021-11-01) -- "Bird Hippie"
Copyright (C) 2021 The R Foundation for Statistical Computing
Platform: x86_64-pc-linux-gnu (64-bit)

R is free software and comes with ABSOLUTELY NO WARRANTY.
You are welcome to redistribute it under certain conditions.
Type 'license()' or 'licence()' for distribution details.

R is a collaborative project with many contributors.
Type 'contributors()' for more information and
'citation()' on how to cite R or R packages in publications.

Type 'demo()' for some demos, 'help()' for on-line help, or
'help.start()' for an HTML browser interface to help.
Type 'q()' to quit R.

> Sys.setenv(R_TESTS=" ")
> library(testthat)
> library(YAPSA)
Loading required package: GenomicRanges
Loading required package: stats4
Loading required package: BiocGenerics

Attaching package: 'BiocGenerics'

The following objects are masked from 'package:stats':

    IQR, mad, sd, var, xtabs

The following objects are masked from 'package:base':

    Filter, Find, Map, Position, Reduce, anyDuplicated, append,
    as.data.frame, basename, cbind, colnames, dirname, do.call,
    duplicated, eval, evalq, get, grep, grepl, intersect, is.unsorted,
    lapply, mapply, match, mget, order, paste, pmax, pmax.int, pmin,
    pmin.int, rank, rbind, rownames, sapply, setdiff, sort, table,
    tapply, union, unique, unsplit, which.max, which.min

Loading required package: S4Vectors

Attaching package: 'S4Vectors'

The following objects are masked from 'package:base':

    I, expand.grid, unname

Loading required package: IRanges
Loading required package: GenomeInfoDb
Loading required package: ggplot2
Loading required package: grid
Found more than one class "atomicVector" in cache; using the first, from namespace 'Matrix'
Also defined by 'Rmpfr'
Found more than one class "atomicVector" in cache; using the first, from namespace 'Matrix'
Also defined by 'Rmpfr'
Found more than one class "atomicVector" in cache; using the first, from namespace 'Matrix'
Also defined by 'Rmpfr'
Found more than one class "atomicVector" in cache; using the first, from namespace 'Matrix'
Also defined by 'Rmpfr'
Found more than one class "atomicVector" in cache; using the first, from namespace 'Matrix'
Also defined by 'Rmpfr'
Found more than one class "atomicVector" in cache; using the first, from namespace 'Matrix'
Also defined by 'Rmpfr'
Found more than one class "atomicVector" in cache; using the first, from namespace 'Matrix'
Also defined by 'Rmpfr'
Found more than one class "atomicVector" in cache; using the first, from namespace 'Matrix'
Also defined by 'Rmpfr'
Found more than one class "atomicVector" in cache; using the first, from namespace 'Matrix'
Also defined by 'Rmpfr'
Found more than one class "atomicVector" in cache; using the first, from namespace 'Matrix'
Also defined by 'Rmpfr'
Found more than one class "atomicVector" in cache; using the first, from namespace 'Matrix'
Also defined by 'Rmpfr'
Found more than one class "atomicVector" in cache; using the first, from namespace 'Matrix'
Also defined by 'Rmpfr'
> 
> test_check("YAPSA")
YAPSA:::shapiro_if_possible::error: Non-numeric inputYAPSA:::makeVRangesFromDataFrame::warning:strand  information missing, set to "+".
YAPSA:::makeVRangesFromDataFrame::in_PID.field found.  Retrieving PID information.
YAPSA:::makeVRangesFromDataFrame::in_subgroup.field found.  Retrieving subgroup information.
[ FAIL 0 | WARN 0 | SKIP 0 | PASS 62 ]
> 
> proc.time()
   user  system elapsed 
 11.937   0.489  12.406 

Example timings

YAPSA.Rcheck/YAPSA-Ex.timings

nameusersystemelapsed
GenomeOfNl_raw0.0070.0000.006
LCD0.0050.0000.006
LCD_complex_cutoff000
MutCat_indel_df0.0030.0000.002
SMC000
SMC_perPID000
add_annotation000
add_as_fist_to_list000
aggregate_exposures_by_category000
annotate_intermut_dist_PID0.0130.0000.014
annotate_intermut_dist_cohort0.0150.0000.015
annotation_exposures_barplot000
annotation_exposures_list_barplot000
annotation_heatmap_exposures0.0000.0000.001
attribute_nucleotide_exchanges0.0020.0000.002
attribute_sequence_contex_indel0.5510.0360.586
attribution_of_indels0.3580.0200.378
build_gene_list_for_pathway 4.369 0.66822.938
classify_indels000
compare_SMCs000
compare_exposures000
compare_expousre_sets0.0040.0000.004
compare_sets0.0030.0000.003
compare_to_catalogues000
complex_heatmap_exposures0.6530.0480.700
computeLogLik000
compute_comparison_stat_df000
confIntExp1.1090.0601.168
confidence_indel_calulation0.0010.0000.000
confidence_indel_only_calulation14.093 0.05614.150
correct_rounded000
cosineDist0.0000.0010.001
cosineMatchDist0.0000.0010.001
create_indel_mut_cat_from_df0.3760.0090.385
create_indel_mutation_catalogue_from_df10.694 0.08810.782
create_mutation_catalogue_from_VR1.0510.0481.099
create_mutation_catalogue_from_df0.7480.0440.792
cut_breaks_as_intervals0.0850.0000.085
deriveSigInd_df000
disambiguateVector000
enrichSigs000
exampleYAPSA0.0600.0040.064
exome_mutCatRaw_df0.0070.0000.007
exposures_barplot1.90.01.9
extract_names_from_gene_list000
find_affected_PIDs000
getSequenceContext1.0110.3321.343
get_extreme_PIDs0.0130.0050.018
hclust_exposures0.0040.0000.003
logLikelihood0.7430.0240.767
lymphomaNature2013_mutCat_df0.0030.0000.003
makeVRangesFromDataFrame0.1130.0000.113
make_catalogue_strata_df000
make_comparison_matrix0.0670.0040.071
make_strata_df000
make_subgroups_df0.0210.0040.025
melt_exposures000
merge_exposures000
normalizeMotifs_otherRownames000
normalize_df_per_dim0.0060.0000.006
plotExchangeSpectra000
plotExchangeSpectra_indel0.7180.0000.719
plotExposuresConfidence000
plotExposuresConfidence_indel0.0010.0000.000
plot_SMC000
plot_exposures0.3040.0000.304
plot_strata000
read_entry000
relateSigs0.0000.0000.001
repeat_df0.0000.0010.001
round_precision000
run_SMC3.4410.0773.518
run_annotate_vcf_pl000
run_comparison_catalogues000
run_comparison_general000
run_kmer_frequency_correction000
run_kmer_frequency_normalization000
run_plot_strata_general000
shapiro_if_possible0.0010.0000.001
split_exposures_by_subgroups000
stat_plot_subgroups000
stat_test_SMC000
stat_test_subgroups000
stderrmean000
sum_over_list_of_df0.0010.0000.001
temp_trellis_rainfall_plot1.1010.0001.102
testSigs000
test_exposureAffected000
test_gene_list_in_exposures000
transform_rownames_R_to_MATLAB000
translate_to_hg190.0030.0000.003
trellis_rainfall_plot1.1280.0041.132
trellis_rainfall_plot_old1.1160.0081.123
variateExp1.7560.0561.811
variateExpSingle0.7590.0200.779