Back to Multiple platform build/check report for BioC 3.15
ABCDEFGHIJKLMNO[P]QRSTUVWXYZ

This page was generated on 2022-05-20 12:04:42 -0400 (Fri, 20 May 2022).

HostnameOSArch (*)R versionInstalled pkgs
nebbiolo1Linux (Ubuntu 20.04.4 LTS)x86_644.2.0 (2022-04-22) -- "Vigorous Calisthenics" 4380
palomino3Windows Server 2022 Datacenterx644.2.0 (2022-04-22 ucrt) -- "Vigorous Calisthenics" 4155
merida1macOS 10.14.6 Mojavex86_644.2.0 (2022-04-22) -- "Vigorous Calisthenics" 4221
Click on any hostname to see more info about the system (e.g. compilers)      (*) as reported by 'uname -p', except on Windows and Mac OS X

All results for package phyloseq


To the developers/maintainers of the phyloseq package:
- Please allow up to 24 hours (and sometimes 48 hours) for your latest push to git@git.bioconductor.org:packages/phyloseq.git to
reflect on this report. See How and When does the builder pull? When will my changes propagate? for more information.
- Make sure to use the following settings in order to reproduce any error or warning you see on this page.

raw results

Package 1453/2140HostnameOS / ArchINSTALLBUILDCHECKBUILD BIN
phyloseq 1.40.0  (landing page)
Paul J. McMurdie
Snapshot Date: 2022-05-19 13:55:15 -0400 (Thu, 19 May 2022)
git_url: https://git.bioconductor.org/packages/phyloseq
git_branch: RELEASE_3_15
git_last_commit: 20bb27d
git_last_commit_date: 2022-04-26 11:10:12 -0400 (Tue, 26 Apr 2022)
nebbiolo1Linux (Ubuntu 20.04.4 LTS) / x86_64  OK    OK    OK  UNNEEDED, same version is already published
palomino3Windows Server 2022 Datacenter / x64  OK    OK    OK    OK  UNNEEDED, same version is already published
merida1macOS 10.14.6 Mojave / x86_64  OK    OK    OK    OK  UNNEEDED, same version is already published

Results for Bioconductor software packages that depend directly on package phyloseq

QUICK STATSOS / ArchINSTALLBUILDCHECKBUILD BIN
nebbiolo1Linux (Ubuntu 20.04.4 LTS) / x86_64
0015
0114
00014
palomino3Windows Server 2022 Datacenter / x64
0015
0114
00014
0014
merida1macOS 10.14.6 Mojave / x86_64
0015
0114
00014
0014
Package 1/15HostnameOS / ArchINSTALLBUILDCHECKBUILD BIN
ANCOMBC 1.6.0  (landing page)
Huang Lin
git_last_commit: 1666e4c
git_last_commit_date: 2022-04-26 12:08:14 -0400
nebbiolo1Linux (Ubuntu 20.04.4 LTS) / x86_64  OK    OK    OK  UNNEEDED, same version is already published
palomino3Windows Server 2022 Datacenter / x64  OK    OK    OK    OK  UNNEEDED, same version is already published
merida1macOS 10.14.6 Mojave / x86_64  OK    OK    OK    OK  UNNEEDED, same version is already published
Package 2/15HostnameOS / ArchINSTALLBUILDCHECKBUILD BIN
benchdamic 1.2.0  (landing page)
Matteo Calgaro
git_last_commit: a0ce080
git_last_commit_date: 2022-04-26 12:19:21 -0400
nebbiolo1Linux (Ubuntu 20.04.4 LTS) / x86_64  OK    OK    OK  UNNEEDED, same version is already published
palomino3Windows Server 2022 Datacenter / x64  OK    OK    OK    OK  UNNEEDED, same version is already published
merida1macOS 10.14.6 Mojave / x86_64  OK    OK    OK    OK  UNNEEDED, same version is already published
Package 3/15HostnameOS / ArchINSTALLBUILDCHECKBUILD BIN
combi 1.8.0  (landing page)
Stijn Hawinkel
git_last_commit: 5360215
git_last_commit_date: 2022-04-26 12:03:34 -0400
nebbiolo1Linux (Ubuntu 20.04.4 LTS) / x86_64  OK    OK    OK  UNNEEDED, same version is already published
palomino3Windows Server 2022 Datacenter / x64  OK    OK    OK    OK  UNNEEDED, same version is already published
merida1macOS 10.14.6 Mojave / x86_64  OK    OK    OK    OK  UNNEEDED, same version is already published
Package 4/15HostnameOS / ArchINSTALLBUILDCHECKBUILD BIN
MBECS 1.0.0  (landing page)
Michael Olbrich
git_last_commit: 748a3fb
git_last_commit_date: 2022-04-26 12:21:40 -0400
nebbiolo1Linux (Ubuntu 20.04.4 LTS) / x86_64  OK    OK    OK  UNNEEDED, same version is already published
palomino3Windows Server 2022 Datacenter / x64  OK    OK    OK    OK  UNNEEDED, same version is already published
merida1macOS 10.14.6 Mojave / x86_64  OK    OK    OK    OK  UNNEEDED, same version is already published
Package 5/15HostnameOS / ArchINSTALLBUILDCHECKBUILD BIN
metavizr 1.20.0  (landing page)
Hector Corrada Bravo
git_last_commit: 596a30e
git_last_commit_date: 2022-04-26 11:40:36 -0400
nebbiolo1Linux (Ubuntu 20.04.4 LTS) / x86_64  OK    ERROR  skipped
palomino3Windows Server 2022 Datacenter / x64  OK    ERROR  skippedskipped
merida1macOS 10.14.6 Mojave / x86_64  OK    ERROR  skippedskipped
Package 6/15HostnameOS / ArchINSTALLBUILDCHECKBUILD BIN
microbiome 1.18.0  (landing page)
Leo Lahti
git_last_commit: 4887f83
git_last_commit_date: 2022-04-26 11:42:45 -0400
nebbiolo1Linux (Ubuntu 20.04.4 LTS) / x86_64  OK    OK    OK  UNNEEDED, same version is already published
palomino3Windows Server 2022 Datacenter / x64  OK    OK    OK    OK  UNNEEDED, same version is already published
merida1macOS 10.14.6 Mojave / x86_64  OK    OK    OK    OK  UNNEEDED, same version is already published
Package 7/15HostnameOS / ArchINSTALLBUILDCHECKBUILD BIN
microbiomeDASim 1.10.0  (landing page)
Justin Williams
git_last_commit: a691af7
git_last_commit_date: 2022-04-26 11:58:57 -0400
nebbiolo1Linux (Ubuntu 20.04.4 LTS) / x86_64  OK    OK    OK  UNNEEDED, same version is already published
palomino3Windows Server 2022 Datacenter / x64  OK    OK    OK    OK  UNNEEDED, same version is already published
merida1macOS 10.14.6 Mojave / x86_64  OK    OK    OK    OK  UNNEEDED, same version is already published
Package 8/15HostnameOS / ArchINSTALLBUILDCHECKBUILD BIN
microbiomeMarker 1.2.0  (landing page)
Yang Cao
git_last_commit: ade49e0
git_last_commit_date: 2022-04-26 12:18:56 -0400
nebbiolo1Linux (Ubuntu 20.04.4 LTS) / x86_64  OK    OK    OK  UNNEEDED, same version is already published
palomino3Windows Server 2022 Datacenter / x64  OK    OK    OK    OK  UNNEEDED, same version is already published
merida1macOS 10.14.6 Mojave / x86_64  OK    OK    OK    OK  UNNEEDED, same version is already published
Package 9/15HostnameOS / ArchINSTALLBUILDCHECKBUILD BIN
PathoStat 1.22.0  (landing page)
Solaiappan Manimaran
git_last_commit: e6a7bac
git_last_commit_date: 2022-04-26 11:36:30 -0400
nebbiolo1Linux (Ubuntu 20.04.4 LTS) / x86_64  OK    OK    OK  UNNEEDED, same version is already published
palomino3Windows Server 2022 Datacenter / x64  OK    OK    OK    OK  UNNEEDED, same version is already published
merida1macOS 10.14.6 Mojave / x86_64  OK    OK    OK    OK  UNNEEDED, same version is already published
Package 10/15HostnameOS / ArchINSTALLBUILDCHECKBUILD BIN
PERFect 1.10.0  (landing page)
Quy Cao
git_last_commit: e0a5ccf
git_last_commit_date: 2022-04-26 12:00:05 -0400
nebbiolo1Linux (Ubuntu 20.04.4 LTS) / x86_64  OK    OK    OK  UNNEEDED, same version is already published
palomino3Windows Server 2022 Datacenter / x64  OK    OK    OK    OK  UNNEEDED, same version is already published
merida1macOS 10.14.6 Mojave / x86_64  OK    OK    OK    OK  UNNEEDED, same version is already published
Package 11/15HostnameOS / ArchINSTALLBUILDCHECKBUILD BIN
RCM 1.12.0  (landing page)
Stijn Hawinkel
git_last_commit: d055a6f
git_last_commit_date: 2022-04-26 11:52:41 -0400
nebbiolo1Linux (Ubuntu 20.04.4 LTS) / x86_64  OK    OK    OK  UNNEEDED, same version is already published
palomino3Windows Server 2022 Datacenter / x64  OK    OK    OK    OK  UNNEEDED, same version is already published
merida1macOS 10.14.6 Mojave / x86_64  OK    OK    OK    OK  UNNEEDED, same version is already published
Package 12/15HostnameOS / ArchINSTALLBUILDCHECKBUILD BIN
reconsi 1.8.0  (landing page)
Stijn Hawinkel
git_last_commit: d992460
git_last_commit_date: 2022-04-26 12:02:06 -0400
nebbiolo1Linux (Ubuntu 20.04.4 LTS) / x86_64  OK    OK    OK  UNNEEDED, same version is already published
palomino3Windows Server 2022 Datacenter / x64  OK    OK    OK    OK  UNNEEDED, same version is already published
merida1macOS 10.14.6 Mojave / x86_64  OK    OK    OK    OK  UNNEEDED, same version is already published
Package 13/15HostnameOS / ArchINSTALLBUILDCHECKBUILD BIN
RPA 1.52.0  (landing page)
Leo Lahti
git_last_commit: feedfed
git_last_commit_date: 2022-04-26 11:03:17 -0400
nebbiolo1Linux (Ubuntu 20.04.4 LTS) / x86_64  OK    OK    OK  UNNEEDED, same version is already published
palomino3Windows Server 2022 Datacenter / x64  OK    OK    OK    OK  UNNEEDED, same version is already published
merida1macOS 10.14.6 Mojave / x86_64  OK    OK    OK    OK  UNNEEDED, same version is already published
Package 14/15HostnameOS / ArchINSTALLBUILDCHECKBUILD BIN
SIAMCAT 2.0.0  (landing page)
Jakob Wirbel
git_last_commit: 2f7b943
git_last_commit_date: 2022-04-26 11:49:17 -0400
nebbiolo1Linux (Ubuntu 20.04.4 LTS) / x86_64  OK    OK    OK  UNNEEDED, same version is already published
palomino3Windows Server 2022 Datacenter / x64  OK    OK    OK    OK  UNNEEDED, same version is already published
merida1macOS 10.14.6 Mojave / x86_64  OK    OK    OK    OK  UNNEEDED, same version is already published
Package 15/15HostnameOS / ArchINSTALLBUILDCHECKBUILD BIN
SPsimSeq 1.6.0  (landing page)
Joris Meys
git_last_commit: 87f7290
git_last_commit_date: 2022-04-26 12:06:00 -0400
nebbiolo1Linux (Ubuntu 20.04.4 LTS) / x86_64  OK    OK    OK  UNNEEDED, same version is already published
palomino3Windows Server 2022 Datacenter / x64  OK    OK    OK    OK  UNNEEDED, same version is already published
merida1macOS 10.14.6 Mojave / x86_64  OK    OK    OK    OK  UNNEEDED, same version is already published