Back to Multiple platform build/check report for BioC 3.15
ABCDEFGHIJKLMNO[P]QRSTUVWXYZ

This page was generated on 2022-06-24 12:05:11 -0400 (Fri, 24 Jun 2022).

HostnameOSArch (*)R versionInstalled pkgs
nebbiolo1Linux (Ubuntu 20.04.4 LTS)x86_644.2.0 (2022-04-22) -- "Vigorous Calisthenics" 4380
palomino3Windows Server 2022 Datacenterx644.2.0 (2022-04-22 ucrt) -- "Vigorous Calisthenics" 4156
merida1macOS 10.14.6 Mojavex86_644.2.0 (2022-04-22) -- "Vigorous Calisthenics" 4221
Click on any hostname to see more info about the system (e.g. compilers)      (*) as reported by 'uname -p', except on Windows and Mac OS X

BUILD results for phyloseq on nebbiolo1


To the developers/maintainers of the phyloseq package:
- Please allow up to 24 hours (and sometimes 48 hours) for your latest push to git@git.bioconductor.org:packages/phyloseq.git to
reflect on this report. See How and When does the builder pull? When will my changes propagate? for more information.
- Make sure to use the following settings in order to reproduce any error or warning you see on this page.

raw results

Package 1453/2140HostnameOS / ArchINSTALLBUILDCHECKBUILD BIN
phyloseq 1.40.0  (landing page)
Paul J. McMurdie
Snapshot Date: 2022-06-23 13:55:15 -0400 (Thu, 23 Jun 2022)
git_url: https://git.bioconductor.org/packages/phyloseq
git_branch: RELEASE_3_15
git_last_commit: 20bb27d
git_last_commit_date: 2022-04-26 11:10:12 -0400 (Tue, 26 Apr 2022)
nebbiolo1Linux (Ubuntu 20.04.4 LTS) / x86_64  OK    OK    OK  UNNEEDED, same version is already published
palomino3Windows Server 2022 Datacenter / x64  OK    OK    OK    OK  UNNEEDED, same version is already published
merida1macOS 10.14.6 Mojave / x86_64  OK    OK    OK    NA  

Summary

Package: phyloseq
Version: 1.40.0
Command: /home/biocbuild/bbs-3.15-bioc/R/bin/R CMD build --keep-empty-dirs --no-resave-data phyloseq
StartedAt: 2022-06-23 17:23:49 -0400 (Thu, 23 Jun 2022)
EndedAt: 2022-06-23 17:26:23 -0400 (Thu, 23 Jun 2022)
EllapsedTime: 154.0 seconds
RetCode: 0
Status:   OK  
PackageFile: phyloseq_1.40.0.tar.gz
PackageFileSize: 5.488 MiB

Command output

##############################################################################
##############################################################################
###
### Running command:
###
###   /home/biocbuild/bbs-3.15-bioc/R/bin/R CMD build --keep-empty-dirs --no-resave-data phyloseq
###
##############################################################################
##############################################################################


* checking for file ‘phyloseq/DESCRIPTION’ ... OK
* preparing ‘phyloseq’:
* checking DESCRIPTION meta-information ... OK
* installing the package to build vignettes
* creating vignettes ... OK
* checking for LF line-endings in source and make files and shell scripts
* checking for empty or unneeded directories
* looking to see if a ‘data/datalist’ file should be added
* building ‘phyloseq_1.40.0.tar.gz’