Back to Multiple platform build/check report for BioC 3.15
ABCDEFGHIJKLMNO[P]QRSTUVWXYZ

This page was generated on 2022-06-24 12:07:57 -0400 (Fri, 24 Jun 2022).

HostnameOSArch (*)R versionInstalled pkgs
nebbiolo1Linux (Ubuntu 20.04.4 LTS)x86_644.2.0 (2022-04-22) -- "Vigorous Calisthenics" 4380
palomino3Windows Server 2022 Datacenterx644.2.0 (2022-04-22 ucrt) -- "Vigorous Calisthenics" 4156
merida1macOS 10.14.6 Mojavex86_644.2.0 (2022-04-22) -- "Vigorous Calisthenics" 4221
Click on any hostname to see more info about the system (e.g. compilers)      (*) as reported by 'uname -p', except on Windows and Mac OS X

CHECK results for phyloseq on merida1


To the developers/maintainers of the phyloseq package:
- Please allow up to 24 hours (and sometimes 48 hours) for your latest push to git@git.bioconductor.org:packages/phyloseq.git to
reflect on this report. See How and When does the builder pull? When will my changes propagate? for more information.
- Make sure to use the following settings in order to reproduce any error or warning you see on this page.

raw results

Package 1453/2140HostnameOS / ArchINSTALLBUILDCHECKBUILD BIN
phyloseq 1.40.0  (landing page)
Paul J. McMurdie
Snapshot Date: 2022-06-23 13:55:15 -0400 (Thu, 23 Jun 2022)
git_url: https://git.bioconductor.org/packages/phyloseq
git_branch: RELEASE_3_15
git_last_commit: 20bb27d
git_last_commit_date: 2022-04-26 11:10:12 -0400 (Tue, 26 Apr 2022)
nebbiolo1Linux (Ubuntu 20.04.4 LTS) / x86_64  OK    OK    OK  UNNEEDED, same version is already published
palomino3Windows Server 2022 Datacenter / x64  OK    OK    OK    OK  UNNEEDED, same version is already published
merida1macOS 10.14.6 Mojave / x86_64  OK    OK    OK    NA  

Summary

Package: phyloseq
Version: 1.40.0
Command: /Library/Frameworks/R.framework/Resources/bin/R CMD check --install=check:phyloseq.install-out.txt --library=/Library/Frameworks/R.framework/Resources/library --no-vignettes --timings phyloseq_1.40.0.tar.gz
StartedAt: 2022-06-24 06:43:44 -0400 (Fri, 24 Jun 2022)
EndedAt: 2022-06-24 06:52:42 -0400 (Fri, 24 Jun 2022)
EllapsedTime: 537.7 seconds
RetCode: 0
Status:   OK  
CheckDir: phyloseq.Rcheck
Warnings: 0

Command output

##############################################################################
##############################################################################
###
### Running command:
###
###   /Library/Frameworks/R.framework/Resources/bin/R CMD check --install=check:phyloseq.install-out.txt --library=/Library/Frameworks/R.framework/Resources/library --no-vignettes --timings phyloseq_1.40.0.tar.gz
###
##############################################################################
##############################################################################


* using log directory ‘/Users/biocbuild/bbs-3.15-bioc/meat/phyloseq.Rcheck’
* using R version 4.2.0 (2022-04-22)
* using platform: x86_64-apple-darwin17.0 (64-bit)
* using session charset: UTF-8
* using option ‘--no-vignettes’
* checking for file ‘phyloseq/DESCRIPTION’ ... OK
* this is package ‘phyloseq’ version ‘1.40.0’
* checking package namespace information ... OK
* checking package dependencies ... OK
* checking if this is a source package ... OK
* checking if there is a namespace ... OK
* checking for hidden files and directories ... NOTE
Found the following hidden files and directories:
  .travis.yml
These were most likely included in error. See section ‘Package
structure’ in the ‘Writing R Extensions’ manual.
* checking for portable file names ... OK
* checking for sufficient/correct file permissions ... OK
* checking whether package ‘phyloseq’ can be installed ... OK
* checking installed package size ... OK
* checking package directory ... OK
* checking ‘build’ directory ... OK
* checking DESCRIPTION meta-information ... OK
* checking top-level files ... OK
* checking for left-over files ... OK
* checking index information ... OK
* checking package subdirectories ... OK
* checking R files for non-ASCII characters ... OK
* checking R files for syntax errors ... OK
* checking whether the package can be loaded ... OK
* checking whether the package can be loaded with stated dependencies ... OK
* checking whether the package can be unloaded cleanly ... OK
* checking whether the namespace can be loaded with stated dependencies ... OK
* checking whether the namespace can be unloaded cleanly ... OK
* checking dependencies in R code ... OK
* checking S3 generic/method consistency ... OK
* checking replacement functions ... OK
* checking foreign function calls ... OK
* checking R code for possible problems ... NOTE
DPCoA: no visible global function definition for ‘as.dist’
chunkReOrder: no visible global function definition for ‘tail’
chunkReOrder: no visible global function definition for ‘head’
export_env_file: no visible global function definition for
  ‘write.table’
export_mothur_dist: no visible global function definition for ‘as.dist’
export_mothur_dist: no visible global function definition for
  ‘write.table’
fastUniFrac: no visible global function definition for ‘combn’
fastUniFrac: no visible global function definition for ‘as.dist’
import_RDP_otu: no visible global function definition for ‘read.table’
import_env_file: no visible global function definition for ‘read.table’
import_mothur_constaxonomy: no visible global function definition for
  ‘read.table’
import_mothur_dist: no visible global function definition for ‘as.dist’
import_mothur_groups: no visible global function definition for
  ‘read.table’
import_mothur_shared: no visible global function definition for
  ‘read.table’
import_qiime_otu_tax: no visible global function definition for ‘:=’
import_qiime_otu_tax: no visible binding for global variable ‘Consensus
  Lineage’
import_qiime_otu_tax: no visible binding for global variable ‘#OTU ID’
import_qiime_sample_data: no visible global function definition for
  ‘read.table’
import_uparse: no visible global function definition for ‘:=’
import_uparse: no visible binding for global variable ‘count’
import_uparse: no visible binding for global variable ‘queryString’
import_uparse: no visible binding for global variable ‘queryID’
import_uparse: no visible binding for global variable ‘Classification’
import_uparse: no visible global function definition for
  ‘dcast.data.table’
import_uparse: no visible binding for global variable ‘OTULabel’
import_usearch_uc: no visible global function definition for ‘:=’
import_usearch_uc: no visible binding for global variable ‘read’
microbio_me_qiime: no visible global function definition for
  ‘download.file’
microbio_me_qiime: no visible global function definition for ‘unzip’
microbio_me_qiime: no visible global function definition for ‘untar’
nodeplotboot : <anonymous>: no visible global function definition for
  ‘complete.cases’
nodeplotboot : <anonymous>: no visible binding for global variable ‘x’
nodeplotboot : <anonymous>: no visible binding for global variable ‘y’
nodeplotdefault : <anonymous>: no visible binding for global variable
  ‘x’
nodeplotdefault : <anonymous>: no visible binding for global variable
  ‘y’
nodeplotdefault : <anonymous>: no visible binding for global variable
  ‘label’
ordinate: no visible global function definition for ‘as.formula’
plot_clusgap: no visible binding for global variable ‘k’
plot_clusgap: no visible binding for global variable ‘gap’
plot_clusgap: no visible binding for global variable ‘SE.sim’
plot_heatmap: no visible global function definition for
  ‘capture.output’
plot_heatmap: no visible binding for global variable ‘Sample’
plot_heatmap: no visible binding for global variable ‘OTU’
plot_heatmap: no visible binding for global variable ‘Abundance’
plot_net : vertex_layout: no visible binding for global variable ‘x’
plot_net : link_layout: no visible binding for global variable ‘x’
plot_net : link_layout: no visible binding for global variable ‘y’
plot_net: no visible binding for global variable ‘x’
plot_net: no visible binding for global variable ‘y’
plot_net: no visible binding for global variable ‘xend’
plot_net: no visible binding for global variable ‘yend’
plot_network: no visible binding for global variable ‘x’
plot_network: no visible binding for global variable ‘y’
plot_richness: no visible binding for global variable ‘value’
plot_richness: no visible binding for global variable ‘se’
plot_scree: no visible binding for global variable ‘axis’
plot_scree: no visible binding for global variable ‘eigenvalue’
plot_tree: no visible binding for global variable ‘xleft’
plot_tree: no visible binding for global variable ‘xright’
plot_tree: no visible binding for global variable ‘y’
plot_tree: no visible binding for global variable ‘x’
plot_tree: no visible binding for global variable ‘vmin’
plot_tree: no visible binding for global variable ‘vmax’
plot_tree: no visible binding for global variable ‘OTU’
plot_tree: no visible binding for global variable ‘label’
plot_tree: no visible binding for global variable ‘Abundance’
plot_tree: no visible binding for global variable ‘Sample’
plot_tree: no visible global function definition for ‘:=’
plot_tree: no visible binding for global variable ‘h.adj.index’
plot_tree: no visible binding for global variable ‘xdodge’
plot_tree: no visible binding for global variable ‘xfartiplab’
plot_tree: no visible binding for global variable ‘.SD’
rp.joint.fill: no visible global function definition for ‘relevel’
tip_glom: no visible global function definition for ‘as.dist’
tip_glom: no visible global function definition for ‘cutree’
tip_glom: no visible global function definition for ‘as.hclust’
tree_layout: no visible global function definition for ‘:=’
tree_layout: no visible binding for global variable ‘OTU’
tree_layout: no visible binding for global variable ‘V2’
tree_layout: no visible binding for global variable ‘xleft’
tree_layout: no visible binding for global variable ‘V1’
tree_layout: no visible binding for global variable ‘xright’
tree_layout: no visible binding for global variable ‘y’
tree_layout: no visible binding for global variable ‘x’
tree_layout: no visible binding for global variable ‘label’
tree_layout: no visible global function definition for ‘J’
tree_layout: no visible binding for global variable ‘vmin’
tree_layout: no visible binding for global variable ‘vmax’
JSD,matrix: no visible global function definition for ‘combn’
JSD,matrix: no visible binding for global variable ‘i’
JSD,matrix: no visible global function definition for ‘as.dist’
capscale.phyloseq,phyloseq-formula-character: no visible global
  function definition for ‘as.formula’
capscale.phyloseq,phyloseq-formula-dist: no visible global function
  definition for ‘as.formula’
cca.phyloseq,phyloseq-formula: no visible global function definition
  for ‘as.formula’
distance,phyloseq-character: no visible global function definition for
  ‘as.dist’
merge_phyloseq_pair,sample_data-sample_data : <anonymous>: no visible
  binding for global variable ‘X0’
merge_samples,sample_data: no visible global function definition for
  ‘aggregate’
plot_phyloseq,phyloseq: no visible binding for global variable
  ‘esophagus’
Undefined global functions or variables:
  #OTU ID .SD := Abundance Classification Consensus Lineage J OTU
  OTULabel SE.sim Sample V1 V2 X0 aggregate as.dist as.formula
  as.hclust axis capture.output combn complete.cases count cutree
  dcast.data.table download.file eigenvalue esophagus gap h.adj.index
  head i k label queryID queryString read read.table relevel se tail
  untar unzip value vmax vmin write.table x xdodge xend xfartiplab
  xleft xright y yend
Consider adding
  importFrom("graphics", "axis")
  importFrom("stats", "aggregate", "as.dist", "as.formula", "as.hclust",
             "complete.cases", "cutree", "relevel")
  importFrom("utils", "capture.output", "combn", "download.file", "head",
             "read.table", "tail", "untar", "unzip", "write.table")
to your NAMESPACE file.
* checking Rd files ... OK
* checking Rd metadata ... OK
* checking Rd cross-references ... OK
* checking for missing documentation entries ... OK
* checking for code/documentation mismatches ... OK
* checking Rd \usage sections ... OK
* checking Rd contents ... OK
* checking for unstated dependencies in examples ... OK
* checking contents of ‘data’ directory ... OK
* checking data for non-ASCII characters ... OK
* checking data for ASCII and uncompressed saves ... OK
* checking installed files from ‘inst/doc’ ... OK
* checking files in ‘vignettes’ ... OK
* checking examples ... OK
Examples with CPU (user + system) or elapsed time > 5s
                    user system elapsed
plot_richness      5.974  0.240   6.482
phyloseq_to_deseq2 6.006  0.068   6.622
plot_net           5.212  0.046   5.519
plot_heatmap       4.655  0.106   5.008
* checking for unstated dependencies in ‘tests’ ... OK
* checking tests ...
  Running ‘testthat-phyloseq.R’
 OK
* checking for unstated dependencies in vignettes ... OK
* checking package vignettes in ‘inst/doc’ ... OK
* checking running R code from vignettes ... SKIPPED
* checking re-building of vignette outputs ... SKIPPED
* checking PDF version of manual ... OK
* DONE

Status: 2 NOTEs
See
  ‘/Users/biocbuild/bbs-3.15-bioc/meat/phyloseq.Rcheck/00check.log’
for details.



Installation output

phyloseq.Rcheck/00install.out

##############################################################################
##############################################################################
###
### Running command:
###
###   /Library/Frameworks/R.framework/Resources/bin/R CMD INSTALL phyloseq
###
##############################################################################
##############################################################################


* installing to library ‘/Library/Frameworks/R.framework/Versions/4.2/Resources/library’
* installing *source* package ‘phyloseq’ ...
** using staged installation
** R
** data
** inst
** byte-compile and prepare package for lazy loading
** help
*** installing help indices
** building package indices
** installing vignettes
** testing if installed package can be loaded from temporary location
** testing if installed package can be loaded from final location
** testing if installed package keeps a record of temporary installation path
* DONE (phyloseq)

Tests output

phyloseq.Rcheck/tests/testthat-phyloseq.Rout


R version 4.2.0 (2022-04-22) -- "Vigorous Calisthenics"
Copyright (C) 2022 The R Foundation for Statistical Computing
Platform: x86_64-apple-darwin17.0 (64-bit)

R is free software and comes with ABSOLUTELY NO WARRANTY.
You are welcome to redistribute it under certain conditions.
Type 'license()' or 'licence()' for distribution details.

R is a collaborative project with many contributors.
Type 'contributors()' for more information and
'citation()' on how to cite R or R packages in publications.

Type 'demo()' for some demos, 'help()' for on-line help, or
'help.start()' for an HTML browser interface to help.
Type 'q()' to quit R.

> library("testthat")
> packageVersion("phyloseq")
[1] '1.40.0'
> # As suggested for opt-out option on testing by users, recommended by CRAN
> # http://adv-r.had.co.nz/Testing.html
> # Previously, best practice was to put all test files in inst/tests and ensure that R CMD check ran them by putting the following code in tests/test-all.R:  
> # library(testthat)
> # library(yourpackage)
> # test_package("yourpackage")
> # Now, recommended practice is to put your tests in tests/testthat, and ensure R CMD check runs them by putting the following code in tests/test-all.R:
> # library(testthat)
> # test_check("yourpackage")
> # The advantage of this new structure is that the user has control over whether or not tests are installed using the –install-tests parameter to R CMD install, or INSTALL_opts = c(“–install-tests”) argument to install.packages(). I’m not sure why you wouldn’t want to install the tests, but now you have the flexibility as requested by CRAN maintainers.
> test_check("phyloseq")
Loading required package: phyloseq
Found biom-format file, now parsing it... 
Done parsing biom... 
Importing Sample Metdadata from mapping file...
Merging the imported objects... 
Successfully merged, phyloseq-class created. 
 Returning... 
Found biom-format file, now parsing it... 
Done parsing biom... 
Importing Sample Metdadata from mapping file...
Merging the imported objects... 
Successfully merged, phyloseq-class created. 
 Returning... 
Reading `ucfile` into memory and parsing into table 
Initially read 100 entries. 
... Now removing unassigned OTUs (* or NA)... 
Removed 7 entries that had no OTU assignment. 
A total of 93 will be assigned to the OTU table.
Processing otu/tax file...
Reading file into memory prior to parsing...
Detecting first header line...
Header is on line 2  
Converting input file to a table...
Defining OTU table... 
Parsing taxonomy table...
Processing phylogenetic tree...
 /Library/Frameworks/R.framework/Versions/4.2/Resources/library/phyloseq/extdata/GP_tree_rand_short.newick.gz ...
Processing map file...
Processing otu/tax file...
Reading file into memory prior to parsing...
Detecting first header line...
Header is on line 2  
Converting input file to a table...
Defining OTU table... 
Parsing taxonomy table...
Processing phylogenetic tree...
 /Library/Frameworks/R.framework/Versions/4.2/Resources/library/phyloseq/extdata/GP_tree_rand_short.newick.gz ...
Processing Reference Sequences...
[ FAIL 0 | WARN 49 | SKIP 0 | PASS 604 ]

[ FAIL 0 | WARN 49 | SKIP 0 | PASS 604 ]
> 
> proc.time()
   user  system elapsed 
117.263   2.833 125.905 

Example timings

phyloseq.Rcheck/phyloseq-Ex.timings

nameusersystemelapsed
DPCoA4.0320.0794.503
JSD000
UniFrac-methods0.1900.0030.205
access0.0000.0000.001
assign-otu_table000
assign-phy_tree0.0680.0030.073
assign-sample_data0.2160.0140.235
assign-sample_names0.0130.0020.015
assign-tax_table0.0000.0010.001
assign-taxa_are_rows0.0040.0020.008
assign-taxa_names0.0100.0020.016
build_tax_table0.0190.0010.022
capscale-phyloseq-methods1.1410.0241.218
cca-rda-phyloseq-methods0.0000.0000.001
chunkReOrder0.0010.0000.000
data-GlobalPatterns2.2000.0442.327
data-enterotype2.3460.0492.568
data-esophagus0.9980.0111.051
data-soilrep2.2830.0882.585
distance0.3410.0400.420
distanceMethodList0.0000.0000.001
envHash2otu_table000
estimate_richness0.0400.0010.048
export_env_file0.0000.0000.001
export_mothur_dist0.1010.0270.144
extract-methods0.0100.0010.013
filter_taxa1.8350.0542.052
filterfun_sample0.0300.0010.036
gapstat_ord2.2010.0282.478
genefilter_sample-methods000
get.component.classes000
get_sample-methods0.0040.0020.011
get_taxa-methods0.0040.0020.008
get_taxa_unique0.4180.0140.463
get_variable0.2990.0040.335
getslots.phyloseq0.3090.0040.338
import000
import_RDP_otu1.7070.0301.878
import_biom0.2830.0030.313
import_env_file0.0000.0000.001
import_mothur000
import_mothur_dist0.0000.0000.001
import_pyrotagger_tab000
import_qiime1.0870.0131.199
import_qiime_otu_tax0.9780.0781.153
import_qiime_sample_data0.0140.0020.018
import_uparse000
import_usearch_uc0.0210.0070.030
index_reorder000
intersect_taxa0.0010.0000.000
make_network3.6490.0854.028
merge_phyloseq000
merge_phyloseq_pair-methods000
merge_samples-methods0.9780.0321.056
merge_taxa-methods0.0970.0020.103
microbio_me_qiime0.9310.0191.017
mt-methods1.8800.0142.001
nodeplotblank0.4580.0050.512
nodeplotboot0.0010.0010.002
nodeplotdefault0.0010.0000.003
nsamples-methods0.0350.0010.045
ntaxa-methods0.0040.0010.007
ordinate0.0000.0010.000
otu_table-methods0.0000.0000.001
parseTaxonomy-functions0.0030.0010.003
phy_tree-methods0.2980.0040.326
phyloseq0.0350.0020.038
phyloseq_to_deseq26.0060.0686.622
phyloseq_to_metagenomeSeq2.3670.0642.544
plot_bar3.0290.1443.371
plot_clusgap4.3170.0484.594
plot_heatmap4.6550.1065.008
plot_net5.2120.0465.519
plot_network3.2120.0173.468
plot_ordination1.0380.0161.100
plot_phyloseq-methods0.3760.0040.384
plot_richness5.9740.2406.482
plot_scree2.5430.0392.799
plot_tree1.0450.0251.191
prune_samples-methods0.6000.0150.683
prune_taxa-methods0.0730.0020.087
psmelt1.1060.0231.236
rank_names0.0360.0020.042
rarefy_even_depth0.1360.0020.147
read_tree0.0260.0010.029
read_tree_greengenes0.0160.0010.019
reconcile_categories000
refseq-methods0.2940.0030.317
rm_outlierf0.0280.0010.029
sample_data-methods0.0930.0020.100
sample_names-methods0.0030.0020.004
sample_sums0.0410.0050.049
sample_variables0.0360.0020.040
show-methods000
splat.phyloseq.objects0.0000.0010.000
subset_ord_plot0.0000.0000.001
subset_samples-methods000
subset_taxa-methods000
tax_glom000
tax_table-methods0.0000.0000.001
taxa_names-methods0.0370.0020.041
taxa_sums0.0450.0090.058
threshrank2.1521.2963.606
threshrankfun0.0870.0030.092
tip_glom1.1270.0051.192
topf0.0200.0000.023
topk0.0190.0010.022
topp0.0880.0130.105
transformcounts0.1530.0030.164
transpose-methods1.0370.9122.040
tree_layout0.7950.0080.846