Back to Build/check report for BioC 3.15
ABCDEFGHIJKL[M]NOPQRSTUVWXYZ

This page was generated on 2022-06-27 11:09:42 -0400 (Mon, 27 Jun 2022).

HostnameOSArch (*)R versionInstalled pkgs
nebbiolo1Linux (Ubuntu 20.04.4 LTS)x86_644.2.0 (2022-04-22) -- "Vigorous Calisthenics" 4380
Click on any hostname to see more info about the system (e.g. compilers)      (*) as reported by 'uname -p', except on Windows and Mac OS X

All results for package microbiome


To the developers/maintainers of the microbiome package:
- Please allow up to 24 hours (and sometimes 48 hours) for your latest push to git@git.bioconductor.org:packages/microbiome.git to
reflect on this report. See How and When does the builder pull? When will my changes propagate? for more information.
- Make sure to use the following settings in order to reproduce any error or warning you see on this page.

raw results

Package 1171/2140HostnameOS / ArchINSTALLBUILDCHECKBUILD BIN
microbiome 1.18.0  (landing page)
Leo Lahti
Snapshot Date: 2022-06-26 13:55:11 -0400 (Sun, 26 Jun 2022)
git_url: https://git.bioconductor.org/packages/microbiome
git_branch: RELEASE_3_15
git_last_commit: 4887f83
git_last_commit_date: 2022-04-26 11:42:45 -0400 (Tue, 26 Apr 2022)
nebbiolo1Linux (Ubuntu 20.04.4 LTS) / x86_64  OK    OK    OK  UNNEEDED, same version is already published

Results for Bioconductor software packages that depend directly on package microbiome

QUICK STATSOS / ArchINSTALLBUILDCHECKBUILD BIN
nebbiolo1Linux (Ubuntu 20.04.4 LTS) / x86_64
001
001
0001
Package 1/1HostnameOS / ArchINSTALLBUILDCHECKBUILD BIN
ANCOMBC 1.6.2  (landing page)
Huang Lin
git_last_commit: 543c77a
git_last_commit_date: 2022-06-24 11:17:48 -0400
nebbiolo1Linux (Ubuntu 20.04.4 LTS) / x86_64  OK    OK    OK  YES