Back to Multiple platform build/check report for BioC 3.12
ABCDEFGHIJKL[M]NOPQRSTUVWXYZ

Multiple platform build/check report for BioC 3.12

Results for microbiomeDASim

This page was generated on 2020-11-30 12:11:53 -0500 (Mon, 30 Nov 2020).

Package 1094/1974HostnameOS / ArchINSTALLBUILDCHECKBUILD BIN
microbiomeDASim 1.4.0
Justin Williams
Snapshot Date: 2020-11-29 14:40:18 -0500 (Sun, 29 Nov 2020)
URL: https://git.bioconductor.org/packages/microbiomeDASim
Branch: RELEASE_3_12
Last Commit: 55fb35a
Last Changed Date: 2020-10-27 11:49:06 -0500 (Tue, 27 Oct 2020)
malbec1 Linux (Ubuntu 18.04.4 LTS) / x86_64  OK  OK  OK UNNEEDED, same version exists in internal repository
nebbiolo1 Linux (Ubuntu 20.04.1 LTS) / x86_64  OK  OK  OK 
tokay1 Windows Server 2012 R2 Standard / x64  OK  OK  OK  OK UNNEEDED, same version exists in internal repository
merida1 macOS 10.14.6 Mojave / x86_64  OK  OK  OK  OK UNNEEDED, same version exists in internal repository