Index of /checkResults/release/bioc-LATEST/phyloseq/raw-results
Name
Last modified
Size
Description
Parent Directory
-
info.dcf
25-Jun-2022 01:07
274
merida1/
25-Jun-2022 01:07
-
nebbiolo1/
25-Jun-2022 01:05
-
palomino3/
25-Jun-2022 01:06
-
riesling1/
19-Mar-2022 00:08
-