Back to Multiple platform build/check report for BioC 3.16
ABCDEFGHIJKLMNOPQRSTU[V]WXYZ

This page was generated on 2022-06-30 11:07:28 -0400 (Thu, 30 Jun 2022).

HostnameOSArch (*)R versionInstalled pkgs
nebbiolo2Linux (Ubuntu 20.04.4 LTS)x86_644.2.0 Patched (2022-06-02 r82447) -- "Vigorous Calisthenics" 4343
palomino4Windows Server 2022 Datacenterx644.2.0 Patched (2022-06-02 r82447 ucrt) -- "Vigorous Calisthenics" 4147
lconwaymacOS 12.2.1 Montereyx86_644.2.0 Patched (2022-05-29 r82424) -- "Vigorous Calisthenics" 4159
Click on any hostname to see more info about the system (e.g. compilers)      (*) as reported by 'uname -p', except on Windows and Mac OS X

INSTALL results for velociraptor on palomino4


To the developers/maintainers of the velociraptor package:
- Please allow up to 24 hours (and sometimes 48 hours) for your latest push to git@git.bioconductor.org:packages/velociraptor.git to
reflect on this report. See How and When does the builder pull? When will my changes propagate? for more information.
- Make sure to use the following settings in order to reproduce any error or warning you see on this page.

raw results

Package 2086/2124HostnameOS / ArchINSTALLBUILDCHECKBUILD BIN
velociraptor 1.7.0  (landing page)
Kevin Rue-Albrecht
Snapshot Date: 2022-06-29 14:00:05 -0400 (Wed, 29 Jun 2022)
git_url: https://git.bioconductor.org/packages/velociraptor
git_branch: master
git_last_commit: 0ee7651
git_last_commit_date: 2022-04-26 12:08:47 -0400 (Tue, 26 Apr 2022)
nebbiolo2Linux (Ubuntu 20.04.4 LTS) / x86_64  OK    OK    OK  UNNEEDED, same version is already published
palomino4Windows Server 2022 Datacenter / x64  OK    OK    OK    OK  UNNEEDED, same version is already published
lconwaymacOS 12.2.1 Monterey / x86_64  OK    OK    OK    OK  UNNEEDED, same version is already published

Summary

Package: velociraptor
Version: 1.7.0
Command: C:\cygwin\bin\curl.exe -O http://155.52.207.166/BBS/3.16/bioc/src/contrib/velociraptor_1.7.0.tar.gz && rm -rf velociraptor.buildbin-libdir && mkdir velociraptor.buildbin-libdir && F:\biocbuild\bbs-3.16-bioc\R\bin\R.exe CMD INSTALL --merge-multiarch --build --library=velociraptor.buildbin-libdir velociraptor_1.7.0.tar.gz && F:\biocbuild\bbs-3.16-bioc\R\bin\R.exe CMD INSTALL velociraptor_1.7.0.zip && rm velociraptor_1.7.0.tar.gz velociraptor_1.7.0.zip
StartedAt: 2022-06-29 16:00:09 -0400 (Wed, 29 Jun 2022)
EndedAt: 2022-06-29 16:00:32 -0400 (Wed, 29 Jun 2022)
EllapsedTime: 23.2 seconds
RetCode: 0
Status:   OK  

Command output

##############################################################################
##############################################################################
###
### Running command:
###
###   C:\cygwin\bin\curl.exe -O http://155.52.207.166/BBS/3.16/bioc/src/contrib/velociraptor_1.7.0.tar.gz && rm -rf velociraptor.buildbin-libdir && mkdir velociraptor.buildbin-libdir && F:\biocbuild\bbs-3.16-bioc\R\bin\R.exe CMD INSTALL --merge-multiarch --build --library=velociraptor.buildbin-libdir velociraptor_1.7.0.tar.gz && F:\biocbuild\bbs-3.16-bioc\R\bin\R.exe CMD INSTALL velociraptor_1.7.0.zip && rm velociraptor_1.7.0.tar.gz velociraptor_1.7.0.zip
###
##############################################################################
##############################################################################


  % Total    % Received % Xferd  Average Speed   Time    Time     Time  Current
                                 Dload  Upload   Total   Spent    Left  Speed

  0     0    0     0    0     0      0      0 --:--:-- --:--:-- --:--:--     0
100  290k  100  290k    0     0  2414k      0 --:--:-- --:--:-- --:--:-- 2422k
only one architecture so ignoring '--merge-multiarch'
* installing *source* package 'velociraptor' ...
** using non-staged installation via StagedInstall field
** R
** inst
** byte-compile and prepare package for lazy loading
** help
*** installing help indices
*** copying figures
** building package indices
** installing vignettes
** testing if installed package can be loaded
* MD5 sums
packaged installation of 'velociraptor' as velociraptor_1.7.0.zip
* DONE (velociraptor)
* installing to library 'F:/biocbuild/bbs-3.16-bioc/R/library'
package 'velociraptor' successfully unpacked and MD5 sums checked