Back to Multiple platform build/check report for BioC 3.16
ABCDEFGHIJKLMNOPQRSTU[V]WXYZ

This page was generated on 2022-07-01 11:07:05 -0400 (Fri, 01 Jul 2022).

HostnameOSArch (*)R versionInstalled pkgs
nebbiolo2Linux (Ubuntu 20.04.4 LTS)x86_644.2.0 Patched (2022-06-02 r82447) -- "Vigorous Calisthenics" 4343
palomino4Windows Server 2022 Datacenterx644.2.0 Patched (2022-06-02 r82447 ucrt) -- "Vigorous Calisthenics" 4147
lconwaymacOS 12.2.1 Montereyx86_644.2.0 Patched (2022-05-29 r82424) -- "Vigorous Calisthenics" 4159
Click on any hostname to see more info about the system (e.g. compilers)      (*) as reported by 'uname -p', except on Windows and Mac OS X

CHECK results for velociraptor on palomino4


To the developers/maintainers of the velociraptor package:
- Please allow up to 24 hours (and sometimes 48 hours) for your latest push to git@git.bioconductor.org:packages/velociraptor.git to
reflect on this report. See How and When does the builder pull? When will my changes propagate? for more information.
- Make sure to use the following settings in order to reproduce any error or warning you see on this page.

raw results

Package 2086/2124HostnameOS / ArchINSTALLBUILDCHECKBUILD BIN
velociraptor 1.7.0  (landing page)
Kevin Rue-Albrecht
Snapshot Date: 2022-06-30 14:00:04 -0400 (Thu, 30 Jun 2022)
git_url: https://git.bioconductor.org/packages/velociraptor
git_branch: master
git_last_commit: 0ee7651
git_last_commit_date: 2022-04-26 12:08:47 -0400 (Tue, 26 Apr 2022)
nebbiolo2Linux (Ubuntu 20.04.4 LTS) / x86_64  OK    OK    OK  UNNEEDED, same version is already published
palomino4Windows Server 2022 Datacenter / x64  OK    OK    OK    OK  UNNEEDED, same version is already published
lconwaymacOS 12.2.1 Monterey / x86_64  OK    OK    OK    OK  UNNEEDED, same version is already published

Summary

Package: velociraptor
Version: 1.7.0
Command: F:\biocbuild\bbs-3.16-bioc\R\bin\R.exe CMD check --force-multiarch --install=check:velociraptor.install-out.txt --library=F:\biocbuild\bbs-3.16-bioc\R\library --no-vignettes --timings velociraptor_1.7.0.tar.gz
StartedAt: 2022-07-01 06:58:23 -0400 (Fri, 01 Jul 2022)
EndedAt: 2022-07-01 07:03:14 -0400 (Fri, 01 Jul 2022)
EllapsedTime: 290.4 seconds
RetCode: 0
Status:   OK  
CheckDir: velociraptor.Rcheck
Warnings: 0

Command output

##############################################################################
##############################################################################
###
### Running command:
###
###   F:\biocbuild\bbs-3.16-bioc\R\bin\R.exe CMD check --force-multiarch --install=check:velociraptor.install-out.txt --library=F:\biocbuild\bbs-3.16-bioc\R\library --no-vignettes --timings velociraptor_1.7.0.tar.gz
###
##############################################################################
##############################################################################


* using log directory 'F:/biocbuild/bbs-3.16-bioc/meat/velociraptor.Rcheck'
* using R version 4.2.0 Patched (2022-06-02 r82447 ucrt)
* using platform: x86_64-w64-mingw32 (64-bit)
* using session charset: UTF-8
* using option '--no-vignettes'
* checking for file 'velociraptor/DESCRIPTION' ... OK
* this is package 'velociraptor' version '1.7.0'
* package encoding: UTF-8
* checking package namespace information ... OK
* checking package dependencies ... OK
* checking if this is a source package ... OK
* checking if there is a namespace ... OK
* checking for hidden files and directories ... OK
* checking for portable file names ... OK
* checking whether package 'velociraptor' can be installed ... NOTE
Found the following notes/warnings:
  Non-staged installation was used
See 'F:/biocbuild/bbs-3.16-bioc/meat/velociraptor.Rcheck/00install.out' for details.
* checking installed package size ... OK
* checking package directory ... OK
* checking 'build' directory ... OK
* checking DESCRIPTION meta-information ... OK
* checking top-level files ... OK
* checking for left-over files ... OK
* checking index information ... OK
* checking package subdirectories ... OK
* checking R files for non-ASCII characters ... OK
* checking R files for syntax errors ... OK
* checking whether the package can be loaded ... OK
* checking whether the package can be loaded with stated dependencies ... OK
* checking whether the package can be unloaded cleanly ... OK
* checking whether the namespace can be loaded with stated dependencies ... OK
* checking whether the namespace can be unloaded cleanly ... OK
* checking dependencies in R code ... OK
* checking S3 generic/method consistency ... OK
* checking replacement functions ... OK
* checking foreign function calls ... OK
* checking R code for possible problems ... OK
* checking Rd files ... OK
* checking Rd metadata ... OK
* checking Rd cross-references ... OK
* checking for missing documentation entries ... OK
* checking for code/documentation mismatches ... OK
* checking Rd \usage sections ... OK
* checking Rd contents ... OK
* checking for unstated dependencies in examples ... OK
* checking line endings in shell scripts ... OK
* checking files in 'vignettes' ... OK
* checking examples ... OK
Examples with CPU (user + system) or elapsed time > 5s
                    user system elapsed
embedVelocity      14.70   4.65   45.56
plotVelocity        6.72   2.24    6.05
plotVelocityStream  6.25   1.28    6.03
scvelo              4.22   2.09    3.41
* checking for unstated dependencies in 'tests' ... OK
* checking tests ...
  Running 'testthat.R'
 OK
* checking for unstated dependencies in vignettes ... OK
* checking package vignettes in 'inst/doc' ... OK
* checking running R code from vignettes ... SKIPPED
* checking re-building of vignette outputs ... SKIPPED
* checking PDF version of manual ... OK
* DONE

Status: 1 NOTE
See
  'F:/biocbuild/bbs-3.16-bioc/meat/velociraptor.Rcheck/00check.log'
for details.



Installation output

velociraptor.Rcheck/00install.out

##############################################################################
##############################################################################
###
### Running command:
###
###   C:\cygwin\bin\curl.exe -O http://155.52.207.166/BBS/3.16/bioc/src/contrib/velociraptor_1.7.0.tar.gz && rm -rf velociraptor.buildbin-libdir && mkdir velociraptor.buildbin-libdir && F:\biocbuild\bbs-3.16-bioc\R\bin\R.exe CMD INSTALL --merge-multiarch --build --library=velociraptor.buildbin-libdir velociraptor_1.7.0.tar.gz && F:\biocbuild\bbs-3.16-bioc\R\bin\R.exe CMD INSTALL velociraptor_1.7.0.zip && rm velociraptor_1.7.0.tar.gz velociraptor_1.7.0.zip
###
##############################################################################
##############################################################################


  % Total    % Received % Xferd  Average Speed   Time    Time     Time  Current
                                 Dload  Upload   Total   Spent    Left  Speed

  0     0    0     0    0     0      0      0 --:--:-- --:--:-- --:--:--     0
100  290k  100  290k    0     0  3332k      0 --:--:-- --:--:-- --:--:-- 3380k
only one architecture so ignoring '--merge-multiarch'
* installing *source* package 'velociraptor' ...
** using non-staged installation via StagedInstall field
** R
** inst
** byte-compile and prepare package for lazy loading
** help
*** installing help indices
*** copying figures
** building package indices
** installing vignettes
** testing if installed package can be loaded
* MD5 sums
packaged installation of 'velociraptor' as velociraptor_1.7.0.zip
* DONE (velociraptor)
* installing to library 'F:/biocbuild/bbs-3.16-bioc/R/library'
package 'velociraptor' successfully unpacked and MD5 sums checked

Tests output

velociraptor.Rcheck/tests/testthat.Rout


R version 4.2.0 Patched (2022-06-02 r82447 ucrt) -- "Vigorous Calisthenics"
Copyright (C) 2022 The R Foundation for Statistical Computing
Platform: x86_64-w64-mingw32/x64 (64-bit)

R is free software and comes with ABSOLUTELY NO WARRANTY.
You are welcome to redistribute it under certain conditions.
Type 'license()' or 'licence()' for distribution details.

R is a collaborative project with many contributors.
Type 'contributors()' for more information and
'citation()' on how to cite R or R packages in publications.

Type 'demo()' for some demos, 'help()' for on-line help, or
'help.start()' for an HTML browser interface to help.
Type 'q()' to quit R.

> library(testthat)
> library(velociraptor)
Loading required package: SummarizedExperiment
Loading required package: MatrixGenerics
Loading required package: matrixStats

Attaching package: 'MatrixGenerics'

The following objects are masked from 'package:matrixStats':

    colAlls, colAnyNAs, colAnys, colAvgsPerRowSet, colCollapse,
    colCounts, colCummaxs, colCummins, colCumprods, colCumsums,
    colDiffs, colIQRDiffs, colIQRs, colLogSumExps, colMadDiffs,
    colMads, colMaxs, colMeans2, colMedians, colMins, colOrderStats,
    colProds, colQuantiles, colRanges, colRanks, colSdDiffs, colSds,
    colSums2, colTabulates, colVarDiffs, colVars, colWeightedMads,
    colWeightedMeans, colWeightedMedians, colWeightedSds,
    colWeightedVars, rowAlls, rowAnyNAs, rowAnys, rowAvgsPerColSet,
    rowCollapse, rowCounts, rowCummaxs, rowCummins, rowCumprods,
    rowCumsums, rowDiffs, rowIQRDiffs, rowIQRs, rowLogSumExps,
    rowMadDiffs, rowMads, rowMaxs, rowMeans2, rowMedians, rowMins,
    rowOrderStats, rowProds, rowQuantiles, rowRanges, rowRanks,
    rowSdDiffs, rowSds, rowSums2, rowTabulates, rowVarDiffs, rowVars,
    rowWeightedMads, rowWeightedMeans, rowWeightedMedians,
    rowWeightedSds, rowWeightedVars

Loading required package: GenomicRanges
Loading required package: stats4
Loading required package: BiocGenerics

Attaching package: 'BiocGenerics'

The following objects are masked from 'package:stats':

    IQR, mad, sd, var, xtabs

The following objects are masked from 'package:base':

    Filter, Find, Map, Position, Reduce, anyDuplicated, append,
    as.data.frame, basename, cbind, colnames, dirname, do.call,
    duplicated, eval, evalq, get, grep, grepl, intersect, is.unsorted,
    lapply, mapply, match, mget, order, paste, pmax, pmax.int, pmin,
    pmin.int, rank, rbind, rownames, sapply, setdiff, sort, table,
    tapply, union, unique, unsplit, which.max, which.min

Loading required package: S4Vectors

Attaching package: 'S4Vectors'

The following objects are masked from 'package:base':

    I, expand.grid, unname

Loading required package: IRanges

Attaching package: 'IRanges'

The following object is masked from 'package:grDevices':

    windows

Loading required package: GenomeInfoDb
Loading required package: Biobase
Welcome to Bioconductor

    Vignettes contain introductory material; view with
    'browseVignettes()'. To cite Bioconductor, see
    'citation("Biobase")', and for packages 'citation("pkgname")'.


Attaching package: 'Biobase'

The following object is masked from 'package:MatrixGenerics':

    rowMedians

The following objects are masked from 'package:matrixStats':

    anyMissing, rowMedians

> test_check("velociraptor")
computing neighbors
    finished (0:00:04) --> added 
    'distances' and 'connectivities', weighted adjacency matrices (adata.obsp)
computing moments based on connectivities
    finished (0:00:00) --> added 
    'Ms' and 'Mu', moments of un/spliced abundances (adata.layers)
computing velocities
WARNING: You seem to have very low signal in splicing dynamics.
The correlation threshold has been reduced to -1.028.
Please be cautious when interpretating results.
    finished (0:00:00) --> added 
    'velocity', velocity vectors for each individual cell (adata.layers)
computing velocity graph

... 100%
    finished (0:00:00) --> added 
    'velocity_graph', sparse matrix with cosine correlations (adata.uns)
computing terminal states
    identified 0 region of root cells and 1 region of end points .
    finished (0:00:00) --> added
    'root_cells', root cells of Markov diffusion process (adata.obs)
    'end_points', end points of Markov diffusion process (adata.obs)
--> added 'velocity_length' (adata.obs)
--> added 'velocity_confidence' (adata.obs)
--> added 'velocity_confidence_transition' (adata.obs)
computing velocity embedding
    finished (0:00:00) --> added
    'velocity_target', embedded velocity vectors (adata.obsm)
computing velocity embedding
    finished (0:00:00) --> added
    'velocity_target', embedded velocity vectors (adata.obsm)
computing velocity embedding
    finished (0:00:00) --> added
    'velocity_target', embedded velocity vectors (adata.obsm)
computing neighbors
    finished (0:00:00) --> added 
    'distances' and 'connectivities', weighted adjacency matrices (adata.obsp)
computing moments based on connectivities
    finished (0:00:00) --> added 
    'Ms' and 'Mu', moments of un/spliced abundances (adata.layers)
computing velocities
WARNING: You seem to have very low signal in splicing dynamics.
The correlation threshold has been reduced to -1.0648.
Please be cautious when interpretating results.
    finished (0:00:00) --> added 
    'velocity', velocity vectors for each individual cell (adata.layers)
computing velocity graph

... 100%
    finished (0:00:00) --> added 
    'velocity_graph', sparse matrix with cosine correlations (adata.uns)
computing terminal states
    identified 0 region of root cells and 1 region of end points .
    finished (0:00:00) --> added
    'root_cells', root cells of Markov diffusion process (adata.obs)
    'end_points', end points of Markov diffusion process (adata.obs)
--> added 'velocity_length' (adata.obs)
--> added 'velocity_confidence' (adata.obs)
--> added 'velocity_confidence_transition' (adata.obs)
computing neighbors
    finished (0:00:00) --> added 
    'distances' and 'connectivities', weighted adjacency matrices (adata.obsp)
computing moments based on connectivities
    finished (0:00:00) --> added 
    'Ms' and 'Mu', moments of un/spliced abundances (adata.layers)
recovering dynamics

... 100%
    finished (0:00:01) --> added 
    'fit_pars', fitted parameters for splicing dynamics (adata.var)
computing velocities
    finished (0:00:00) --> added 
    'velocity', velocity vectors for each individual cell (adata.layers)
computing velocity graph

... 100%
    finished (0:00:00) --> added 
    'velocity_graph', sparse matrix with cosine correlations (adata.uns)
computing terminal states
    identified 0 region of root cells and 1 region of end points .
    finished (0:00:00) --> added
    'root_cells', root cells of Markov diffusion process (adata.obs)
    'end_points', end points of Markov diffusion process (adata.obs)
WARNING: No root cells detected. Consider specifying root cells to improve latent time prediction.
computing latent time using root_cells as prior
    finished (0:00:00) --> added 
    'latent_time', shared time (adata.obs)
--> added 'velocity_length' (adata.obs)
--> added 'velocity_confidence' (adata.obs)
--> added 'velocity_confidence_transition' (adata.obs)
computing velocity embedding
    finished (0:00:00) --> added
    'velocity_target', embedded velocity vectors (adata.obsm)
computing velocity embedding
    finished (0:00:00) --> added
    'velocity_target', embedded velocity vectors (adata.obsm)
computing neighbors
    finished (0:00:00) --> added 
    'distances' and 'connectivities', weighted adjacency matrices (adata.obsp)
computing moments based on connectivities
    finished (0:00:00) --> added 
    'Ms' and 'Mu', moments of un/spliced abundances (adata.layers)
computing velocities
WARNING: You seem to have very low signal in splicing dynamics.
The correlation threshold has been reduced to -1.0162.
Please be cautious when interpretating results.
    finished (0:00:00) --> added 
    'velocity', velocity vectors for each individual cell (adata.layers)
computing velocity graph

... 100%
    finished (0:00:00) --> added 
    'velocity_graph', sparse matrix with cosine correlations (adata.uns)
computing terminal states
    identified 0 region of root cells and 1 region of end points .
    finished (0:00:00) --> added
    'root_cells', root cells of Markov diffusion process (adata.obs)
    'end_points', end points of Markov diffusion process (adata.obs)
--> added 'velocity_length' (adata.obs)
--> added 'velocity_confidence' (adata.obs)
--> added 'velocity_confidence_transition' (adata.obs)
computing neighbors
    finished (0:00:00) --> added 
    'distances' and 'connectivities', weighted adjacency matrices (adata.obsp)
computing moments based on connectivities
    finished (0:00:00) --> added 
    'Ms' and 'Mu', moments of un/spliced abundances (adata.layers)
computing velocities
WARNING: You seem to have very low signal in splicing dynamics.
The correlation threshold has been reduced to -1.137.
Please be cautious when interpretating results.
    finished (0:00:00) --> added 
    'velocity', velocity vectors for each individual cell (adata.layers)
computing velocity graph

... 100%
    finished (0:00:00) --> added 
    'velocity_graph', sparse matrix with cosine correlations (adata.uns)
computing terminal states
    identified 0 region of root cells and 1 region of end points .
    finished (0:00:00) --> added
    'root_cells', root cells of Markov diffusion process (adata.obs)
    'end_points', end points of Markov diffusion process (adata.obs)
--> added 'velocity_length' (adata.obs)
--> added 'velocity_confidence' (adata.obs)
--> added 'velocity_confidence_transition' (adata.obs)
computing neighbors
    finished (0:00:00) --> added 
    'distances' and 'connectivities', weighted adjacency matrices (adata.obsp)
computing moments based on connectivities
    finished (0:00:00) --> added 
    'Ms' and 'Mu', moments of un/spliced abundances (adata.layers)
computing velocities
WARNING: You seem to have very low signal in splicing dynamics.
The correlation threshold has been reduced to -1.0059.
Please be cautious when interpretating results.
    finished (0:00:00) --> added 
    'velocity', velocity vectors for each individual cell (adata.layers)
computing velocity graph

... 100%
    finished (0:00:00) --> added 
    'velocity_graph', sparse matrix with cosine correlations (adata.uns)
computing terminal states
    identified 0 region of root cells and 1 region of end points .
    finished (0:00:00) --> added
    'root_cells', root cells of Markov diffusion process (adata.obs)
    'end_points', end points of Markov diffusion process (adata.obs)
--> added 'velocity_length' (adata.obs)
--> added 'velocity_confidence' (adata.obs)
--> added 'velocity_confidence_transition' (adata.obs)
computing neighbors
    finished (0:00:00) --> added 
    'distances' and 'connectivities', weighted adjacency matrices (adata.obsp)
computing moments based on connectivities
    finished (0:00:00) --> added 
    'Ms' and 'Mu', moments of un/spliced abundances (adata.layers)
computing velocities
WARNING: You seem to have very low signal in splicing dynamics.
The correlation threshold has been reduced to -1.0059.
Please be cautious when interpretating results.
    finished (0:00:00) --> added 
    'velocity', velocity vectors for each individual cell (adata.layers)
computing velocity graph

... 100%
    finished (0:00:00) --> added 
    'velocity_graph', sparse matrix with cosine correlations (adata.uns)
computing terminal states
    identified 0 region of root cells and 1 region of end points .
    finished (0:00:00) --> added
    'root_cells', root cells of Markov diffusion process (adata.obs)
    'end_points', end points of Markov diffusion process (adata.obs)
--> added 'velocity_length' (adata.obs)
--> added 'velocity_confidence' (adata.obs)
--> added 'velocity_confidence_transition' (adata.obs)
computing neighbors
    finished (0:00:00) --> added 
    'distances' and 'connectivities', weighted adjacency matrices (adata.obsp)
computing moments based on connectivities
    finished (0:00:00) --> added 
    'Ms' and 'Mu', moments of un/spliced abundances (adata.layers)
computing velocities
WARNING: You seem to have very low signal in splicing dynamics.
The correlation threshold has been reduced to -1.0162.
Please be cautious when interpretating results.
    finished (0:00:00) --> added 
    'velocity', velocity vectors for each individual cell (adata.layers)
computing velocity graph

... 100%
    finished (0:00:00) --> added 
    'velocity_graph', sparse matrix with cosine correlations (adata.uns)
computing terminal states
    identified 0 region of root cells and 1 region of end points .
    finished (0:00:00) --> added
    'root_cells', root cells of Markov diffusion process (adata.obs)
    'end_points', end points of Markov diffusion process (adata.obs)
--> added 'velocity_length' (adata.obs)
--> added 'velocity_confidence' (adata.obs)
--> added 'velocity_confidence_transition' (adata.obs)
computing neighbors
    finished (0:00:00) --> added 
    'distances' and 'connectivities', weighted adjacency matrices (adata.obsp)
computing moments based on connectivities
    finished (0:00:00) --> added 
    'Ms' and 'Mu', moments of un/spliced abundances (adata.layers)
computing velocities
WARNING: You seem to have very low signal in splicing dynamics.
The correlation threshold has been reduced to -1.0162.
Please be cautious when interpretating results.
    finished (0:00:00) --> added 
    'velocity', velocity vectors for each individual cell (adata.layers)
computing velocity graph

... 100%
    finished (0:00:00) --> added 
    'velocity_graph', sparse matrix with cosine correlations (adata.uns)
computing terminal states
    identified 0 region of root cells and 1 region of end points .
    finished (0:00:00) --> added
    'root_cells', root cells of Markov diffusion process (adata.obs)
    'end_points', end points of Markov diffusion process (adata.obs)
--> added 'velocity_length' (adata.obs)
--> added 'velocity_confidence' (adata.obs)
--> added 'velocity_confidence_transition' (adata.obs)
computing neighbors
    finished (0:00:00) --> added 
    'distances' and 'connectivities', weighted adjacency matrices (adata.obsp)
computing moments based on connectivities
    finished (0:00:00) --> added 
    'Ms' and 'Mu', moments of un/spliced abundances (adata.layers)
computing velocities
WARNING: You seem to have very low signal in splicing dynamics.
The correlation threshold has been reduced to -1.0136.
Please be cautious when interpretating results.
    finished (0:00:00) --> added 
    'velocity', velocity vectors for each individual cell (adata.layers)
computing velocity graph

... 100%
    finished (0:00:00) --> added 
    'velocity_graph', sparse matrix with cosine correlations (adata.uns)
computing terminal states
    identified 0 region of root cells and 1 region of end points .
    finished (0:00:00) --> added
    'root_cells', root cells of Markov diffusion process (adata.obs)
    'end_points', end points of Markov diffusion process (adata.obs)
--> added 'velocity_length' (adata.obs)
--> added 'velocity_confidence' (adata.obs)
--> added 'velocity_confidence_transition' (adata.obs)
computing neighbors
    finished (0:00:00) --> added 
    'distances' and 'connectivities', weighted adjacency matrices (adata.obsp)
computing moments based on connectivities
    finished (0:00:00) --> added 
    'Ms' and 'Mu', moments of un/spliced abundances (adata.layers)
computing velocities
WARNING: You seem to have very low signal in splicing dynamics.
The correlation threshold has been reduced to -1.0136.
Please be cautious when interpretating results.
    finished (0:00:00) --> added 
    'velocity', velocity vectors for each individual cell (adata.layers)
computing velocity graph

... 100%
    finished (0:00:00) --> added 
    'velocity_graph', sparse matrix with cosine correlations (adata.uns)
computing terminal states
    identified 0 region of root cells and 1 region of end points .
    finished (0:00:00) --> added
    'root_cells', root cells of Markov diffusion process (adata.obs)
    'end_points', end points of Markov diffusion process (adata.obs)
--> added 'velocity_length' (adata.obs)
--> added 'velocity_confidence' (adata.obs)
--> added 'velocity_confidence_transition' (adata.obs)
Normalized count data: X, spliced, unspliced.
Logarithmized X.
computing neighbors
    finished (0:00:00) --> added 
    'distances' and 'connectivities', weighted adjacency matrices (adata.obsp)
computing moments based on connectivities
    finished (0:00:00) --> added 
    'Ms' and 'Mu', moments of un/spliced abundances (adata.layers)
computing velocities
WARNING: You seem to have very low signal in splicing dynamics.
The correlation threshold has been reduced to -1.017.
Please be cautious when interpretating results.
    finished (0:00:00) --> added 
    'velocity', velocity vectors for each individual cell (adata.layers)
computing velocity graph

... 100%
    finished (0:00:00) --> added 
    'velocity_graph', sparse matrix with cosine correlations (adata.uns)
computing terminal states
    identified 0 region of root cells and 1 region of end points .
    finished (0:00:00) --> added
    'root_cells', root cells of Markov diffusion process (adata.obs)
    'end_points', end points of Markov diffusion process (adata.obs)
--> added 'velocity_length' (adata.obs)
--> added 'velocity_confidence' (adata.obs)
--> added 'velocity_confidence_transition' (adata.obs)
[ FAIL 0 | WARN 0 | SKIP 0 | PASS 50 ]
> 
> proc.time()
   user  system elapsed 
  56.93   21.00   64.79 

Example timings

velociraptor.Rcheck/velociraptor-Ex.timings

nameusersystemelapsed
embedVelocity14.70 4.6545.56
gridVectors0.080.000.07
plotVelocity6.722.246.05
plotVelocityStream6.251.286.03
scvelo4.222.093.41